{"text_format":"3","workbook":"xlsx","n_sheets":9,"sheets":["How To Use This Spreadsheet","NLM Data Test 1","NLM Data Test 2","NLM Data Change","Graphs","Graph Data","Data for lookup","Drop Downs","Olderyounger calc"],"not_rendered":{"charts":2,"defined_names":13,"comments":2},"read":"whole","date_system":"1900"}

{"sheet":"How To Use This Spreadsheet","index":0,"n_rows":46,"n_cols":5,"rows_kept":46,"merged":[[0,0,0,3],[1,0,1,3],[2,0,2,3],[3,0,3,3],[5,0,5,3],[6,0,6,2],[8,0,8,3],[9,0,9,3],[11,0,11,3],[12,0,12,3],[13,0,13,3],[15,0,15,3],[17,0,17,3],[18,0,18,3],[20,0,20,3],[21,0,21,3],[23,0,23,3],[24,0,24,3],[25,0,25,1],[26,0,31,0],[27,3,30,3],[32,0,37,0],[32,3,35,3],[36,3,37,3],[38,0,39,0],[38,3,39,3],[40,0,44,0],[40,3,42,3],[44,3,45,3],[45,0,45,1]]}
["How to use this Spreadsheet",{"$nulls":3},"v.3"]
["General Information"]
["▪ This spreadsheet is to be used in conjunction with the CUBED, Narrative Language Measures-Listening Assessment, which can be downloaded at:"]
["https://www.languagedynamicsgroup.com/products/cubed-school-assessments.html"]
[]
["▪ This spreadsheet can be used to track student data across 2 data points.  These data points can be within the same year or across years."]
["▪ An alternate spreadsheet is available for tracking student data across more than 2 data points. This can be downloaded from ",null,null,"http://northeastldc.wa.edu.au/nemldc-data-sheets/"]
[]
["▪ Ensure that the correct assessments are being administered for the relevant purpose and point in the year \n              (see the CUBED manual or NEMLDC NLM information handout for more information)"]
["▪ Data from these spreadsheets are in Excel tables, so data can be easily extracted to other spreadsheets using Data Queries."]
[]
["Tabs Overview:"]
[" - Enter data from the first data point in the tab 'NLM Data Test 1'."]
[" - If a second set of data is collected for comparison, enter this data into the tab 'NLM Data Test 2'."]
[]
[" - To view the change between data points 1 & 2, click on the tab 'NLM Data Change'. \n    You will need to select which students' data to view in the 'First Name & Last Name' column."]
[]
[" - To view summary graphs for either or both data point 1 & 2, click on the tab 'Graphs'."]
[" - To view the data the summary graphs were drawn from, click on the tab 'Graph Data'."]
[]
["Viewing & Printing Tip"]
["▪ Click the down arrow in the Student Names column heading, then untick 'blanks'. This will display (& print) only rows which have student data in it. \n▪ To select additional students to view, re-tick 'blanks'."]
[]
["How to Enter Data into the Data Tabs ('NLM Data Test 1 / 2')"]
["Note, columns marked with an * must be completed"]
["Column",null,"Description / What to enter","Must enter?"]
["Student Details","#","Students have been numbered for ease of sorting "]
[null,"First Name*","Enter the student's first name","MANDITORY"]
[null,"Last Name*","Enter the student's last name"]
[null,"WA Year Group of Student*","Select the students' year group at the time of assessment"]
[null,"Class","Enter the student's class for ease of identification"]
[null,"Other Tags","Enter other information about the student relevant to sorting and analysing the data (e.g. EALD status, gender etc.)","OPTIONAL"]
["Assessment Administered","Year Group of Assessment Administered*","Select the year group of the "]
[null,"Type of Assessment Administered\n(benchmark or progress)","Select the assessment type that was administered"]
[null,"Term of Administration","Select the term in which the student was assessed"]
[null,"Season Administered","Select the assessment season that was administered"]
[null,"Notes","Additional notes about the student / assessment e.g. student was restless during assessment etc.","OPTIONAL"]
[null,"Story #","Enter the number of the story that was administered (to help avoid re-testing using the same story)"]
["Story Comprehension Scores","Story Questions","Enter the student's story comprehension questions score","OPTIONAL"]
[null,"Vocabulary Questions","Enter the student's vocabulary score (if administered)"]
["Listening Retell Scores","Story Grammar*","Enter the student's story grammar score","MANDITORY"]
[null,"Language Complexity*","Enter the student's language complexity score"]
[null,"Episode*","Enter the student's episode score"]
[null,"Listening Retell TOTAL SCORE*","Shows the student's Listening Retell total score, which is used for tracking progress and benchmarking","Automatically calculates"]
[null,"Listening Retell TOTAL SCORE Interpretation*","Shows the student's Listening Retell total score interpretation as \"high risk\", \"moderate risk\", \"benchmark\" or \"advanced\".","Automatically calculates \n(if comparing to benchmark data). \nFor progress monitoring remains blank."]
["Interpretation Based on Comparison to Students Who Have Had:",null,"Indicates the amount of schooling the comparison group had - used to help educators correctly interpret data, especially if the benchmark assessments used do not match the student's year group and term of school."]

{"sheet":"NLM Data Test 1","index":1,"n_rows":137,"n_cols":25,"rows_kept":137,"merged":[[0,1,0,20],[1,1,1,19],[2,1,2,3],[2,5,2,19],[3,1,6,3],[3,6,3,10],[3,13,3,14],[3,15,3,18],[5,4,5,5],[5,10,6,10],[6,4,6,5],[8,1,8,4],[8,5,8,19],[9,6,9,12],[9,13,9,14],[9,15,9,19]]}
[null,"Narrative Language Measures - Listening \nData Tracking Spreadsheet"]
[null,"Test 1"]
[null,"Other Notes:",{"$nulls":3},"Group Statistics: (Note, for raw score group statistics to be accurate, students need to have been assessed on the same test)"]
[{"$nulls":6},"Listening Retell Scores Summary Interpretation",{"$nulls":6},"Story Comprehension Group Scores",null,"Listening Retell Group Scores"]
[{"$nulls":6},"High Risk","Moderate Risk","Benchmark","Advanced","Most Common Benchmark\n(Lowest if two)",null,null,"Story Questions","Vocabulary Questions","Story Grammar","Language Complexity","Episode","Listening Retell TOTAL SCORE"]
[{"$nulls":4},"# of students",null,{"$f":"COUNTIF($T$12:$T$136,G5)+COUNTIF($T$12:$T$136,'Drop Downs'!D7)","v":0},{"$f":"COUNTIF($T$12:$T$136,H5)+COUNTIF($T$12:$T$136,'Drop Downs'!D8)","v":0},{"$f":"COUNTIF($T$12:$T$136,I5)+COUNTIF($T$12:$T$136,'Drop Downs'!D9)","v":0},{"$f":"COUNTIF($T$12:$T$136,J5)+COUNTIF($T$12:$T$136,'Drop Downs'!D10)","v":0},{"$f":"IF(SUM(G6:J6)=0,\"No data\",(INDEX(G5:J5,1,(MATCH((MAX(G6:J6)),G6:J6,0)))))","v":"No data"},null,"Means:",{"$f":"IF(COUNT(N$12:N$136)>0,AVERAGE(N$12:N$136),\"No data\")","v":"No data"},"No data","No data","No data","No data","No data"]
[{"$nulls":4},"% of students",null,{"$f":"IFERROR(G6/$T$137,\"\")","v":""},{"$f":"IFERROR(H6/$T$137,\"\")","v":""},{"$f":"IFERROR(I6/$T$137,\"\")","v":""},{"$f":"IFERROR(J6/$T$137,\"\")","v":""},null,null,"Std Deviations:",{"$f":"IFERROR(STDEVP(N$12:N$136),\"No data\")","v":"No data"},"No data","No data","No data","No data","No data"]
[]
[null,"Student Details",{"$nulls":3},"Individual Student Data"]
[{"$nulls":6},"Assessment Administered",{"$nulls":6},"Story Comprehension Scores",null,"Listening Retell Scores"]
["#","*First Name","*Last Name","*WA Year Group of Student\n(select)","Other Tags","Class","*Year Group of Assessment Administered\n(select)","*Type of Assessment Administered\n(select: benchmark or progress)","*Term of Administration\n(select)","*Season Administered\n(select)","Notes","Story #","Interpretation Based on Comparison to Students Who Have Had:\n(auto look up)","Story Questions","Vocabulary Questions","*Story Grammar","*Language Complexity","*Episode","Listening Retell TOTAL SCORE\n(automatic calc)","Listening Retell TOTAL SCORE Interpretation*\n(automatic lookup)","Code of Score","Code of Ax Administered","First&LastMerged","Code of what should have been administered","What was & What Should have been administered  merged"]
[1,{"$nulls":11},{"$f":"IFERROR(INDEX('Olderyounger calc'!$D$10:$D$409,(MATCH(Y12,'Olderyounger calc'!$C$10:$C$409,0)),1),\"\")","v":""},{"$nulls":5},{"$f":"IF(B12=\"\",\"\",SUM(P12:R12))","v":""},{"$f":"IFERROR(INDEX('Data for lookup'!$F$2:$F$757,(MATCH($U12,'Data for lookup'!$A$2:$A$757,0)),1),\"\")","v":""},{"$f":"G12&H12&J12&S12","v":""},{"$f":"G12&H12&J12","v":""},{"$f":"B12&\" \"&C12","v":" "},{"$f":"D12&H12&I12","v":""},{"$f":"V12&X12","v":""}]
[2,{"$nulls":11},{"$f":"IFERROR(INDEX('Olderyounger calc'!$D$10:$D$409,(MATCH(Y13,'Olderyounger calc'!$C$10:$C$409,0)),1),\"\")","v":""},{"$nulls":5},"",{"$f":"IFERROR(INDEX('Data for lookup'!$F$2:$F$757,(MATCH($U13,'Data for lookup'!$A$2:$A$757,0)),1),\"\")","v":""},{"$f":"G13&H13&J13&S13","v":""},{"$f":"G13&H13&J13","v":""}," ",{"$f":"D13&H13&I13","v":""},{"$f":"V13&X13","v":""}]
[3,{"$nulls":11},{"$f":"IFERROR(INDEX('Olderyounger calc'!$D$10:$D$409,(MATCH(Y14,'Olderyounger calc'!$C$10:$C$409,0)),1),\"\")","v":""},{"$nulls":5},"",{"$f":"IFERROR(INDEX('Data for lookup'!$F$2:$F$757,(MATCH($U14,'Data for lookup'!$A$2:$A$757,0)),1),\"\")","v":""},"",""," ","",""]
[4,{"$nulls":11},{"$f":"IFERROR(INDEX('Olderyounger calc'!$D$10:$D$409,(MATCH(Y15,'Olderyounger calc'!$C$10:$C$409,0)),1),\"\")","v":""},{"$nulls":5},"",{"$f":"IFERROR(INDEX('Data for lookup'!$F$2:$F$757,(MATCH($U15,'Data for lookup'!$A$2:$A$757,0)),1),\"\")","v":""},"",""," ","",""]
[5,{"$nulls":11},{"$f":"IFERROR(INDEX('Olderyounger calc'!$D$10:$D$409,(MATCH(Y16,'Olderyounger calc'!$C$10:$C$409,0)),1),\"\")","v":""},{"$nulls":5},"",{"$f":"IFERROR(INDEX('Data for lookup'!$F$2:$F$757,(MATCH($U16,'Data for lookup'!$A$2:$A$757,0)),1),\"\")","v":""},"",""," ","",""]
[6,{"$nulls":11},{"$f":"IFERROR(INDEX('Olderyounger calc'!$D$10:$D$409,(MATCH(Y17,'Olderyounger calc'!$C$10:$C$409,0)),1),\"\")","v":""},{"$nulls":5},"",{"$f":"IFERROR(INDEX('Data for lookup'!$F$2:$F$757,(MATCH($U17,'Data for lookup'!$A$2:$A$757,0)),1),\"\")","v":""},"",""," ","",""]
[7,{"$nulls":11},{"$f":"IFERROR(INDEX('Olderyounger calc'!$D$10:$D$409,(MATCH(Y18,'Olderyounger calc'!$C$10:$C$409,0)),1),\"\")","v":""},{"$nulls":5},"",{"$f":"IFERROR(INDEX('Data for lookup'!$F$2:$F$757,(MATCH($U18,'Data for lookup'!$A$2:$A$757,0)),1),\"\")","v":""},"",""," ","",""]
[8,{"$nulls":11},{"$f":"IFERROR(INDEX('Olderyounger calc'!$D$10:$D$409,(MATCH(Y19,'Olderyounger calc'!$C$10:$C$409,0)),1),\"\")","v":""},{"$nulls":5},"",{"$f":"IFERROR(INDEX('Data for lookup'!$F$2:$F$757,(MATCH($U19,'Data for lookup'!$A$2:$A$757,0)),1),\"\")","v":""},"",""," ","",""]
[9,{"$nulls":11},{"$f":"IFERROR(INDEX('Olderyounger calc'!$D$10:$D$409,(MATCH(Y20,'Olderyounger calc'!$C$10:$C$409,0)),1),\"\")","v":""},{"$nulls":5},"",{"$f":"IFERROR(INDEX('Data for lookup'!$F$2:$F$757,(MATCH($U20,'Data for lookup'!$A$2:$A$757,0)),1),\"\")","v":""},"",""," ","",""]
[10,{"$nulls":11},{"$f":"IFERROR(INDEX('Olderyounger calc'!$D$10:$D$409,(MATCH(Y21,'Olderyounger calc'!$C$10:$C$409,0)),1),\"\")","v":""},{"$nulls":5},"",{"$f":"IFERROR(INDEX('Data for lookup'!$F$2:$F$757,(MATCH($U21,'Data for lookup'!$A$2:$A$757,0)),1),\"\")","v":""},"",""," ","",""]
[11,{"$nulls":11},{"$f":"IFERROR(INDEX('Olderyounger calc'!$D$10:$D$409,(MATCH(Y22,'Olderyounger calc'!$C$10:$C$409,0)),1),\"\")","v":""},{"$nulls":5},"",{"$f":"IFERROR(INDEX('Data for lookup'!$F$2:$F$757,(MATCH($U22,'Data for lookup'!$A$2:$A$757,0)),1),\"\")","v":""},"",""," ","",""]
[12,{"$nulls":11},{"$f":"IFERROR(INDEX('Olderyounger calc'!$D$10:$D$409,(MATCH(Y23,'Olderyounger calc'!$C$10:$C$409,0)),1),\"\")","v":""},{"$nulls":5},"",{"$f":"IFERROR(INDEX('Data for lookup'!$F$2:$F$757,(MATCH($U23,'Data for lookup'!$A$2:$A$757,0)),1),\"\")","v":""},"",""," ","",""]
[13,{"$nulls":11},{"$f":"IFERROR(INDEX('Olderyounger calc'!$D$10:$D$409,(MATCH(Y24,'Olderyounger calc'!$C$10:$C$409,0)),1),\"\")","v":""},{"$nulls":5},"",{"$f":"IFERROR(INDEX('Data for lookup'!$F$2:$F$757,(MATCH($U24,'Data for lookup'!$A$2:$A$757,0)),1),\"\")","v":""},"",""," ","",""]
[14,{"$nulls":11},{"$f":"IFERROR(INDEX('Olderyounger calc'!$D$10:$D$409,(MATCH(Y25,'Olderyounger calc'!$C$10:$C$409,0)),1),\"\")","v":""},{"$nulls":5},"",{"$f":"IFERROR(INDEX('Data for lookup'!$F$2:$F$757,(MATCH($U25,'Data for lookup'!$A$2:$A$757,0)),1),\"\")","v":""},"",""," ","",""]
[15,{"$nulls":11},{"$f":"IFERROR(INDEX('Olderyounger calc'!$D$10:$D$409,(MATCH(Y26,'Olderyounger calc'!$C$10:$C$409,0)),1),\"\")","v":""},{"$nulls":5},"",{"$f":"IFERROR(INDEX('Data for lookup'!$F$2:$F$757,(MATCH($U26,'Data for lookup'!$A$2:$A$757,0)),1),\"\")","v":""},"",""," ","",""]
[16,{"$nulls":11},{"$f":"IFERROR(INDEX('Olderyounger calc'!$D$10:$D$409,(MATCH(Y27,'Olderyounger calc'!$C$10:$C$409,0)),1),\"\")","v":""},{"$nulls":5},"",{"$f":"IFERROR(INDEX('Data for lookup'!$F$2:$F$757,(MATCH($U27,'Data for lookup'!$A$2:$A$757,0)),1),\"\")","v":""},"",""," ","",""]
[17,{"$nulls":11},{"$f":"IFERROR(INDEX('Olderyounger calc'!$D$10:$D$409,(MATCH(Y28,'Olderyounger calc'!$C$10:$C$409,0)),1),\"\")","v":""},{"$nulls":5},"",{"$f":"IFERROR(INDEX('Data for lookup'!$F$2:$F$757,(MATCH($U28,'Data for lookup'!$A$2:$A$757,0)),1),\"\")","v":""},"",""," ","",""]
[18,{"$nulls":11},{"$f":"IFERROR(INDEX('Olderyounger calc'!$D$10:$D$409,(MATCH(Y29,'Olderyounger calc'!$C$10:$C$409,0)),1),\"\")","v":""},{"$nulls":5},"",{"$f":"IFERROR(INDEX('Data for lookup'!$F$2:$F$757,(MATCH($U29,'Data for lookup'!$A$2:$A$757,0)),1),\"\")","v":""},"",""," ","",""]
[19,{"$nulls":11},{"$f":"IFERROR(INDEX('Olderyounger calc'!$D$10:$D$409,(MATCH(Y30,'Olderyounger calc'!$C$10:$C$409,0)),1),\"\")","v":""},{"$nulls":5},"",{"$f":"IFERROR(INDEX('Data for lookup'!$F$2:$F$757,(MATCH($U30,'Data for lookup'!$A$2:$A$757,0)),1),\"\")","v":""},"",""," ","",""]
[20,{"$nulls":11},{"$f":"IFERROR(INDEX('Olderyounger calc'!$D$10:$D$409,(MATCH(Y31,'Olderyounger calc'!$C$10:$C$409,0)),1),\"\")","v":""},{"$nulls":5},"",{"$f":"IFERROR(INDEX('Data for lookup'!$F$2:$F$757,(MATCH($U31,'Data for lookup'!$A$2:$A$757,0)),1),\"\")","v":""},"",""," ","",""]
[21,{"$nulls":11},{"$f":"IFERROR(INDEX('Olderyounger calc'!$D$10:$D$409,(MATCH(Y32,'Olderyounger calc'!$C$10:$C$409,0)),1),\"\")","v":""},{"$nulls":5},"",{"$f":"IFERROR(INDEX('Data for lookup'!$F$2:$F$757,(MATCH($U32,'Data for lookup'!$A$2:$A$757,0)),1),\"\")","v":""},"",""," ","",""]
[22,{"$nulls":11},{"$f":"IFERROR(INDEX('Olderyounger calc'!$D$10:$D$409,(MATCH(Y33,'Olderyounger calc'!$C$10:$C$409,0)),1),\"\")","v":""},{"$nulls":5},"",{"$f":"IFERROR(INDEX('Data for lookup'!$F$2:$F$757,(MATCH($U33,'Data for lookup'!$A$2:$A$757,0)),1),\"\")","v":""},"",""," ","",""]
[23,{"$nulls":11},{"$f":"IFERROR(INDEX('Olderyounger calc'!$D$10:$D$409,(MATCH(Y34,'Olderyounger calc'!$C$10:$C$409,0)),1),\"\")","v":""},{"$nulls":5},"",{"$f":"IFERROR(INDEX('Data for lookup'!$F$2:$F$757,(MATCH($U34,'Data for lookup'!$A$2:$A$757,0)),1),\"\")","v":""},"",""," ","",""]
[24,{"$nulls":11},{"$f":"IFERROR(INDEX('Olderyounger calc'!$D$10:$D$409,(MATCH(Y35,'Olderyounger calc'!$C$10:$C$409,0)),1),\"\")","v":""},{"$nulls":5},"",{"$f":"IFERROR(INDEX('Data for lookup'!$F$2:$F$757,(MATCH($U35,'Data for lookup'!$A$2:$A$757,0)),1),\"\")","v":""},"",""," ","",""]
[25,{"$nulls":11},{"$f":"IFERROR(INDEX('Olderyounger calc'!$D$10:$D$409,(MATCH(Y36,'Olderyounger calc'!$C$10:$C$409,0)),1),\"\")","v":""},{"$nulls":5},"",{"$f":"IFERROR(INDEX('Data for lookup'!$F$2:$F$757,(MATCH($U36,'Data for lookup'!$A$2:$A$757,0)),1),\"\")","v":""},"",""," ","",""]
[26,{"$nulls":11},{"$f":"IFERROR(INDEX('Olderyounger calc'!$D$10:$D$409,(MATCH(Y37,'Olderyounger calc'!$C$10:$C$409,0)),1),\"\")","v":""},{"$nulls":5},"",{"$f":"IFERROR(INDEX('Data for lookup'!$F$2:$F$757,(MATCH($U37,'Data for lookup'!$A$2:$A$757,0)),1),\"\")","v":""},"",""," ","",""]
[27,{"$nulls":11},{"$f":"IFERROR(INDEX('Olderyounger calc'!$D$10:$D$409,(MATCH(Y38,'Olderyounger calc'!$C$10:$C$409,0)),1),\"\")","v":""},{"$nulls":5},"",{"$f":"IFERROR(INDEX('Data for lookup'!$F$2:$F$757,(MATCH($U38,'Data for lookup'!$A$2:$A$757,0)),1),\"\")","v":""},"",""," ","",""]
[28,{"$nulls":11},{"$f":"IFERROR(INDEX('Olderyounger calc'!$D$10:$D$409,(MATCH(Y39,'Olderyounger calc'!$C$10:$C$409,0)),1),\"\")","v":""},{"$nulls":5},"",{"$f":"IFERROR(INDEX('Data for lookup'!$F$2:$F$757,(MATCH($U39,'Data for lookup'!$A$2:$A$757,0)),1),\"\")","v":""},"",""," ","",""]
[29,{"$nulls":11},{"$f":"IFERROR(INDEX('Olderyounger calc'!$D$10:$D$409,(MATCH(Y40,'Olderyounger calc'!$C$10:$C$409,0)),1),\"\")","v":""},{"$nulls":5},"",{"$f":"IFERROR(INDEX('Data for lookup'!$F$2:$F$757,(MATCH($U40,'Data for lookup'!$A$2:$A$757,0)),1),\"\")","v":""},"",""," ","",""]
[30,{"$nulls":11},{"$f":"IFERROR(INDEX('Olderyounger calc'!$D$10:$D$409,(MATCH(Y41,'Olderyounger calc'!$C$10:$C$409,0)),1),\"\")","v":""},{"$nulls":5},"",{"$f":"IFERROR(INDEX('Data for lookup'!$F$2:$F$757,(MATCH($U41,'Data for lookup'!$A$2:$A$757,0)),1),\"\")","v":""},"",""," ","",""]
[31,{"$nulls":11},{"$f":"IFERROR(INDEX('Olderyounger calc'!$D$10:$D$409,(MATCH(Y42,'Olderyounger calc'!$C$10:$C$409,0)),1),\"\")","v":""},{"$nulls":5},"",{"$f":"IFERROR(INDEX('Data for lookup'!$F$2:$F$757,(MATCH($U42,'Data for lookup'!$A$2:$A$757,0)),1),\"\")","v":""},"",""," ","",""]
[32,{"$nulls":11},{"$f":"IFERROR(INDEX('Olderyounger calc'!$D$10:$D$409,(MATCH(Y43,'Olderyounger calc'!$C$10:$C$409,0)),1),\"\")","v":""},{"$nulls":5},"",{"$f":"IFERROR(INDEX('Data for lookup'!$F$2:$F$757,(MATCH($U43,'Data for lookup'!$A$2:$A$757,0)),1),\"\")","v":""},"",""," ","",""]
[33,{"$nulls":11},{"$f":"IFERROR(INDEX('Olderyounger calc'!$D$10:$D$409,(MATCH(Y44,'Olderyounger calc'!$C$10:$C$409,0)),1),\"\")","v":""},{"$nulls":5},{"$f":"IF(B44=\"\",\"\",SUM(P44:R44))","v":""},{"$f":"IFERROR(INDEX('Data for lookup'!$F$2:$F$757,(MATCH($U44,'Data for lookup'!$A$2:$A$757,0)),1),\"\")","v":""},{"$f":"G44&H44&J44&S44","v":""},{"$f":"G44&H44&J44","v":""},{"$f":"B44&\" \"&C44","v":" "},{"$f":"D44&H44&I44","v":""},""]
[34,{"$nulls":11},{"$f":"IFERROR(INDEX('Olderyounger calc'!$D$10:$D$409,(MATCH(Y45,'Olderyounger calc'!$C$10:$C$409,0)),1),\"\")","v":""},{"$nulls":5},"",{"$f":"IFERROR(INDEX('Data for lookup'!$F$2:$F$757,(MATCH($U45,'Data for lookup'!$A$2:$A$757,0)),1),\"\")","v":""},"",""," ","",""]
[35,{"$nulls":11},{"$f":"IFERROR(INDEX('Olderyounger calc'!$D$10:$D$409,(MATCH(Y46,'Olderyounger calc'!$C$10:$C$409,0)),1),\"\")","v":""},{"$nulls":5},"",{"$f":"IFERROR(INDEX('Data for lookup'!$F$2:$F$757,(MATCH($U46,'Data for lookup'!$A$2:$A$757,0)),1),\"\")","v":""},"",""," ","",""]
[36,{"$nulls":11},{"$f":"IFERROR(INDEX('Olderyounger calc'!$D$10:$D$409,(MATCH(Y47,'Olderyounger calc'!$C$10:$C$409,0)),1),\"\")","v":""},{"$nulls":5},"",{"$f":"IFERROR(INDEX('Data for lookup'!$F$2:$F$757,(MATCH($U47,'Data for lookup'!$A$2:$A$757,0)),1),\"\")","v":""},"",""," ","",""]
[37,{"$nulls":11},{"$f":"IFERROR(INDEX('Olderyounger calc'!$D$10:$D$409,(MATCH(Y48,'Olderyounger calc'!$C$10:$C$409,0)),1),\"\")","v":""},{"$nulls":5},"",{"$f":"IFERROR(INDEX('Data for lookup'!$F$2:$F$757,(MATCH($U48,'Data for lookup'!$A$2:$A$757,0)),1),\"\")","v":""},"",""," ","",""]
[38,{"$nulls":11},{"$f":"IFERROR(INDEX('Olderyounger calc'!$D$10:$D$409,(MATCH(Y49,'Olderyounger calc'!$C$10:$C$409,0)),1),\"\")","v":""},{"$nulls":5},"",{"$f":"IFERROR(INDEX('Data for lookup'!$F$2:$F$757,(MATCH($U49,'Data for lookup'!$A$2:$A$757,0)),1),\"\")","v":""},"",""," ","",""]
[39,{"$nulls":11},{"$f":"IFERROR(INDEX('Olderyounger calc'!$D$10:$D$409,(MATCH(Y50,'Olderyounger calc'!$C$10:$C$409,0)),1),\"\")","v":""},{"$nulls":5},"",{"$f":"IFERROR(INDEX('Data for lookup'!$F$2:$F$757,(MATCH($U50,'Data for lookup'!$A$2:$A$757,0)),1),\"\")","v":""},"",""," ","",""]
[40,{"$nulls":11},{"$f":"IFERROR(INDEX('Olderyounger calc'!$D$10:$D$409,(MATCH(Y51,'Olderyounger calc'!$C$10:$C$409,0)),1),\"\")","v":""},{"$nulls":5},"",{"$f":"IFERROR(INDEX('Data for lookup'!$F$2:$F$757,(MATCH($U51,'Data for lookup'!$A$2:$A$757,0)),1),\"\")","v":""},"",""," ","",""]
[41,{"$nulls":11},{"$f":"IFERROR(INDEX('Olderyounger calc'!$D$10:$D$409,(MATCH(Y52,'Olderyounger calc'!$C$10:$C$409,0)),1),\"\")","v":""},{"$nulls":5},"",{"$f":"IFERROR(INDEX('Data for lookup'!$F$2:$F$757,(MATCH($U52,'Data for lookup'!$A$2:$A$757,0)),1),\"\")","v":""},"",""," ","",""]
[42,{"$nulls":11},{"$f":"IFERROR(INDEX('Olderyounger calc'!$D$10:$D$409,(MATCH(Y53,'Olderyounger calc'!$C$10:$C$409,0)),1),\"\")","v":""},{"$nulls":5},"",{"$f":"IFERROR(INDEX('Data for lookup'!$F$2:$F$757,(MATCH($U53,'Data for lookup'!$A$2:$A$757,0)),1),\"\")","v":""},"",""," ","",""]
[43,{"$nulls":11},{"$f":"IFERROR(INDEX('Olderyounger calc'!$D$10:$D$409,(MATCH(Y54,'Olderyounger calc'!$C$10:$C$409,0)),1),\"\")","v":""},{"$nulls":5},"",{"$f":"IFERROR(INDEX('Data for lookup'!$F$2:$F$757,(MATCH($U54,'Data for lookup'!$A$2:$A$757,0)),1),\"\")","v":""},"",""," ","",""]
[44,{"$nulls":11},{"$f":"IFERROR(INDEX('Olderyounger calc'!$D$10:$D$409,(MATCH(Y55,'Olderyounger calc'!$C$10:$C$409,0)),1),\"\")","v":""},{"$nulls":5},"",{"$f":"IFERROR(INDEX('Data for lookup'!$F$2:$F$757,(MATCH($U55,'Data for lookup'!$A$2:$A$757,0)),1),\"\")","v":""},"",""," ","",""]
[45,{"$nulls":11},{"$f":"IFERROR(INDEX('Olderyounger calc'!$D$10:$D$409,(MATCH(Y56,'Olderyounger calc'!$C$10:$C$409,0)),1),\"\")","v":""},{"$nulls":5},"",{"$f":"IFERROR(INDEX('Data for lookup'!$F$2:$F$757,(MATCH($U56,'Data for lookup'!$A$2:$A$757,0)),1),\"\")","v":""},"",""," ","",""]
[46,{"$nulls":11},{"$f":"IFERROR(INDEX('Olderyounger calc'!$D$10:$D$409,(MATCH(Y57,'Olderyounger calc'!$C$10:$C$409,0)),1),\"\")","v":""},{"$nulls":5},"",{"$f":"IFERROR(INDEX('Data for lookup'!$F$2:$F$757,(MATCH($U57,'Data for lookup'!$A$2:$A$757,0)),1),\"\")","v":""},"",""," ","",""]
[47,{"$nulls":11},{"$f":"IFERROR(INDEX('Olderyounger calc'!$D$10:$D$409,(MATCH(Y58,'Olderyounger calc'!$C$10:$C$409,0)),1),\"\")","v":""},{"$nulls":5},"",{"$f":"IFERROR(INDEX('Data for lookup'!$F$2:$F$757,(MATCH($U58,'Data for lookup'!$A$2:$A$757,0)),1),\"\")","v":""},"",""," ","",""]
[48,{"$nulls":11},{"$f":"IFERROR(INDEX('Olderyounger calc'!$D$10:$D$409,(MATCH(Y59,'Olderyounger calc'!$C$10:$C$409,0)),1),\"\")","v":""},{"$nulls":5},"",{"$f":"IFERROR(INDEX('Data for lookup'!$F$2:$F$757,(MATCH($U59,'Data for lookup'!$A$2:$A$757,0)),1),\"\")","v":""},"",""," ","",""]
[49,{"$nulls":11},{"$f":"IFERROR(INDEX('Olderyounger calc'!$D$10:$D$409,(MATCH(Y60,'Olderyounger calc'!$C$10:$C$409,0)),1),\"\")","v":""},{"$nulls":5},"",{"$f":"IFERROR(INDEX('Data for lookup'!$F$2:$F$757,(MATCH($U60,'Data for lookup'!$A$2:$A$757,0)),1),\"\")","v":""},"",""," ","",""]
[50,{"$nulls":11},{"$f":"IFERROR(INDEX('Olderyounger calc'!$D$10:$D$409,(MATCH(Y61,'Olderyounger calc'!$C$10:$C$409,0)),1),\"\")","v":""},{"$nulls":5},"",{"$f":"IFERROR(INDEX('Data for lookup'!$F$2:$F$757,(MATCH($U61,'Data for lookup'!$A$2:$A$757,0)),1),\"\")","v":""},"",""," ","",""]
[51,{"$nulls":11},{"$f":"IFERROR(INDEX('Olderyounger calc'!$D$10:$D$409,(MATCH(Y62,'Olderyounger calc'!$C$10:$C$409,0)),1),\"\")","v":""},{"$nulls":5},"",{"$f":"IFERROR(INDEX('Data for lookup'!$F$2:$F$757,(MATCH($U62,'Data for lookup'!$A$2:$A$757,0)),1),\"\")","v":""},"",""," ","",""]
[52,{"$nulls":11},{"$f":"IFERROR(INDEX('Olderyounger calc'!$D$10:$D$409,(MATCH(Y63,'Olderyounger calc'!$C$10:$C$409,0)),1),\"\")","v":""},{"$nulls":5},"",{"$f":"IFERROR(INDEX('Data for lookup'!$F$2:$F$757,(MATCH($U63,'Data for lookup'!$A$2:$A$757,0)),1),\"\")","v":""},"",""," ","",""]
[53,{"$nulls":11},{"$f":"IFERROR(INDEX('Olderyounger calc'!$D$10:$D$409,(MATCH(Y64,'Olderyounger calc'!$C$10:$C$409,0)),1),\"\")","v":""},{"$nulls":5},"",{"$f":"IFERROR(INDEX('Data for lookup'!$F$2:$F$757,(MATCH($U64,'Data for lookup'!$A$2:$A$757,0)),1),\"\")","v":""},"",""," ","",""]
[54,{"$nulls":11},{"$f":"IFERROR(INDEX('Olderyounger calc'!$D$10:$D$409,(MATCH(Y65,'Olderyounger calc'!$C$10:$C$409,0)),1),\"\")","v":""},{"$nulls":5},"",{"$f":"IFERROR(INDEX('Data for lookup'!$F$2:$F$757,(MATCH($U65,'Data for lookup'!$A$2:$A$757,0)),1),\"\")","v":""},"",""," ","",""]
[55,{"$nulls":11},{"$f":"IFERROR(INDEX('Olderyounger calc'!$D$10:$D$409,(MATCH(Y66,'Olderyounger calc'!$C$10:$C$409,0)),1),\"\")","v":""},{"$nulls":5},"",{"$f":"IFERROR(INDEX('Data for lookup'!$F$2:$F$757,(MATCH($U66,'Data for lookup'!$A$2:$A$757,0)),1),\"\")","v":""},"",""," ","",""]
[56,{"$nulls":11},{"$f":"IFERROR(INDEX('Olderyounger calc'!$D$10:$D$409,(MATCH(Y67,'Olderyounger calc'!$C$10:$C$409,0)),1),\"\")","v":""},{"$nulls":5},"",{"$f":"IFERROR(INDEX('Data for lookup'!$F$2:$F$757,(MATCH($U67,'Data for lookup'!$A$2:$A$757,0)),1),\"\")","v":""},"",""," ","",""]
[57,{"$nulls":11},{"$f":"IFERROR(INDEX('Olderyounger calc'!$D$10:$D$409,(MATCH(Y68,'Olderyounger calc'!$C$10:$C$409,0)),1),\"\")","v":""},{"$nulls":5},"",{"$f":"IFERROR(INDEX('Data for lookup'!$F$2:$F$757,(MATCH($U68,'Data for lookup'!$A$2:$A$757,0)),1),\"\")","v":""},"",""," ","",""]
[58,{"$nulls":11},{"$f":"IFERROR(INDEX('Olderyounger calc'!$D$10:$D$409,(MATCH(Y69,'Olderyounger calc'!$C$10:$C$409,0)),1),\"\")","v":""},{"$nulls":5},"",{"$f":"IFERROR(INDEX('Data for lookup'!$F$2:$F$757,(MATCH($U69,'Data for lookup'!$A$2:$A$757,0)),1),\"\")","v":""},"",""," ","",""]
[59,{"$nulls":11},{"$f":"IFERROR(INDEX('Olderyounger calc'!$D$10:$D$409,(MATCH(Y70,'Olderyounger calc'!$C$10:$C$409,0)),1),\"\")","v":""},{"$nulls":5},"",{"$f":"IFERROR(INDEX('Data for lookup'!$F$2:$F$757,(MATCH($U70,'Data for lookup'!$A$2:$A$757,0)),1),\"\")","v":""},"",""," ","",""]
[60,{"$nulls":11},{"$f":"IFERROR(INDEX('Olderyounger calc'!$D$10:$D$409,(MATCH(Y71,'Olderyounger calc'!$C$10:$C$409,0)),1),\"\")","v":""},{"$nulls":5},"",{"$f":"IFERROR(INDEX('Data for lookup'!$F$2:$F$757,(MATCH($U71,'Data for lookup'!$A$2:$A$757,0)),1),\"\")","v":""},"",""," ","",""]
[61,{"$nulls":11},{"$f":"IFERROR(INDEX('Olderyounger calc'!$D$10:$D$409,(MATCH(Y72,'Olderyounger calc'!$C$10:$C$409,0)),1),\"\")","v":""},{"$nulls":5},"",{"$f":"IFERROR(INDEX('Data for lookup'!$F$2:$F$757,(MATCH($U72,'Data for lookup'!$A$2:$A$757,0)),1),\"\")","v":""},"",""," ","",""]
[62,{"$nulls":11},{"$f":"IFERROR(INDEX('Olderyounger calc'!$D$10:$D$409,(MATCH(Y73,'Olderyounger calc'!$C$10:$C$409,0)),1),\"\")","v":""},{"$nulls":5},"",{"$f":"IFERROR(INDEX('Data for lookup'!$F$2:$F$757,(MATCH($U73,'Data for lookup'!$A$2:$A$757,0)),1),\"\")","v":""},"",""," ","",""]
[63,{"$nulls":11},{"$f":"IFERROR(INDEX('Olderyounger calc'!$D$10:$D$409,(MATCH(Y74,'Olderyounger calc'!$C$10:$C$409,0)),1),\"\")","v":""},{"$nulls":5},"",{"$f":"IFERROR(INDEX('Data for lookup'!$F$2:$F$757,(MATCH($U74,'Data for lookup'!$A$2:$A$757,0)),1),\"\")","v":""},"",""," ","",""]
[64,{"$nulls":11},{"$f":"IFERROR(INDEX('Olderyounger calc'!$D$10:$D$409,(MATCH(Y75,'Olderyounger calc'!$C$10:$C$409,0)),1),\"\")","v":""},{"$nulls":5},"",{"$f":"IFERROR(INDEX('Data for lookup'!$F$2:$F$757,(MATCH($U75,'Data for lookup'!$A$2:$A$757,0)),1),\"\")","v":""},"",""," ","",""]
[65,{"$nulls":11},{"$f":"IFERROR(INDEX('Olderyounger calc'!$D$10:$D$409,(MATCH(Y76,'Olderyounger calc'!$C$10:$C$409,0)),1),\"\")","v":""},{"$nulls":5},{"$f":"IF(B76=\"\",\"\",SUM(P76:R76))","v":""},{"$f":"IFERROR(INDEX('Data for lookup'!$F$2:$F$757,(MATCH($U76,'Data for lookup'!$A$2:$A$757,0)),1),\"\")","v":""},{"$f":"G76&H76&J76&S76","v":""},{"$f":"G76&H76&J76","v":""},{"$f":"B76&\" \"&C76","v":" "},{"$f":"D76&H76&I76","v":""},""]
[66,{"$nulls":11},{"$f":"IFERROR(INDEX('Olderyounger calc'!$D$10:$D$409,(MATCH(Y77,'Olderyounger calc'!$C$10:$C$409,0)),1),\"\")","v":""},{"$nulls":5},"",{"$f":"IFERROR(INDEX('Data for lookup'!$F$2:$F$757,(MATCH($U77,'Data for lookup'!$A$2:$A$757,0)),1),\"\")","v":""},"",""," ","",{"$f":"V77&X77","v":""}]
[67,{"$nulls":11},{"$f":"IFERROR(INDEX('Olderyounger calc'!$D$10:$D$409,(MATCH(Y78,'Olderyounger calc'!$C$10:$C$409,0)),1),\"\")","v":""},{"$nulls":5},"",{"$f":"IFERROR(INDEX('Data for lookup'!$F$2:$F$757,(MATCH($U78,'Data for lookup'!$A$2:$A$757,0)),1),\"\")","v":""},"",""," ","",""]
[68,{"$nulls":11},{"$f":"IFERROR(INDEX('Olderyounger calc'!$D$10:$D$409,(MATCH(Y79,'Olderyounger calc'!$C$10:$C$409,0)),1),\"\")","v":""},{"$nulls":5},"",{"$f":"IFERROR(INDEX('Data for lookup'!$F$2:$F$757,(MATCH($U79,'Data for lookup'!$A$2:$A$757,0)),1),\"\")","v":""},"",""," ","",""]
[69,{"$nulls":11},{"$f":"IFERROR(INDEX('Olderyounger calc'!$D$10:$D$409,(MATCH(Y80,'Olderyounger calc'!$C$10:$C$409,0)),1),\"\")","v":""},{"$nulls":5},"",{"$f":"IFERROR(INDEX('Data for lookup'!$F$2:$F$757,(MATCH($U80,'Data for lookup'!$A$2:$A$757,0)),1),\"\")","v":""},"",""," ","",""]
[70,{"$nulls":11},{"$f":"IFERROR(INDEX('Olderyounger calc'!$D$10:$D$409,(MATCH(Y81,'Olderyounger calc'!$C$10:$C$409,0)),1),\"\")","v":""},{"$nulls":5},"",{"$f":"IFERROR(INDEX('Data for lookup'!$F$2:$F$757,(MATCH($U81,'Data for lookup'!$A$2:$A$757,0)),1),\"\")","v":""},"",""," ","",""]
[71,{"$nulls":11},{"$f":"IFERROR(INDEX('Olderyounger calc'!$D$10:$D$409,(MATCH(Y82,'Olderyounger calc'!$C$10:$C$409,0)),1),\"\")","v":""},{"$nulls":5},"",{"$f":"IFERROR(INDEX('Data for lookup'!$F$2:$F$757,(MATCH($U82,'Data for lookup'!$A$2:$A$757,0)),1),\"\")","v":""},"",""," ","",""]
[72,{"$nulls":11},{"$f":"IFERROR(INDEX('Olderyounger calc'!$D$10:$D$409,(MATCH(Y83,'Olderyounger calc'!$C$10:$C$409,0)),1),\"\")","v":""},{"$nulls":5},"",{"$f":"IFERROR(INDEX('Data for lookup'!$F$2:$F$757,(MATCH($U83,'Data for lookup'!$A$2:$A$757,0)),1),\"\")","v":""},"",""," ","",""]
[73,{"$nulls":11},{"$f":"IFERROR(INDEX('Olderyounger calc'!$D$10:$D$409,(MATCH(Y84,'Olderyounger calc'!$C$10:$C$409,0)),1),\"\")","v":""},{"$nulls":5},"",{"$f":"IFERROR(INDEX('Data for lookup'!$F$2:$F$757,(MATCH($U84,'Data for lookup'!$A$2:$A$757,0)),1),\"\")","v":""},"",""," ","",""]
[74,{"$nulls":11},{"$f":"IFERROR(INDEX('Olderyounger calc'!$D$10:$D$409,(MATCH(Y85,'Olderyounger calc'!$C$10:$C$409,0)),1),\"\")","v":""},{"$nulls":5},"",{"$f":"IFERROR(INDEX('Data for lookup'!$F$2:$F$757,(MATCH($U85,'Data for lookup'!$A$2:$A$757,0)),1),\"\")","v":""},"",""," ","",""]
[75,{"$nulls":11},{"$f":"IFERROR(INDEX('Olderyounger calc'!$D$10:$D$409,(MATCH(Y86,'Olderyounger calc'!$C$10:$C$409,0)),1),\"\")","v":""},{"$nulls":5},"",{"$f":"IFERROR(INDEX('Data for lookup'!$F$2:$F$757,(MATCH($U86,'Data for lookup'!$A$2:$A$757,0)),1),\"\")","v":""},"",""," ","",""]
[76,{"$nulls":11},{"$f":"IFERROR(INDEX('Olderyounger calc'!$D$10:$D$409,(MATCH(Y87,'Olderyounger calc'!$C$10:$C$409,0)),1),\"\")","v":""},{"$nulls":5},"",{"$f":"IFERROR(INDEX('Data for lookup'!$F$2:$F$757,(MATCH($U87,'Data for lookup'!$A$2:$A$757,0)),1),\"\")","v":""},"",""," ","",""]
[77,{"$nulls":11},{"$f":"IFERROR(INDEX('Olderyounger calc'!$D$10:$D$409,(MATCH(Y88,'Olderyounger calc'!$C$10:$C$409,0)),1),\"\")","v":""},{"$nulls":5},"",{"$f":"IFERROR(INDEX('Data for lookup'!$F$2:$F$757,(MATCH($U88,'Data for lookup'!$A$2:$A$757,0)),1),\"\")","v":""},"",""," ","",""]
[78,{"$nulls":11},{"$f":"IFERROR(INDEX('Olderyounger calc'!$D$10:$D$409,(MATCH(Y89,'Olderyounger calc'!$C$10:$C$409,0)),1),\"\")","v":""},{"$nulls":5},"",{"$f":"IFERROR(INDEX('Data for lookup'!$F$2:$F$757,(MATCH($U89,'Data for lookup'!$A$2:$A$757,0)),1),\"\")","v":""},"",""," ","",""]
[79,{"$nulls":11},{"$f":"IFERROR(INDEX('Olderyounger calc'!$D$10:$D$409,(MATCH(Y90,'Olderyounger calc'!$C$10:$C$409,0)),1),\"\")","v":""},{"$nulls":5},"",{"$f":"IFERROR(INDEX('Data for lookup'!$F$2:$F$757,(MATCH($U90,'Data for lookup'!$A$2:$A$757,0)),1),\"\")","v":""},"",""," ","",""]
[80,{"$nulls":11},{"$f":"IFERROR(INDEX('Olderyounger calc'!$D$10:$D$409,(MATCH(Y91,'Olderyounger calc'!$C$10:$C$409,0)),1),\"\")","v":""},{"$nulls":5},"",{"$f":"IFERROR(INDEX('Data for lookup'!$F$2:$F$757,(MATCH($U91,'Data for lookup'!$A$2:$A$757,0)),1),\"\")","v":""},"",""," ","",""]
[81,{"$nulls":11},{"$f":"IFERROR(INDEX('Olderyounger calc'!$D$10:$D$409,(MATCH(Y92,'Olderyounger calc'!$C$10:$C$409,0)),1),\"\")","v":""},{"$nulls":5},"",{"$f":"IFERROR(INDEX('Data for lookup'!$F$2:$F$757,(MATCH($U92,'Data for lookup'!$A$2:$A$757,0)),1),\"\")","v":""},"",""," ","",""]
[82,{"$nulls":11},{"$f":"IFERROR(INDEX('Olderyounger calc'!$D$10:$D$409,(MATCH(Y93,'Olderyounger calc'!$C$10:$C$409,0)),1),\"\")","v":""},{"$nulls":5},"",{"$f":"IFERROR(INDEX('Data for lookup'!$F$2:$F$757,(MATCH($U93,'Data for lookup'!$A$2:$A$757,0)),1),\"\")","v":""},"",""," ","",""]
[83,{"$nulls":11},{"$f":"IFERROR(INDEX('Olderyounger calc'!$D$10:$D$409,(MATCH(Y94,'Olderyounger calc'!$C$10:$C$409,0)),1),\"\")","v":""},{"$nulls":5},"",{"$f":"IFERROR(INDEX('Data for lookup'!$F$2:$F$757,(MATCH($U94,'Data for lookup'!$A$2:$A$757,0)),1),\"\")","v":""},"",""," ","",""]
[84,{"$nulls":11},{"$f":"IFERROR(INDEX('Olderyounger calc'!$D$10:$D$409,(MATCH(Y95,'Olderyounger calc'!$C$10:$C$409,0)),1),\"\")","v":""},{"$nulls":5},"",{"$f":"IFERROR(INDEX('Data for lookup'!$F$2:$F$757,(MATCH($U95,'Data for lookup'!$A$2:$A$757,0)),1),\"\")","v":""},"",""," ","",""]
[85,{"$nulls":11},{"$f":"IFERROR(INDEX('Olderyounger calc'!$D$10:$D$409,(MATCH(Y96,'Olderyounger calc'!$C$10:$C$409,0)),1),\"\")","v":""},{"$nulls":5},"",{"$f":"IFERROR(INDEX('Data for lookup'!$F$2:$F$757,(MATCH($U96,'Data for lookup'!$A$2:$A$757,0)),1),\"\")","v":""},"",""," ","",""]
[86,{"$nulls":11},{"$f":"IFERROR(INDEX('Olderyounger calc'!$D$10:$D$409,(MATCH(Y97,'Olderyounger calc'!$C$10:$C$409,0)),1),\"\")","v":""},{"$nulls":5},"",{"$f":"IFERROR(INDEX('Data for lookup'!$F$2:$F$757,(MATCH($U97,'Data for lookup'!$A$2:$A$757,0)),1),\"\")","v":""},"",""," ","",""]
[87,{"$nulls":11},{"$f":"IFERROR(INDEX('Olderyounger calc'!$D$10:$D$409,(MATCH(Y98,'Olderyounger calc'!$C$10:$C$409,0)),1),\"\")","v":""},{"$nulls":5},"",{"$f":"IFERROR(INDEX('Data for lookup'!$F$2:$F$757,(MATCH($U98,'Data for lookup'!$A$2:$A$757,0)),1),\"\")","v":""},"",""," ","",""]
[88,{"$nulls":11},{"$f":"IFERROR(INDEX('Olderyounger calc'!$D$10:$D$409,(MATCH(Y99,'Olderyounger calc'!$C$10:$C$409,0)),1),\"\")","v":""},{"$nulls":5},"",{"$f":"IFERROR(INDEX('Data for lookup'!$F$2:$F$757,(MATCH($U99,'Data for lookup'!$A$2:$A$757,0)),1),\"\")","v":""},"",""," ","",""]
[89,{"$nulls":11},{"$f":"IFERROR(INDEX('Olderyounger calc'!$D$10:$D$409,(MATCH(Y100,'Olderyounger calc'!$C$10:$C$409,0)),1),\"\")","v":""},{"$nulls":5},"",{"$f":"IFERROR(INDEX('Data for lookup'!$F$2:$F$757,(MATCH($U100,'Data for lookup'!$A$2:$A$757,0)),1),\"\")","v":""},"",""," ","",""]
[90,{"$nulls":11},{"$f":"IFERROR(INDEX('Olderyounger calc'!$D$10:$D$409,(MATCH(Y101,'Olderyounger calc'!$C$10:$C$409,0)),1),\"\")","v":""},{"$nulls":5},"",{"$f":"IFERROR(INDEX('Data for lookup'!$F$2:$F$757,(MATCH($U101,'Data for lookup'!$A$2:$A$757,0)),1),\"\")","v":""},"",""," ","",""]
[91,{"$nulls":11},{"$f":"IFERROR(INDEX('Olderyounger calc'!$D$10:$D$409,(MATCH(Y102,'Olderyounger calc'!$C$10:$C$409,0)),1),\"\")","v":""},{"$nulls":5},"",{"$f":"IFERROR(INDEX('Data for lookup'!$F$2:$F$757,(MATCH($U102,'Data for lookup'!$A$2:$A$757,0)),1),\"\")","v":""},"",""," ","",""]
[92,{"$nulls":11},{"$f":"IFERROR(INDEX('Olderyounger calc'!$D$10:$D$409,(MATCH(Y103,'Olderyounger calc'!$C$10:$C$409,0)),1),\"\")","v":""},{"$nulls":5},"",{"$f":"IFERROR(INDEX('Data for lookup'!$F$2:$F$757,(MATCH($U103,'Data for lookup'!$A$2:$A$757,0)),1),\"\")","v":""},"",""," ","",""]
[93,{"$nulls":11},{"$f":"IFERROR(INDEX('Olderyounger calc'!$D$10:$D$409,(MATCH(Y104,'Olderyounger calc'!$C$10:$C$409,0)),1),\"\")","v":""},{"$nulls":5},"",{"$f":"IFERROR(INDEX('Data for lookup'!$F$2:$F$757,(MATCH($U104,'Data for lookup'!$A$2:$A$757,0)),1),\"\")","v":""},"",""," ","",""]
[94,{"$nulls":11},{"$f":"IFERROR(INDEX('Olderyounger calc'!$D$10:$D$409,(MATCH(Y105,'Olderyounger calc'!$C$10:$C$409,0)),1),\"\")","v":""},{"$nulls":5},"",{"$f":"IFERROR(INDEX('Data for lookup'!$F$2:$F$757,(MATCH($U105,'Data for lookup'!$A$2:$A$757,0)),1),\"\")","v":""},"",""," ","",""]
[95,{"$nulls":11},{"$f":"IFERROR(INDEX('Olderyounger calc'!$D$10:$D$409,(MATCH(Y106,'Olderyounger calc'!$C$10:$C$409,0)),1),\"\")","v":""},{"$nulls":5},"",{"$f":"IFERROR(INDEX('Data for lookup'!$F$2:$F$757,(MATCH($U106,'Data for lookup'!$A$2:$A$757,0)),1),\"\")","v":""},"",""," ","",""]
[96,{"$nulls":11},{"$f":"IFERROR(INDEX('Olderyounger calc'!$D$10:$D$409,(MATCH(Y107,'Olderyounger calc'!$C$10:$C$409,0)),1),\"\")","v":""},{"$nulls":5},"",{"$f":"IFERROR(INDEX('Data for lookup'!$F$2:$F$757,(MATCH($U107,'Data for lookup'!$A$2:$A$757,0)),1),\"\")","v":""},"",""," ","",""]
[97,{"$nulls":11},{"$f":"IFERROR(INDEX('Olderyounger calc'!$D$10:$D$409,(MATCH(Y108,'Olderyounger calc'!$C$10:$C$409,0)),1),\"\")","v":""},{"$nulls":5},{"$f":"IF(B108=\"\",\"\",SUM(P108:R108))","v":""},{"$f":"IFERROR(INDEX('Data for lookup'!$F$2:$F$757,(MATCH($U108,'Data for lookup'!$A$2:$A$757,0)),1),\"\")","v":""},{"$f":"G108&H108&J108&S108","v":""},{"$f":"G108&H108&J108","v":""},{"$f":"B108&\" \"&C108","v":" "},{"$f":"D108&H108&I108","v":""},""]
[98,{"$nulls":11},{"$f":"IFERROR(INDEX('Olderyounger calc'!$D$10:$D$409,(MATCH(Y109,'Olderyounger calc'!$C$10:$C$409,0)),1),\"\")","v":""},{"$nulls":5},"",{"$f":"IFERROR(INDEX('Data for lookup'!$F$2:$F$757,(MATCH($U109,'Data for lookup'!$A$2:$A$757,0)),1),\"\")","v":""},"",""," ","",""]
[99,{"$nulls":11},{"$f":"IFERROR(INDEX('Olderyounger calc'!$D$10:$D$409,(MATCH(Y110,'Olderyounger calc'!$C$10:$C$409,0)),1),\"\")","v":""},{"$nulls":5},"",{"$f":"IFERROR(INDEX('Data for lookup'!$F$2:$F$757,(MATCH($U110,'Data for lookup'!$A$2:$A$757,0)),1),\"\")","v":""},"",""," ","",""]
[100,{"$nulls":11},{"$f":"IFERROR(INDEX('Olderyounger calc'!$D$10:$D$409,(MATCH(Y111,'Olderyounger calc'!$C$10:$C$409,0)),1),\"\")","v":""},{"$nulls":5},"",{"$f":"IFERROR(INDEX('Data for lookup'!$F$2:$F$757,(MATCH($U111,'Data for lookup'!$A$2:$A$757,0)),1),\"\")","v":""},"",""," ","",""]
[101,{"$nulls":11},{"$f":"IFERROR(INDEX('Olderyounger calc'!$D$10:$D$409,(MATCH(Y112,'Olderyounger calc'!$C$10:$C$409,0)),1),\"\")","v":""},{"$nulls":5},"",{"$f":"IFERROR(INDEX('Data for lookup'!$F$2:$F$757,(MATCH($U112,'Data for lookup'!$A$2:$A$757,0)),1),\"\")","v":""},"",""," ","",""]
[102,{"$nulls":11},{"$f":"IFERROR(INDEX('Olderyounger calc'!$D$10:$D$409,(MATCH(Y113,'Olderyounger calc'!$C$10:$C$409,0)),1),\"\")","v":""},{"$nulls":5},"",{"$f":"IFERROR(INDEX('Data for lookup'!$F$2:$F$757,(MATCH($U113,'Data for lookup'!$A$2:$A$757,0)),1),\"\")","v":""},"",""," ","",""]
[103,{"$nulls":11},{"$f":"IFERROR(INDEX('Olderyounger calc'!$D$10:$D$409,(MATCH(Y114,'Olderyounger calc'!$C$10:$C$409,0)),1),\"\")","v":""},{"$nulls":5},"",{"$f":"IFERROR(INDEX('Data for lookup'!$F$2:$F$757,(MATCH($U114,'Data for lookup'!$A$2:$A$757,0)),1),\"\")","v":""},"",""," ","",""]
[104,{"$nulls":11},{"$f":"IFERROR(INDEX('Olderyounger calc'!$D$10:$D$409,(MATCH(Y115,'Olderyounger calc'!$C$10:$C$409,0)),1),\"\")","v":""},{"$nulls":5},"",{"$f":"IFERROR(INDEX('Data for lookup'!$F$2:$F$757,(MATCH($U115,'Data for lookup'!$A$2:$A$757,0)),1),\"\")","v":""},"",""," ","",""]
[105,{"$nulls":11},{"$f":"IFERROR(INDEX('Olderyounger calc'!$D$10:$D$409,(MATCH(Y116,'Olderyounger calc'!$C$10:$C$409,0)),1),\"\")","v":""},{"$nulls":5},"",{"$f":"IFERROR(INDEX('Data for lookup'!$F$2:$F$757,(MATCH($U116,'Data for lookup'!$A$2:$A$757,0)),1),\"\")","v":""},"",""," ","",""]
[106,{"$nulls":11},{"$f":"IFERROR(INDEX('Olderyounger calc'!$D$10:$D$409,(MATCH(Y117,'Olderyounger calc'!$C$10:$C$409,0)),1),\"\")","v":""},{"$nulls":5},"",{"$f":"IFERROR(INDEX('Data for lookup'!$F$2:$F$757,(MATCH($U117,'Data for lookup'!$A$2:$A$757,0)),1),\"\")","v":""},"",""," ","",""]
[107,{"$nulls":11},{"$f":"IFERROR(INDEX('Olderyounger calc'!$D$10:$D$409,(MATCH(Y118,'Olderyounger calc'!$C$10:$C$409,0)),1),\"\")","v":""},{"$nulls":5},"",{"$f":"IFERROR(INDEX('Data for lookup'!$F$2:$F$757,(MATCH($U118,'Data for lookup'!$A$2:$A$757,0)),1),\"\")","v":""},"",""," ","",""]
[108,{"$nulls":11},{"$f":"IFERROR(INDEX('Olderyounger calc'!$D$10:$D$409,(MATCH(Y119,'Olderyounger calc'!$C$10:$C$409,0)),1),\"\")","v":""},{"$nulls":5},"",{"$f":"IFERROR(INDEX('Data for lookup'!$F$2:$F$757,(MATCH($U119,'Data for lookup'!$A$2:$A$757,0)),1),\"\")","v":""},"",""," ","",""]
[109,{"$nulls":11},{"$f":"IFERROR(INDEX('Olderyounger calc'!$D$10:$D$409,(MATCH(Y120,'Olderyounger calc'!$C$10:$C$409,0)),1),\"\")","v":""},{"$nulls":5},"",{"$f":"IFERROR(INDEX('Data for lookup'!$F$2:$F$757,(MATCH($U120,'Data for lookup'!$A$2:$A$757,0)),1),\"\")","v":""},"",""," ","",""]
[110,{"$nulls":11},{"$f":"IFERROR(INDEX('Olderyounger calc'!$D$10:$D$409,(MATCH(Y121,'Olderyounger calc'!$C$10:$C$409,0)),1),\"\")","v":""},{"$nulls":5},"",{"$f":"IFERROR(INDEX('Data for lookup'!$F$2:$F$757,(MATCH($U121,'Data for lookup'!$A$2:$A$757,0)),1),\"\")","v":""},"",""," ","",""]
[111,{"$nulls":11},{"$f":"IFERROR(INDEX('Olderyounger calc'!$D$10:$D$409,(MATCH(Y122,'Olderyounger calc'!$C$10:$C$409,0)),1),\"\")","v":""},{"$nulls":5},"",{"$f":"IFERROR(INDEX('Data for lookup'!$F$2:$F$757,(MATCH($U122,'Data for lookup'!$A$2:$A$757,0)),1),\"\")","v":""},"",""," ","",""]
[112,{"$nulls":11},{"$f":"IFERROR(INDEX('Olderyounger calc'!$D$10:$D$409,(MATCH(Y123,'Olderyounger calc'!$C$10:$C$409,0)),1),\"\")","v":""},{"$nulls":5},"",{"$f":"IFERROR(INDEX('Data for lookup'!$F$2:$F$757,(MATCH($U123,'Data for lookup'!$A$2:$A$757,0)),1),\"\")","v":""},"",""," ","",""]
[113,{"$nulls":11},{"$f":"IFERROR(INDEX('Olderyounger calc'!$D$10:$D$409,(MATCH(Y124,'Olderyounger calc'!$C$10:$C$409,0)),1),\"\")","v":""},{"$nulls":5},"",{"$f":"IFERROR(INDEX('Data for lookup'!$F$2:$F$757,(MATCH($U124,'Data for lookup'!$A$2:$A$757,0)),1),\"\")","v":""},"",""," ","",""]
[114,{"$nulls":11},{"$f":"IFERROR(INDEX('Olderyounger calc'!$D$10:$D$409,(MATCH(Y125,'Olderyounger calc'!$C$10:$C$409,0)),1),\"\")","v":""},{"$nulls":5},"",{"$f":"IFERROR(INDEX('Data for lookup'!$F$2:$F$757,(MATCH($U125,'Data for lookup'!$A$2:$A$757,0)),1),\"\")","v":""},"",""," ","",""]
[115,{"$nulls":11},{"$f":"IFERROR(INDEX('Olderyounger calc'!$D$10:$D$409,(MATCH(Y126,'Olderyounger calc'!$C$10:$C$409,0)),1),\"\")","v":""},{"$nulls":5},"",{"$f":"IFERROR(INDEX('Data for lookup'!$F$2:$F$757,(MATCH($U126,'Data for lookup'!$A$2:$A$757,0)),1),\"\")","v":""},"",""," ","",""]
[116,{"$nulls":11},{"$f":"IFERROR(INDEX('Olderyounger calc'!$D$10:$D$409,(MATCH(Y127,'Olderyounger calc'!$C$10:$C$409,0)),1),\"\")","v":""},{"$nulls":5},"",{"$f":"IFERROR(INDEX('Data for lookup'!$F$2:$F$757,(MATCH($U127,'Data for lookup'!$A$2:$A$757,0)),1),\"\")","v":""},"",""," ","",""]
[117,{"$nulls":11},{"$f":"IFERROR(INDEX('Olderyounger calc'!$D$10:$D$409,(MATCH(Y128,'Olderyounger calc'!$C$10:$C$409,0)),1),\"\")","v":""},{"$nulls":5},"",{"$f":"IFERROR(INDEX('Data for lookup'!$F$2:$F$757,(MATCH($U128,'Data for lookup'!$A$2:$A$757,0)),1),\"\")","v":""},"",""," ","",""]
[118,{"$nulls":11},{"$f":"IFERROR(INDEX('Olderyounger calc'!$D$10:$D$409,(MATCH(Y129,'Olderyounger calc'!$C$10:$C$409,0)),1),\"\")","v":""},{"$nulls":5},"",{"$f":"IFERROR(INDEX('Data for lookup'!$F$2:$F$757,(MATCH($U129,'Data for lookup'!$A$2:$A$757,0)),1),\"\")","v":""},"",""," ","",""]
[119,{"$nulls":11},{"$f":"IFERROR(INDEX('Olderyounger calc'!$D$10:$D$409,(MATCH(Y130,'Olderyounger calc'!$C$10:$C$409,0)),1),\"\")","v":""},{"$nulls":5},"",{"$f":"IFERROR(INDEX('Data for lookup'!$F$2:$F$757,(MATCH($U130,'Data for lookup'!$A$2:$A$757,0)),1),\"\")","v":""},"",""," ","",""]
[120,{"$nulls":11},{"$f":"IFERROR(INDEX('Olderyounger calc'!$D$10:$D$409,(MATCH(Y131,'Olderyounger calc'!$C$10:$C$409,0)),1),\"\")","v":""},{"$nulls":5},"",{"$f":"IFERROR(INDEX('Data for lookup'!$F$2:$F$757,(MATCH($U131,'Data for lookup'!$A$2:$A$757,0)),1),\"\")","v":""},"",""," ","",""]
[121,{"$nulls":11},{"$f":"IFERROR(INDEX('Olderyounger calc'!$D$10:$D$409,(MATCH(Y132,'Olderyounger calc'!$C$10:$C$409,0)),1),\"\")","v":""},{"$nulls":5},"",{"$f":"IFERROR(INDEX('Data for lookup'!$F$2:$F$757,(MATCH($U132,'Data for lookup'!$A$2:$A$757,0)),1),\"\")","v":""},"",""," ","",""]
[122,{"$nulls":11},{"$f":"IFERROR(INDEX('Olderyounger calc'!$D$10:$D$409,(MATCH(Y133,'Olderyounger calc'!$C$10:$C$409,0)),1),\"\")","v":""},{"$nulls":5},"",{"$f":"IFERROR(INDEX('Data for lookup'!$F$2:$F$757,(MATCH($U133,'Data for lookup'!$A$2:$A$757,0)),1),\"\")","v":""},"",""," ","",""]
[123,{"$nulls":11},{"$f":"IFERROR(INDEX('Olderyounger calc'!$D$10:$D$409,(MATCH(Y134,'Olderyounger calc'!$C$10:$C$409,0)),1),\"\")","v":""},{"$nulls":5},"",{"$f":"IFERROR(INDEX('Data for lookup'!$F$2:$F$757,(MATCH($U134,'Data for lookup'!$A$2:$A$757,0)),1),\"\")","v":""},"",""," ","",""]
[124,{"$nulls":11},{"$f":"IFERROR(INDEX('Olderyounger calc'!$D$10:$D$409,(MATCH(Y135,'Olderyounger calc'!$C$10:$C$409,0)),1),\"\")","v":""},{"$nulls":5},"",{"$f":"IFERROR(INDEX('Data for lookup'!$F$2:$F$757,(MATCH($U135,'Data for lookup'!$A$2:$A$757,0)),1),\"\")","v":""},"",""," ","",""]
[125,{"$nulls":11},{"$f":"IFERROR(INDEX('Olderyounger calc'!$D$10:$D$409,(MATCH(Y136,'Olderyounger calc'!$C$10:$C$409,0)),1),\"\")","v":""},{"$nulls":5},"",{"$f":"IFERROR(INDEX('Data for lookup'!$F$2:$F$757,(MATCH($U136,'Data for lookup'!$A$2:$A$757,0)),1),\"\")","v":""},{"$f":"D136&H136&J136&S136","v":""},null," "]
[{"$nulls":19},{"$f":"SUM(COUNTIF($T$12:$T$136,G5),COUNTIF($T$12:$T$136,H5),COUNTIF($T$12:$T$136,I5),COUNTIF($T$12:$T$136,J5))","v":0}]

{"sheet":"NLM Data Test 2","index":2,"n_rows":137,"n_cols":26,"rows_kept":137,"merged":[[0,3,0,20],[1,3,1,20],[2,3,2,5],[2,6,2,20],[3,3,6,5],[3,7,3,11],[3,14,3,15],[3,16,3,19],[5,11,6,11],[8,3,8,5],[8,6,8,20],[9,7,9,13],[9,14,9,15],[9,16,9,20]]}
[{"$nulls":3},"Narrative Language Measures - Listening \nData Tracking Spreadsheet"]
[{"$nulls":3},"Test 2"]
[{"$nulls":3},"Other Notes:",null,null,"Group Statistics: (Note, for raw score group statistics to be accurate, students need to have been assessed on the same test)"]
[{"$nulls":7},"Listening Retell Scores Summary Interpretation",{"$nulls":6},"Story Comprehension Scores",null,"Listening Retell Scores"]
[{"$nulls":7},"High Risk","Moderate Risk","Benchmark","Advanced","Most Common Benchmark\n(Lowest if two)",null,null,"Story Questions","Vocabulary Questions","Story Grammar","Language Complexity","Episode","Listening Retell TOTAL SCORE"]
[{"$nulls":6},"# of students",{"$f":"COUNTIF($T$12:$T$136,H5)+COUNTIF($T$12:$T$136,'Drop Downs'!E7)","v":0},{"$f":"COUNTIF($T$12:$T$136,I5)+COUNTIF($T$12:$T$136,'Drop Downs'!E8)","v":0},{"$f":"COUNTIF($T$12:$T$136,J5)+COUNTIF($T$12:$T$136,'Drop Downs'!E9)","v":0},{"$f":"COUNTIF($T$12:$T$136,K5)+COUNTIF($T$12:$T$136,'Drop Downs'!E10)","v":0},{"$f":"IF(SUM(H6:K6)=0,\"No data\",(INDEX(H5:K5,1,(MATCH((MAX(H6:K6)),H6:K6,0)))))","v":"No data"},null,"Means:",{"$f":"IF(COUNT(O$12:O$136)>0,AVERAGE(O$12:O$136),\"No data\")","v":"No data"},"No data","No data","No data","No data","No data"]
[{"$nulls":6},"% of students",{"$f":"IFERROR(H6/$U$137,\"\")","v":""},{"$f":"IFERROR(I6/$U$137,\"\")","v":""},{"$f":"IFERROR(J6/$U$137,\"\")","v":""},{"$f":"IFERROR(K6/$U$137,\"\")","v":""},null,null,"Std Deviations:",{"$f":"IFERROR(STDEVP(O$12:O$136),\"No data\")","v":"No data"},"No data","No data","No data","No data","No data"]
[]
[{"$nulls":3},"Student Details",null,null,"Individual Student Data"]
[{"$nulls":7},"Assessment Administered",{"$nulls":6},"Story Comprehension Scores",null,"Listening Retell Scores"]
["#","First Name","Last Name","*First Name & Last Name\n(choose from list)","*WA Year Group of Student\n(select)","Class","Other Tags","*Year Group of Assessment Administered\n(select)","*Type of Assessment Administered\n(select: benchmark or progress)","*Term of Administration\n(select)","*Season Administered\n(select)","Notes","Story #","Interpretation Based on Comparison to Students Who Have Had:\n(auto look up)","Story Questions","Vocabulary Questions","*Story Grammar","*Language Complexity","*Episode","Listening Retell TOTAL SCORE\n(automatic calc)","Listening Retell TOTAL SCORE Interpretation*\n(automatic lookup)","Code of Score","Code of Ax Administered","First&LastMerged","Code of what should have been administered","What was & What Should have been merged"]
[1,{"$f":"INDEX(NLML.Test1.PrePostDataset[*First Name],(MATCH(NLML.Test2.PrePostDataset[[#This Row],[*First Name & Last Name\n(choose from list)]],'NLM Data Test 1'!$W$12:$W$136,0)),1)","v":{"$error":"#N/A"}},{"$f":"INDEX(NLML.Test1.PrePostDataset[*Last Name],(MATCH(NLML.Test2.PrePostDataset[[#This Row],[*First Name & Last Name\n(choose from list)]],'NLM Data Test 1'!$W$12:$W$136,0)),1)","v":{"$error":"#N/A"}},{"$nulls":10},{"$f":"IFERROR(INDEX('Olderyounger calc'!$D$10:$D$409,(MATCH(Z12,'Olderyounger calc'!$C$10:$C$409,0)),1),\"\")","v":""},{"$nulls":5},{"$f":"IF(C12=\"\",\"\",SUM(Q12:S12))","v":{"$error":"#N/A"}},{"$f":"IFERROR(INDEX('Data for lookup'!$F$2:$F$757,(MATCH($V12,'Data for lookup'!$A$2:$A$757,0)),1),\"\")","v":""},{"$f":"H12&I12&K12&T12","v":{"$error":"#N/A"}},{"$f":"H12&I12&K12","v":""},{"$f":"IF(D12=\"\",\"\",D12)","v":""},{"$f":"E12&I12&J12","v":""},{"$f":"W12&Y12","v":""}]
[2,{"$f":"INDEX(NLML.Test1.PrePostDataset[*First Name],(MATCH(NLML.Test2.PrePostDataset[[#This Row],[*First Name & Last Name\n(choose from list)]],'NLM Data Test 1'!$W$12:$W$136,0)),1)","v":{"$error":"#N/A"}},{"$f":"INDEX(NLML.Test1.PrePostDataset[*Last Name],(MATCH(NLML.Test2.PrePostDataset[[#This Row],[*First Name & Last Name\n(choose from list)]],'NLM Data Test 1'!$W$12:$W$136,0)),1)","v":{"$error":"#N/A"}},{"$nulls":10},{"$f":"IFERROR(INDEX('Olderyounger calc'!$D$10:$D$409,(MATCH(Z13,'Olderyounger calc'!$C$10:$C$409,0)),1),\"\")","v":""},{"$nulls":5},{"$error":"#N/A"},{"$f":"IFERROR(INDEX('Data for lookup'!$F$2:$F$757,(MATCH($V13,'Data for lookup'!$A$2:$A$757,0)),1),\"\")","v":""},{"$error":"#N/A"},"",{"$f":"IF(D13=\"\",\"\",D13)","v":""},"",{"$f":"W13&Y13","v":""}]
[3,{"$f":"INDEX(NLML.Test1.PrePostDataset[*First Name],(MATCH(NLML.Test2.PrePostDataset[[#This Row],[*First Name & Last Name\n(choose from list)]],'NLM Data Test 1'!$W$12:$W$136,0)),1)","v":{"$error":"#N/A"}},{"$f":"INDEX(NLML.Test1.PrePostDataset[*Last Name],(MATCH(NLML.Test2.PrePostDataset[[#This Row],[*First Name & Last Name\n(choose from list)]],'NLM Data Test 1'!$W$12:$W$136,0)),1)","v":{"$error":"#N/A"}},{"$nulls":10},{"$f":"IFERROR(INDEX('Olderyounger calc'!$D$10:$D$409,(MATCH(Z14,'Olderyounger calc'!$C$10:$C$409,0)),1),\"\")","v":""},{"$nulls":5},{"$error":"#N/A"},{"$f":"IFERROR(INDEX('Data for lookup'!$F$2:$F$757,(MATCH($V14,'Data for lookup'!$A$2:$A$757,0)),1),\"\")","v":""},{"$error":"#N/A"},"","","",""]
[4,{"$f":"INDEX(NLML.Test1.PrePostDataset[*First Name],(MATCH(NLML.Test2.PrePostDataset[[#This Row],[*First Name & Last Name\n(choose from list)]],'NLM Data Test 1'!$W$12:$W$136,0)),1)","v":{"$error":"#N/A"}},{"$f":"INDEX(NLML.Test1.PrePostDataset[*Last Name],(MATCH(NLML.Test2.PrePostDataset[[#This Row],[*First Name & Last Name\n(choose from list)]],'NLM Data Test 1'!$W$12:$W$136,0)),1)","v":{"$error":"#N/A"}},{"$nulls":10},{"$f":"IFERROR(INDEX('Olderyounger calc'!$D$10:$D$409,(MATCH(Z15,'Olderyounger calc'!$C$10:$C$409,0)),1),\"\")","v":""},{"$nulls":5},{"$error":"#N/A"},{"$f":"IFERROR(INDEX('Data for lookup'!$F$2:$F$757,(MATCH($V15,'Data for lookup'!$A$2:$A$757,0)),1),\"\")","v":""},{"$error":"#N/A"},"","","",""]
[5,{"$f":"INDEX(NLML.Test1.PrePostDataset[*First Name],(MATCH(NLML.Test2.PrePostDataset[[#This Row],[*First Name & Last Name\n(choose from list)]],'NLM Data Test 1'!$W$12:$W$136,0)),1)","v":{"$error":"#N/A"}},{"$f":"INDEX(NLML.Test1.PrePostDataset[*Last Name],(MATCH(NLML.Test2.PrePostDataset[[#This Row],[*First Name & Last Name\n(choose from list)]],'NLM Data Test 1'!$W$12:$W$136,0)),1)","v":{"$error":"#N/A"}},{"$nulls":10},{"$f":"IFERROR(INDEX('Olderyounger calc'!$D$10:$D$409,(MATCH(Z16,'Olderyounger calc'!$C$10:$C$409,0)),1),\"\")","v":""},{"$nulls":5},{"$error":"#N/A"},{"$f":"IFERROR(INDEX('Data for lookup'!$F$2:$F$757,(MATCH($V16,'Data for lookup'!$A$2:$A$757,0)),1),\"\")","v":""},{"$error":"#N/A"},"","","",""]
[6,{"$f":"INDEX(NLML.Test1.PrePostDataset[*First Name],(MATCH(NLML.Test2.PrePostDataset[[#This Row],[*First Name & Last Name\n(choose from list)]],'NLM Data Test 1'!$W$12:$W$136,0)),1)","v":{"$error":"#N/A"}},{"$f":"INDEX(NLML.Test1.PrePostDataset[*Last Name],(MATCH(NLML.Test2.PrePostDataset[[#This Row],[*First Name & Last Name\n(choose from list)]],'NLM Data Test 1'!$W$12:$W$136,0)),1)","v":{"$error":"#N/A"}},{"$nulls":10},{"$f":"IFERROR(INDEX('Olderyounger calc'!$D$10:$D$409,(MATCH(Z17,'Olderyounger calc'!$C$10:$C$409,0)),1),\"\")","v":""},{"$nulls":5},{"$error":"#N/A"},{"$f":"IFERROR(INDEX('Data for lookup'!$F$2:$F$757,(MATCH($V17,'Data for lookup'!$A$2:$A$757,0)),1),\"\")","v":""},{"$error":"#N/A"},"","","",""]
[7,{"$f":"INDEX(NLML.Test1.PrePostDataset[*First Name],(MATCH(NLML.Test2.PrePostDataset[[#This Row],[*First Name & Last Name\n(choose from list)]],'NLM Data Test 1'!$W$12:$W$136,0)),1)","v":{"$error":"#N/A"}},{"$f":"INDEX(NLML.Test1.PrePostDataset[*Last Name],(MATCH(NLML.Test2.PrePostDataset[[#This Row],[*First Name & Last Name\n(choose from list)]],'NLM Data Test 1'!$W$12:$W$136,0)),1)","v":{"$error":"#N/A"}},{"$nulls":10},{"$f":"IFERROR(INDEX('Olderyounger calc'!$D$10:$D$409,(MATCH(Z18,'Olderyounger calc'!$C$10:$C$409,0)),1),\"\")","v":""},{"$nulls":5},{"$error":"#N/A"},{"$f":"IFERROR(INDEX('Data for lookup'!$F$2:$F$757,(MATCH($V18,'Data for lookup'!$A$2:$A$757,0)),1),\"\")","v":""},{"$error":"#N/A"},"","","",""]
[8,{"$f":"INDEX(NLML.Test1.PrePostDataset[*First Name],(MATCH(NLML.Test2.PrePostDataset[[#This Row],[*First Name & Last Name\n(choose from list)]],'NLM Data Test 1'!$W$12:$W$136,0)),1)","v":{"$error":"#N/A"}},{"$f":"INDEX(NLML.Test1.PrePostDataset[*Last Name],(MATCH(NLML.Test2.PrePostDataset[[#This Row],[*First Name & Last Name\n(choose from list)]],'NLM Data Test 1'!$W$12:$W$136,0)),1)","v":{"$error":"#N/A"}},{"$nulls":10},{"$f":"IFERROR(INDEX('Olderyounger calc'!$D$10:$D$409,(MATCH(Z19,'Olderyounger calc'!$C$10:$C$409,0)),1),\"\")","v":""},{"$nulls":5},{"$error":"#N/A"},{"$f":"IFERROR(INDEX('Data for lookup'!$F$2:$F$757,(MATCH($V19,'Data for lookup'!$A$2:$A$757,0)),1),\"\")","v":""},{"$error":"#N/A"},"","","",""]
[9,{"$f":"INDEX(NLML.Test1.PrePostDataset[*First Name],(MATCH(NLML.Test2.PrePostDataset[[#This Row],[*First Name & Last Name\n(choose from list)]],'NLM Data Test 1'!$W$12:$W$136,0)),1)","v":{"$error":"#N/A"}},{"$f":"INDEX(NLML.Test1.PrePostDataset[*Last Name],(MATCH(NLML.Test2.PrePostDataset[[#This Row],[*First Name & Last Name\n(choose from list)]],'NLM Data Test 1'!$W$12:$W$136,0)),1)","v":{"$error":"#N/A"}},{"$nulls":10},{"$f":"IFERROR(INDEX('Olderyounger calc'!$D$10:$D$409,(MATCH(Z20,'Olderyounger calc'!$C$10:$C$409,0)),1),\"\")","v":""},{"$nulls":5},{"$error":"#N/A"},{"$f":"IFERROR(INDEX('Data for lookup'!$F$2:$F$757,(MATCH($V20,'Data for lookup'!$A$2:$A$757,0)),1),\"\")","v":""},{"$error":"#N/A"},"","","",""]
[10,{"$f":"INDEX(NLML.Test1.PrePostDataset[*First Name],(MATCH(NLML.Test2.PrePostDataset[[#This Row],[*First Name & Last Name\n(choose from list)]],'NLM Data Test 1'!$W$12:$W$136,0)),1)","v":{"$error":"#N/A"}},{"$f":"INDEX(NLML.Test1.PrePostDataset[*Last Name],(MATCH(NLML.Test2.PrePostDataset[[#This Row],[*First Name & Last Name\n(choose from list)]],'NLM Data Test 1'!$W$12:$W$136,0)),1)","v":{"$error":"#N/A"}},{"$nulls":10},{"$f":"IFERROR(INDEX('Olderyounger calc'!$D$10:$D$409,(MATCH(Z21,'Olderyounger calc'!$C$10:$C$409,0)),1),\"\")","v":""},{"$nulls":5},{"$error":"#N/A"},{"$f":"IFERROR(INDEX('Data for lookup'!$F$2:$F$757,(MATCH($V21,'Data for lookup'!$A$2:$A$757,0)),1),\"\")","v":""},{"$error":"#N/A"},"","","",""]
[11,{"$f":"INDEX(NLML.Test1.PrePostDataset[*First Name],(MATCH(NLML.Test2.PrePostDataset[[#This Row],[*First Name & Last Name\n(choose from list)]],'NLM Data Test 1'!$W$12:$W$136,0)),1)","v":{"$error":"#N/A"}},{"$f":"INDEX(NLML.Test1.PrePostDataset[*Last Name],(MATCH(NLML.Test2.PrePostDataset[[#This Row],[*First Name & Last Name\n(choose from list)]],'NLM Data Test 1'!$W$12:$W$136,0)),1)","v":{"$error":"#N/A"}},{"$nulls":10},{"$f":"IFERROR(INDEX('Olderyounger calc'!$D$10:$D$409,(MATCH(Z22,'Olderyounger calc'!$C$10:$C$409,0)),1),\"\")","v":""},{"$nulls":5},{"$error":"#N/A"},{"$f":"IFERROR(INDEX('Data for lookup'!$F$2:$F$757,(MATCH($V22,'Data for lookup'!$A$2:$A$757,0)),1),\"\")","v":""},{"$error":"#N/A"},"","","",""]
[12,{"$f":"INDEX(NLML.Test1.PrePostDataset[*First Name],(MATCH(NLML.Test2.PrePostDataset[[#This Row],[*First Name & Last Name\n(choose from list)]],'NLM Data Test 1'!$W$12:$W$136,0)),1)","v":{"$error":"#N/A"}},{"$f":"INDEX(NLML.Test1.PrePostDataset[*Last Name],(MATCH(NLML.Test2.PrePostDataset[[#This Row],[*First Name & Last Name\n(choose from list)]],'NLM Data Test 1'!$W$12:$W$136,0)),1)","v":{"$error":"#N/A"}},{"$nulls":10},{"$f":"IFERROR(INDEX('Olderyounger calc'!$D$10:$D$409,(MATCH(Z23,'Olderyounger calc'!$C$10:$C$409,0)),1),\"\")","v":""},{"$nulls":5},{"$error":"#N/A"},{"$f":"IFERROR(INDEX('Data for lookup'!$F$2:$F$757,(MATCH($V23,'Data for lookup'!$A$2:$A$757,0)),1),\"\")","v":""},{"$error":"#N/A"},"","","",""]
[13,{"$f":"INDEX(NLML.Test1.PrePostDataset[*First Name],(MATCH(NLML.Test2.PrePostDataset[[#This Row],[*First Name & Last Name\n(choose from list)]],'NLM Data Test 1'!$W$12:$W$136,0)),1)","v":{"$error":"#N/A"}},{"$f":"INDEX(NLML.Test1.PrePostDataset[*Last Name],(MATCH(NLML.Test2.PrePostDataset[[#This Row],[*First Name & Last Name\n(choose from list)]],'NLM Data Test 1'!$W$12:$W$136,0)),1)","v":{"$error":"#N/A"}},{"$nulls":10},{"$f":"IFERROR(INDEX('Olderyounger calc'!$D$10:$D$409,(MATCH(Z24,'Olderyounger calc'!$C$10:$C$409,0)),1),\"\")","v":""},{"$nulls":5},{"$error":"#N/A"},{"$f":"IFERROR(INDEX('Data for lookup'!$F$2:$F$757,(MATCH($V24,'Data for lookup'!$A$2:$A$757,0)),1),\"\")","v":""},{"$error":"#N/A"},"","","",""]
[14,{"$f":"INDEX(NLML.Test1.PrePostDataset[*First Name],(MATCH(NLML.Test2.PrePostDataset[[#This Row],[*First Name & Last Name\n(choose from list)]],'NLM Data Test 1'!$W$12:$W$136,0)),1)","v":{"$error":"#N/A"}},{"$f":"INDEX(NLML.Test1.PrePostDataset[*Last Name],(MATCH(NLML.Test2.PrePostDataset[[#This Row],[*First Name & Last Name\n(choose from list)]],'NLM Data Test 1'!$W$12:$W$136,0)),1)","v":{"$error":"#N/A"}},{"$nulls":10},{"$f":"IFERROR(INDEX('Olderyounger calc'!$D$10:$D$409,(MATCH(Z25,'Olderyounger calc'!$C$10:$C$409,0)),1),\"\")","v":""},{"$nulls":5},{"$error":"#N/A"},{"$f":"IFERROR(INDEX('Data for lookup'!$F$2:$F$757,(MATCH($V25,'Data for lookup'!$A$2:$A$757,0)),1),\"\")","v":""},{"$error":"#N/A"},"","","",""]
[15,{"$f":"INDEX(NLML.Test1.PrePostDataset[*First Name],(MATCH(NLML.Test2.PrePostDataset[[#This Row],[*First Name & Last Name\n(choose from list)]],'NLM Data Test 1'!$W$12:$W$136,0)),1)","v":{"$error":"#N/A"}},{"$f":"INDEX(NLML.Test1.PrePostDataset[*Last Name],(MATCH(NLML.Test2.PrePostDataset[[#This Row],[*First Name & Last Name\n(choose from list)]],'NLM Data Test 1'!$W$12:$W$136,0)),1)","v":{"$error":"#N/A"}},{"$nulls":10},{"$f":"IFERROR(INDEX('Olderyounger calc'!$D$10:$D$409,(MATCH(Z26,'Olderyounger calc'!$C$10:$C$409,0)),1),\"\")","v":""},{"$nulls":5},{"$error":"#N/A"},{"$f":"IFERROR(INDEX('Data for lookup'!$F$2:$F$757,(MATCH($V26,'Data for lookup'!$A$2:$A$757,0)),1),\"\")","v":""},{"$error":"#N/A"},"","","",""]
[16,{"$f":"INDEX(NLML.Test1.PrePostDataset[*First Name],(MATCH(NLML.Test2.PrePostDataset[[#This Row],[*First Name & Last Name\n(choose from list)]],'NLM Data Test 1'!$W$12:$W$136,0)),1)","v":{"$error":"#N/A"}},{"$f":"INDEX(NLML.Test1.PrePostDataset[*Last Name],(MATCH(NLML.Test2.PrePostDataset[[#This Row],[*First Name & Last Name\n(choose from list)]],'NLM Data Test 1'!$W$12:$W$136,0)),1)","v":{"$error":"#N/A"}},{"$nulls":10},{"$f":"IFERROR(INDEX('Olderyounger calc'!$D$10:$D$409,(MATCH(Z27,'Olderyounger calc'!$C$10:$C$409,0)),1),\"\")","v":""},{"$nulls":5},{"$error":"#N/A"},{"$f":"IFERROR(INDEX('Data for lookup'!$F$2:$F$757,(MATCH($V27,'Data for lookup'!$A$2:$A$757,0)),1),\"\")","v":""},{"$error":"#N/A"},"","","",""]
[17,{"$f":"INDEX(NLML.Test1.PrePostDataset[*First Name],(MATCH(NLML.Test2.PrePostDataset[[#This Row],[*First Name & Last Name\n(choose from list)]],'NLM Data Test 1'!$W$12:$W$136,0)),1)","v":{"$error":"#N/A"}},{"$f":"INDEX(NLML.Test1.PrePostDataset[*Last Name],(MATCH(NLML.Test2.PrePostDataset[[#This Row],[*First Name & Last Name\n(choose from list)]],'NLM Data Test 1'!$W$12:$W$136,0)),1)","v":{"$error":"#N/A"}},{"$nulls":10},{"$f":"IFERROR(INDEX('Olderyounger calc'!$D$10:$D$409,(MATCH(Z28,'Olderyounger calc'!$C$10:$C$409,0)),1),\"\")","v":""},{"$nulls":5},{"$error":"#N/A"},{"$f":"IFERROR(INDEX('Data for lookup'!$F$2:$F$757,(MATCH($V28,'Data for lookup'!$A$2:$A$757,0)),1),\"\")","v":""},{"$error":"#N/A"},"","","",""]
[18,{"$f":"INDEX(NLML.Test1.PrePostDataset[*First Name],(MATCH(NLML.Test2.PrePostDataset[[#This Row],[*First Name & Last Name\n(choose from list)]],'NLM Data Test 1'!$W$12:$W$136,0)),1)","v":{"$error":"#N/A"}},{"$f":"INDEX(NLML.Test1.PrePostDataset[*Last Name],(MATCH(NLML.Test2.PrePostDataset[[#This Row],[*First Name & Last Name\n(choose from list)]],'NLM Data Test 1'!$W$12:$W$136,0)),1)","v":{"$error":"#N/A"}},{"$nulls":10},{"$f":"IFERROR(INDEX('Olderyounger calc'!$D$10:$D$409,(MATCH(Z29,'Olderyounger calc'!$C$10:$C$409,0)),1),\"\")","v":""},{"$nulls":5},{"$error":"#N/A"},{"$f":"IFERROR(INDEX('Data for lookup'!$F$2:$F$757,(MATCH($V29,'Data for lookup'!$A$2:$A$757,0)),1),\"\")","v":""},{"$error":"#N/A"},"","","",""]
[19,{"$f":"INDEX(NLML.Test1.PrePostDataset[*First Name],(MATCH(NLML.Test2.PrePostDataset[[#This Row],[*First Name & Last Name\n(choose from list)]],'NLM Data Test 1'!$W$12:$W$136,0)),1)","v":{"$error":"#N/A"}},{"$f":"INDEX(NLML.Test1.PrePostDataset[*Last Name],(MATCH(NLML.Test2.PrePostDataset[[#This Row],[*First Name & Last Name\n(choose from list)]],'NLM Data Test 1'!$W$12:$W$136,0)),1)","v":{"$error":"#N/A"}},{"$nulls":10},{"$f":"IFERROR(INDEX('Olderyounger calc'!$D$10:$D$409,(MATCH(Z30,'Olderyounger calc'!$C$10:$C$409,0)),1),\"\")","v":""},{"$nulls":5},{"$error":"#N/A"},{"$f":"IFERROR(INDEX('Data for lookup'!$F$2:$F$757,(MATCH($V30,'Data for lookup'!$A$2:$A$757,0)),1),\"\")","v":""},{"$error":"#N/A"},"","","",""]
[20,{"$f":"INDEX(NLML.Test1.PrePostDataset[*First Name],(MATCH(NLML.Test2.PrePostDataset[[#This Row],[*First Name & Last Name\n(choose from list)]],'NLM Data Test 1'!$W$12:$W$136,0)),1)","v":{"$error":"#N/A"}},{"$f":"INDEX(NLML.Test1.PrePostDataset[*Last Name],(MATCH(NLML.Test2.PrePostDataset[[#This Row],[*First Name & Last Name\n(choose from list)]],'NLM Data Test 1'!$W$12:$W$136,0)),1)","v":{"$error":"#N/A"}},{"$nulls":10},{"$f":"IFERROR(INDEX('Olderyounger calc'!$D$10:$D$409,(MATCH(Z31,'Olderyounger calc'!$C$10:$C$409,0)),1),\"\")","v":""},{"$nulls":5},{"$error":"#N/A"},{"$f":"IFERROR(INDEX('Data for lookup'!$F$2:$F$757,(MATCH($V31,'Data for lookup'!$A$2:$A$757,0)),1),\"\")","v":""},{"$error":"#N/A"},"","","",""]
[21,{"$f":"INDEX(NLML.Test1.PrePostDataset[*First Name],(MATCH(NLML.Test2.PrePostDataset[[#This Row],[*First Name & Last Name\n(choose from list)]],'NLM Data Test 1'!$W$12:$W$136,0)),1)","v":{"$error":"#N/A"}},{"$f":"INDEX(NLML.Test1.PrePostDataset[*Last Name],(MATCH(NLML.Test2.PrePostDataset[[#This Row],[*First Name & Last Name\n(choose from list)]],'NLM Data Test 1'!$W$12:$W$136,0)),1)","v":{"$error":"#N/A"}},{"$nulls":10},{"$f":"IFERROR(INDEX('Olderyounger calc'!$D$10:$D$409,(MATCH(Z32,'Olderyounger calc'!$C$10:$C$409,0)),1),\"\")","v":""},{"$nulls":5},{"$error":"#N/A"},{"$f":"IFERROR(INDEX('Data for lookup'!$F$2:$F$757,(MATCH($V32,'Data for lookup'!$A$2:$A$757,0)),1),\"\")","v":""},{"$error":"#N/A"},"","","",""]
[22,{"$f":"INDEX(NLML.Test1.PrePostDataset[*First Name],(MATCH(NLML.Test2.PrePostDataset[[#This Row],[*First Name & Last Name\n(choose from list)]],'NLM Data Test 1'!$W$12:$W$136,0)),1)","v":{"$error":"#N/A"}},{"$f":"INDEX(NLML.Test1.PrePostDataset[*Last Name],(MATCH(NLML.Test2.PrePostDataset[[#This Row],[*First Name & Last Name\n(choose from list)]],'NLM Data Test 1'!$W$12:$W$136,0)),1)","v":{"$error":"#N/A"}},{"$nulls":10},{"$f":"IFERROR(INDEX('Olderyounger calc'!$D$10:$D$409,(MATCH(Z33,'Olderyounger calc'!$C$10:$C$409,0)),1),\"\")","v":""},{"$nulls":5},{"$error":"#N/A"},{"$f":"IFERROR(INDEX('Data for lookup'!$F$2:$F$757,(MATCH($V33,'Data for lookup'!$A$2:$A$757,0)),1),\"\")","v":""},{"$error":"#N/A"},"","","",""]
[23,{"$f":"INDEX(NLML.Test1.PrePostDataset[*First Name],(MATCH(NLML.Test2.PrePostDataset[[#This Row],[*First Name & Last Name\n(choose from list)]],'NLM Data Test 1'!$W$12:$W$136,0)),1)","v":{"$error":"#N/A"}},{"$f":"INDEX(NLML.Test1.PrePostDataset[*Last Name],(MATCH(NLML.Test2.PrePostDataset[[#This Row],[*First Name & Last Name\n(choose from list)]],'NLM Data Test 1'!$W$12:$W$136,0)),1)","v":{"$error":"#N/A"}},{"$nulls":10},{"$f":"IFERROR(INDEX('Olderyounger calc'!$D$10:$D$409,(MATCH(Z34,'Olderyounger calc'!$C$10:$C$409,0)),1),\"\")","v":""},{"$nulls":5},{"$error":"#N/A"},{"$f":"IFERROR(INDEX('Data for lookup'!$F$2:$F$757,(MATCH($V34,'Data for lookup'!$A$2:$A$757,0)),1),\"\")","v":""},{"$error":"#N/A"},"","","",""]
[24,{"$f":"INDEX(NLML.Test1.PrePostDataset[*First Name],(MATCH(NLML.Test2.PrePostDataset[[#This Row],[*First Name & Last Name\n(choose from list)]],'NLM Data Test 1'!$W$12:$W$136,0)),1)","v":{"$error":"#N/A"}},{"$f":"INDEX(NLML.Test1.PrePostDataset[*Last Name],(MATCH(NLML.Test2.PrePostDataset[[#This Row],[*First Name & Last Name\n(choose from list)]],'NLM Data Test 1'!$W$12:$W$136,0)),1)","v":{"$error":"#N/A"}},{"$nulls":10},{"$f":"IFERROR(INDEX('Olderyounger calc'!$D$10:$D$409,(MATCH(Z35,'Olderyounger calc'!$C$10:$C$409,0)),1),\"\")","v":""},{"$nulls":5},{"$error":"#N/A"},{"$f":"IFERROR(INDEX('Data for lookup'!$F$2:$F$757,(MATCH($V35,'Data for lookup'!$A$2:$A$757,0)),1),\"\")","v":""},{"$error":"#N/A"},"","","",""]
[25,{"$f":"INDEX(NLML.Test1.PrePostDataset[*First Name],(MATCH(NLML.Test2.PrePostDataset[[#This Row],[*First Name & Last Name\n(choose from list)]],'NLM Data Test 1'!$W$12:$W$136,0)),1)","v":{"$error":"#N/A"}},{"$f":"INDEX(NLML.Test1.PrePostDataset[*Last Name],(MATCH(NLML.Test2.PrePostDataset[[#This Row],[*First Name & Last Name\n(choose from list)]],'NLM Data Test 1'!$W$12:$W$136,0)),1)","v":{"$error":"#N/A"}},{"$nulls":10},{"$f":"IFERROR(INDEX('Olderyounger calc'!$D$10:$D$409,(MATCH(Z36,'Olderyounger calc'!$C$10:$C$409,0)),1),\"\")","v":""},{"$nulls":5},{"$error":"#N/A"},{"$f":"IFERROR(INDEX('Data for lookup'!$F$2:$F$757,(MATCH($V36,'Data for lookup'!$A$2:$A$757,0)),1),\"\")","v":""},{"$error":"#N/A"},"","","",""]
[26,{"$f":"INDEX(NLML.Test1.PrePostDataset[*First Name],(MATCH(NLML.Test2.PrePostDataset[[#This Row],[*First Name & Last Name\n(choose from list)]],'NLM Data Test 1'!$W$12:$W$136,0)),1)","v":{"$error":"#N/A"}},{"$f":"INDEX(NLML.Test1.PrePostDataset[*Last Name],(MATCH(NLML.Test2.PrePostDataset[[#This Row],[*First Name & Last Name\n(choose from list)]],'NLM Data Test 1'!$W$12:$W$136,0)),1)","v":{"$error":"#N/A"}},{"$nulls":10},{"$f":"IFERROR(INDEX('Olderyounger calc'!$D$10:$D$409,(MATCH(Z37,'Olderyounger calc'!$C$10:$C$409,0)),1),\"\")","v":""},{"$nulls":5},{"$error":"#N/A"},{"$f":"IFERROR(INDEX('Data for lookup'!$F$2:$F$757,(MATCH($V37,'Data for lookup'!$A$2:$A$757,0)),1),\"\")","v":""},{"$error":"#N/A"},"","","",""]
[27,{"$f":"INDEX(NLML.Test1.PrePostDataset[*First Name],(MATCH(NLML.Test2.PrePostDataset[[#This Row],[*First Name & Last Name\n(choose from list)]],'NLM Data Test 1'!$W$12:$W$136,0)),1)","v":{"$error":"#N/A"}},{"$f":"INDEX(NLML.Test1.PrePostDataset[*Last Name],(MATCH(NLML.Test2.PrePostDataset[[#This Row],[*First Name & Last Name\n(choose from list)]],'NLM Data Test 1'!$W$12:$W$136,0)),1)","v":{"$error":"#N/A"}},{"$nulls":10},{"$f":"IFERROR(INDEX('Olderyounger calc'!$D$10:$D$409,(MATCH(Z38,'Olderyounger calc'!$C$10:$C$409,0)),1),\"\")","v":""},{"$nulls":5},{"$error":"#N/A"},{"$f":"IFERROR(INDEX('Data for lookup'!$F$2:$F$757,(MATCH($V38,'Data for lookup'!$A$2:$A$757,0)),1),\"\")","v":""},{"$error":"#N/A"},"","","",""]
[28,{"$f":"INDEX(NLML.Test1.PrePostDataset[*First Name],(MATCH(NLML.Test2.PrePostDataset[[#This Row],[*First Name & Last Name\n(choose from list)]],'NLM Data Test 1'!$W$12:$W$136,0)),1)","v":{"$error":"#N/A"}},{"$f":"INDEX(NLML.Test1.PrePostDataset[*Last Name],(MATCH(NLML.Test2.PrePostDataset[[#This Row],[*First Name & Last Name\n(choose from list)]],'NLM Data Test 1'!$W$12:$W$136,0)),1)","v":{"$error":"#N/A"}},{"$nulls":10},{"$f":"IFERROR(INDEX('Olderyounger calc'!$D$10:$D$409,(MATCH(Z39,'Olderyounger calc'!$C$10:$C$409,0)),1),\"\")","v":""},{"$nulls":5},{"$error":"#N/A"},{"$f":"IFERROR(INDEX('Data for lookup'!$F$2:$F$757,(MATCH($V39,'Data for lookup'!$A$2:$A$757,0)),1),\"\")","v":""},{"$error":"#N/A"},"","","",""]
[29,{"$f":"INDEX(NLML.Test1.PrePostDataset[*First Name],(MATCH(NLML.Test2.PrePostDataset[[#This Row],[*First Name & Last Name\n(choose from list)]],'NLM Data Test 1'!$W$12:$W$136,0)),1)","v":{"$error":"#N/A"}},{"$f":"INDEX(NLML.Test1.PrePostDataset[*Last Name],(MATCH(NLML.Test2.PrePostDataset[[#This Row],[*First Name & Last Name\n(choose from list)]],'NLM Data Test 1'!$W$12:$W$136,0)),1)","v":{"$error":"#N/A"}},{"$nulls":10},{"$f":"IFERROR(INDEX('Olderyounger calc'!$D$10:$D$409,(MATCH(Z40,'Olderyounger calc'!$C$10:$C$409,0)),1),\"\")","v":""},{"$nulls":5},{"$error":"#N/A"},{"$f":"IFERROR(INDEX('Data for lookup'!$F$2:$F$757,(MATCH($V40,'Data for lookup'!$A$2:$A$757,0)),1),\"\")","v":""},{"$error":"#N/A"},"","","",""]
[30,{"$f":"INDEX(NLML.Test1.PrePostDataset[*First Name],(MATCH(NLML.Test2.PrePostDataset[[#This Row],[*First Name & Last Name\n(choose from list)]],'NLM Data Test 1'!$W$12:$W$136,0)),1)","v":{"$error":"#N/A"}},{"$f":"INDEX(NLML.Test1.PrePostDataset[*Last Name],(MATCH(NLML.Test2.PrePostDataset[[#This Row],[*First Name & Last Name\n(choose from list)]],'NLM Data Test 1'!$W$12:$W$136,0)),1)","v":{"$error":"#N/A"}},{"$nulls":10},{"$f":"IFERROR(INDEX('Olderyounger calc'!$D$10:$D$409,(MATCH(Z41,'Olderyounger calc'!$C$10:$C$409,0)),1),\"\")","v":""},{"$nulls":5},{"$error":"#N/A"},{"$f":"IFERROR(INDEX('Data for lookup'!$F$2:$F$757,(MATCH($V41,'Data for lookup'!$A$2:$A$757,0)),1),\"\")","v":""},{"$error":"#N/A"},"","","",""]
[31,{"$f":"INDEX(NLML.Test1.PrePostDataset[*First Name],(MATCH(NLML.Test2.PrePostDataset[[#This Row],[*First Name & Last Name\n(choose from list)]],'NLM Data Test 1'!$W$12:$W$136,0)),1)","v":{"$error":"#N/A"}},{"$f":"INDEX(NLML.Test1.PrePostDataset[*Last Name],(MATCH(NLML.Test2.PrePostDataset[[#This Row],[*First Name & Last Name\n(choose from list)]],'NLM Data Test 1'!$W$12:$W$136,0)),1)","v":{"$error":"#N/A"}},{"$nulls":10},{"$f":"IFERROR(INDEX('Olderyounger calc'!$D$10:$D$409,(MATCH(Z42,'Olderyounger calc'!$C$10:$C$409,0)),1),\"\")","v":""},{"$nulls":5},{"$error":"#N/A"},{"$f":"IFERROR(INDEX('Data for lookup'!$F$2:$F$757,(MATCH($V42,'Data for lookup'!$A$2:$A$757,0)),1),\"\")","v":""},{"$error":"#N/A"},"","","",""]
[32,{"$f":"INDEX(NLML.Test1.PrePostDataset[*First Name],(MATCH(NLML.Test2.PrePostDataset[[#This Row],[*First Name & Last Name\n(choose from list)]],'NLM Data Test 1'!$W$12:$W$136,0)),1)","v":{"$error":"#N/A"}},{"$f":"INDEX(NLML.Test1.PrePostDataset[*Last Name],(MATCH(NLML.Test2.PrePostDataset[[#This Row],[*First Name & Last Name\n(choose from list)]],'NLM Data Test 1'!$W$12:$W$136,0)),1)","v":{"$error":"#N/A"}},{"$nulls":10},{"$f":"IFERROR(INDEX('Olderyounger calc'!$D$10:$D$409,(MATCH(Z43,'Olderyounger calc'!$C$10:$C$409,0)),1),\"\")","v":""},{"$nulls":5},{"$error":"#N/A"},{"$f":"IFERROR(INDEX('Data for lookup'!$F$2:$F$757,(MATCH($V43,'Data for lookup'!$A$2:$A$757,0)),1),\"\")","v":""},{"$error":"#N/A"},"","","",""]
[33,{"$f":"INDEX(NLML.Test1.PrePostDataset[*First Name],(MATCH(NLML.Test2.PrePostDataset[[#This Row],[*First Name & Last Name\n(choose from list)]],'NLM Data Test 1'!$W$12:$W$136,0)),1)","v":{"$error":"#N/A"}},{"$f":"INDEX(NLML.Test1.PrePostDataset[*Last Name],(MATCH(NLML.Test2.PrePostDataset[[#This Row],[*First Name & Last Name\n(choose from list)]],'NLM Data Test 1'!$W$12:$W$136,0)),1)","v":{"$error":"#N/A"}},{"$nulls":10},{"$f":"IFERROR(INDEX('Olderyounger calc'!$D$10:$D$409,(MATCH(Z44,'Olderyounger calc'!$C$10:$C$409,0)),1),\"\")","v":""},{"$nulls":5},{"$f":"IF(C44=\"\",\"\",SUM(Q44:S44))","v":{"$error":"#N/A"}},{"$f":"IFERROR(INDEX('Data for lookup'!$F$2:$F$757,(MATCH($V44,'Data for lookup'!$A$2:$A$757,0)),1),\"\")","v":""},{"$f":"H44&I44&K44&T44","v":{"$error":"#N/A"}},{"$f":"H44&I44&K44","v":""},{"$f":"IF(D44=\"\",\"\",D44)","v":""},{"$f":"E44&I44&J44","v":""},""]
[34,{"$f":"INDEX(NLML.Test1.PrePostDataset[*First Name],(MATCH(NLML.Test2.PrePostDataset[[#This Row],[*First Name & Last Name\n(choose from list)]],'NLM Data Test 1'!$W$12:$W$136,0)),1)","v":{"$error":"#N/A"}},{"$f":"INDEX(NLML.Test1.PrePostDataset[*Last Name],(MATCH(NLML.Test2.PrePostDataset[[#This Row],[*First Name & Last Name\n(choose from list)]],'NLM Data Test 1'!$W$12:$W$136,0)),1)","v":{"$error":"#N/A"}},{"$nulls":10},{"$f":"IFERROR(INDEX('Olderyounger calc'!$D$10:$D$409,(MATCH(Z45,'Olderyounger calc'!$C$10:$C$409,0)),1),\"\")","v":""},{"$nulls":5},{"$error":"#N/A"},{"$f":"IFERROR(INDEX('Data for lookup'!$F$2:$F$757,(MATCH($V45,'Data for lookup'!$A$2:$A$757,0)),1),\"\")","v":""},{"$error":"#N/A"},"","","",""]
[35,{"$f":"INDEX(NLML.Test1.PrePostDataset[*First Name],(MATCH(NLML.Test2.PrePostDataset[[#This Row],[*First Name & Last Name\n(choose from list)]],'NLM Data Test 1'!$W$12:$W$136,0)),1)","v":{"$error":"#N/A"}},{"$f":"INDEX(NLML.Test1.PrePostDataset[*Last Name],(MATCH(NLML.Test2.PrePostDataset[[#This Row],[*First Name & Last Name\n(choose from list)]],'NLM Data Test 1'!$W$12:$W$136,0)),1)","v":{"$error":"#N/A"}},{"$nulls":10},{"$f":"IFERROR(INDEX('Olderyounger calc'!$D$10:$D$409,(MATCH(Z46,'Olderyounger calc'!$C$10:$C$409,0)),1),\"\")","v":""},{"$nulls":5},{"$error":"#N/A"},{"$f":"IFERROR(INDEX('Data for lookup'!$F$2:$F$757,(MATCH($V46,'Data for lookup'!$A$2:$A$757,0)),1),\"\")","v":""},{"$error":"#N/A"},"","","",""]
[36,{"$f":"INDEX(NLML.Test1.PrePostDataset[*First Name],(MATCH(NLML.Test2.PrePostDataset[[#This Row],[*First Name & Last Name\n(choose from list)]],'NLM Data Test 1'!$W$12:$W$136,0)),1)","v":{"$error":"#N/A"}},{"$f":"INDEX(NLML.Test1.PrePostDataset[*Last Name],(MATCH(NLML.Test2.PrePostDataset[[#This Row],[*First Name & Last Name\n(choose from list)]],'NLM Data Test 1'!$W$12:$W$136,0)),1)","v":{"$error":"#N/A"}},{"$nulls":10},{"$f":"IFERROR(INDEX('Olderyounger calc'!$D$10:$D$409,(MATCH(Z47,'Olderyounger calc'!$C$10:$C$409,0)),1),\"\")","v":""},{"$nulls":5},{"$error":"#N/A"},{"$f":"IFERROR(INDEX('Data for lookup'!$F$2:$F$757,(MATCH($V47,'Data for lookup'!$A$2:$A$757,0)),1),\"\")","v":""},{"$error":"#N/A"},"","","",""]
[37,{"$f":"INDEX(NLML.Test1.PrePostDataset[*First Name],(MATCH(NLML.Test2.PrePostDataset[[#This Row],[*First Name & Last Name\n(choose from list)]],'NLM Data Test 1'!$W$12:$W$136,0)),1)","v":{"$error":"#N/A"}},{"$f":"INDEX(NLML.Test1.PrePostDataset[*Last Name],(MATCH(NLML.Test2.PrePostDataset[[#This Row],[*First Name & Last Name\n(choose from list)]],'NLM Data Test 1'!$W$12:$W$136,0)),1)","v":{"$error":"#N/A"}},{"$nulls":10},{"$f":"IFERROR(INDEX('Olderyounger calc'!$D$10:$D$409,(MATCH(Z48,'Olderyounger calc'!$C$10:$C$409,0)),1),\"\")","v":""},{"$nulls":5},{"$error":"#N/A"},{"$f":"IFERROR(INDEX('Data for lookup'!$F$2:$F$757,(MATCH($V48,'Data for lookup'!$A$2:$A$757,0)),1),\"\")","v":""},{"$error":"#N/A"},"","","",""]
[38,{"$f":"INDEX(NLML.Test1.PrePostDataset[*First Name],(MATCH(NLML.Test2.PrePostDataset[[#This Row],[*First Name & Last Name\n(choose from list)]],'NLM Data Test 1'!$W$12:$W$136,0)),1)","v":{"$error":"#N/A"}},{"$f":"INDEX(NLML.Test1.PrePostDataset[*Last Name],(MATCH(NLML.Test2.PrePostDataset[[#This Row],[*First Name & Last Name\n(choose from list)]],'NLM Data Test 1'!$W$12:$W$136,0)),1)","v":{"$error":"#N/A"}},{"$nulls":10},{"$f":"IFERROR(INDEX('Olderyounger calc'!$D$10:$D$409,(MATCH(Z49,'Olderyounger calc'!$C$10:$C$409,0)),1),\"\")","v":""},{"$nulls":5},{"$error":"#N/A"},{"$f":"IFERROR(INDEX('Data for lookup'!$F$2:$F$757,(MATCH($V49,'Data for lookup'!$A$2:$A$757,0)),1),\"\")","v":""},{"$error":"#N/A"},"","","",""]
[39,{"$f":"INDEX(NLML.Test1.PrePostDataset[*First Name],(MATCH(NLML.Test2.PrePostDataset[[#This Row],[*First Name & Last Name\n(choose from list)]],'NLM Data Test 1'!$W$12:$W$136,0)),1)","v":{"$error":"#N/A"}},{"$f":"INDEX(NLML.Test1.PrePostDataset[*Last Name],(MATCH(NLML.Test2.PrePostDataset[[#This Row],[*First Name & Last Name\n(choose from list)]],'NLM Data Test 1'!$W$12:$W$136,0)),1)","v":{"$error":"#N/A"}},{"$nulls":10},{"$f":"IFERROR(INDEX('Olderyounger calc'!$D$10:$D$409,(MATCH(Z50,'Olderyounger calc'!$C$10:$C$409,0)),1),\"\")","v":""},{"$nulls":5},{"$error":"#N/A"},{"$f":"IFERROR(INDEX('Data for lookup'!$F$2:$F$757,(MATCH($V50,'Data for lookup'!$A$2:$A$757,0)),1),\"\")","v":""},{"$error":"#N/A"},"","","",""]
[40,{"$f":"INDEX(NLML.Test1.PrePostDataset[*First Name],(MATCH(NLML.Test2.PrePostDataset[[#This Row],[*First Name & Last Name\n(choose from list)]],'NLM Data Test 1'!$W$12:$W$136,0)),1)","v":{"$error":"#N/A"}},{"$f":"INDEX(NLML.Test1.PrePostDataset[*Last Name],(MATCH(NLML.Test2.PrePostDataset[[#This Row],[*First Name & Last Name\n(choose from list)]],'NLM Data Test 1'!$W$12:$W$136,0)),1)","v":{"$error":"#N/A"}},{"$nulls":10},{"$f":"IFERROR(INDEX('Olderyounger calc'!$D$10:$D$409,(MATCH(Z51,'Olderyounger calc'!$C$10:$C$409,0)),1),\"\")","v":""},{"$nulls":5},{"$error":"#N/A"},{"$f":"IFERROR(INDEX('Data for lookup'!$F$2:$F$757,(MATCH($V51,'Data for lookup'!$A$2:$A$757,0)),1),\"\")","v":""},{"$error":"#N/A"},"","","",""]
[41,{"$f":"INDEX(NLML.Test1.PrePostDataset[*First Name],(MATCH(NLML.Test2.PrePostDataset[[#This Row],[*First Name & Last Name\n(choose from list)]],'NLM Data Test 1'!$W$12:$W$136,0)),1)","v":{"$error":"#N/A"}},{"$f":"INDEX(NLML.Test1.PrePostDataset[*Last Name],(MATCH(NLML.Test2.PrePostDataset[[#This Row],[*First Name & Last Name\n(choose from list)]],'NLM Data Test 1'!$W$12:$W$136,0)),1)","v":{"$error":"#N/A"}},{"$nulls":10},{"$f":"IFERROR(INDEX('Olderyounger calc'!$D$10:$D$409,(MATCH(Z52,'Olderyounger calc'!$C$10:$C$409,0)),1),\"\")","v":""},{"$nulls":5},{"$error":"#N/A"},{"$f":"IFERROR(INDEX('Data for lookup'!$F$2:$F$757,(MATCH($V52,'Data for lookup'!$A$2:$A$757,0)),1),\"\")","v":""},{"$error":"#N/A"},"","","",""]
[42,{"$f":"INDEX(NLML.Test1.PrePostDataset[*First Name],(MATCH(NLML.Test2.PrePostDataset[[#This Row],[*First Name & Last Name\n(choose from list)]],'NLM Data Test 1'!$W$12:$W$136,0)),1)","v":{"$error":"#N/A"}},{"$f":"INDEX(NLML.Test1.PrePostDataset[*Last Name],(MATCH(NLML.Test2.PrePostDataset[[#This Row],[*First Name & Last Name\n(choose from list)]],'NLM Data Test 1'!$W$12:$W$136,0)),1)","v":{"$error":"#N/A"}},{"$nulls":10},{"$f":"IFERROR(INDEX('Olderyounger calc'!$D$10:$D$409,(MATCH(Z53,'Olderyounger calc'!$C$10:$C$409,0)),1),\"\")","v":""},{"$nulls":5},{"$error":"#N/A"},{"$f":"IFERROR(INDEX('Data for lookup'!$F$2:$F$757,(MATCH($V53,'Data for lookup'!$A$2:$A$757,0)),1),\"\")","v":""},{"$error":"#N/A"},"","","",""]
[43,{"$f":"INDEX(NLML.Test1.PrePostDataset[*First Name],(MATCH(NLML.Test2.PrePostDataset[[#This Row],[*First Name & Last Name\n(choose from list)]],'NLM Data Test 1'!$W$12:$W$136,0)),1)","v":{"$error":"#N/A"}},{"$f":"INDEX(NLML.Test1.PrePostDataset[*Last Name],(MATCH(NLML.Test2.PrePostDataset[[#This Row],[*First Name & Last Name\n(choose from list)]],'NLM Data Test 1'!$W$12:$W$136,0)),1)","v":{"$error":"#N/A"}},{"$nulls":10},{"$f":"IFERROR(INDEX('Olderyounger calc'!$D$10:$D$409,(MATCH(Z54,'Olderyounger calc'!$C$10:$C$409,0)),1),\"\")","v":""},{"$nulls":5},{"$error":"#N/A"},{"$f":"IFERROR(INDEX('Data for lookup'!$F$2:$F$757,(MATCH($V54,'Data for lookup'!$A$2:$A$757,0)),1),\"\")","v":""},{"$error":"#N/A"},"","","",""]
[44,{"$f":"INDEX(NLML.Test1.PrePostDataset[*First Name],(MATCH(NLML.Test2.PrePostDataset[[#This Row],[*First Name & Last Name\n(choose from list)]],'NLM Data Test 1'!$W$12:$W$136,0)),1)","v":{"$error":"#N/A"}},{"$f":"INDEX(NLML.Test1.PrePostDataset[*Last Name],(MATCH(NLML.Test2.PrePostDataset[[#This Row],[*First Name & Last Name\n(choose from list)]],'NLM Data Test 1'!$W$12:$W$136,0)),1)","v":{"$error":"#N/A"}},{"$nulls":10},{"$f":"IFERROR(INDEX('Olderyounger calc'!$D$10:$D$409,(MATCH(Z55,'Olderyounger calc'!$C$10:$C$409,0)),1),\"\")","v":""},{"$nulls":5},{"$error":"#N/A"},{"$f":"IFERROR(INDEX('Data for lookup'!$F$2:$F$757,(MATCH($V55,'Data for lookup'!$A$2:$A$757,0)),1),\"\")","v":""},{"$error":"#N/A"},"","","",""]
[45,{"$f":"INDEX(NLML.Test1.PrePostDataset[*First Name],(MATCH(NLML.Test2.PrePostDataset[[#This Row],[*First Name & Last Name\n(choose from list)]],'NLM Data Test 1'!$W$12:$W$136,0)),1)","v":{"$error":"#N/A"}},{"$f":"INDEX(NLML.Test1.PrePostDataset[*Last Name],(MATCH(NLML.Test2.PrePostDataset[[#This Row],[*First Name & Last Name\n(choose from list)]],'NLM Data Test 1'!$W$12:$W$136,0)),1)","v":{"$error":"#N/A"}},{"$nulls":10},{"$f":"IFERROR(INDEX('Olderyounger calc'!$D$10:$D$409,(MATCH(Z56,'Olderyounger calc'!$C$10:$C$409,0)),1),\"\")","v":""},{"$nulls":5},{"$error":"#N/A"},{"$f":"IFERROR(INDEX('Data for lookup'!$F$2:$F$757,(MATCH($V56,'Data for lookup'!$A$2:$A$757,0)),1),\"\")","v":""},{"$error":"#N/A"},"","","",""]
[46,{"$f":"INDEX(NLML.Test1.PrePostDataset[*First Name],(MATCH(NLML.Test2.PrePostDataset[[#This Row],[*First Name & Last Name\n(choose from list)]],'NLM Data Test 1'!$W$12:$W$136,0)),1)","v":{"$error":"#N/A"}},{"$f":"INDEX(NLML.Test1.PrePostDataset[*Last Name],(MATCH(NLML.Test2.PrePostDataset[[#This Row],[*First Name & Last Name\n(choose from list)]],'NLM Data Test 1'!$W$12:$W$136,0)),1)","v":{"$error":"#N/A"}},{"$nulls":10},{"$f":"IFERROR(INDEX('Olderyounger calc'!$D$10:$D$409,(MATCH(Z57,'Olderyounger calc'!$C$10:$C$409,0)),1),\"\")","v":""},{"$nulls":5},{"$error":"#N/A"},{"$f":"IFERROR(INDEX('Data for lookup'!$F$2:$F$757,(MATCH($V57,'Data for lookup'!$A$2:$A$757,0)),1),\"\")","v":""},{"$error":"#N/A"},"","","",""]
[47,{"$f":"INDEX(NLML.Test1.PrePostDataset[*First Name],(MATCH(NLML.Test2.PrePostDataset[[#This Row],[*First Name & Last Name\n(choose from list)]],'NLM Data Test 1'!$W$12:$W$136,0)),1)","v":{"$error":"#N/A"}},{"$f":"INDEX(NLML.Test1.PrePostDataset[*Last Name],(MATCH(NLML.Test2.PrePostDataset[[#This Row],[*First Name & Last Name\n(choose from list)]],'NLM Data Test 1'!$W$12:$W$136,0)),1)","v":{"$error":"#N/A"}},{"$nulls":10},{"$f":"IFERROR(INDEX('Olderyounger calc'!$D$10:$D$409,(MATCH(Z58,'Olderyounger calc'!$C$10:$C$409,0)),1),\"\")","v":""},{"$nulls":5},{"$error":"#N/A"},{"$f":"IFERROR(INDEX('Data for lookup'!$F$2:$F$757,(MATCH($V58,'Data for lookup'!$A$2:$A$757,0)),1),\"\")","v":""},{"$error":"#N/A"},"","","",""]
[48,{"$f":"INDEX(NLML.Test1.PrePostDataset[*First Name],(MATCH(NLML.Test2.PrePostDataset[[#This Row],[*First Name & Last Name\n(choose from list)]],'NLM Data Test 1'!$W$12:$W$136,0)),1)","v":{"$error":"#N/A"}},{"$f":"INDEX(NLML.Test1.PrePostDataset[*Last Name],(MATCH(NLML.Test2.PrePostDataset[[#This Row],[*First Name & Last Name\n(choose from list)]],'NLM Data Test 1'!$W$12:$W$136,0)),1)","v":{"$error":"#N/A"}},{"$nulls":10},{"$f":"IFERROR(INDEX('Olderyounger calc'!$D$10:$D$409,(MATCH(Z59,'Olderyounger calc'!$C$10:$C$409,0)),1),\"\")","v":""},{"$nulls":5},{"$error":"#N/A"},{"$f":"IFERROR(INDEX('Data for lookup'!$F$2:$F$757,(MATCH($V59,'Data for lookup'!$A$2:$A$757,0)),1),\"\")","v":""},{"$error":"#N/A"},"","","",""]
[49,{"$f":"INDEX(NLML.Test1.PrePostDataset[*First Name],(MATCH(NLML.Test2.PrePostDataset[[#This Row],[*First Name & Last Name\n(choose from list)]],'NLM Data Test 1'!$W$12:$W$136,0)),1)","v":{"$error":"#N/A"}},{"$f":"INDEX(NLML.Test1.PrePostDataset[*Last Name],(MATCH(NLML.Test2.PrePostDataset[[#This Row],[*First Name & Last Name\n(choose from list)]],'NLM Data Test 1'!$W$12:$W$136,0)),1)","v":{"$error":"#N/A"}},{"$nulls":10},{"$f":"IFERROR(INDEX('Olderyounger calc'!$D$10:$D$409,(MATCH(Z60,'Olderyounger calc'!$C$10:$C$409,0)),1),\"\")","v":""},{"$nulls":5},{"$error":"#N/A"},{"$f":"IFERROR(INDEX('Data for lookup'!$F$2:$F$757,(MATCH($V60,'Data for lookup'!$A$2:$A$757,0)),1),\"\")","v":""},{"$error":"#N/A"},"","","",""]
[50,{"$f":"INDEX(NLML.Test1.PrePostDataset[*First Name],(MATCH(NLML.Test2.PrePostDataset[[#This Row],[*First Name & Last Name\n(choose from list)]],'NLM Data Test 1'!$W$12:$W$136,0)),1)","v":{"$error":"#N/A"}},{"$f":"INDEX(NLML.Test1.PrePostDataset[*Last Name],(MATCH(NLML.Test2.PrePostDataset[[#This Row],[*First Name & Last Name\n(choose from list)]],'NLM Data Test 1'!$W$12:$W$136,0)),1)","v":{"$error":"#N/A"}},{"$nulls":10},{"$f":"IFERROR(INDEX('Olderyounger calc'!$D$10:$D$409,(MATCH(Z61,'Olderyounger calc'!$C$10:$C$409,0)),1),\"\")","v":""},{"$nulls":5},{"$error":"#N/A"},{"$f":"IFERROR(INDEX('Data for lookup'!$F$2:$F$757,(MATCH($V61,'Data for lookup'!$A$2:$A$757,0)),1),\"\")","v":""},{"$error":"#N/A"},"","","",""]
[51,{"$f":"INDEX(NLML.Test1.PrePostDataset[*First Name],(MATCH(NLML.Test2.PrePostDataset[[#This Row],[*First Name & Last Name\n(choose from list)]],'NLM Data Test 1'!$W$12:$W$136,0)),1)","v":{"$error":"#N/A"}},{"$f":"INDEX(NLML.Test1.PrePostDataset[*Last Name],(MATCH(NLML.Test2.PrePostDataset[[#This Row],[*First Name & Last Name\n(choose from list)]],'NLM Data Test 1'!$W$12:$W$136,0)),1)","v":{"$error":"#N/A"}},{"$nulls":10},{"$f":"IFERROR(INDEX('Olderyounger calc'!$D$10:$D$409,(MATCH(Z62,'Olderyounger calc'!$C$10:$C$409,0)),1),\"\")","v":""},{"$nulls":5},{"$error":"#N/A"},{"$f":"IFERROR(INDEX('Data for lookup'!$F$2:$F$757,(MATCH($V62,'Data for lookup'!$A$2:$A$757,0)),1),\"\")","v":""},{"$error":"#N/A"},"","","",""]
[52,{"$f":"INDEX(NLML.Test1.PrePostDataset[*First Name],(MATCH(NLML.Test2.PrePostDataset[[#This Row],[*First Name & Last Name\n(choose from list)]],'NLM Data Test 1'!$W$12:$W$136,0)),1)","v":{"$error":"#N/A"}},{"$f":"INDEX(NLML.Test1.PrePostDataset[*Last Name],(MATCH(NLML.Test2.PrePostDataset[[#This Row],[*First Name & Last Name\n(choose from list)]],'NLM Data Test 1'!$W$12:$W$136,0)),1)","v":{"$error":"#N/A"}},{"$nulls":10},{"$f":"IFERROR(INDEX('Olderyounger calc'!$D$10:$D$409,(MATCH(Z63,'Olderyounger calc'!$C$10:$C$409,0)),1),\"\")","v":""},{"$nulls":5},{"$error":"#N/A"},{"$f":"IFERROR(INDEX('Data for lookup'!$F$2:$F$757,(MATCH($V63,'Data for lookup'!$A$2:$A$757,0)),1),\"\")","v":""},{"$error":"#N/A"},"","","",""]
[53,{"$f":"INDEX(NLML.Test1.PrePostDataset[*First Name],(MATCH(NLML.Test2.PrePostDataset[[#This Row],[*First Name & Last Name\n(choose from list)]],'NLM Data Test 1'!$W$12:$W$136,0)),1)","v":{"$error":"#N/A"}},{"$f":"INDEX(NLML.Test1.PrePostDataset[*Last Name],(MATCH(NLML.Test2.PrePostDataset[[#This Row],[*First Name & Last Name\n(choose from list)]],'NLM Data Test 1'!$W$12:$W$136,0)),1)","v":{"$error":"#N/A"}},{"$nulls":10},{"$f":"IFERROR(INDEX('Olderyounger calc'!$D$10:$D$409,(MATCH(Z64,'Olderyounger calc'!$C$10:$C$409,0)),1),\"\")","v":""},{"$nulls":5},{"$error":"#N/A"},{"$f":"IFERROR(INDEX('Data for lookup'!$F$2:$F$757,(MATCH($V64,'Data for lookup'!$A$2:$A$757,0)),1),\"\")","v":""},{"$error":"#N/A"},"","","",""]
[54,{"$f":"INDEX(NLML.Test1.PrePostDataset[*First Name],(MATCH(NLML.Test2.PrePostDataset[[#This Row],[*First Name & Last Name\n(choose from list)]],'NLM Data Test 1'!$W$12:$W$136,0)),1)","v":{"$error":"#N/A"}},{"$f":"INDEX(NLML.Test1.PrePostDataset[*Last Name],(MATCH(NLML.Test2.PrePostDataset[[#This Row],[*First Name & Last Name\n(choose from list)]],'NLM Data Test 1'!$W$12:$W$136,0)),1)","v":{"$error":"#N/A"}},{"$nulls":10},{"$f":"IFERROR(INDEX('Olderyounger calc'!$D$10:$D$409,(MATCH(Z65,'Olderyounger calc'!$C$10:$C$409,0)),1),\"\")","v":""},{"$nulls":5},{"$error":"#N/A"},{"$f":"IFERROR(INDEX('Data for lookup'!$F$2:$F$757,(MATCH($V65,'Data for lookup'!$A$2:$A$757,0)),1),\"\")","v":""},{"$error":"#N/A"},"","","",""]
[55,{"$f":"INDEX(NLML.Test1.PrePostDataset[*First Name],(MATCH(NLML.Test2.PrePostDataset[[#This Row],[*First Name & Last Name\n(choose from list)]],'NLM Data Test 1'!$W$12:$W$136,0)),1)","v":{"$error":"#N/A"}},{"$f":"INDEX(NLML.Test1.PrePostDataset[*Last Name],(MATCH(NLML.Test2.PrePostDataset[[#This Row],[*First Name & Last Name\n(choose from list)]],'NLM Data Test 1'!$W$12:$W$136,0)),1)","v":{"$error":"#N/A"}},{"$nulls":10},{"$f":"IFERROR(INDEX('Olderyounger calc'!$D$10:$D$409,(MATCH(Z66,'Olderyounger calc'!$C$10:$C$409,0)),1),\"\")","v":""},{"$nulls":5},{"$error":"#N/A"},{"$f":"IFERROR(INDEX('Data for lookup'!$F$2:$F$757,(MATCH($V66,'Data for lookup'!$A$2:$A$757,0)),1),\"\")","v":""},{"$error":"#N/A"},"","","",""]
[56,{"$f":"INDEX(NLML.Test1.PrePostDataset[*First Name],(MATCH(NLML.Test2.PrePostDataset[[#This Row],[*First Name & Last Name\n(choose from list)]],'NLM Data Test 1'!$W$12:$W$136,0)),1)","v":{"$error":"#N/A"}},{"$f":"INDEX(NLML.Test1.PrePostDataset[*Last Name],(MATCH(NLML.Test2.PrePostDataset[[#This Row],[*First Name & Last Name\n(choose from list)]],'NLM Data Test 1'!$W$12:$W$136,0)),1)","v":{"$error":"#N/A"}},{"$nulls":10},{"$f":"IFERROR(INDEX('Olderyounger calc'!$D$10:$D$409,(MATCH(Z67,'Olderyounger calc'!$C$10:$C$409,0)),1),\"\")","v":""},{"$nulls":5},{"$error":"#N/A"},{"$f":"IFERROR(INDEX('Data for lookup'!$F$2:$F$757,(MATCH($V67,'Data for lookup'!$A$2:$A$757,0)),1),\"\")","v":""},{"$error":"#N/A"},"","","",""]
[57,{"$f":"INDEX(NLML.Test1.PrePostDataset[*First Name],(MATCH(NLML.Test2.PrePostDataset[[#This Row],[*First Name & Last Name\n(choose from list)]],'NLM Data Test 1'!$W$12:$W$136,0)),1)","v":{"$error":"#N/A"}},{"$f":"INDEX(NLML.Test1.PrePostDataset[*Last Name],(MATCH(NLML.Test2.PrePostDataset[[#This Row],[*First Name & Last Name\n(choose from list)]],'NLM Data Test 1'!$W$12:$W$136,0)),1)","v":{"$error":"#N/A"}},{"$nulls":10},{"$f":"IFERROR(INDEX('Olderyounger calc'!$D$10:$D$409,(MATCH(Z68,'Olderyounger calc'!$C$10:$C$409,0)),1),\"\")","v":""},{"$nulls":5},{"$error":"#N/A"},{"$f":"IFERROR(INDEX('Data for lookup'!$F$2:$F$757,(MATCH($V68,'Data for lookup'!$A$2:$A$757,0)),1),\"\")","v":""},{"$error":"#N/A"},"","","",""]
[58,{"$f":"INDEX(NLML.Test1.PrePostDataset[*First Name],(MATCH(NLML.Test2.PrePostDataset[[#This Row],[*First Name & Last Name\n(choose from list)]],'NLM Data Test 1'!$W$12:$W$136,0)),1)","v":{"$error":"#N/A"}},{"$f":"INDEX(NLML.Test1.PrePostDataset[*Last Name],(MATCH(NLML.Test2.PrePostDataset[[#This Row],[*First Name & Last Name\n(choose from list)]],'NLM Data Test 1'!$W$12:$W$136,0)),1)","v":{"$error":"#N/A"}},{"$nulls":10},{"$f":"IFERROR(INDEX('Olderyounger calc'!$D$10:$D$409,(MATCH(Z69,'Olderyounger calc'!$C$10:$C$409,0)),1),\"\")","v":""},{"$nulls":5},{"$error":"#N/A"},{"$f":"IFERROR(INDEX('Data for lookup'!$F$2:$F$757,(MATCH($V69,'Data for lookup'!$A$2:$A$757,0)),1),\"\")","v":""},{"$error":"#N/A"},"","","",""]
[59,{"$f":"INDEX(NLML.Test1.PrePostDataset[*First Name],(MATCH(NLML.Test2.PrePostDataset[[#This Row],[*First Name & Last Name\n(choose from list)]],'NLM Data Test 1'!$W$12:$W$136,0)),1)","v":{"$error":"#N/A"}},{"$f":"INDEX(NLML.Test1.PrePostDataset[*Last Name],(MATCH(NLML.Test2.PrePostDataset[[#This Row],[*First Name & Last Name\n(choose from list)]],'NLM Data Test 1'!$W$12:$W$136,0)),1)","v":{"$error":"#N/A"}},{"$nulls":10},{"$f":"IFERROR(INDEX('Olderyounger calc'!$D$10:$D$409,(MATCH(Z70,'Olderyounger calc'!$C$10:$C$409,0)),1),\"\")","v":""},{"$nulls":5},{"$error":"#N/A"},{"$f":"IFERROR(INDEX('Data for lookup'!$F$2:$F$757,(MATCH($V70,'Data for lookup'!$A$2:$A$757,0)),1),\"\")","v":""},{"$error":"#N/A"},"","","",""]
[60,{"$f":"INDEX(NLML.Test1.PrePostDataset[*First Name],(MATCH(NLML.Test2.PrePostDataset[[#This Row],[*First Name & Last Name\n(choose from list)]],'NLM Data Test 1'!$W$12:$W$136,0)),1)","v":{"$error":"#N/A"}},{"$f":"INDEX(NLML.Test1.PrePostDataset[*Last Name],(MATCH(NLML.Test2.PrePostDataset[[#This Row],[*First Name & Last Name\n(choose from list)]],'NLM Data Test 1'!$W$12:$W$136,0)),1)","v":{"$error":"#N/A"}},{"$nulls":10},{"$f":"IFERROR(INDEX('Olderyounger calc'!$D$10:$D$409,(MATCH(Z71,'Olderyounger calc'!$C$10:$C$409,0)),1),\"\")","v":""},{"$nulls":5},{"$error":"#N/A"},{"$f":"IFERROR(INDEX('Data for lookup'!$F$2:$F$757,(MATCH($V71,'Data for lookup'!$A$2:$A$757,0)),1),\"\")","v":""},{"$error":"#N/A"},"","","",""]
[61,{"$f":"INDEX(NLML.Test1.PrePostDataset[*First Name],(MATCH(NLML.Test2.PrePostDataset[[#This Row],[*First Name & Last Name\n(choose from list)]],'NLM Data Test 1'!$W$12:$W$136,0)),1)","v":{"$error":"#N/A"}},{"$f":"INDEX(NLML.Test1.PrePostDataset[*Last Name],(MATCH(NLML.Test2.PrePostDataset[[#This Row],[*First Name & Last Name\n(choose from list)]],'NLM Data Test 1'!$W$12:$W$136,0)),1)","v":{"$error":"#N/A"}},{"$nulls":10},{"$f":"IFERROR(INDEX('Olderyounger calc'!$D$10:$D$409,(MATCH(Z72,'Olderyounger calc'!$C$10:$C$409,0)),1),\"\")","v":""},{"$nulls":5},{"$error":"#N/A"},{"$f":"IFERROR(INDEX('Data for lookup'!$F$2:$F$757,(MATCH($V72,'Data for lookup'!$A$2:$A$757,0)),1),\"\")","v":""},{"$error":"#N/A"},"","","",""]
[62,{"$f":"INDEX(NLML.Test1.PrePostDataset[*First Name],(MATCH(NLML.Test2.PrePostDataset[[#This Row],[*First Name & Last Name\n(choose from list)]],'NLM Data Test 1'!$W$12:$W$136,0)),1)","v":{"$error":"#N/A"}},{"$f":"INDEX(NLML.Test1.PrePostDataset[*Last Name],(MATCH(NLML.Test2.PrePostDataset[[#This Row],[*First Name & Last Name\n(choose from list)]],'NLM Data Test 1'!$W$12:$W$136,0)),1)","v":{"$error":"#N/A"}},{"$nulls":10},{"$f":"IFERROR(INDEX('Olderyounger calc'!$D$10:$D$409,(MATCH(Z73,'Olderyounger calc'!$C$10:$C$409,0)),1),\"\")","v":""},{"$nulls":5},{"$error":"#N/A"},{"$f":"IFERROR(INDEX('Data for lookup'!$F$2:$F$757,(MATCH($V73,'Data for lookup'!$A$2:$A$757,0)),1),\"\")","v":""},{"$error":"#N/A"},"","","",""]
[63,{"$f":"INDEX(NLML.Test1.PrePostDataset[*First Name],(MATCH(NLML.Test2.PrePostDataset[[#This Row],[*First Name & Last Name\n(choose from list)]],'NLM Data Test 1'!$W$12:$W$136,0)),1)","v":{"$error":"#N/A"}},{"$f":"INDEX(NLML.Test1.PrePostDataset[*Last Name],(MATCH(NLML.Test2.PrePostDataset[[#This Row],[*First Name & Last Name\n(choose from list)]],'NLM Data Test 1'!$W$12:$W$136,0)),1)","v":{"$error":"#N/A"}},{"$nulls":10},{"$f":"IFERROR(INDEX('Olderyounger calc'!$D$10:$D$409,(MATCH(Z74,'Olderyounger calc'!$C$10:$C$409,0)),1),\"\")","v":""},{"$nulls":5},{"$error":"#N/A"},{"$f":"IFERROR(INDEX('Data for lookup'!$F$2:$F$757,(MATCH($V74,'Data for lookup'!$A$2:$A$757,0)),1),\"\")","v":""},{"$error":"#N/A"},"","","",""]
[64,{"$f":"INDEX(NLML.Test1.PrePostDataset[*First Name],(MATCH(NLML.Test2.PrePostDataset[[#This Row],[*First Name & Last Name\n(choose from list)]],'NLM Data Test 1'!$W$12:$W$136,0)),1)","v":{"$error":"#N/A"}},{"$f":"INDEX(NLML.Test1.PrePostDataset[*Last Name],(MATCH(NLML.Test2.PrePostDataset[[#This Row],[*First Name & Last Name\n(choose from list)]],'NLM Data Test 1'!$W$12:$W$136,0)),1)","v":{"$error":"#N/A"}},{"$nulls":10},{"$f":"IFERROR(INDEX('Olderyounger calc'!$D$10:$D$409,(MATCH(Z75,'Olderyounger calc'!$C$10:$C$409,0)),1),\"\")","v":""},{"$nulls":5},{"$error":"#N/A"},{"$f":"IFERROR(INDEX('Data for lookup'!$F$2:$F$757,(MATCH($V75,'Data for lookup'!$A$2:$A$757,0)),1),\"\")","v":""},{"$error":"#N/A"},"","","",""]
[65,{"$f":"INDEX(NLML.Test1.PrePostDataset[*First Name],(MATCH(NLML.Test2.PrePostDataset[[#This Row],[*First Name & Last Name\n(choose from list)]],'NLM Data Test 1'!$W$12:$W$136,0)),1)","v":{"$error":"#N/A"}},{"$f":"INDEX(NLML.Test1.PrePostDataset[*Last Name],(MATCH(NLML.Test2.PrePostDataset[[#This Row],[*First Name & Last Name\n(choose from list)]],'NLM Data Test 1'!$W$12:$W$136,0)),1)","v":{"$error":"#N/A"}},{"$nulls":10},{"$f":"IFERROR(INDEX('Olderyounger calc'!$D$10:$D$409,(MATCH(Z76,'Olderyounger calc'!$C$10:$C$409,0)),1),\"\")","v":""},{"$nulls":5},{"$f":"IF(C76=\"\",\"\",SUM(Q76:S76))","v":{"$error":"#N/A"}},{"$f":"IFERROR(INDEX('Data for lookup'!$F$2:$F$757,(MATCH($V76,'Data for lookup'!$A$2:$A$757,0)),1),\"\")","v":""},{"$f":"H76&I76&K76&T76","v":{"$error":"#N/A"}},{"$f":"H76&I76&K76","v":""},{"$f":"IF(D76=\"\",\"\",D76)","v":""},{"$f":"E76&I76&J76","v":""},""]
[66,{"$f":"INDEX(NLML.Test1.PrePostDataset[*First Name],(MATCH(NLML.Test2.PrePostDataset[[#This Row],[*First Name & Last Name\n(choose from list)]],'NLM Data Test 1'!$W$12:$W$136,0)),1)","v":{"$error":"#N/A"}},{"$f":"INDEX(NLML.Test1.PrePostDataset[*Last Name],(MATCH(NLML.Test2.PrePostDataset[[#This Row],[*First Name & Last Name\n(choose from list)]],'NLM Data Test 1'!$W$12:$W$136,0)),1)","v":{"$error":"#N/A"}},{"$nulls":10},{"$f":"IFERROR(INDEX('Olderyounger calc'!$D$10:$D$409,(MATCH(Z77,'Olderyounger calc'!$C$10:$C$409,0)),1),\"\")","v":""},{"$nulls":5},{"$error":"#N/A"},{"$f":"IFERROR(INDEX('Data for lookup'!$F$2:$F$757,(MATCH($V77,'Data for lookup'!$A$2:$A$757,0)),1),\"\")","v":""},{"$error":"#N/A"},"","","",{"$f":"W77&Y77","v":""}]
[67,{"$f":"INDEX(NLML.Test1.PrePostDataset[*First Name],(MATCH(NLML.Test2.PrePostDataset[[#This Row],[*First Name & Last Name\n(choose from list)]],'NLM Data Test 1'!$W$12:$W$136,0)),1)","v":{"$error":"#N/A"}},{"$f":"INDEX(NLML.Test1.PrePostDataset[*Last Name],(MATCH(NLML.Test2.PrePostDataset[[#This Row],[*First Name & Last Name\n(choose from list)]],'NLM Data Test 1'!$W$12:$W$136,0)),1)","v":{"$error":"#N/A"}},{"$nulls":10},{"$f":"IFERROR(INDEX('Olderyounger calc'!$D$10:$D$409,(MATCH(Z78,'Olderyounger calc'!$C$10:$C$409,0)),1),\"\")","v":""},{"$nulls":5},{"$error":"#N/A"},{"$f":"IFERROR(INDEX('Data for lookup'!$F$2:$F$757,(MATCH($V78,'Data for lookup'!$A$2:$A$757,0)),1),\"\")","v":""},{"$error":"#N/A"},"","","",""]
[68,{"$f":"INDEX(NLML.Test1.PrePostDataset[*First Name],(MATCH(NLML.Test2.PrePostDataset[[#This Row],[*First Name & Last Name\n(choose from list)]],'NLM Data Test 1'!$W$12:$W$136,0)),1)","v":{"$error":"#N/A"}},{"$f":"INDEX(NLML.Test1.PrePostDataset[*Last Name],(MATCH(NLML.Test2.PrePostDataset[[#This Row],[*First Name & Last Name\n(choose from list)]],'NLM Data Test 1'!$W$12:$W$136,0)),1)","v":{"$error":"#N/A"}},{"$nulls":10},{"$f":"IFERROR(INDEX('Olderyounger calc'!$D$10:$D$409,(MATCH(Z79,'Olderyounger calc'!$C$10:$C$409,0)),1),\"\")","v":""},{"$nulls":5},{"$error":"#N/A"},{"$f":"IFERROR(INDEX('Data for lookup'!$F$2:$F$757,(MATCH($V79,'Data for lookup'!$A$2:$A$757,0)),1),\"\")","v":""},{"$error":"#N/A"},"","","",""]
[69,{"$f":"INDEX(NLML.Test1.PrePostDataset[*First Name],(MATCH(NLML.Test2.PrePostDataset[[#This Row],[*First Name & Last Name\n(choose from list)]],'NLM Data Test 1'!$W$12:$W$136,0)),1)","v":{"$error":"#N/A"}},{"$f":"INDEX(NLML.Test1.PrePostDataset[*Last Name],(MATCH(NLML.Test2.PrePostDataset[[#This Row],[*First Name & Last Name\n(choose from list)]],'NLM Data Test 1'!$W$12:$W$136,0)),1)","v":{"$error":"#N/A"}},{"$nulls":10},{"$f":"IFERROR(INDEX('Olderyounger calc'!$D$10:$D$409,(MATCH(Z80,'Olderyounger calc'!$C$10:$C$409,0)),1),\"\")","v":""},{"$nulls":5},{"$error":"#N/A"},{"$f":"IFERROR(INDEX('Data for lookup'!$F$2:$F$757,(MATCH($V80,'Data for lookup'!$A$2:$A$757,0)),1),\"\")","v":""},{"$error":"#N/A"},"","","",""]
[70,{"$f":"INDEX(NLML.Test1.PrePostDataset[*First Name],(MATCH(NLML.Test2.PrePostDataset[[#This Row],[*First Name & Last Name\n(choose from list)]],'NLM Data Test 1'!$W$12:$W$136,0)),1)","v":{"$error":"#N/A"}},{"$f":"INDEX(NLML.Test1.PrePostDataset[*Last Name],(MATCH(NLML.Test2.PrePostDataset[[#This Row],[*First Name & Last Name\n(choose from list)]],'NLM Data Test 1'!$W$12:$W$136,0)),1)","v":{"$error":"#N/A"}},{"$nulls":10},{"$f":"IFERROR(INDEX('Olderyounger calc'!$D$10:$D$409,(MATCH(Z81,'Olderyounger calc'!$C$10:$C$409,0)),1),\"\")","v":""},{"$nulls":5},{"$error":"#N/A"},{"$f":"IFERROR(INDEX('Data for lookup'!$F$2:$F$757,(MATCH($V81,'Data for lookup'!$A$2:$A$757,0)),1),\"\")","v":""},{"$error":"#N/A"},"","","",""]
[71,{"$f":"INDEX(NLML.Test1.PrePostDataset[*First Name],(MATCH(NLML.Test2.PrePostDataset[[#This Row],[*First Name & Last Name\n(choose from list)]],'NLM Data Test 1'!$W$12:$W$136,0)),1)","v":{"$error":"#N/A"}},{"$f":"INDEX(NLML.Test1.PrePostDataset[*Last Name],(MATCH(NLML.Test2.PrePostDataset[[#This Row],[*First Name & Last Name\n(choose from list)]],'NLM Data Test 1'!$W$12:$W$136,0)),1)","v":{"$error":"#N/A"}},{"$nulls":10},{"$f":"IFERROR(INDEX('Olderyounger calc'!$D$10:$D$409,(MATCH(Z82,'Olderyounger calc'!$C$10:$C$409,0)),1),\"\")","v":""},{"$nulls":5},{"$error":"#N/A"},{"$f":"IFERROR(INDEX('Data for lookup'!$F$2:$F$757,(MATCH($V82,'Data for lookup'!$A$2:$A$757,0)),1),\"\")","v":""},{"$error":"#N/A"},"","","",""]
[72,{"$f":"INDEX(NLML.Test1.PrePostDataset[*First Name],(MATCH(NLML.Test2.PrePostDataset[[#This Row],[*First Name & Last Name\n(choose from list)]],'NLM Data Test 1'!$W$12:$W$136,0)),1)","v":{"$error":"#N/A"}},{"$f":"INDEX(NLML.Test1.PrePostDataset[*Last Name],(MATCH(NLML.Test2.PrePostDataset[[#This Row],[*First Name & Last Name\n(choose from list)]],'NLM Data Test 1'!$W$12:$W$136,0)),1)","v":{"$error":"#N/A"}},{"$nulls":10},{"$f":"IFERROR(INDEX('Olderyounger calc'!$D$10:$D$409,(MATCH(Z83,'Olderyounger calc'!$C$10:$C$409,0)),1),\"\")","v":""},{"$nulls":5},{"$error":"#N/A"},{"$f":"IFERROR(INDEX('Data for lookup'!$F$2:$F$757,(MATCH($V83,'Data for lookup'!$A$2:$A$757,0)),1),\"\")","v":""},{"$error":"#N/A"},"","","",""]
[73,{"$f":"INDEX(NLML.Test1.PrePostDataset[*First Name],(MATCH(NLML.Test2.PrePostDataset[[#This Row],[*First Name & Last Name\n(choose from list)]],'NLM Data Test 1'!$W$12:$W$136,0)),1)","v":{"$error":"#N/A"}},{"$f":"INDEX(NLML.Test1.PrePostDataset[*Last Name],(MATCH(NLML.Test2.PrePostDataset[[#This Row],[*First Name & Last Name\n(choose from list)]],'NLM Data Test 1'!$W$12:$W$136,0)),1)","v":{"$error":"#N/A"}},{"$nulls":10},{"$f":"IFERROR(INDEX('Olderyounger calc'!$D$10:$D$409,(MATCH(Z84,'Olderyounger calc'!$C$10:$C$409,0)),1),\"\")","v":""},{"$nulls":5},{"$error":"#N/A"},{"$f":"IFERROR(INDEX('Data for lookup'!$F$2:$F$757,(MATCH($V84,'Data for lookup'!$A$2:$A$757,0)),1),\"\")","v":""},{"$error":"#N/A"},"","","",""]
[74,{"$f":"INDEX(NLML.Test1.PrePostDataset[*First Name],(MATCH(NLML.Test2.PrePostDataset[[#This Row],[*First Name & Last Name\n(choose from list)]],'NLM Data Test 1'!$W$12:$W$136,0)),1)","v":{"$error":"#N/A"}},{"$f":"INDEX(NLML.Test1.PrePostDataset[*Last Name],(MATCH(NLML.Test2.PrePostDataset[[#This Row],[*First Name & Last Name\n(choose from list)]],'NLM Data Test 1'!$W$12:$W$136,0)),1)","v":{"$error":"#N/A"}},{"$nulls":10},{"$f":"IFERROR(INDEX('Olderyounger calc'!$D$10:$D$409,(MATCH(Z85,'Olderyounger calc'!$C$10:$C$409,0)),1),\"\")","v":""},{"$nulls":5},{"$error":"#N/A"},{"$f":"IFERROR(INDEX('Data for lookup'!$F$2:$F$757,(MATCH($V85,'Data for lookup'!$A$2:$A$757,0)),1),\"\")","v":""},{"$error":"#N/A"},"","","",""]
[75,{"$f":"INDEX(NLML.Test1.PrePostDataset[*First Name],(MATCH(NLML.Test2.PrePostDataset[[#This Row],[*First Name & Last Name\n(choose from list)]],'NLM Data Test 1'!$W$12:$W$136,0)),1)","v":{"$error":"#N/A"}},{"$f":"INDEX(NLML.Test1.PrePostDataset[*Last Name],(MATCH(NLML.Test2.PrePostDataset[[#This Row],[*First Name & Last Name\n(choose from list)]],'NLM Data Test 1'!$W$12:$W$136,0)),1)","v":{"$error":"#N/A"}},{"$nulls":10},{"$f":"IFERROR(INDEX('Olderyounger calc'!$D$10:$D$409,(MATCH(Z86,'Olderyounger calc'!$C$10:$C$409,0)),1),\"\")","v":""},{"$nulls":5},{"$error":"#N/A"},{"$f":"IFERROR(INDEX('Data for lookup'!$F$2:$F$757,(MATCH($V86,'Data for lookup'!$A$2:$A$757,0)),1),\"\")","v":""},{"$error":"#N/A"},"","","",""]
[76,{"$f":"INDEX(NLML.Test1.PrePostDataset[*First Name],(MATCH(NLML.Test2.PrePostDataset[[#This Row],[*First Name & Last Name\n(choose from list)]],'NLM Data Test 1'!$W$12:$W$136,0)),1)","v":{"$error":"#N/A"}},{"$f":"INDEX(NLML.Test1.PrePostDataset[*Last Name],(MATCH(NLML.Test2.PrePostDataset[[#This Row],[*First Name & Last Name\n(choose from list)]],'NLM Data Test 1'!$W$12:$W$136,0)),1)","v":{"$error":"#N/A"}},{"$nulls":10},{"$f":"IFERROR(INDEX('Olderyounger calc'!$D$10:$D$409,(MATCH(Z87,'Olderyounger calc'!$C$10:$C$409,0)),1),\"\")","v":""},{"$nulls":5},{"$error":"#N/A"},{"$f":"IFERROR(INDEX('Data for lookup'!$F$2:$F$757,(MATCH($V87,'Data for lookup'!$A$2:$A$757,0)),1),\"\")","v":""},{"$error":"#N/A"},"","","",""]
[77,{"$f":"INDEX(NLML.Test1.PrePostDataset[*First Name],(MATCH(NLML.Test2.PrePostDataset[[#This Row],[*First Name & Last Name\n(choose from list)]],'NLM Data Test 1'!$W$12:$W$136,0)),1)","v":{"$error":"#N/A"}},{"$f":"INDEX(NLML.Test1.PrePostDataset[*Last Name],(MATCH(NLML.Test2.PrePostDataset[[#This Row],[*First Name & Last Name\n(choose from list)]],'NLM Data Test 1'!$W$12:$W$136,0)),1)","v":{"$error":"#N/A"}},{"$nulls":10},{"$f":"IFERROR(INDEX('Olderyounger calc'!$D$10:$D$409,(MATCH(Z88,'Olderyounger calc'!$C$10:$C$409,0)),1),\"\")","v":""},{"$nulls":5},{"$error":"#N/A"},{"$f":"IFERROR(INDEX('Data for lookup'!$F$2:$F$757,(MATCH($V88,'Data for lookup'!$A$2:$A$757,0)),1),\"\")","v":""},{"$error":"#N/A"},"","","",""]
[78,{"$f":"INDEX(NLML.Test1.PrePostDataset[*First Name],(MATCH(NLML.Test2.PrePostDataset[[#This Row],[*First Name & Last Name\n(choose from list)]],'NLM Data Test 1'!$W$12:$W$136,0)),1)","v":{"$error":"#N/A"}},{"$f":"INDEX(NLML.Test1.PrePostDataset[*Last Name],(MATCH(NLML.Test2.PrePostDataset[[#This Row],[*First Name & Last Name\n(choose from list)]],'NLM Data Test 1'!$W$12:$W$136,0)),1)","v":{"$error":"#N/A"}},{"$nulls":10},{"$f":"IFERROR(INDEX('Olderyounger calc'!$D$10:$D$409,(MATCH(Z89,'Olderyounger calc'!$C$10:$C$409,0)),1),\"\")","v":""},{"$nulls":5},{"$error":"#N/A"},{"$f":"IFERROR(INDEX('Data for lookup'!$F$2:$F$757,(MATCH($V89,'Data for lookup'!$A$2:$A$757,0)),1),\"\")","v":""},{"$error":"#N/A"},"","","",""]
[79,{"$f":"INDEX(NLML.Test1.PrePostDataset[*First Name],(MATCH(NLML.Test2.PrePostDataset[[#This Row],[*First Name & Last Name\n(choose from list)]],'NLM Data Test 1'!$W$12:$W$136,0)),1)","v":{"$error":"#N/A"}},{"$f":"INDEX(NLML.Test1.PrePostDataset[*Last Name],(MATCH(NLML.Test2.PrePostDataset[[#This Row],[*First Name & Last Name\n(choose from list)]],'NLM Data Test 1'!$W$12:$W$136,0)),1)","v":{"$error":"#N/A"}},{"$nulls":10},{"$f":"IFERROR(INDEX('Olderyounger calc'!$D$10:$D$409,(MATCH(Z90,'Olderyounger calc'!$C$10:$C$409,0)),1),\"\")","v":""},{"$nulls":5},{"$error":"#N/A"},{"$f":"IFERROR(INDEX('Data for lookup'!$F$2:$F$757,(MATCH($V90,'Data for lookup'!$A$2:$A$757,0)),1),\"\")","v":""},{"$error":"#N/A"},"","","",""]
[80,{"$f":"INDEX(NLML.Test1.PrePostDataset[*First Name],(MATCH(NLML.Test2.PrePostDataset[[#This Row],[*First Name & Last Name\n(choose from list)]],'NLM Data Test 1'!$W$12:$W$136,0)),1)","v":{"$error":"#N/A"}},{"$f":"INDEX(NLML.Test1.PrePostDataset[*Last Name],(MATCH(NLML.Test2.PrePostDataset[[#This Row],[*First Name & Last Name\n(choose from list)]],'NLM Data Test 1'!$W$12:$W$136,0)),1)","v":{"$error":"#N/A"}},{"$nulls":10},{"$f":"IFERROR(INDEX('Olderyounger calc'!$D$10:$D$409,(MATCH(Z91,'Olderyounger calc'!$C$10:$C$409,0)),1),\"\")","v":""},{"$nulls":5},{"$error":"#N/A"},{"$f":"IFERROR(INDEX('Data for lookup'!$F$2:$F$757,(MATCH($V91,'Data for lookup'!$A$2:$A$757,0)),1),\"\")","v":""},{"$error":"#N/A"},"","","",""]
[81,{"$f":"INDEX(NLML.Test1.PrePostDataset[*First Name],(MATCH(NLML.Test2.PrePostDataset[[#This Row],[*First Name & Last Name\n(choose from list)]],'NLM Data Test 1'!$W$12:$W$136,0)),1)","v":{"$error":"#N/A"}},{"$f":"INDEX(NLML.Test1.PrePostDataset[*Last Name],(MATCH(NLML.Test2.PrePostDataset[[#This Row],[*First Name & Last Name\n(choose from list)]],'NLM Data Test 1'!$W$12:$W$136,0)),1)","v":{"$error":"#N/A"}},{"$nulls":10},{"$f":"IFERROR(INDEX('Olderyounger calc'!$D$10:$D$409,(MATCH(Z92,'Olderyounger calc'!$C$10:$C$409,0)),1),\"\")","v":""},{"$nulls":5},{"$error":"#N/A"},{"$f":"IFERROR(INDEX('Data for lookup'!$F$2:$F$757,(MATCH($V92,'Data for lookup'!$A$2:$A$757,0)),1),\"\")","v":""},{"$error":"#N/A"},"","","",""]
[82,{"$f":"INDEX(NLML.Test1.PrePostDataset[*First Name],(MATCH(NLML.Test2.PrePostDataset[[#This Row],[*First Name & Last Name\n(choose from list)]],'NLM Data Test 1'!$W$12:$W$136,0)),1)","v":{"$error":"#N/A"}},{"$f":"INDEX(NLML.Test1.PrePostDataset[*Last Name],(MATCH(NLML.Test2.PrePostDataset[[#This Row],[*First Name & Last Name\n(choose from list)]],'NLM Data Test 1'!$W$12:$W$136,0)),1)","v":{"$error":"#N/A"}},{"$nulls":10},{"$f":"IFERROR(INDEX('Olderyounger calc'!$D$10:$D$409,(MATCH(Z93,'Olderyounger calc'!$C$10:$C$409,0)),1),\"\")","v":""},{"$nulls":5},{"$error":"#N/A"},{"$f":"IFERROR(INDEX('Data for lookup'!$F$2:$F$757,(MATCH($V93,'Data for lookup'!$A$2:$A$757,0)),1),\"\")","v":""},{"$error":"#N/A"},"","","",""]
[83,{"$f":"INDEX(NLML.Test1.PrePostDataset[*First Name],(MATCH(NLML.Test2.PrePostDataset[[#This Row],[*First Name & Last Name\n(choose from list)]],'NLM Data Test 1'!$W$12:$W$136,0)),1)","v":{"$error":"#N/A"}},{"$f":"INDEX(NLML.Test1.PrePostDataset[*Last Name],(MATCH(NLML.Test2.PrePostDataset[[#This Row],[*First Name & Last Name\n(choose from list)]],'NLM Data Test 1'!$W$12:$W$136,0)),1)","v":{"$error":"#N/A"}},{"$nulls":10},{"$f":"IFERROR(INDEX('Olderyounger calc'!$D$10:$D$409,(MATCH(Z94,'Olderyounger calc'!$C$10:$C$409,0)),1),\"\")","v":""},{"$nulls":5},{"$error":"#N/A"},{"$f":"IFERROR(INDEX('Data for lookup'!$F$2:$F$757,(MATCH($V94,'Data for lookup'!$A$2:$A$757,0)),1),\"\")","v":""},{"$error":"#N/A"},"","","",""]
[84,{"$f":"INDEX(NLML.Test1.PrePostDataset[*First Name],(MATCH(NLML.Test2.PrePostDataset[[#This Row],[*First Name & Last Name\n(choose from list)]],'NLM Data Test 1'!$W$12:$W$136,0)),1)","v":{"$error":"#N/A"}},{"$f":"INDEX(NLML.Test1.PrePostDataset[*Last Name],(MATCH(NLML.Test2.PrePostDataset[[#This Row],[*First Name & Last Name\n(choose from list)]],'NLM Data Test 1'!$W$12:$W$136,0)),1)","v":{"$error":"#N/A"}},{"$nulls":10},{"$f":"IFERROR(INDEX('Olderyounger calc'!$D$10:$D$409,(MATCH(Z95,'Olderyounger calc'!$C$10:$C$409,0)),1),\"\")","v":""},{"$nulls":5},{"$error":"#N/A"},{"$f":"IFERROR(INDEX('Data for lookup'!$F$2:$F$757,(MATCH($V95,'Data for lookup'!$A$2:$A$757,0)),1),\"\")","v":""},{"$error":"#N/A"},"","","",""]
[85,{"$f":"INDEX(NLML.Test1.PrePostDataset[*First Name],(MATCH(NLML.Test2.PrePostDataset[[#This Row],[*First Name & Last Name\n(choose from list)]],'NLM Data Test 1'!$W$12:$W$136,0)),1)","v":{"$error":"#N/A"}},{"$f":"INDEX(NLML.Test1.PrePostDataset[*Last Name],(MATCH(NLML.Test2.PrePostDataset[[#This Row],[*First Name & Last Name\n(choose from list)]],'NLM Data Test 1'!$W$12:$W$136,0)),1)","v":{"$error":"#N/A"}},{"$nulls":10},{"$f":"IFERROR(INDEX('Olderyounger calc'!$D$10:$D$409,(MATCH(Z96,'Olderyounger calc'!$C$10:$C$409,0)),1),\"\")","v":""},{"$nulls":5},{"$error":"#N/A"},{"$f":"IFERROR(INDEX('Data for lookup'!$F$2:$F$757,(MATCH($V96,'Data for lookup'!$A$2:$A$757,0)),1),\"\")","v":""},{"$error":"#N/A"},"","","",""]
[86,{"$f":"INDEX(NLML.Test1.PrePostDataset[*First Name],(MATCH(NLML.Test2.PrePostDataset[[#This Row],[*First Name & Last Name\n(choose from list)]],'NLM Data Test 1'!$W$12:$W$136,0)),1)","v":{"$error":"#N/A"}},{"$f":"INDEX(NLML.Test1.PrePostDataset[*Last Name],(MATCH(NLML.Test2.PrePostDataset[[#This Row],[*First Name & Last Name\n(choose from list)]],'NLM Data Test 1'!$W$12:$W$136,0)),1)","v":{"$error":"#N/A"}},{"$nulls":10},{"$f":"IFERROR(INDEX('Olderyounger calc'!$D$10:$D$409,(MATCH(Z97,'Olderyounger calc'!$C$10:$C$409,0)),1),\"\")","v":""},{"$nulls":5},{"$error":"#N/A"},{"$f":"IFERROR(INDEX('Data for lookup'!$F$2:$F$757,(MATCH($V97,'Data for lookup'!$A$2:$A$757,0)),1),\"\")","v":""},{"$error":"#N/A"},"","","",""]
[87,{"$f":"INDEX(NLML.Test1.PrePostDataset[*First Name],(MATCH(NLML.Test2.PrePostDataset[[#This Row],[*First Name & Last Name\n(choose from list)]],'NLM Data Test 1'!$W$12:$W$136,0)),1)","v":{"$error":"#N/A"}},{"$f":"INDEX(NLML.Test1.PrePostDataset[*Last Name],(MATCH(NLML.Test2.PrePostDataset[[#This Row],[*First Name & Last Name\n(choose from list)]],'NLM Data Test 1'!$W$12:$W$136,0)),1)","v":{"$error":"#N/A"}},{"$nulls":10},{"$f":"IFERROR(INDEX('Olderyounger calc'!$D$10:$D$409,(MATCH(Z98,'Olderyounger calc'!$C$10:$C$409,0)),1),\"\")","v":""},{"$nulls":5},{"$error":"#N/A"},{"$f":"IFERROR(INDEX('Data for lookup'!$F$2:$F$757,(MATCH($V98,'Data for lookup'!$A$2:$A$757,0)),1),\"\")","v":""},{"$error":"#N/A"},"","","",""]
[88,{"$f":"INDEX(NLML.Test1.PrePostDataset[*First Name],(MATCH(NLML.Test2.PrePostDataset[[#This Row],[*First Name & Last Name\n(choose from list)]],'NLM Data Test 1'!$W$12:$W$136,0)),1)","v":{"$error":"#N/A"}},{"$f":"INDEX(NLML.Test1.PrePostDataset[*Last Name],(MATCH(NLML.Test2.PrePostDataset[[#This Row],[*First Name & Last Name\n(choose from list)]],'NLM Data Test 1'!$W$12:$W$136,0)),1)","v":{"$error":"#N/A"}},{"$nulls":10},{"$f":"IFERROR(INDEX('Olderyounger calc'!$D$10:$D$409,(MATCH(Z99,'Olderyounger calc'!$C$10:$C$409,0)),1),\"\")","v":""},{"$nulls":5},{"$error":"#N/A"},{"$f":"IFERROR(INDEX('Data for lookup'!$F$2:$F$757,(MATCH($V99,'Data for lookup'!$A$2:$A$757,0)),1),\"\")","v":""},{"$error":"#N/A"},"","","",""]
[89,{"$f":"INDEX(NLML.Test1.PrePostDataset[*First Name],(MATCH(NLML.Test2.PrePostDataset[[#This Row],[*First Name & Last Name\n(choose from list)]],'NLM Data Test 1'!$W$12:$W$136,0)),1)","v":{"$error":"#N/A"}},{"$f":"INDEX(NLML.Test1.PrePostDataset[*Last Name],(MATCH(NLML.Test2.PrePostDataset[[#This Row],[*First Name & Last Name\n(choose from list)]],'NLM Data Test 1'!$W$12:$W$136,0)),1)","v":{"$error":"#N/A"}},{"$nulls":10},{"$f":"IFERROR(INDEX('Olderyounger calc'!$D$10:$D$409,(MATCH(Z100,'Olderyounger calc'!$C$10:$C$409,0)),1),\"\")","v":""},{"$nulls":5},{"$error":"#N/A"},{"$f":"IFERROR(INDEX('Data for lookup'!$F$2:$F$757,(MATCH($V100,'Data for lookup'!$A$2:$A$757,0)),1),\"\")","v":""},{"$error":"#N/A"},"","","",""]
[90,{"$f":"INDEX(NLML.Test1.PrePostDataset[*First Name],(MATCH(NLML.Test2.PrePostDataset[[#This Row],[*First Name & Last Name\n(choose from list)]],'NLM Data Test 1'!$W$12:$W$136,0)),1)","v":{"$error":"#N/A"}},{"$f":"INDEX(NLML.Test1.PrePostDataset[*Last Name],(MATCH(NLML.Test2.PrePostDataset[[#This Row],[*First Name & Last Name\n(choose from list)]],'NLM Data Test 1'!$W$12:$W$136,0)),1)","v":{"$error":"#N/A"}},{"$nulls":10},{"$f":"IFERROR(INDEX('Olderyounger calc'!$D$10:$D$409,(MATCH(Z101,'Olderyounger calc'!$C$10:$C$409,0)),1),\"\")","v":""},{"$nulls":5},{"$error":"#N/A"},{"$f":"IFERROR(INDEX('Data for lookup'!$F$2:$F$757,(MATCH($V101,'Data for lookup'!$A$2:$A$757,0)),1),\"\")","v":""},{"$error":"#N/A"},"","","",""]
[91,{"$f":"INDEX(NLML.Test1.PrePostDataset[*First Name],(MATCH(NLML.Test2.PrePostDataset[[#This Row],[*First Name & Last Name\n(choose from list)]],'NLM Data Test 1'!$W$12:$W$136,0)),1)","v":{"$error":"#N/A"}},{"$f":"INDEX(NLML.Test1.PrePostDataset[*Last Name],(MATCH(NLML.Test2.PrePostDataset[[#This Row],[*First Name & Last Name\n(choose from list)]],'NLM Data Test 1'!$W$12:$W$136,0)),1)","v":{"$error":"#N/A"}},{"$nulls":10},{"$f":"IFERROR(INDEX('Olderyounger calc'!$D$10:$D$409,(MATCH(Z102,'Olderyounger calc'!$C$10:$C$409,0)),1),\"\")","v":""},{"$nulls":5},{"$error":"#N/A"},{"$f":"IFERROR(INDEX('Data for lookup'!$F$2:$F$757,(MATCH($V102,'Data for lookup'!$A$2:$A$757,0)),1),\"\")","v":""},{"$error":"#N/A"},"","","",""]
[92,{"$f":"INDEX(NLML.Test1.PrePostDataset[*First Name],(MATCH(NLML.Test2.PrePostDataset[[#This Row],[*First Name & Last Name\n(choose from list)]],'NLM Data Test 1'!$W$12:$W$136,0)),1)","v":{"$error":"#N/A"}},{"$f":"INDEX(NLML.Test1.PrePostDataset[*Last Name],(MATCH(NLML.Test2.PrePostDataset[[#This Row],[*First Name & Last Name\n(choose from list)]],'NLM Data Test 1'!$W$12:$W$136,0)),1)","v":{"$error":"#N/A"}},{"$nulls":10},{"$f":"IFERROR(INDEX('Olderyounger calc'!$D$10:$D$409,(MATCH(Z103,'Olderyounger calc'!$C$10:$C$409,0)),1),\"\")","v":""},{"$nulls":5},{"$error":"#N/A"},{"$f":"IFERROR(INDEX('Data for lookup'!$F$2:$F$757,(MATCH($V103,'Data for lookup'!$A$2:$A$757,0)),1),\"\")","v":""},{"$error":"#N/A"},"","","",""]
[93,{"$f":"INDEX(NLML.Test1.PrePostDataset[*First Name],(MATCH(NLML.Test2.PrePostDataset[[#This Row],[*First Name & Last Name\n(choose from list)]],'NLM Data Test 1'!$W$12:$W$136,0)),1)","v":{"$error":"#N/A"}},{"$f":"INDEX(NLML.Test1.PrePostDataset[*Last Name],(MATCH(NLML.Test2.PrePostDataset[[#This Row],[*First Name & Last Name\n(choose from list)]],'NLM Data Test 1'!$W$12:$W$136,0)),1)","v":{"$error":"#N/A"}},{"$nulls":10},{"$f":"IFERROR(INDEX('Olderyounger calc'!$D$10:$D$409,(MATCH(Z104,'Olderyounger calc'!$C$10:$C$409,0)),1),\"\")","v":""},{"$nulls":5},{"$error":"#N/A"},{"$f":"IFERROR(INDEX('Data for lookup'!$F$2:$F$757,(MATCH($V104,'Data for lookup'!$A$2:$A$757,0)),1),\"\")","v":""},{"$error":"#N/A"},"","","",""]
[94,{"$f":"INDEX(NLML.Test1.PrePostDataset[*First Name],(MATCH(NLML.Test2.PrePostDataset[[#This Row],[*First Name & Last Name\n(choose from list)]],'NLM Data Test 1'!$W$12:$W$136,0)),1)","v":{"$error":"#N/A"}},{"$f":"INDEX(NLML.Test1.PrePostDataset[*Last Name],(MATCH(NLML.Test2.PrePostDataset[[#This Row],[*First Name & Last Name\n(choose from list)]],'NLM Data Test 1'!$W$12:$W$136,0)),1)","v":{"$error":"#N/A"}},{"$nulls":10},{"$f":"IFERROR(INDEX('Olderyounger calc'!$D$10:$D$409,(MATCH(Z105,'Olderyounger calc'!$C$10:$C$409,0)),1),\"\")","v":""},{"$nulls":5},{"$error":"#N/A"},{"$f":"IFERROR(INDEX('Data for lookup'!$F$2:$F$757,(MATCH($V105,'Data for lookup'!$A$2:$A$757,0)),1),\"\")","v":""},{"$error":"#N/A"},"","","",""]
[95,{"$f":"INDEX(NLML.Test1.PrePostDataset[*First Name],(MATCH(NLML.Test2.PrePostDataset[[#This Row],[*First Name & Last Name\n(choose from list)]],'NLM Data Test 1'!$W$12:$W$136,0)),1)","v":{"$error":"#N/A"}},{"$f":"INDEX(NLML.Test1.PrePostDataset[*Last Name],(MATCH(NLML.Test2.PrePostDataset[[#This Row],[*First Name & Last Name\n(choose from list)]],'NLM Data Test 1'!$W$12:$W$136,0)),1)","v":{"$error":"#N/A"}},{"$nulls":10},{"$f":"IFERROR(INDEX('Olderyounger calc'!$D$10:$D$409,(MATCH(Z106,'Olderyounger calc'!$C$10:$C$409,0)),1),\"\")","v":""},{"$nulls":5},{"$error":"#N/A"},{"$f":"IFERROR(INDEX('Data for lookup'!$F$2:$F$757,(MATCH($V106,'Data for lookup'!$A$2:$A$757,0)),1),\"\")","v":""},{"$error":"#N/A"},"","","",""]
[96,{"$f":"INDEX(NLML.Test1.PrePostDataset[*First Name],(MATCH(NLML.Test2.PrePostDataset[[#This Row],[*First Name & Last Name\n(choose from list)]],'NLM Data Test 1'!$W$12:$W$136,0)),1)","v":{"$error":"#N/A"}},{"$f":"INDEX(NLML.Test1.PrePostDataset[*Last Name],(MATCH(NLML.Test2.PrePostDataset[[#This Row],[*First Name & Last Name\n(choose from list)]],'NLM Data Test 1'!$W$12:$W$136,0)),1)","v":{"$error":"#N/A"}},{"$nulls":10},{"$f":"IFERROR(INDEX('Olderyounger calc'!$D$10:$D$409,(MATCH(Z107,'Olderyounger calc'!$C$10:$C$409,0)),1),\"\")","v":""},{"$nulls":5},{"$error":"#N/A"},{"$f":"IFERROR(INDEX('Data for lookup'!$F$2:$F$757,(MATCH($V107,'Data for lookup'!$A$2:$A$757,0)),1),\"\")","v":""},{"$error":"#N/A"},"","","",""]
[97,{"$f":"INDEX(NLML.Test1.PrePostDataset[*First Name],(MATCH(NLML.Test2.PrePostDataset[[#This Row],[*First Name & Last Name\n(choose from list)]],'NLM Data Test 1'!$W$12:$W$136,0)),1)","v":{"$error":"#N/A"}},{"$f":"INDEX(NLML.Test1.PrePostDataset[*Last Name],(MATCH(NLML.Test2.PrePostDataset[[#This Row],[*First Name & Last Name\n(choose from list)]],'NLM Data Test 1'!$W$12:$W$136,0)),1)","v":{"$error":"#N/A"}},{"$nulls":10},{"$f":"IFERROR(INDEX('Olderyounger calc'!$D$10:$D$409,(MATCH(Z108,'Olderyounger calc'!$C$10:$C$409,0)),1),\"\")","v":""},{"$nulls":5},{"$f":"IF(C108=\"\",\"\",SUM(Q108:S108))","v":{"$error":"#N/A"}},{"$f":"IFERROR(INDEX('Data for lookup'!$F$2:$F$757,(MATCH($V108,'Data for lookup'!$A$2:$A$757,0)),1),\"\")","v":""},{"$f":"H108&I108&K108&T108","v":{"$error":"#N/A"}},{"$f":"H108&I108&K108","v":""},{"$f":"IF(D108=\"\",\"\",D108)","v":""},{"$f":"E108&I108&J108","v":""},""]
[98,{"$f":"INDEX(NLML.Test1.PrePostDataset[*First Name],(MATCH(NLML.Test2.PrePostDataset[[#This Row],[*First Name & Last Name\n(choose from list)]],'NLM Data Test 1'!$W$12:$W$136,0)),1)","v":{"$error":"#N/A"}},{"$f":"INDEX(NLML.Test1.PrePostDataset[*Last Name],(MATCH(NLML.Test2.PrePostDataset[[#This Row],[*First Name & Last Name\n(choose from list)]],'NLM Data Test 1'!$W$12:$W$136,0)),1)","v":{"$error":"#N/A"}},{"$nulls":10},{"$f":"IFERROR(INDEX('Olderyounger calc'!$D$10:$D$409,(MATCH(Z109,'Olderyounger calc'!$C$10:$C$409,0)),1),\"\")","v":""},{"$nulls":5},{"$error":"#N/A"},{"$f":"IFERROR(INDEX('Data for lookup'!$F$2:$F$757,(MATCH($V109,'Data for lookup'!$A$2:$A$757,0)),1),\"\")","v":""},{"$error":"#N/A"},"","","",""]
[99,{"$f":"INDEX(NLML.Test1.PrePostDataset[*First Name],(MATCH(NLML.Test2.PrePostDataset[[#This Row],[*First Name & Last Name\n(choose from list)]],'NLM Data Test 1'!$W$12:$W$136,0)),1)","v":{"$error":"#N/A"}},{"$f":"INDEX(NLML.Test1.PrePostDataset[*Last Name],(MATCH(NLML.Test2.PrePostDataset[[#This Row],[*First Name & Last Name\n(choose from list)]],'NLM Data Test 1'!$W$12:$W$136,0)),1)","v":{"$error":"#N/A"}},{"$nulls":10},{"$f":"IFERROR(INDEX('Olderyounger calc'!$D$10:$D$409,(MATCH(Z110,'Olderyounger calc'!$C$10:$C$409,0)),1),\"\")","v":""},{"$nulls":5},{"$error":"#N/A"},{"$f":"IFERROR(INDEX('Data for lookup'!$F$2:$F$757,(MATCH($V110,'Data for lookup'!$A$2:$A$757,0)),1),\"\")","v":""},{"$error":"#N/A"},"","","",""]
[100,{"$f":"INDEX(NLML.Test1.PrePostDataset[*First Name],(MATCH(NLML.Test2.PrePostDataset[[#This Row],[*First Name & Last Name\n(choose from list)]],'NLM Data Test 1'!$W$12:$W$136,0)),1)","v":{"$error":"#N/A"}},{"$f":"INDEX(NLML.Test1.PrePostDataset[*Last Name],(MATCH(NLML.Test2.PrePostDataset[[#This Row],[*First Name & Last Name\n(choose from list)]],'NLM Data Test 1'!$W$12:$W$136,0)),1)","v":{"$error":"#N/A"}},{"$nulls":10},{"$f":"IFERROR(INDEX('Olderyounger calc'!$D$10:$D$409,(MATCH(Z111,'Olderyounger calc'!$C$10:$C$409,0)),1),\"\")","v":""},{"$nulls":5},{"$error":"#N/A"},{"$f":"IFERROR(INDEX('Data for lookup'!$F$2:$F$757,(MATCH($V111,'Data for lookup'!$A$2:$A$757,0)),1),\"\")","v":""},{"$error":"#N/A"},"","","",""]
[101,{"$f":"INDEX(NLML.Test1.PrePostDataset[*First Name],(MATCH(NLML.Test2.PrePostDataset[[#This Row],[*First Name & Last Name\n(choose from list)]],'NLM Data Test 1'!$W$12:$W$136,0)),1)","v":{"$error":"#N/A"}},{"$f":"INDEX(NLML.Test1.PrePostDataset[*Last Name],(MATCH(NLML.Test2.PrePostDataset[[#This Row],[*First Name & Last Name\n(choose from list)]],'NLM Data Test 1'!$W$12:$W$136,0)),1)","v":{"$error":"#N/A"}},{"$nulls":10},{"$f":"IFERROR(INDEX('Olderyounger calc'!$D$10:$D$409,(MATCH(Z112,'Olderyounger calc'!$C$10:$C$409,0)),1),\"\")","v":""},{"$nulls":5},{"$error":"#N/A"},{"$f":"IFERROR(INDEX('Data for lookup'!$F$2:$F$757,(MATCH($V112,'Data for lookup'!$A$2:$A$757,0)),1),\"\")","v":""},{"$error":"#N/A"},"","","",""]
[102,{"$f":"INDEX(NLML.Test1.PrePostDataset[*First Name],(MATCH(NLML.Test2.PrePostDataset[[#This Row],[*First Name & Last Name\n(choose from list)]],'NLM Data Test 1'!$W$12:$W$136,0)),1)","v":{"$error":"#N/A"}},{"$f":"INDEX(NLML.Test1.PrePostDataset[*Last Name],(MATCH(NLML.Test2.PrePostDataset[[#This Row],[*First Name & Last Name\n(choose from list)]],'NLM Data Test 1'!$W$12:$W$136,0)),1)","v":{"$error":"#N/A"}},{"$nulls":10},{"$f":"IFERROR(INDEX('Olderyounger calc'!$D$10:$D$409,(MATCH(Z113,'Olderyounger calc'!$C$10:$C$409,0)),1),\"\")","v":""},{"$nulls":5},{"$error":"#N/A"},{"$f":"IFERROR(INDEX('Data for lookup'!$F$2:$F$757,(MATCH($V113,'Data for lookup'!$A$2:$A$757,0)),1),\"\")","v":""},{"$error":"#N/A"},"","","",""]
[103,{"$f":"INDEX(NLML.Test1.PrePostDataset[*First Name],(MATCH(NLML.Test2.PrePostDataset[[#This Row],[*First Name & Last Name\n(choose from list)]],'NLM Data Test 1'!$W$12:$W$136,0)),1)","v":{"$error":"#N/A"}},{"$f":"INDEX(NLML.Test1.PrePostDataset[*Last Name],(MATCH(NLML.Test2.PrePostDataset[[#This Row],[*First Name & Last Name\n(choose from list)]],'NLM Data Test 1'!$W$12:$W$136,0)),1)","v":{"$error":"#N/A"}},{"$nulls":10},{"$f":"IFERROR(INDEX('Olderyounger calc'!$D$10:$D$409,(MATCH(Z114,'Olderyounger calc'!$C$10:$C$409,0)),1),\"\")","v":""},{"$nulls":5},{"$error":"#N/A"},{"$f":"IFERROR(INDEX('Data for lookup'!$F$2:$F$757,(MATCH($V114,'Data for lookup'!$A$2:$A$757,0)),1),\"\")","v":""},{"$error":"#N/A"},"","","",""]
[104,{"$f":"INDEX(NLML.Test1.PrePostDataset[*First Name],(MATCH(NLML.Test2.PrePostDataset[[#This Row],[*First Name & Last Name\n(choose from list)]],'NLM Data Test 1'!$W$12:$W$136,0)),1)","v":{"$error":"#N/A"}},{"$f":"INDEX(NLML.Test1.PrePostDataset[*Last Name],(MATCH(NLML.Test2.PrePostDataset[[#This Row],[*First Name & Last Name\n(choose from list)]],'NLM Data Test 1'!$W$12:$W$136,0)),1)","v":{"$error":"#N/A"}},{"$nulls":10},{"$f":"IFERROR(INDEX('Olderyounger calc'!$D$10:$D$409,(MATCH(Z115,'Olderyounger calc'!$C$10:$C$409,0)),1),\"\")","v":""},{"$nulls":5},{"$error":"#N/A"},{"$f":"IFERROR(INDEX('Data for lookup'!$F$2:$F$757,(MATCH($V115,'Data for lookup'!$A$2:$A$757,0)),1),\"\")","v":""},{"$error":"#N/A"},"","","",""]
[105,{"$f":"INDEX(NLML.Test1.PrePostDataset[*First Name],(MATCH(NLML.Test2.PrePostDataset[[#This Row],[*First Name & Last Name\n(choose from list)]],'NLM Data Test 1'!$W$12:$W$136,0)),1)","v":{"$error":"#N/A"}},{"$f":"INDEX(NLML.Test1.PrePostDataset[*Last Name],(MATCH(NLML.Test2.PrePostDataset[[#This Row],[*First Name & Last Name\n(choose from list)]],'NLM Data Test 1'!$W$12:$W$136,0)),1)","v":{"$error":"#N/A"}},{"$nulls":10},{"$f":"IFERROR(INDEX('Olderyounger calc'!$D$10:$D$409,(MATCH(Z116,'Olderyounger calc'!$C$10:$C$409,0)),1),\"\")","v":""},{"$nulls":5},{"$error":"#N/A"},{"$f":"IFERROR(INDEX('Data for lookup'!$F$2:$F$757,(MATCH($V116,'Data for lookup'!$A$2:$A$757,0)),1),\"\")","v":""},{"$error":"#N/A"},"","","",""]
[106,{"$f":"INDEX(NLML.Test1.PrePostDataset[*First Name],(MATCH(NLML.Test2.PrePostDataset[[#This Row],[*First Name & Last Name\n(choose from list)]],'NLM Data Test 1'!$W$12:$W$136,0)),1)","v":{"$error":"#N/A"}},{"$f":"INDEX(NLML.Test1.PrePostDataset[*Last Name],(MATCH(NLML.Test2.PrePostDataset[[#This Row],[*First Name & Last Name\n(choose from list)]],'NLM Data Test 1'!$W$12:$W$136,0)),1)","v":{"$error":"#N/A"}},{"$nulls":10},{"$f":"IFERROR(INDEX('Olderyounger calc'!$D$10:$D$409,(MATCH(Z117,'Olderyounger calc'!$C$10:$C$409,0)),1),\"\")","v":""},{"$nulls":5},{"$error":"#N/A"},{"$f":"IFERROR(INDEX('Data for lookup'!$F$2:$F$757,(MATCH($V117,'Data for lookup'!$A$2:$A$757,0)),1),\"\")","v":""},{"$error":"#N/A"},"","","",""]
[107,{"$f":"INDEX(NLML.Test1.PrePostDataset[*First Name],(MATCH(NLML.Test2.PrePostDataset[[#This Row],[*First Name & Last Name\n(choose from list)]],'NLM Data Test 1'!$W$12:$W$136,0)),1)","v":{"$error":"#N/A"}},{"$f":"INDEX(NLML.Test1.PrePostDataset[*Last Name],(MATCH(NLML.Test2.PrePostDataset[[#This Row],[*First Name & Last Name\n(choose from list)]],'NLM Data Test 1'!$W$12:$W$136,0)),1)","v":{"$error":"#N/A"}},{"$nulls":10},{"$f":"IFERROR(INDEX('Olderyounger calc'!$D$10:$D$409,(MATCH(Z118,'Olderyounger calc'!$C$10:$C$409,0)),1),\"\")","v":""},{"$nulls":5},{"$error":"#N/A"},{"$f":"IFERROR(INDEX('Data for lookup'!$F$2:$F$757,(MATCH($V118,'Data for lookup'!$A$2:$A$757,0)),1),\"\")","v":""},{"$error":"#N/A"},"","","",""]
[108,{"$f":"INDEX(NLML.Test1.PrePostDataset[*First Name],(MATCH(NLML.Test2.PrePostDataset[[#This Row],[*First Name & Last Name\n(choose from list)]],'NLM Data Test 1'!$W$12:$W$136,0)),1)","v":{"$error":"#N/A"}},{"$f":"INDEX(NLML.Test1.PrePostDataset[*Last Name],(MATCH(NLML.Test2.PrePostDataset[[#This Row],[*First Name & Last Name\n(choose from list)]],'NLM Data Test 1'!$W$12:$W$136,0)),1)","v":{"$error":"#N/A"}},{"$nulls":10},{"$f":"IFERROR(INDEX('Olderyounger calc'!$D$10:$D$409,(MATCH(Z119,'Olderyounger calc'!$C$10:$C$409,0)),1),\"\")","v":""},{"$nulls":5},{"$error":"#N/A"},{"$f":"IFERROR(INDEX('Data for lookup'!$F$2:$F$757,(MATCH($V119,'Data for lookup'!$A$2:$A$757,0)),1),\"\")","v":""},{"$error":"#N/A"},"","","",""]
[109,{"$f":"INDEX(NLML.Test1.PrePostDataset[*First Name],(MATCH(NLML.Test2.PrePostDataset[[#This Row],[*First Name & Last Name\n(choose from list)]],'NLM Data Test 1'!$W$12:$W$136,0)),1)","v":{"$error":"#N/A"}},{"$f":"INDEX(NLML.Test1.PrePostDataset[*Last Name],(MATCH(NLML.Test2.PrePostDataset[[#This Row],[*First Name & Last Name\n(choose from list)]],'NLM Data Test 1'!$W$12:$W$136,0)),1)","v":{"$error":"#N/A"}},{"$nulls":10},{"$f":"IFERROR(INDEX('Olderyounger calc'!$D$10:$D$409,(MATCH(Z120,'Olderyounger calc'!$C$10:$C$409,0)),1),\"\")","v":""},{"$nulls":5},{"$error":"#N/A"},{"$f":"IFERROR(INDEX('Data for lookup'!$F$2:$F$757,(MATCH($V120,'Data for lookup'!$A$2:$A$757,0)),1),\"\")","v":""},{"$error":"#N/A"},"","","",""]
[110,{"$f":"INDEX(NLML.Test1.PrePostDataset[*First Name],(MATCH(NLML.Test2.PrePostDataset[[#This Row],[*First Name & Last Name\n(choose from list)]],'NLM Data Test 1'!$W$12:$W$136,0)),1)","v":{"$error":"#N/A"}},{"$f":"INDEX(NLML.Test1.PrePostDataset[*Last Name],(MATCH(NLML.Test2.PrePostDataset[[#This Row],[*First Name & Last Name\n(choose from list)]],'NLM Data Test 1'!$W$12:$W$136,0)),1)","v":{"$error":"#N/A"}},{"$nulls":10},{"$f":"IFERROR(INDEX('Olderyounger calc'!$D$10:$D$409,(MATCH(Z121,'Olderyounger calc'!$C$10:$C$409,0)),1),\"\")","v":""},{"$nulls":5},{"$error":"#N/A"},{"$f":"IFERROR(INDEX('Data for lookup'!$F$2:$F$757,(MATCH($V121,'Data for lookup'!$A$2:$A$757,0)),1),\"\")","v":""},{"$error":"#N/A"},"","","",""]
[111,{"$f":"INDEX(NLML.Test1.PrePostDataset[*First Name],(MATCH(NLML.Test2.PrePostDataset[[#This Row],[*First Name & Last Name\n(choose from list)]],'NLM Data Test 1'!$W$12:$W$136,0)),1)","v":{"$error":"#N/A"}},{"$f":"INDEX(NLML.Test1.PrePostDataset[*Last Name],(MATCH(NLML.Test2.PrePostDataset[[#This Row],[*First Name & Last Name\n(choose from list)]],'NLM Data Test 1'!$W$12:$W$136,0)),1)","v":{"$error":"#N/A"}},{"$nulls":10},{"$f":"IFERROR(INDEX('Olderyounger calc'!$D$10:$D$409,(MATCH(Z122,'Olderyounger calc'!$C$10:$C$409,0)),1),\"\")","v":""},{"$nulls":5},{"$error":"#N/A"},{"$f":"IFERROR(INDEX('Data for lookup'!$F$2:$F$757,(MATCH($V122,'Data for lookup'!$A$2:$A$757,0)),1),\"\")","v":""},{"$error":"#N/A"},"","","",""]
[112,{"$f":"INDEX(NLML.Test1.PrePostDataset[*First Name],(MATCH(NLML.Test2.PrePostDataset[[#This Row],[*First Name & Last Name\n(choose from list)]],'NLM Data Test 1'!$W$12:$W$136,0)),1)","v":{"$error":"#N/A"}},{"$f":"INDEX(NLML.Test1.PrePostDataset[*Last Name],(MATCH(NLML.Test2.PrePostDataset[[#This Row],[*First Name & Last Name\n(choose from list)]],'NLM Data Test 1'!$W$12:$W$136,0)),1)","v":{"$error":"#N/A"}},{"$nulls":10},{"$f":"IFERROR(INDEX('Olderyounger calc'!$D$10:$D$409,(MATCH(Z123,'Olderyounger calc'!$C$10:$C$409,0)),1),\"\")","v":""},{"$nulls":5},{"$error":"#N/A"},{"$f":"IFERROR(INDEX('Data for lookup'!$F$2:$F$757,(MATCH($V123,'Data for lookup'!$A$2:$A$757,0)),1),\"\")","v":""},{"$error":"#N/A"},"","","",""]
[113,{"$f":"INDEX(NLML.Test1.PrePostDataset[*First Name],(MATCH(NLML.Test2.PrePostDataset[[#This Row],[*First Name & Last Name\n(choose from list)]],'NLM Data Test 1'!$W$12:$W$136,0)),1)","v":{"$error":"#N/A"}},{"$f":"INDEX(NLML.Test1.PrePostDataset[*Last Name],(MATCH(NLML.Test2.PrePostDataset[[#This Row],[*First Name & Last Name\n(choose from list)]],'NLM Data Test 1'!$W$12:$W$136,0)),1)","v":{"$error":"#N/A"}},{"$nulls":10},{"$f":"IFERROR(INDEX('Olderyounger calc'!$D$10:$D$409,(MATCH(Z124,'Olderyounger calc'!$C$10:$C$409,0)),1),\"\")","v":""},{"$nulls":5},{"$error":"#N/A"},{"$f":"IFERROR(INDEX('Data for lookup'!$F$2:$F$757,(MATCH($V124,'Data for lookup'!$A$2:$A$757,0)),1),\"\")","v":""},{"$error":"#N/A"},"","","",""]
[114,{"$f":"INDEX(NLML.Test1.PrePostDataset[*First Name],(MATCH(NLML.Test2.PrePostDataset[[#This Row],[*First Name & Last Name\n(choose from list)]],'NLM Data Test 1'!$W$12:$W$136,0)),1)","v":{"$error":"#N/A"}},{"$f":"INDEX(NLML.Test1.PrePostDataset[*Last Name],(MATCH(NLML.Test2.PrePostDataset[[#This Row],[*First Name & Last Name\n(choose from list)]],'NLM Data Test 1'!$W$12:$W$136,0)),1)","v":{"$error":"#N/A"}},{"$nulls":10},{"$f":"IFERROR(INDEX('Olderyounger calc'!$D$10:$D$409,(MATCH(Z125,'Olderyounger calc'!$C$10:$C$409,0)),1),\"\")","v":""},{"$nulls":5},{"$error":"#N/A"},{"$f":"IFERROR(INDEX('Data for lookup'!$F$2:$F$757,(MATCH($V125,'Data for lookup'!$A$2:$A$757,0)),1),\"\")","v":""},{"$error":"#N/A"},"","","",""]
[115,{"$f":"INDEX(NLML.Test1.PrePostDataset[*First Name],(MATCH(NLML.Test2.PrePostDataset[[#This Row],[*First Name & Last Name\n(choose from list)]],'NLM Data Test 1'!$W$12:$W$136,0)),1)","v":{"$error":"#N/A"}},{"$f":"INDEX(NLML.Test1.PrePostDataset[*Last Name],(MATCH(NLML.Test2.PrePostDataset[[#This Row],[*First Name & Last Name\n(choose from list)]],'NLM Data Test 1'!$W$12:$W$136,0)),1)","v":{"$error":"#N/A"}},{"$nulls":10},{"$f":"IFERROR(INDEX('Olderyounger calc'!$D$10:$D$409,(MATCH(Z126,'Olderyounger calc'!$C$10:$C$409,0)),1),\"\")","v":""},{"$nulls":5},{"$error":"#N/A"},{"$f":"IFERROR(INDEX('Data for lookup'!$F$2:$F$757,(MATCH($V126,'Data for lookup'!$A$2:$A$757,0)),1),\"\")","v":""},{"$error":"#N/A"},"","","",""]
[116,{"$f":"INDEX(NLML.Test1.PrePostDataset[*First Name],(MATCH(NLML.Test2.PrePostDataset[[#This Row],[*First Name & Last Name\n(choose from list)]],'NLM Data Test 1'!$W$12:$W$136,0)),1)","v":{"$error":"#N/A"}},{"$f":"INDEX(NLML.Test1.PrePostDataset[*Last Name],(MATCH(NLML.Test2.PrePostDataset[[#This Row],[*First Name & Last Name\n(choose from list)]],'NLM Data Test 1'!$W$12:$W$136,0)),1)","v":{"$error":"#N/A"}},{"$nulls":10},{"$f":"IFERROR(INDEX('Olderyounger calc'!$D$10:$D$409,(MATCH(Z127,'Olderyounger calc'!$C$10:$C$409,0)),1),\"\")","v":""},{"$nulls":5},{"$error":"#N/A"},{"$f":"IFERROR(INDEX('Data for lookup'!$F$2:$F$757,(MATCH($V127,'Data for lookup'!$A$2:$A$757,0)),1),\"\")","v":""},{"$error":"#N/A"},"","","",""]
[117,{"$f":"INDEX(NLML.Test1.PrePostDataset[*First Name],(MATCH(NLML.Test2.PrePostDataset[[#This Row],[*First Name & Last Name\n(choose from list)]],'NLM Data Test 1'!$W$12:$W$136,0)),1)","v":{"$error":"#N/A"}},{"$f":"INDEX(NLML.Test1.PrePostDataset[*Last Name],(MATCH(NLML.Test2.PrePostDataset[[#This Row],[*First Name & Last Name\n(choose from list)]],'NLM Data Test 1'!$W$12:$W$136,0)),1)","v":{"$error":"#N/A"}},{"$nulls":10},{"$f":"IFERROR(INDEX('Olderyounger calc'!$D$10:$D$409,(MATCH(Z128,'Olderyounger calc'!$C$10:$C$409,0)),1),\"\")","v":""},{"$nulls":5},{"$error":"#N/A"},{"$f":"IFERROR(INDEX('Data for lookup'!$F$2:$F$757,(MATCH($V128,'Data for lookup'!$A$2:$A$757,0)),1),\"\")","v":""},{"$error":"#N/A"},"","","",""]
[118,{"$f":"INDEX(NLML.Test1.PrePostDataset[*First Name],(MATCH(NLML.Test2.PrePostDataset[[#This Row],[*First Name & Last Name\n(choose from list)]],'NLM Data Test 1'!$W$12:$W$136,0)),1)","v":{"$error":"#N/A"}},{"$f":"INDEX(NLML.Test1.PrePostDataset[*Last Name],(MATCH(NLML.Test2.PrePostDataset[[#This Row],[*First Name & Last Name\n(choose from list)]],'NLM Data Test 1'!$W$12:$W$136,0)),1)","v":{"$error":"#N/A"}},{"$nulls":10},{"$f":"IFERROR(INDEX('Olderyounger calc'!$D$10:$D$409,(MATCH(Z129,'Olderyounger calc'!$C$10:$C$409,0)),1),\"\")","v":""},{"$nulls":5},{"$error":"#N/A"},{"$f":"IFERROR(INDEX('Data for lookup'!$F$2:$F$757,(MATCH($V129,'Data for lookup'!$A$2:$A$757,0)),1),\"\")","v":""},{"$error":"#N/A"},"","","",""]
[119,{"$f":"INDEX(NLML.Test1.PrePostDataset[*First Name],(MATCH(NLML.Test2.PrePostDataset[[#This Row],[*First Name & Last Name\n(choose from list)]],'NLM Data Test 1'!$W$12:$W$136,0)),1)","v":{"$error":"#N/A"}},{"$f":"INDEX(NLML.Test1.PrePostDataset[*Last Name],(MATCH(NLML.Test2.PrePostDataset[[#This Row],[*First Name & Last Name\n(choose from list)]],'NLM Data Test 1'!$W$12:$W$136,0)),1)","v":{"$error":"#N/A"}},{"$nulls":10},{"$f":"IFERROR(INDEX('Olderyounger calc'!$D$10:$D$409,(MATCH(Z130,'Olderyounger calc'!$C$10:$C$409,0)),1),\"\")","v":""},{"$nulls":5},{"$error":"#N/A"},{"$f":"IFERROR(INDEX('Data for lookup'!$F$2:$F$757,(MATCH($V130,'Data for lookup'!$A$2:$A$757,0)),1),\"\")","v":""},{"$error":"#N/A"},"","","",""]
[120,{"$f":"INDEX(NLML.Test1.PrePostDataset[*First Name],(MATCH(NLML.Test2.PrePostDataset[[#This Row],[*First Name & Last Name\n(choose from list)]],'NLM Data Test 1'!$W$12:$W$136,0)),1)","v":{"$error":"#N/A"}},{"$f":"INDEX(NLML.Test1.PrePostDataset[*Last Name],(MATCH(NLML.Test2.PrePostDataset[[#This Row],[*First Name & Last Name\n(choose from list)]],'NLM Data Test 1'!$W$12:$W$136,0)),1)","v":{"$error":"#N/A"}},{"$nulls":10},{"$f":"IFERROR(INDEX('Olderyounger calc'!$D$10:$D$409,(MATCH(Z131,'Olderyounger calc'!$C$10:$C$409,0)),1),\"\")","v":""},{"$nulls":5},{"$error":"#N/A"},{"$f":"IFERROR(INDEX('Data for lookup'!$F$2:$F$757,(MATCH($V131,'Data for lookup'!$A$2:$A$757,0)),1),\"\")","v":""},{"$error":"#N/A"},"","","",""]
[121,{"$f":"INDEX(NLML.Test1.PrePostDataset[*First Name],(MATCH(NLML.Test2.PrePostDataset[[#This Row],[*First Name & Last Name\n(choose from list)]],'NLM Data Test 1'!$W$12:$W$136,0)),1)","v":{"$error":"#N/A"}},{"$f":"INDEX(NLML.Test1.PrePostDataset[*Last Name],(MATCH(NLML.Test2.PrePostDataset[[#This Row],[*First Name & Last Name\n(choose from list)]],'NLM Data Test 1'!$W$12:$W$136,0)),1)","v":{"$error":"#N/A"}},{"$nulls":10},{"$f":"IFERROR(INDEX('Olderyounger calc'!$D$10:$D$409,(MATCH(Z132,'Olderyounger calc'!$C$10:$C$409,0)),1),\"\")","v":""},{"$nulls":5},{"$error":"#N/A"},{"$f":"IFERROR(INDEX('Data for lookup'!$F$2:$F$757,(MATCH($V132,'Data for lookup'!$A$2:$A$757,0)),1),\"\")","v":""},{"$error":"#N/A"},"","","",""]
[122,{"$f":"INDEX(NLML.Test1.PrePostDataset[*First Name],(MATCH(NLML.Test2.PrePostDataset[[#This Row],[*First Name & Last Name\n(choose from list)]],'NLM Data Test 1'!$W$12:$W$136,0)),1)","v":{"$error":"#N/A"}},{"$f":"INDEX(NLML.Test1.PrePostDataset[*Last Name],(MATCH(NLML.Test2.PrePostDataset[[#This Row],[*First Name & Last Name\n(choose from list)]],'NLM Data Test 1'!$W$12:$W$136,0)),1)","v":{"$error":"#N/A"}},{"$nulls":10},{"$f":"IFERROR(INDEX('Olderyounger calc'!$D$10:$D$409,(MATCH(Z133,'Olderyounger calc'!$C$10:$C$409,0)),1),\"\")","v":""},{"$nulls":5},{"$error":"#N/A"},{"$f":"IFERROR(INDEX('Data for lookup'!$F$2:$F$757,(MATCH($V133,'Data for lookup'!$A$2:$A$757,0)),1),\"\")","v":""},{"$error":"#N/A"},"","","",""]
[123,{"$f":"INDEX(NLML.Test1.PrePostDataset[*First Name],(MATCH(NLML.Test2.PrePostDataset[[#This Row],[*First Name & Last Name\n(choose from list)]],'NLM Data Test 1'!$W$12:$W$136,0)),1)","v":{"$error":"#N/A"}},{"$f":"INDEX(NLML.Test1.PrePostDataset[*Last Name],(MATCH(NLML.Test2.PrePostDataset[[#This Row],[*First Name & Last Name\n(choose from list)]],'NLM Data Test 1'!$W$12:$W$136,0)),1)","v":{"$error":"#N/A"}},{"$nulls":10},{"$f":"IFERROR(INDEX('Olderyounger calc'!$D$10:$D$409,(MATCH(Z134,'Olderyounger calc'!$C$10:$C$409,0)),1),\"\")","v":""},{"$nulls":5},{"$error":"#N/A"},{"$f":"IFERROR(INDEX('Data for lookup'!$F$2:$F$757,(MATCH($V134,'Data for lookup'!$A$2:$A$757,0)),1),\"\")","v":""},{"$error":"#N/A"},"","","",""]
[124,{"$f":"INDEX(NLML.Test1.PrePostDataset[*First Name],(MATCH(NLML.Test2.PrePostDataset[[#This Row],[*First Name & Last Name\n(choose from list)]],'NLM Data Test 1'!$W$12:$W$136,0)),1)","v":{"$error":"#N/A"}},{"$f":"INDEX(NLML.Test1.PrePostDataset[*Last Name],(MATCH(NLML.Test2.PrePostDataset[[#This Row],[*First Name & Last Name\n(choose from list)]],'NLM Data Test 1'!$W$12:$W$136,0)),1)","v":{"$error":"#N/A"}},{"$nulls":10},{"$f":"IFERROR(INDEX('Olderyounger calc'!$D$10:$D$409,(MATCH(Z135,'Olderyounger calc'!$C$10:$C$409,0)),1),\"\")","v":""},{"$nulls":5},{"$error":"#N/A"},{"$f":"IFERROR(INDEX('Data for lookup'!$F$2:$F$757,(MATCH($V135,'Data for lookup'!$A$2:$A$757,0)),1),\"\")","v":""},{"$f":"H135&I135&K135&T135","v":{"$error":"#N/A"}},{"$f":"H135&I135&K135","v":""},"","",{"$f":"W135&Y135","v":""}]
[125,{"$f":"INDEX(NLML.Test1.PrePostDataset[*First Name],(MATCH(NLML.Test2.PrePostDataset[[#This Row],[*First Name & Last Name\n(choose from list)]],'NLM Data Test 1'!$W$12:$W$136,0)),1)","v":{"$error":"#N/A"}},{"$f":"INDEX(NLML.Test1.PrePostDataset[*Last Name],(MATCH(NLML.Test2.PrePostDataset[[#This Row],[*First Name & Last Name\n(choose from list)]],'NLM Data Test 1'!$W$12:$W$136,0)),1)","v":{"$error":"#N/A"}},null,null,{"$f":"INDEX('NLM Data Test 1'!$F$12:$F$136,(MATCH(D136,'NLM Data Test 1'!$W$12:$W$136,0)),1)","v":{"$error":"#N/A"}},{"$f":"INDEX('NLM Data Test 1'!$E$12:$E$136,(MATCH(D136,'NLM Data Test 1'!$W$12:$W$136,0)),1)","v":{"$error":"#N/A"}},{"$nulls":6},{"$f":"IFERROR(INDEX('Olderyounger calc'!$D$10:$D$409,(MATCH(Z136,'Olderyounger calc'!$C$10:$C$409,0)),1),\"\")","v":""},{"$nulls":5},{"$error":"#N/A"},{"$f":"IFERROR(INDEX('Data for lookup'!$F$2:$F$757,(MATCH($V136,'Data for lookup'!$A$2:$A$757,0)),1),\"\")","v":""},{"$error":"#N/A"},"","","",""]
[{"$nulls":20},{"$f":"SUM(COUNTIF($U$12:$U$136,H5),COUNTIF($U$12:$U$136,I5),COUNTIF($U$12:$U$136,J5),COUNTIF($U$12:$U$136,K5))","v":0}]

{"sheet":"NLM Data Change","index":3,"n_rows":141,"n_cols":23,"rows_kept":141,"merged":[[0,1,0,22],[1,3,1,22],[2,3,2,4],[2,6,2,20],[3,3,10,4],[3,6,3,20],[4,9,6,9],[4,15,4,16],[4,17,4,20],[8,9,10,9],[12,3,12,6],[12,7,12,10],[12,11,12,14],[12,15,12,22],[13,15,13,16],[13,17,13,20],[13,21,13,22]]}
[null,"Narrative Language Measures - Listening \nData Tracking Spreadsheet"]
[{"$nulls":3},"Change Test 1- Test 2"]
[{"$nulls":3},"Other Notes:",null,null,"Group Statistics: Listening Retell Total Score Changes   (Note, for group statistics to be accurate, students need to have been assessed on the same test)"]
[{"$nulls":6},"Listening Retell Group Scores"]
[{"$nulls":7},"Most Common Benchmark\n(Lowest if two)",null,"# of Students at:","High Risk","Moderate Risk","Benchmark","Advanced",null,"Story Comprehension Score Change",null,"Listening Retell Score Change"]
[{"$nulls":6},"Time 1",{"$f":"IF(SUM(K6:N6)=0,\"No data\",(INDEX($K$5:$N$5,1,(MATCH((MAX(K6:N6)),K6:N6,0)))))","v":"No data"},"Time 1",null,{"$f":"COUNTIF($V$16:$V$140,K5)+COUNTIF($V$16:$V$140,'Drop Downs'!D7)","v":0},{"$f":"COUNTIF($V$16:$V$140,L5)+COUNTIF($V$16:$V$140,'Drop Downs'!D8)","v":0},{"$f":"COUNTIF($V$16:$V$140,M5)+COUNTIF($V$16:$V$140,'Drop Downs'!D9)","v":0},{"$f":"COUNTIF($V$16:$V$140,N5)+COUNTIF($V$16:$V$140,'Drop Downs'!D10)","v":0},null,"Story Questions","Vocabulary Questions","Story Grammar","Language Complexity","Episode","Listening Retell TOTAL SCORE"]
[{"$nulls":6},"Time 2",{"$f":"IF(SUM(K7:N7)=0,\"No data\",(INDEX($K$5:$N$5,1,(MATCH((MAX(K7:N7)),K7:N7,0)))))","v":"No data"},"Time 2",null,{"$f":"COUNTIF($W$16:$W$140,K5)+COUNTIF($W$16:$W$140,'Drop Downs'!D7)","v":0},{"$f":"COUNTIF($W$16:$W$140,L5)+COUNTIF($W$16:$W$140,'Drop Downs'!D8)","v":0},{"$f":"COUNTIF($W$16:$W$140,M5)+COUNTIF($W$16:$W$140,'Drop Downs'!D9)","v":0},{"$f":"COUNTIF($W$16:$W$140,N5)+COUNTIF($W$16:$W$140,'Drop Downs'!D10)","v":0},"Mean changes:",{"$f":"IFERROR(AVERAGE(Q$16:Q$139),\"No data\")","v":"No data"},"No data","No data","No data","No data","No data"]
[{"$nulls":14},"Std Deviations:",{"$f":"IFERROR(STDEVP(Q$16:Q$139),\"No data\")","v":"No data"},{"$f":"IFERROR(STDEVP(R$16:R$139),\"No data\")","v":"No data"},"No data","No data","No data","No data"]
[{"$nulls":9},"% of Students at:","High Risk","Moderate Risk","Benchmark","Advanced"]
[{"$nulls":8},"Time 1",null,{"$f":"IFERROR(K6/$V$141,\"\")","v":""},{"$f":"IFERROR(L6/$V$141,\"\")","v":""},{"$f":"IFERROR(M6/$V$141,\"\")","v":""},{"$f":"IFERROR(N6/$V$141,\"\")","v":""}]
[{"$nulls":8},"Time 2",null,{"$f":"IFERROR(K7/$W$141,\"\")","v":""},{"$f":"IFERROR(L7/$W$141,\"\")","v":""},{"$f":"IFERROR(M7/$W$141,\"\")","v":""},{"$f":"IFERROR(N7/$W$141,\"\")","v":""}]
[]
[{"$nulls":3},"Student Details (shows most recent provided)",{"$nulls":3},"Time 1 assessment details",{"$nulls":3},"Time 2 assessment details",{"$nulls":3},"Individual Student Data Change (Time 1 - Time 2)"]
[{"$nulls":15},"Story Comprehension Scores",null,"Listening Retell Scores",{"$nulls":3},"Listening Retell Interpretations (Time 1 & Time 2)"]
["#","First Name","Last Name","First Name & Last Name*\n(choose from list)","WA Year Group\n(auto)","Other Tags\n(auto)","Class\n(auto)","Time 1 \nType of Assessment\n(benchmark or progress)","Time 1\nTerm of Administration","Time 1\nSeason Administered","Time 1 Interpretation was a Comparison to Students with…","Time 2 Type of Assessment\n(benchmark or progress)","Time 2\nTerm of Administration","Time 2 \nSeason Administered","Time 2\nInterpretation was a Comparison to Students with…","Story Questions","Vocabulary Questions","Story Grammar","Language Complexity","Episode","Listening Retell TOTAL SCORE","Time 1 Listening Retell TOTAL SCORE Interpretation","Time 2 Listening Retell TOTAL SCORE Interpretation"]
[1,{"$f":"IFERROR(INDEX(NLML.Test1.PrePostDataset[*First Name],(MATCH(NLML.ChangeInScores.PrePostDataset[[#This Row],[First Name & Last Name*\n(choose from list)]],'NLM Data Test 1'!W12:W136,0)),1),\"\")","v":""},{"$f":"IFERROR(INDEX(NLML.Test1.PrePostDataset[*Last Name],(MATCH(NLML.ChangeInScores.PrePostDataset[[#This Row],[First Name & Last Name*\n(choose from list)]],'NLM Data Test 1'!W12:W136,0)),1),\"\")","v":""},{"$f":"'NLM Data Test 2'!D12","v":0},{"$f":"IF(IFERROR(MATCH($D16,'NLM Data Test 2'!$D$12:$D$136,0),\"Error\")=\"Error\",(INDEX('NLM Data Test 1'!$D$12:$D$136,(MATCH($D16,'NLM Data Test 1'!$W$12:$W$136,0)),1)),(INDEX('NLM Data Test 2'!$E$12:$E$136,(MATCH($D16,'NLM Data Test 2'!$D$12:$D$136,0)),1)))","v":{"$error":"#N/A"}},{"$f":"IF(IFERROR(MATCH($D16,'NLM Data Test 2'!$D$12:$D$136,0),\"Error\")=\"Error\",(INDEX('NLM Data Test 1'!$E$12:$E$136,(MATCH($D16,'NLM Data Test 1'!$W$12:$W$136,0)),1)),(INDEX('NLM Data Test 2'!$G$12:$G$136,(MATCH($D16,'NLM Data Test 2'!$D$12:$D$136,0)),1)))","v":{"$error":"#N/A"}},{"$f":"IF(IFERROR(MATCH($D16,'NLM Data Test 2'!$D$12:$D$136,0),\"Error\")=\"Error\",(INDEX('NLM Data Test 1'!$F$12:$F$136,(MATCH($D16,'NLM Data Test 1'!$W$12:$W$136,0)),1)),(INDEX('NLM Data Test 2'!$F$12:$F$136,(MATCH($D16,'NLM Data Test 2'!$D$12:$D$136,0)),1)))","v":{"$error":"#N/A"}},{"$f":"IF(INDEX('NLM Data Test 1'!$H$12:$H$136,(MATCH(NLML.ChangeInScores.PrePostDataset[[#This Row],[First Name & Last Name*\n(choose from list)]],'NLM Data Test 1'!$W$12:$W$136,0)),1)=\"\",\"\",(INDEX('NLM Data Test 1'!H$12:H$136,(MATCH(NLML.ChangeInScores.PrePostDataset[[#This Row],[First Name & Last Name*\n(choose from list)]],'NLM Data Test 1'!$W$12:$W$136,0)),1)))","v":{"$error":"#N/A"}},{"$f":"IF(INDEX('NLM Data Test 1'!$I$12:$I$136,(MATCH(NLML.ChangeInScores.PrePostDataset[[#This Row],[First Name & Last Name*\n(choose from list)]],'NLM Data Test 1'!$W$12:$W$136,0)),1)=\"\",\"\",(INDEX('NLM Data Test 1'!I$12:I$136,(MATCH(NLML.ChangeInScores.PrePostDataset[[#This Row],[First Name & Last Name*\n(choose from list)]],'NLM Data Test 1'!$W$12:$W$136,0)),1)))","v":{"$error":"#N/A"}},{"$f":"IF(INDEX('NLM Data Test 1'!$J$12:$J$136,(MATCH(NLML.ChangeInScores.PrePostDataset[[#This Row],[First Name & Last Name*\n(choose from list)]],'NLM Data Test 1'!$W$12:$W$136,0)),1)=\"\",\"\",(INDEX('NLM Data Test 1'!J$12:J$136,(MATCH(NLML.ChangeInScores.PrePostDataset[[#This Row],[First Name & Last Name*\n(choose from list)]],'NLM Data Test 1'!$W$12:$W$136,0)),1)))","v":{"$error":"#N/A"}},{"$f":"IFERROR(INDEX('NLM Data Test 1'!$M$12:$M$136,(MATCH(NLML.ChangeInScores.PrePostDataset[[#This Row],[First Name & Last Name*\n(choose from list)]],'NLM Data Test 1'!$W$12:$W$136,0)),1),\"\")","v":""},{"$f":"INDEX('NLM Data Test 2'!$I$12:$I$136,(MATCH(NLML.ChangeInScores.PrePostDataset[[#This Row],[First Name & Last Name*\n(choose from list)]],'NLM Data Test 2'!$D$12:$D$136,0)),1)","v":{"$error":"#N/A"}},{"$f":"IFERROR(INDEX('NLM Data Test 2'!$J$12:$J$136,(MATCH(NLML.ChangeInScores.PrePostDataset[[#This Row],[First Name & Last Name*\n(choose from list)]],'NLM Data Test 2'!$X$12:$X$136,0)),1),\"\")","v":""},{"$f":"IFERROR(INDEX('NLM Data Test 2'!$K$12:$K$136,(MATCH(NLML.ChangeInScores.PrePostDataset[[#This Row],[First Name & Last Name*\n(choose from list)]],'NLM Data Test 2'!$X$12:$X$136,0)),1),\"\")","v":""},{"$f":"IFERROR(INDEX('NLM Data Test 2'!$N$12:$N$136,(MATCH(NLML.ChangeInScores.PrePostDataset[[#This Row],[First Name & Last Name*\n(choose from list)]],'NLM Data Test 2'!$X$12:$X$136,0)),1),\"\")","v":""},{"$f":"(INDEX('NLM Data Test 2'!$O$12:$O$136,(MATCH(NLML.ChangeInScores.PrePostDataset[[#This Row],[First Name & Last Name*\n(choose from list)]],'NLM Data Test 2'!$X$12:$X$136,0)),1))-(INDEX('NLM Data Test 1'!$N$12:$N$136,(MATCH(NLML.ChangeInScores.PrePostDataset[[#This Row],[First Name & Last Name*\n(choose from list)]],'NLM Data Test 1'!$W$12:$W$136,0)),1))","v":{"$error":"#N/A"}},{"$f":"(INDEX('NLM Data Test 2'!$P$12:$P$136,(MATCH(NLML.ChangeInScores.PrePostDataset[[#This Row],[First Name & Last Name*\n(choose from list)]],'NLM Data Test 2'!$X$12:$X$136,0)),1))-(INDEX('NLM Data Test 1'!$O$12:$O$136,(MATCH(NLML.ChangeInScores.PrePostDataset[[#This Row],[First Name & Last Name*\n(choose from list)]],'NLM Data Test 1'!$W$12:$W$136,0)),1))","v":{"$error":"#N/A"}},{"$f":"(INDEX('NLM Data Test 2'!$Q$12:$Q$136,(MATCH(NLML.ChangeInScores.PrePostDataset[[#This Row],[First Name & Last Name*\n(choose from list)]],'NLM Data Test 2'!$X$12:$X$136,0)),1))-(INDEX('NLM Data Test 1'!$P$12:$P$136,(MATCH(NLML.ChangeInScores.PrePostDataset[[#This Row],[First Name & Last Name*\n(choose from list)]],'NLM Data Test 1'!$W$12:$W$136,0)),1))","v":{"$error":"#N/A"}},{"$f":"(INDEX('NLM Data Test 2'!$R$12:$R$136,(MATCH(NLML.ChangeInScores.PrePostDataset[[#This Row],[First Name & Last Name*\n(choose from list)]],'NLM Data Test 2'!$X$12:$X$136,0)),1))-(INDEX('NLM Data Test 1'!$Q$12:$Q$136,(MATCH(NLML.ChangeInScores.PrePostDataset[[#This Row],[First Name & Last Name*\n(choose from list)]],'NLM Data Test 1'!$W$12:$W$136,0)),1))","v":{"$error":"#N/A"}},{"$f":"(INDEX('NLM Data Test 2'!$S$12:$S$136,(MATCH(NLML.ChangeInScores.PrePostDataset[[#This Row],[First Name & Last Name*\n(choose from list)]],'NLM Data Test 2'!$X$12:$X$136,0)),1))-(INDEX('NLM Data Test 1'!$R$12:$R$136,(MATCH(NLML.ChangeInScores.PrePostDataset[[#This Row],[First Name & Last Name*\n(choose from list)]],'NLM Data Test 1'!$W$12:$W$136,0)),1))","v":{"$error":"#N/A"}},{"$f":"(INDEX('NLM Data Test 2'!$T$12:$T$136,(MATCH(NLML.ChangeInScores.PrePostDataset[[#This Row],[First Name & Last Name*\n(choose from list)]],'NLM Data Test 2'!$X$12:$X$136,0)),1))-(INDEX('NLM Data Test 1'!$S$12:$S$136,(MATCH(NLML.ChangeInScores.PrePostDataset[[#This Row],[First Name & Last Name*\n(choose from list)]],'NLM Data Test 1'!$W$12:$W$136,0)),1))","v":{"$error":"#N/A"}},{"$f":"IFERROR(INDEX('NLM Data Test 1'!$T$12:$T$136,(MATCH(NLML.ChangeInScores.PrePostDataset[[#This Row],[First Name & Last Name*\n(choose from list)]],'NLM Data Test 1'!$W$12:$W$136,0)),1),\"\")","v":""},{"$f":"IFERROR(INDEX('NLM Data Test 2'!$U$12:$U$136,(MATCH(NLML.ChangeInScores.PrePostDataset[[#This Row],[First Name & Last Name*\n(choose from list)]],'NLM Data Test 2'!$X$12:$X$136,0)),1),\"\")","v":""}]
[2,{"$f":"IFERROR(INDEX(NLML.Test1.PrePostDataset[*First Name],(MATCH(NLML.ChangeInScores.PrePostDataset[[#This Row],[First Name & Last Name*\n(choose from list)]],'NLM Data Test 1'!W13:W137,0)),1),\"\")","v":""},{"$f":"IFERROR(INDEX(NLML.Test1.PrePostDataset[*Last Name],(MATCH(NLML.ChangeInScores.PrePostDataset[[#This Row],[First Name & Last Name*\n(choose from list)]],'NLM Data Test 1'!W13:W137,0)),1),\"\")","v":""},{"$f":"'NLM Data Test 2'!D13","v":0},{"$f":"IF(IFERROR(MATCH($D17,'NLM Data Test 2'!$D$12:$D$136,0),\"Error\")=\"Error\",(INDEX('NLM Data Test 1'!$D$12:$D$136,(MATCH($D17,'NLM Data Test 1'!$W$12:$W$136,0)),1)),(INDEX('NLM Data Test 2'!$E$12:$E$136,(MATCH($D17,'NLM Data Test 2'!$D$12:$D$136,0)),1)))","v":{"$error":"#N/A"}},{"$f":"IF(IFERROR(MATCH($D17,'NLM Data Test 2'!$D$12:$D$136,0),\"Error\")=\"Error\",(INDEX('NLM Data Test 1'!$E$12:$E$136,(MATCH($D17,'NLM Data Test 1'!$W$12:$W$136,0)),1)),(INDEX('NLM Data Test 2'!$G$12:$G$136,(MATCH($D17,'NLM Data Test 2'!$D$12:$D$136,0)),1)))","v":{"$error":"#N/A"}},{"$f":"IF(IFERROR(MATCH($D17,'NLM Data Test 2'!$D$12:$D$136,0),\"Error\")=\"Error\",(INDEX('NLM Data Test 1'!$F$12:$F$136,(MATCH($D17,'NLM Data Test 1'!$W$12:$W$136,0)),1)),(INDEX('NLM Data Test 2'!$F$12:$F$136,(MATCH($D17,'NLM Data Test 2'!$D$12:$D$136,0)),1)))","v":{"$error":"#N/A"}},{"$f":"IF(INDEX('NLM Data Test 1'!$H$12:$H$136,(MATCH(NLML.ChangeInScores.PrePostDataset[[#This Row],[First Name & Last Name*\n(choose from list)]],'NLM Data Test 1'!$W$12:$W$136,0)),1)=\"\",\"\",(INDEX('NLM Data Test 1'!H$12:H$136,(MATCH(NLML.ChangeInScores.PrePostDataset[[#This Row],[First Name & Last Name*\n(choose from list)]],'NLM Data Test 1'!$W$12:$W$136,0)),1)))","v":{"$error":"#N/A"}},{"$f":"IF(INDEX('NLM Data Test 1'!$I$12:$I$136,(MATCH(NLML.ChangeInScores.PrePostDataset[[#This Row],[First Name & Last Name*\n(choose from list)]],'NLM Data Test 1'!$W$12:$W$136,0)),1)=\"\",\"\",(INDEX('NLM Data Test 1'!I$12:I$136,(MATCH(NLML.ChangeInScores.PrePostDataset[[#This Row],[First Name & Last Name*\n(choose from list)]],'NLM Data Test 1'!$W$12:$W$136,0)),1)))","v":{"$error":"#N/A"}},{"$f":"IF(INDEX('NLM Data Test 1'!$J$12:$J$136,(MATCH(NLML.ChangeInScores.PrePostDataset[[#This Row],[First Name & Last Name*\n(choose from list)]],'NLM Data Test 1'!$W$12:$W$136,0)),1)=\"\",\"\",(INDEX('NLM Data Test 1'!J$12:J$136,(MATCH(NLML.ChangeInScores.PrePostDataset[[#This Row],[First Name & Last Name*\n(choose from list)]],'NLM Data Test 1'!$W$12:$W$136,0)),1)))","v":{"$error":"#N/A"}},{"$f":"IFERROR(INDEX('NLM Data Test 1'!$M$12:$M$136,(MATCH(NLML.ChangeInScores.PrePostDataset[[#This Row],[First Name & Last Name*\n(choose from list)]],'NLM Data Test 1'!$W$12:$W$136,0)),1),\"\")","v":""},{"$f":"INDEX('NLM Data Test 2'!$I$12:$I$136,(MATCH(NLML.ChangeInScores.PrePostDataset[[#This Row],[First Name & Last Name*\n(choose from list)]],'NLM Data Test 2'!$D$12:$D$136,0)),1)","v":{"$error":"#N/A"}},{"$f":"IFERROR(INDEX('NLM Data Test 2'!$J$12:$J$136,(MATCH(NLML.ChangeInScores.PrePostDataset[[#This Row],[First Name & Last Name*\n(choose from list)]],'NLM Data Test 2'!$X$12:$X$136,0)),1),\"\")","v":""},{"$f":"IFERROR(INDEX('NLM Data Test 2'!$K$12:$K$136,(MATCH(NLML.ChangeInScores.PrePostDataset[[#This Row],[First Name & Last Name*\n(choose from list)]],'NLM Data Test 2'!$X$12:$X$136,0)),1),\"\")","v":""},{"$f":"IFERROR(INDEX('NLM Data Test 2'!$N$12:$N$136,(MATCH(NLML.ChangeInScores.PrePostDataset[[#This Row],[First Name & Last Name*\n(choose from list)]],'NLM Data Test 2'!$X$12:$X$136,0)),1),\"\")","v":""},{"$f":"(INDEX('NLM Data Test 2'!$O$12:$O$136,(MATCH(NLML.ChangeInScores.PrePostDataset[[#This Row],[First Name & Last Name*\n(choose from list)]],'NLM Data Test 2'!$X$12:$X$136,0)),1))-(INDEX('NLM Data Test 1'!$N$12:$N$136,(MATCH(NLML.ChangeInScores.PrePostDataset[[#This Row],[First Name & Last Name*\n(choose from list)]],'NLM Data Test 1'!$W$12:$W$136,0)),1))","v":{"$error":"#N/A"}},{"$f":"(INDEX('NLM Data Test 2'!$P$12:$P$136,(MATCH(NLML.ChangeInScores.PrePostDataset[[#This Row],[First Name & Last Name*\n(choose from list)]],'NLM Data Test 2'!$X$12:$X$136,0)),1))-(INDEX('NLM Data Test 1'!$O$12:$O$136,(MATCH(NLML.ChangeInScores.PrePostDataset[[#This Row],[First Name & Last Name*\n(choose from list)]],'NLM Data Test 1'!$W$12:$W$136,0)),1))","v":{"$error":"#N/A"}},{"$f":"(INDEX('NLM Data Test 2'!$Q$12:$Q$136,(MATCH(NLML.ChangeInScores.PrePostDataset[[#This Row],[First Name & Last Name*\n(choose from list)]],'NLM Data Test 2'!$X$12:$X$136,0)),1))-(INDEX('NLM Data Test 1'!$P$12:$P$136,(MATCH(NLML.ChangeInScores.PrePostDataset[[#This Row],[First Name & Last Name*\n(choose from list)]],'NLM Data Test 1'!$W$12:$W$136,0)),1))","v":{"$error":"#N/A"}},{"$f":"(INDEX('NLM Data Test 2'!$R$12:$R$136,(MATCH(NLML.ChangeInScores.PrePostDataset[[#This Row],[First Name & Last Name*\n(choose from list)]],'NLM Data Test 2'!$X$12:$X$136,0)),1))-(INDEX('NLM Data Test 1'!$Q$12:$Q$136,(MATCH(NLML.ChangeInScores.PrePostDataset[[#This Row],[First Name & Last Name*\n(choose from list)]],'NLM Data Test 1'!$W$12:$W$136,0)),1))","v":{"$error":"#N/A"}},{"$f":"(INDEX('NLM Data Test 2'!$S$12:$S$136,(MATCH(NLML.ChangeInScores.PrePostDataset[[#This Row],[First Name & Last Name*\n(choose from list)]],'NLM Data Test 2'!$X$12:$X$136,0)),1))-(INDEX('NLM Data Test 1'!$R$12:$R$136,(MATCH(NLML.ChangeInScores.PrePostDataset[[#This Row],[First Name & Last Name*\n(choose from list)]],'NLM Data Test 1'!$W$12:$W$136,0)),1))","v":{"$error":"#N/A"}},{"$f":"(INDEX('NLM Data Test 2'!$T$12:$T$136,(MATCH(NLML.ChangeInScores.PrePostDataset[[#This Row],[First Name & Last Name*\n(choose from list)]],'NLM Data Test 2'!$X$12:$X$136,0)),1))-(INDEX('NLM Data Test 1'!$S$12:$S$136,(MATCH(NLML.ChangeInScores.PrePostDataset[[#This Row],[First Name & Last Name*\n(choose from list)]],'NLM Data Test 1'!$W$12:$W$136,0)),1))","v":{"$error":"#N/A"}},{"$f":"IFERROR(INDEX('NLM Data Test 1'!$T$12:$T$136,(MATCH(NLML.ChangeInScores.PrePostDataset[[#This Row],[First Name & Last Name*\n(choose from list)]],'NLM Data Test 1'!$W$12:$W$136,0)),1),\"\")","v":""},{"$f":"IFERROR(INDEX('NLM Data Test 2'!$U$12:$U$136,(MATCH(NLML.ChangeInScores.PrePostDataset[[#This Row],[First Name & Last Name*\n(choose from list)]],'NLM Data Test 2'!$X$12:$X$136,0)),1),\"\")","v":""}]
[3,{"$f":"IFERROR(INDEX(NLML.Test1.PrePostDataset[*First Name],(MATCH(NLML.ChangeInScores.PrePostDataset[[#This Row],[First Name & Last Name*\n(choose from list)]],'NLM Data Test 1'!W14:W138,0)),1),\"\")","v":""},{"$f":"IFERROR(INDEX(NLML.Test1.PrePostDataset[*Last Name],(MATCH(NLML.ChangeInScores.PrePostDataset[[#This Row],[First Name & Last Name*\n(choose from list)]],'NLM Data Test 1'!W14:W138,0)),1),\"\")","v":""},{"$f":"'NLM Data Test 2'!D14","v":0},{"$f":"IF(IFERROR(MATCH($D18,'NLM Data Test 2'!$D$12:$D$136,0),\"Error\")=\"Error\",(INDEX('NLM Data Test 1'!$D$12:$D$136,(MATCH($D18,'NLM Data Test 1'!$W$12:$W$136,0)),1)),(INDEX('NLM Data Test 2'!$E$12:$E$136,(MATCH($D18,'NLM Data Test 2'!$D$12:$D$136,0)),1)))","v":{"$error":"#N/A"}},{"$f":"IF(IFERROR(MATCH($D18,'NLM Data Test 2'!$D$12:$D$136,0),\"Error\")=\"Error\",(INDEX('NLM Data Test 1'!$E$12:$E$136,(MATCH($D18,'NLM Data Test 1'!$W$12:$W$136,0)),1)),(INDEX('NLM Data Test 2'!$G$12:$G$136,(MATCH($D18,'NLM Data Test 2'!$D$12:$D$136,0)),1)))","v":{"$error":"#N/A"}},{"$f":"IF(IFERROR(MATCH($D18,'NLM Data Test 2'!$D$12:$D$136,0),\"Error\")=\"Error\",(INDEX('NLM Data Test 1'!$F$12:$F$136,(MATCH($D18,'NLM Data Test 1'!$W$12:$W$136,0)),1)),(INDEX('NLM Data Test 2'!$F$12:$F$136,(MATCH($D18,'NLM Data Test 2'!$D$12:$D$136,0)),1)))","v":{"$error":"#N/A"}},{"$f":"IF(INDEX('NLM Data Test 1'!$H$12:$H$136,(MATCH(NLML.ChangeInScores.PrePostDataset[[#This Row],[First Name & Last Name*\n(choose from list)]],'NLM Data Test 1'!$W$12:$W$136,0)),1)=\"\",\"\",(INDEX('NLM Data Test 1'!H$12:H$136,(MATCH(NLML.ChangeInScores.PrePostDataset[[#This Row],[First Name & Last Name*\n(choose from list)]],'NLM Data Test 1'!$W$12:$W$136,0)),1)))","v":{"$error":"#N/A"}},{"$f":"IF(INDEX('NLM Data Test 1'!$I$12:$I$136,(MATCH(NLML.ChangeInScores.PrePostDataset[[#This Row],[First Name & Last Name*\n(choose from list)]],'NLM Data Test 1'!$W$12:$W$136,0)),1)=\"\",\"\",(INDEX('NLM Data Test 1'!I$12:I$136,(MATCH(NLML.ChangeInScores.PrePostDataset[[#This Row],[First Name & Last Name*\n(choose from list)]],'NLM Data Test 1'!$W$12:$W$136,0)),1)))","v":{"$error":"#N/A"}},{"$f":"IF(INDEX('NLM Data Test 1'!$J$12:$J$136,(MATCH(NLML.ChangeInScores.PrePostDataset[[#This Row],[First Name & Last Name*\n(choose from list)]],'NLM Data Test 1'!$W$12:$W$136,0)),1)=\"\",\"\",(INDEX('NLM Data Test 1'!J$12:J$136,(MATCH(NLML.ChangeInScores.PrePostDataset[[#This Row],[First Name & Last Name*\n(choose from list)]],'NLM Data Test 1'!$W$12:$W$136,0)),1)))","v":{"$error":"#N/A"}},{"$f":"IFERROR(INDEX('NLM Data Test 1'!$M$12:$M$136,(MATCH(NLML.ChangeInScores.PrePostDataset[[#This Row],[First Name & Last Name*\n(choose from list)]],'NLM Data Test 1'!$W$12:$W$136,0)),1),\"\")","v":""},{"$f":"INDEX('NLM Data Test 2'!$I$12:$I$136,(MATCH(NLML.ChangeInScores.PrePostDataset[[#This Row],[First Name & Last Name*\n(choose from list)]],'NLM Data Test 2'!$D$12:$D$136,0)),1)","v":{"$error":"#N/A"}},{"$f":"IFERROR(INDEX('NLM Data Test 2'!$J$12:$J$136,(MATCH(NLML.ChangeInScores.PrePostDataset[[#This Row],[First Name & Last Name*\n(choose from list)]],'NLM Data Test 2'!$X$12:$X$136,0)),1),\"\")","v":""},{"$f":"IFERROR(INDEX('NLM Data Test 2'!$K$12:$K$136,(MATCH(NLML.ChangeInScores.PrePostDataset[[#This Row],[First Name & Last Name*\n(choose from list)]],'NLM Data Test 2'!$X$12:$X$136,0)),1),\"\")","v":""},{"$f":"IFERROR(INDEX('NLM Data Test 2'!$N$12:$N$136,(MATCH(NLML.ChangeInScores.PrePostDataset[[#This Row],[First Name & Last Name*\n(choose from list)]],'NLM Data Test 2'!$X$12:$X$136,0)),1),\"\")","v":""},{"$f":"(INDEX('NLM Data Test 2'!$O$12:$O$136,(MATCH(NLML.ChangeInScores.PrePostDataset[[#This Row],[First Name & Last Name*\n(choose from list)]],'NLM Data Test 2'!$X$12:$X$136,0)),1))-(INDEX('NLM Data Test 1'!$N$12:$N$136,(MATCH(NLML.ChangeInScores.PrePostDataset[[#This Row],[First Name & Last Name*\n(choose from list)]],'NLM Data Test 1'!$W$12:$W$136,0)),1))","v":{"$error":"#N/A"}},{"$f":"(INDEX('NLM Data Test 2'!$P$12:$P$136,(MATCH(NLML.ChangeInScores.PrePostDataset[[#This Row],[First Name & Last Name*\n(choose from list)]],'NLM Data Test 2'!$X$12:$X$136,0)),1))-(INDEX('NLM Data Test 1'!$O$12:$O$136,(MATCH(NLML.ChangeInScores.PrePostDataset[[#This Row],[First Name & Last Name*\n(choose from list)]],'NLM Data Test 1'!$W$12:$W$136,0)),1))","v":{"$error":"#N/A"}},{"$f":"(INDEX('NLM Data Test 2'!$Q$12:$Q$136,(MATCH(NLML.ChangeInScores.PrePostDataset[[#This Row],[First Name & Last Name*\n(choose from list)]],'NLM Data Test 2'!$X$12:$X$136,0)),1))-(INDEX('NLM Data Test 1'!$P$12:$P$136,(MATCH(NLML.ChangeInScores.PrePostDataset[[#This Row],[First Name & Last Name*\n(choose from list)]],'NLM Data Test 1'!$W$12:$W$136,0)),1))","v":{"$error":"#N/A"}},{"$f":"(INDEX('NLM Data Test 2'!$R$12:$R$136,(MATCH(NLML.ChangeInScores.PrePostDataset[[#This Row],[First Name & Last Name*\n(choose from list)]],'NLM Data Test 2'!$X$12:$X$136,0)),1))-(INDEX('NLM Data Test 1'!$Q$12:$Q$136,(MATCH(NLML.ChangeInScores.PrePostDataset[[#This Row],[First Name & Last Name*\n(choose from list)]],'NLM Data Test 1'!$W$12:$W$136,0)),1))","v":{"$error":"#N/A"}},{"$f":"(INDEX('NLM Data Test 2'!$S$12:$S$136,(MATCH(NLML.ChangeInScores.PrePostDataset[[#This Row],[First Name & Last Name*\n(choose from list)]],'NLM Data Test 2'!$X$12:$X$136,0)),1))-(INDEX('NLM Data Test 1'!$R$12:$R$136,(MATCH(NLML.ChangeInScores.PrePostDataset[[#This Row],[First Name & Last Name*\n(choose from list)]],'NLM Data Test 1'!$W$12:$W$136,0)),1))","v":{"$error":"#N/A"}},{"$f":"(INDEX('NLM Data Test 2'!$T$12:$T$136,(MATCH(NLML.ChangeInScores.PrePostDataset[[#This Row],[First Name & Last Name*\n(choose from list)]],'NLM Data Test 2'!$X$12:$X$136,0)),1))-(INDEX('NLM Data Test 1'!$S$12:$S$136,(MATCH(NLML.ChangeInScores.PrePostDataset[[#This Row],[First Name & Last Name*\n(choose from list)]],'NLM Data Test 1'!$W$12:$W$136,0)),1))","v":{"$error":"#N/A"}},{"$f":"IFERROR(INDEX('NLM Data Test 1'!$T$12:$T$136,(MATCH(NLML.ChangeInScores.PrePostDataset[[#This Row],[First Name & Last Name*\n(choose from list)]],'NLM Data Test 1'!$W$12:$W$136,0)),1),\"\")","v":""},{"$f":"IFERROR(INDEX('NLM Data Test 2'!$U$12:$U$136,(MATCH(NLML.ChangeInScores.PrePostDataset[[#This Row],[First Name & Last Name*\n(choose from list)]],'NLM Data Test 2'!$X$12:$X$136,0)),1),\"\")","v":""}]
[4,{"$f":"IFERROR(INDEX(NLML.Test1.PrePostDataset[*First Name],(MATCH(NLML.ChangeInScores.PrePostDataset[[#This Row],[First Name & Last Name*\n(choose from list)]],'NLM Data Test 1'!W15:W139,0)),1),\"\")","v":""},{"$f":"IFERROR(INDEX(NLML.Test1.PrePostDataset[*Last Name],(MATCH(NLML.ChangeInScores.PrePostDataset[[#This Row],[First Name & Last Name*\n(choose from list)]],'NLM Data Test 1'!W15:W139,0)),1),\"\")","v":""},{"$f":"'NLM Data Test 2'!D15","v":0},{"$f":"IF(IFERROR(MATCH($D19,'NLM Data Test 2'!$D$12:$D$136,0),\"Error\")=\"Error\",(INDEX('NLM Data Test 1'!$D$12:$D$136,(MATCH($D19,'NLM Data Test 1'!$W$12:$W$136,0)),1)),(INDEX('NLM Data Test 2'!$E$12:$E$136,(MATCH($D19,'NLM Data Test 2'!$D$12:$D$136,0)),1)))","v":{"$error":"#N/A"}},{"$f":"IF(IFERROR(MATCH($D19,'NLM Data Test 2'!$D$12:$D$136,0),\"Error\")=\"Error\",(INDEX('NLM Data Test 1'!$E$12:$E$136,(MATCH($D19,'NLM Data Test 1'!$W$12:$W$136,0)),1)),(INDEX('NLM Data Test 2'!$G$12:$G$136,(MATCH($D19,'NLM Data Test 2'!$D$12:$D$136,0)),1)))","v":{"$error":"#N/A"}},{"$f":"IF(IFERROR(MATCH($D19,'NLM Data Test 2'!$D$12:$D$136,0),\"Error\")=\"Error\",(INDEX('NLM Data Test 1'!$F$12:$F$136,(MATCH($D19,'NLM Data Test 1'!$W$12:$W$136,0)),1)),(INDEX('NLM Data Test 2'!$F$12:$F$136,(MATCH($D19,'NLM Data Test 2'!$D$12:$D$136,0)),1)))","v":{"$error":"#N/A"}},{"$f":"IF(INDEX('NLM Data Test 1'!$H$12:$H$136,(MATCH(NLML.ChangeInScores.PrePostDataset[[#This Row],[First Name & Last Name*\n(choose from list)]],'NLM Data Test 1'!$W$12:$W$136,0)),1)=\"\",\"\",(INDEX('NLM Data Test 1'!H$12:H$136,(MATCH(NLML.ChangeInScores.PrePostDataset[[#This Row],[First Name & Last Name*\n(choose from list)]],'NLM Data Test 1'!$W$12:$W$136,0)),1)))","v":{"$error":"#N/A"}},{"$f":"IF(INDEX('NLM Data Test 1'!$I$12:$I$136,(MATCH(NLML.ChangeInScores.PrePostDataset[[#This Row],[First Name & Last Name*\n(choose from list)]],'NLM Data Test 1'!$W$12:$W$136,0)),1)=\"\",\"\",(INDEX('NLM Data Test 1'!I$12:I$136,(MATCH(NLML.ChangeInScores.PrePostDataset[[#This Row],[First Name & Last Name*\n(choose from list)]],'NLM Data Test 1'!$W$12:$W$136,0)),1)))","v":{"$error":"#N/A"}},{"$f":"IF(INDEX('NLM Data Test 1'!$J$12:$J$136,(MATCH(NLML.ChangeInScores.PrePostDataset[[#This Row],[First Name & Last Name*\n(choose from list)]],'NLM Data Test 1'!$W$12:$W$136,0)),1)=\"\",\"\",(INDEX('NLM Data Test 1'!J$12:J$136,(MATCH(NLML.ChangeInScores.PrePostDataset[[#This Row],[First Name & Last Name*\n(choose from list)]],'NLM Data Test 1'!$W$12:$W$136,0)),1)))","v":{"$error":"#N/A"}},{"$f":"IFERROR(INDEX('NLM Data Test 1'!$M$12:$M$136,(MATCH(NLML.ChangeInScores.PrePostDataset[[#This Row],[First Name & Last Name*\n(choose from list)]],'NLM Data Test 1'!$W$12:$W$136,0)),1),\"\")","v":""},{"$f":"INDEX('NLM Data Test 2'!$I$12:$I$136,(MATCH(NLML.ChangeInScores.PrePostDataset[[#This Row],[First Name & Last Name*\n(choose from list)]],'NLM Data Test 2'!$D$12:$D$136,0)),1)","v":{"$error":"#N/A"}},{"$f":"IFERROR(INDEX('NLM Data Test 2'!$J$12:$J$136,(MATCH(NLML.ChangeInScores.PrePostDataset[[#This Row],[First Name & Last Name*\n(choose from list)]],'NLM Data Test 2'!$X$12:$X$136,0)),1),\"\")","v":""},{"$f":"IFERROR(INDEX('NLM Data Test 2'!$K$12:$K$136,(MATCH(NLML.ChangeInScores.PrePostDataset[[#This Row],[First Name & Last Name*\n(choose from list)]],'NLM Data Test 2'!$X$12:$X$136,0)),1),\"\")","v":""},{"$f":"IFERROR(INDEX('NLM Data Test 2'!$N$12:$N$136,(MATCH(NLML.ChangeInScores.PrePostDataset[[#This Row],[First Name & Last Name*\n(choose from list)]],'NLM Data Test 2'!$X$12:$X$136,0)),1),\"\")","v":""},{"$f":"(INDEX('NLM Data Test 2'!$O$12:$O$136,(MATCH(NLML.ChangeInScores.PrePostDataset[[#This Row],[First Name & Last Name*\n(choose from list)]],'NLM Data Test 2'!$X$12:$X$136,0)),1))-(INDEX('NLM Data Test 1'!$N$12:$N$136,(MATCH(NLML.ChangeInScores.PrePostDataset[[#This Row],[First Name & Last Name*\n(choose from list)]],'NLM Data Test 1'!$W$12:$W$136,0)),1))","v":{"$error":"#N/A"}},{"$f":"(INDEX('NLM Data Test 2'!$P$12:$P$136,(MATCH(NLML.ChangeInScores.PrePostDataset[[#This Row],[First Name & Last Name*\n(choose from list)]],'NLM Data Test 2'!$X$12:$X$136,0)),1))-(INDEX('NLM Data Test 1'!$O$12:$O$136,(MATCH(NLML.ChangeInScores.PrePostDataset[[#This Row],[First Name & Last Name*\n(choose from list)]],'NLM Data Test 1'!$W$12:$W$136,0)),1))","v":{"$error":"#N/A"}},{"$f":"(INDEX('NLM Data Test 2'!$Q$12:$Q$136,(MATCH(NLML.ChangeInScores.PrePostDataset[[#This Row],[First Name & Last Name*\n(choose from list)]],'NLM Data Test 2'!$X$12:$X$136,0)),1))-(INDEX('NLM Data Test 1'!$P$12:$P$136,(MATCH(NLML.ChangeInScores.PrePostDataset[[#This Row],[First Name & Last Name*\n(choose from list)]],'NLM Data Test 1'!$W$12:$W$136,0)),1))","v":{"$error":"#N/A"}},{"$f":"(INDEX('NLM Data Test 2'!$R$12:$R$136,(MATCH(NLML.ChangeInScores.PrePostDataset[[#This Row],[First Name & Last Name*\n(choose from list)]],'NLM Data Test 2'!$X$12:$X$136,0)),1))-(INDEX('NLM Data Test 1'!$Q$12:$Q$136,(MATCH(NLML.ChangeInScores.PrePostDataset[[#This Row],[First Name & Last Name*\n(choose from list)]],'NLM Data Test 1'!$W$12:$W$136,0)),1))","v":{"$error":"#N/A"}},{"$f":"(INDEX('NLM Data Test 2'!$S$12:$S$136,(MATCH(NLML.ChangeInScores.PrePostDataset[[#This Row],[First Name & Last Name*\n(choose from list)]],'NLM Data Test 2'!$X$12:$X$136,0)),1))-(INDEX('NLM Data Test 1'!$R$12:$R$136,(MATCH(NLML.ChangeInScores.PrePostDataset[[#This Row],[First Name & Last Name*\n(choose from list)]],'NLM Data Test 1'!$W$12:$W$136,0)),1))","v":{"$error":"#N/A"}},{"$f":"(INDEX('NLM Data Test 2'!$T$12:$T$136,(MATCH(NLML.ChangeInScores.PrePostDataset[[#This Row],[First Name & Last Name*\n(choose from list)]],'NLM Data Test 2'!$X$12:$X$136,0)),1))-(INDEX('NLM Data Test 1'!$S$12:$S$136,(MATCH(NLML.ChangeInScores.PrePostDataset[[#This Row],[First Name & Last Name*\n(choose from list)]],'NLM Data Test 1'!$W$12:$W$136,0)),1))","v":{"$error":"#N/A"}},{"$f":"IFERROR(INDEX('NLM Data Test 1'!$T$12:$T$136,(MATCH(NLML.ChangeInScores.PrePostDataset[[#This Row],[First Name & Last Name*\n(choose from list)]],'NLM Data Test 1'!$W$12:$W$136,0)),1),\"\")","v":""},{"$f":"IFERROR(INDEX('NLM Data Test 2'!$U$12:$U$136,(MATCH(NLML.ChangeInScores.PrePostDataset[[#This Row],[First Name & Last Name*\n(choose from list)]],'NLM Data Test 2'!$X$12:$X$136,0)),1),\"\")","v":""}]
[5,{"$f":"IFERROR(INDEX(NLML.Test1.PrePostDataset[*First Name],(MATCH(NLML.ChangeInScores.PrePostDataset[[#This Row],[First Name & Last Name*\n(choose from list)]],'NLM Data Test 1'!W16:W140,0)),1),\"\")","v":""},{"$f":"IFERROR(INDEX(NLML.Test1.PrePostDataset[*Last Name],(MATCH(NLML.ChangeInScores.PrePostDataset[[#This Row],[First Name & Last Name*\n(choose from list)]],'NLM Data Test 1'!W16:W140,0)),1),\"\")","v":""},{"$f":"'NLM Data Test 2'!D16","v":0},{"$f":"IF(IFERROR(MATCH($D20,'NLM Data Test 2'!$D$12:$D$136,0),\"Error\")=\"Error\",(INDEX('NLM Data Test 1'!$D$12:$D$136,(MATCH($D20,'NLM Data Test 1'!$W$12:$W$136,0)),1)),(INDEX('NLM Data Test 2'!$E$12:$E$136,(MATCH($D20,'NLM Data Test 2'!$D$12:$D$136,0)),1)))","v":{"$error":"#N/A"}},{"$f":"IF(IFERROR(MATCH($D20,'NLM Data Test 2'!$D$12:$D$136,0),\"Error\")=\"Error\",(INDEX('NLM Data Test 1'!$E$12:$E$136,(MATCH($D20,'NLM Data Test 1'!$W$12:$W$136,0)),1)),(INDEX('NLM Data Test 2'!$G$12:$G$136,(MATCH($D20,'NLM Data Test 2'!$D$12:$D$136,0)),1)))","v":{"$error":"#N/A"}},{"$f":"IF(IFERROR(MATCH($D20,'NLM Data Test 2'!$D$12:$D$136,0),\"Error\")=\"Error\",(INDEX('NLM Data Test 1'!$F$12:$F$136,(MATCH($D20,'NLM Data Test 1'!$W$12:$W$136,0)),1)),(INDEX('NLM Data Test 2'!$F$12:$F$136,(MATCH($D20,'NLM Data Test 2'!$D$12:$D$136,0)),1)))","v":{"$error":"#N/A"}},{"$f":"IF(INDEX('NLM Data Test 1'!$H$12:$H$136,(MATCH(NLML.ChangeInScores.PrePostDataset[[#This Row],[First Name & Last Name*\n(choose from list)]],'NLM Data Test 1'!$W$12:$W$136,0)),1)=\"\",\"\",(INDEX('NLM Data Test 1'!H$12:H$136,(MATCH(NLML.ChangeInScores.PrePostDataset[[#This Row],[First Name & Last Name*\n(choose from list)]],'NLM Data Test 1'!$W$12:$W$136,0)),1)))","v":{"$error":"#N/A"}},{"$f":"IF(INDEX('NLM Data Test 1'!$I$12:$I$136,(MATCH(NLML.ChangeInScores.PrePostDataset[[#This Row],[First Name & Last Name*\n(choose from list)]],'NLM Data Test 1'!$W$12:$W$136,0)),1)=\"\",\"\",(INDEX('NLM Data Test 1'!I$12:I$136,(MATCH(NLML.ChangeInScores.PrePostDataset[[#This Row],[First Name & Last Name*\n(choose from list)]],'NLM Data Test 1'!$W$12:$W$136,0)),1)))","v":{"$error":"#N/A"}},{"$f":"IF(INDEX('NLM Data Test 1'!$J$12:$J$136,(MATCH(NLML.ChangeInScores.PrePostDataset[[#This Row],[First Name & Last Name*\n(choose from list)]],'NLM Data Test 1'!$W$12:$W$136,0)),1)=\"\",\"\",(INDEX('NLM Data Test 1'!J$12:J$136,(MATCH(NLML.ChangeInScores.PrePostDataset[[#This Row],[First Name & Last Name*\n(choose from list)]],'NLM Data Test 1'!$W$12:$W$136,0)),1)))","v":{"$error":"#N/A"}},{"$f":"IFERROR(INDEX('NLM Data Test 1'!$M$12:$M$136,(MATCH(NLML.ChangeInScores.PrePostDataset[[#This Row],[First Name & Last Name*\n(choose from list)]],'NLM Data Test 1'!$W$12:$W$136,0)),1),\"\")","v":""},{"$f":"INDEX('NLM Data Test 2'!$I$12:$I$136,(MATCH(NLML.ChangeInScores.PrePostDataset[[#This Row],[First Name & Last Name*\n(choose from list)]],'NLM Data Test 2'!$D$12:$D$136,0)),1)","v":{"$error":"#N/A"}},{"$f":"IFERROR(INDEX('NLM Data Test 2'!$J$12:$J$136,(MATCH(NLML.ChangeInScores.PrePostDataset[[#This Row],[First Name & Last Name*\n(choose from list)]],'NLM Data Test 2'!$X$12:$X$136,0)),1),\"\")","v":""},{"$f":"IFERROR(INDEX('NLM Data Test 2'!$K$12:$K$136,(MATCH(NLML.ChangeInScores.PrePostDataset[[#This Row],[First Name & Last Name*\n(choose from list)]],'NLM Data Test 2'!$X$12:$X$136,0)),1),\"\")","v":""},{"$f":"IFERROR(INDEX('NLM Data Test 2'!$N$12:$N$136,(MATCH(NLML.ChangeInScores.PrePostDataset[[#This Row],[First Name & Last Name*\n(choose from list)]],'NLM Data Test 2'!$X$12:$X$136,0)),1),\"\")","v":""},{"$f":"(INDEX('NLM Data Test 2'!$O$12:$O$136,(MATCH(NLML.ChangeInScores.PrePostDataset[[#This Row],[First Name & Last Name*\n(choose from list)]],'NLM Data Test 2'!$X$12:$X$136,0)),1))-(INDEX('NLM Data Test 1'!$N$12:$N$136,(MATCH(NLML.ChangeInScores.PrePostDataset[[#This Row],[First Name & Last Name*\n(choose from list)]],'NLM Data Test 1'!$W$12:$W$136,0)),1))","v":{"$error":"#N/A"}},{"$f":"(INDEX('NLM Data Test 2'!$P$12:$P$136,(MATCH(NLML.ChangeInScores.PrePostDataset[[#This Row],[First Name & Last Name*\n(choose from list)]],'NLM Data Test 2'!$X$12:$X$136,0)),1))-(INDEX('NLM Data Test 1'!$O$12:$O$136,(MATCH(NLML.ChangeInScores.PrePostDataset[[#This Row],[First Name & Last Name*\n(choose from list)]],'NLM Data Test 1'!$W$12:$W$136,0)),1))","v":{"$error":"#N/A"}},{"$f":"(INDEX('NLM Data Test 2'!$Q$12:$Q$136,(MATCH(NLML.ChangeInScores.PrePostDataset[[#This Row],[First Name & Last Name*\n(choose from list)]],'NLM Data Test 2'!$X$12:$X$136,0)),1))-(INDEX('NLM Data Test 1'!$P$12:$P$136,(MATCH(NLML.ChangeInScores.PrePostDataset[[#This Row],[First Name & Last Name*\n(choose from list)]],'NLM Data Test 1'!$W$12:$W$136,0)),1))","v":{"$error":"#N/A"}},{"$f":"(INDEX('NLM Data Test 2'!$R$12:$R$136,(MATCH(NLML.ChangeInScores.PrePostDataset[[#This Row],[First Name & Last Name*\n(choose from list)]],'NLM Data Test 2'!$X$12:$X$136,0)),1))-(INDEX('NLM Data Test 1'!$Q$12:$Q$136,(MATCH(NLML.ChangeInScores.PrePostDataset[[#This Row],[First Name & Last Name*\n(choose from list)]],'NLM Data Test 1'!$W$12:$W$136,0)),1))","v":{"$error":"#N/A"}},{"$f":"(INDEX('NLM Data Test 2'!$S$12:$S$136,(MATCH(NLML.ChangeInScores.PrePostDataset[[#This Row],[First Name & Last Name*\n(choose from list)]],'NLM Data Test 2'!$X$12:$X$136,0)),1))-(INDEX('NLM Data Test 1'!$R$12:$R$136,(MATCH(NLML.ChangeInScores.PrePostDataset[[#This Row],[First Name & Last Name*\n(choose from list)]],'NLM Data Test 1'!$W$12:$W$136,0)),1))","v":{"$error":"#N/A"}},{"$f":"(INDEX('NLM Data Test 2'!$T$12:$T$136,(MATCH(NLML.ChangeInScores.PrePostDataset[[#This Row],[First Name & Last Name*\n(choose from list)]],'NLM Data Test 2'!$X$12:$X$136,0)),1))-(INDEX('NLM Data Test 1'!$S$12:$S$136,(MATCH(NLML.ChangeInScores.PrePostDataset[[#This Row],[First Name & Last Name*\n(choose from list)]],'NLM Data Test 1'!$W$12:$W$136,0)),1))","v":{"$error":"#N/A"}},{"$f":"IFERROR(INDEX('NLM Data Test 1'!$T$12:$T$136,(MATCH(NLML.ChangeInScores.PrePostDataset[[#This Row],[First Name & Last Name*\n(choose from list)]],'NLM Data Test 1'!$W$12:$W$136,0)),1),\"\")","v":""},{"$f":"IFERROR(INDEX('NLM Data Test 2'!$U$12:$U$136,(MATCH(NLML.ChangeInScores.PrePostDataset[[#This Row],[First Name & Last Name*\n(choose from list)]],'NLM Data Test 2'!$X$12:$X$136,0)),1),\"\")","v":""}]
[6,{"$f":"IFERROR(INDEX(NLML.Test1.PrePostDataset[*First Name],(MATCH(NLML.ChangeInScores.PrePostDataset[[#This Row],[First Name & Last Name*\n(choose from list)]],'NLM Data Test 1'!W17:W141,0)),1),\"\")","v":""},{"$f":"IFERROR(INDEX(NLML.Test1.PrePostDataset[*Last Name],(MATCH(NLML.ChangeInScores.PrePostDataset[[#This Row],[First Name & Last Name*\n(choose from list)]],'NLM Data Test 1'!W17:W141,0)),1),\"\")","v":""},{"$f":"'NLM Data Test 2'!D17","v":0},{"$f":"IF(IFERROR(MATCH($D21,'NLM Data Test 2'!$D$12:$D$136,0),\"Error\")=\"Error\",(INDEX('NLM Data Test 1'!$D$12:$D$136,(MATCH($D21,'NLM Data Test 1'!$W$12:$W$136,0)),1)),(INDEX('NLM Data Test 2'!$E$12:$E$136,(MATCH($D21,'NLM Data Test 2'!$D$12:$D$136,0)),1)))","v":{"$error":"#N/A"}},{"$f":"IF(IFERROR(MATCH($D21,'NLM Data Test 2'!$D$12:$D$136,0),\"Error\")=\"Error\",(INDEX('NLM Data Test 1'!$E$12:$E$136,(MATCH($D21,'NLM Data Test 1'!$W$12:$W$136,0)),1)),(INDEX('NLM Data Test 2'!$G$12:$G$136,(MATCH($D21,'NLM Data Test 2'!$D$12:$D$136,0)),1)))","v":{"$error":"#N/A"}},{"$f":"IF(IFERROR(MATCH($D21,'NLM Data Test 2'!$D$12:$D$136,0),\"Error\")=\"Error\",(INDEX('NLM Data Test 1'!$F$12:$F$136,(MATCH($D21,'NLM Data Test 1'!$W$12:$W$136,0)),1)),(INDEX('NLM Data Test 2'!$F$12:$F$136,(MATCH($D21,'NLM Data Test 2'!$D$12:$D$136,0)),1)))","v":{"$error":"#N/A"}},{"$f":"IF(INDEX('NLM Data Test 1'!$H$12:$H$136,(MATCH(NLML.ChangeInScores.PrePostDataset[[#This Row],[First Name & Last Name*\n(choose from list)]],'NLM Data Test 1'!$W$12:$W$136,0)),1)=\"\",\"\",(INDEX('NLM Data Test 1'!H$12:H$136,(MATCH(NLML.ChangeInScores.PrePostDataset[[#This Row],[First Name & Last Name*\n(choose from list)]],'NLM Data Test 1'!$W$12:$W$136,0)),1)))","v":{"$error":"#N/A"}},{"$f":"IF(INDEX('NLM Data Test 1'!$I$12:$I$136,(MATCH(NLML.ChangeInScores.PrePostDataset[[#This Row],[First Name & Last Name*\n(choose from list)]],'NLM Data Test 1'!$W$12:$W$136,0)),1)=\"\",\"\",(INDEX('NLM Data Test 1'!I$12:I$136,(MATCH(NLML.ChangeInScores.PrePostDataset[[#This Row],[First Name & Last Name*\n(choose from list)]],'NLM Data Test 1'!$W$12:$W$136,0)),1)))","v":{"$error":"#N/A"}},{"$f":"IF(INDEX('NLM Data Test 1'!$J$12:$J$136,(MATCH(NLML.ChangeInScores.PrePostDataset[[#This Row],[First Name & Last Name*\n(choose from list)]],'NLM Data Test 1'!$W$12:$W$136,0)),1)=\"\",\"\",(INDEX('NLM Data Test 1'!J$12:J$136,(MATCH(NLML.ChangeInScores.PrePostDataset[[#This Row],[First Name & Last Name*\n(choose from list)]],'NLM Data Test 1'!$W$12:$W$136,0)),1)))","v":{"$error":"#N/A"}},{"$f":"IFERROR(INDEX('NLM Data Test 1'!$M$12:$M$136,(MATCH(NLML.ChangeInScores.PrePostDataset[[#This Row],[First Name & Last Name*\n(choose from list)]],'NLM Data Test 1'!$W$12:$W$136,0)),1),\"\")","v":""},{"$f":"INDEX('NLM Data Test 2'!$I$12:$I$136,(MATCH(NLML.ChangeInScores.PrePostDataset[[#This Row],[First Name & Last Name*\n(choose from list)]],'NLM Data Test 2'!$D$12:$D$136,0)),1)","v":{"$error":"#N/A"}},{"$f":"IFERROR(INDEX('NLM Data Test 2'!$J$12:$J$136,(MATCH(NLML.ChangeInScores.PrePostDataset[[#This Row],[First Name & Last Name*\n(choose from list)]],'NLM Data Test 2'!$X$12:$X$136,0)),1),\"\")","v":""},{"$f":"IFERROR(INDEX('NLM Data Test 2'!$K$12:$K$136,(MATCH(NLML.ChangeInScores.PrePostDataset[[#This Row],[First Name & Last Name*\n(choose from list)]],'NLM Data Test 2'!$X$12:$X$136,0)),1),\"\")","v":""},{"$f":"IFERROR(INDEX('NLM Data Test 2'!$N$12:$N$136,(MATCH(NLML.ChangeInScores.PrePostDataset[[#This Row],[First Name & Last Name*\n(choose from list)]],'NLM Data Test 2'!$X$12:$X$136,0)),1),\"\")","v":""},{"$f":"(INDEX('NLM Data Test 2'!$O$12:$O$136,(MATCH(NLML.ChangeInScores.PrePostDataset[[#This Row],[First Name & Last Name*\n(choose from list)]],'NLM Data Test 2'!$X$12:$X$136,0)),1))-(INDEX('NLM Data Test 1'!$N$12:$N$136,(MATCH(NLML.ChangeInScores.PrePostDataset[[#This Row],[First Name & Last Name*\n(choose from list)]],'NLM Data Test 1'!$W$12:$W$136,0)),1))","v":{"$error":"#N/A"}},{"$f":"(INDEX('NLM Data Test 2'!$P$12:$P$136,(MATCH(NLML.ChangeInScores.PrePostDataset[[#This Row],[First Name & Last Name*\n(choose from list)]],'NLM Data Test 2'!$X$12:$X$136,0)),1))-(INDEX('NLM Data Test 1'!$O$12:$O$136,(MATCH(NLML.ChangeInScores.PrePostDataset[[#This Row],[First Name & Last Name*\n(choose from list)]],'NLM Data Test 1'!$W$12:$W$136,0)),1))","v":{"$error":"#N/A"}},{"$f":"(INDEX('NLM Data Test 2'!$Q$12:$Q$136,(MATCH(NLML.ChangeInScores.PrePostDataset[[#This Row],[First Name & Last Name*\n(choose from list)]],'NLM Data Test 2'!$X$12:$X$136,0)),1))-(INDEX('NLM Data Test 1'!$P$12:$P$136,(MATCH(NLML.ChangeInScores.PrePostDataset[[#This Row],[First Name & Last Name*\n(choose from list)]],'NLM Data Test 1'!$W$12:$W$136,0)),1))","v":{"$error":"#N/A"}},{"$f":"(INDEX('NLM Data Test 2'!$R$12:$R$136,(MATCH(NLML.ChangeInScores.PrePostDataset[[#This Row],[First Name & Last Name*\n(choose from list)]],'NLM Data Test 2'!$X$12:$X$136,0)),1))-(INDEX('NLM Data Test 1'!$Q$12:$Q$136,(MATCH(NLML.ChangeInScores.PrePostDataset[[#This Row],[First Name & Last Name*\n(choose from list)]],'NLM Data Test 1'!$W$12:$W$136,0)),1))","v":{"$error":"#N/A"}},{"$f":"(INDEX('NLM Data Test 2'!$S$12:$S$136,(MATCH(NLML.ChangeInScores.PrePostDataset[[#This Row],[First Name & Last Name*\n(choose from list)]],'NLM Data Test 2'!$X$12:$X$136,0)),1))-(INDEX('NLM Data Test 1'!$R$12:$R$136,(MATCH(NLML.ChangeInScores.PrePostDataset[[#This Row],[First Name & Last Name*\n(choose from list)]],'NLM Data Test 1'!$W$12:$W$136,0)),1))","v":{"$error":"#N/A"}},{"$f":"(INDEX('NLM Data Test 2'!$T$12:$T$136,(MATCH(NLML.ChangeInScores.PrePostDataset[[#This Row],[First Name & Last Name*\n(choose from list)]],'NLM Data Test 2'!$X$12:$X$136,0)),1))-(INDEX('NLM Data Test 1'!$S$12:$S$136,(MATCH(NLML.ChangeInScores.PrePostDataset[[#This Row],[First Name & Last Name*\n(choose from list)]],'NLM Data Test 1'!$W$12:$W$136,0)),1))","v":{"$error":"#N/A"}},{"$f":"IFERROR(INDEX('NLM Data Test 1'!$T$12:$T$136,(MATCH(NLML.ChangeInScores.PrePostDataset[[#This Row],[First Name & Last Name*\n(choose from list)]],'NLM Data Test 1'!$W$12:$W$136,0)),1),\"\")","v":""},{"$f":"IFERROR(INDEX('NLM Data Test 2'!$U$12:$U$136,(MATCH(NLML.ChangeInScores.PrePostDataset[[#This Row],[First Name & Last Name*\n(choose from list)]],'NLM Data Test 2'!$X$12:$X$136,0)),1),\"\")","v":""}]
[7,{"$f":"IFERROR(INDEX(NLML.Test1.PrePostDataset[*First Name],(MATCH(NLML.ChangeInScores.PrePostDataset[[#This Row],[First Name & Last Name*\n(choose from list)]],'NLM Data Test 1'!W18:W142,0)),1),\"\")","v":""},{"$f":"IFERROR(INDEX(NLML.Test1.PrePostDataset[*Last Name],(MATCH(NLML.ChangeInScores.PrePostDataset[[#This Row],[First Name & Last Name*\n(choose from list)]],'NLM Data Test 1'!W18:W142,0)),1),\"\")","v":""},{"$f":"'NLM Data Test 2'!D18","v":0},{"$f":"IF(IFERROR(MATCH($D22,'NLM Data Test 2'!$D$12:$D$136,0),\"Error\")=\"Error\",(INDEX('NLM Data Test 1'!$D$12:$D$136,(MATCH($D22,'NLM Data Test 1'!$W$12:$W$136,0)),1)),(INDEX('NLM Data Test 2'!$E$12:$E$136,(MATCH($D22,'NLM Data Test 2'!$D$12:$D$136,0)),1)))","v":{"$error":"#N/A"}},{"$f":"IF(IFERROR(MATCH($D22,'NLM Data Test 2'!$D$12:$D$136,0),\"Error\")=\"Error\",(INDEX('NLM Data Test 1'!$E$12:$E$136,(MATCH($D22,'NLM Data Test 1'!$W$12:$W$136,0)),1)),(INDEX('NLM Data Test 2'!$G$12:$G$136,(MATCH($D22,'NLM Data Test 2'!$D$12:$D$136,0)),1)))","v":{"$error":"#N/A"}},{"$f":"IF(IFERROR(MATCH($D22,'NLM Data Test 2'!$D$12:$D$136,0),\"Error\")=\"Error\",(INDEX('NLM Data Test 1'!$F$12:$F$136,(MATCH($D22,'NLM Data Test 1'!$W$12:$W$136,0)),1)),(INDEX('NLM Data Test 2'!$F$12:$F$136,(MATCH($D22,'NLM Data Test 2'!$D$12:$D$136,0)),1)))","v":{"$error":"#N/A"}},{"$f":"IF(INDEX('NLM Data Test 1'!$H$12:$H$136,(MATCH(NLML.ChangeInScores.PrePostDataset[[#This Row],[First Name & Last Name*\n(choose from list)]],'NLM Data Test 1'!$W$12:$W$136,0)),1)=\"\",\"\",(INDEX('NLM Data Test 1'!H$12:H$136,(MATCH(NLML.ChangeInScores.PrePostDataset[[#This Row],[First Name & Last Name*\n(choose from list)]],'NLM Data Test 1'!$W$12:$W$136,0)),1)))","v":{"$error":"#N/A"}},{"$f":"IF(INDEX('NLM Data Test 1'!$I$12:$I$136,(MATCH(NLML.ChangeInScores.PrePostDataset[[#This Row],[First Name & Last Name*\n(choose from list)]],'NLM Data Test 1'!$W$12:$W$136,0)),1)=\"\",\"\",(INDEX('NLM Data Test 1'!I$12:I$136,(MATCH(NLML.ChangeInScores.PrePostDataset[[#This Row],[First Name & Last Name*\n(choose from list)]],'NLM Data Test 1'!$W$12:$W$136,0)),1)))","v":{"$error":"#N/A"}},{"$f":"IF(INDEX('NLM Data Test 1'!$J$12:$J$136,(MATCH(NLML.ChangeInScores.PrePostDataset[[#This Row],[First Name & Last Name*\n(choose from list)]],'NLM Data Test 1'!$W$12:$W$136,0)),1)=\"\",\"\",(INDEX('NLM Data Test 1'!J$12:J$136,(MATCH(NLML.ChangeInScores.PrePostDataset[[#This Row],[First Name & Last Name*\n(choose from list)]],'NLM Data Test 1'!$W$12:$W$136,0)),1)))","v":{"$error":"#N/A"}},{"$f":"IFERROR(INDEX('NLM Data Test 1'!$M$12:$M$136,(MATCH(NLML.ChangeInScores.PrePostDataset[[#This Row],[First Name & Last Name*\n(choose from list)]],'NLM Data Test 1'!$W$12:$W$136,0)),1),\"\")","v":""},{"$f":"INDEX('NLM Data Test 2'!$I$12:$I$136,(MATCH(NLML.ChangeInScores.PrePostDataset[[#This Row],[First Name & Last Name*\n(choose from list)]],'NLM Data Test 2'!$D$12:$D$136,0)),1)","v":{"$error":"#N/A"}},{"$f":"IFERROR(INDEX('NLM Data Test 2'!$J$12:$J$136,(MATCH(NLML.ChangeInScores.PrePostDataset[[#This Row],[First Name & Last Name*\n(choose from list)]],'NLM Data Test 2'!$X$12:$X$136,0)),1),\"\")","v":""},{"$f":"IFERROR(INDEX('NLM Data Test 2'!$K$12:$K$136,(MATCH(NLML.ChangeInScores.PrePostDataset[[#This Row],[First Name & Last Name*\n(choose from list)]],'NLM Data Test 2'!$X$12:$X$136,0)),1),\"\")","v":""},{"$f":"IFERROR(INDEX('NLM Data Test 2'!$N$12:$N$136,(MATCH(NLML.ChangeInScores.PrePostDataset[[#This Row],[First Name & Last Name*\n(choose from list)]],'NLM Data Test 2'!$X$12:$X$136,0)),1),\"\")","v":""},{"$f":"(INDEX('NLM Data Test 2'!$O$12:$O$136,(MATCH(NLML.ChangeInScores.PrePostDataset[[#This Row],[First Name & Last Name*\n(choose from list)]],'NLM Data Test 2'!$X$12:$X$136,0)),1))-(INDEX('NLM Data Test 1'!$N$12:$N$136,(MATCH(NLML.ChangeInScores.PrePostDataset[[#This Row],[First Name & Last Name*\n(choose from list)]],'NLM Data Test 1'!$W$12:$W$136,0)),1))","v":{"$error":"#N/A"}},{"$f":"(INDEX('NLM Data Test 2'!$P$12:$P$136,(MATCH(NLML.ChangeInScores.PrePostDataset[[#This Row],[First Name & Last Name*\n(choose from list)]],'NLM Data Test 2'!$X$12:$X$136,0)),1))-(INDEX('NLM Data Test 1'!$O$12:$O$136,(MATCH(NLML.ChangeInScores.PrePostDataset[[#This Row],[First Name & Last Name*\n(choose from list)]],'NLM Data Test 1'!$W$12:$W$136,0)),1))","v":{"$error":"#N/A"}},{"$f":"(INDEX('NLM Data Test 2'!$Q$12:$Q$136,(MATCH(NLML.ChangeInScores.PrePostDataset[[#This Row],[First Name & Last Name*\n(choose from list)]],'NLM Data Test 2'!$X$12:$X$136,0)),1))-(INDEX('NLM Data Test 1'!$P$12:$P$136,(MATCH(NLML.ChangeInScores.PrePostDataset[[#This Row],[First Name & Last Name*\n(choose from list)]],'NLM Data Test 1'!$W$12:$W$136,0)),1))","v":{"$error":"#N/A"}},{"$f":"(INDEX('NLM Data Test 2'!$R$12:$R$136,(MATCH(NLML.ChangeInScores.PrePostDataset[[#This Row],[First Name & Last Name*\n(choose from list)]],'NLM Data Test 2'!$X$12:$X$136,0)),1))-(INDEX('NLM Data Test 1'!$Q$12:$Q$136,(MATCH(NLML.ChangeInScores.PrePostDataset[[#This Row],[First Name & Last Name*\n(choose from list)]],'NLM Data Test 1'!$W$12:$W$136,0)),1))","v":{"$error":"#N/A"}},{"$f":"(INDEX('NLM Data Test 2'!$S$12:$S$136,(MATCH(NLML.ChangeInScores.PrePostDataset[[#This Row],[First Name & Last Name*\n(choose from list)]],'NLM Data Test 2'!$X$12:$X$136,0)),1))-(INDEX('NLM Data Test 1'!$R$12:$R$136,(MATCH(NLML.ChangeInScores.PrePostDataset[[#This Row],[First Name & Last Name*\n(choose from list)]],'NLM Data Test 1'!$W$12:$W$136,0)),1))","v":{"$error":"#N/A"}},{"$f":"(INDEX('NLM Data Test 2'!$T$12:$T$136,(MATCH(NLML.ChangeInScores.PrePostDataset[[#This Row],[First Name & Last Name*\n(choose from list)]],'NLM Data Test 2'!$X$12:$X$136,0)),1))-(INDEX('NLM Data Test 1'!$S$12:$S$136,(MATCH(NLML.ChangeInScores.PrePostDataset[[#This Row],[First Name & Last Name*\n(choose from list)]],'NLM Data Test 1'!$W$12:$W$136,0)),1))","v":{"$error":"#N/A"}},{"$f":"IFERROR(INDEX('NLM Data Test 1'!$T$12:$T$136,(MATCH(NLML.ChangeInScores.PrePostDataset[[#This Row],[First Name & Last Name*\n(choose from list)]],'NLM Data Test 1'!$W$12:$W$136,0)),1),\"\")","v":""},{"$f":"IFERROR(INDEX('NLM Data Test 2'!$U$12:$U$136,(MATCH(NLML.ChangeInScores.PrePostDataset[[#This Row],[First Name & Last Name*\n(choose from list)]],'NLM Data Test 2'!$X$12:$X$136,0)),1),\"\")","v":""}]
[8,{"$f":"IFERROR(INDEX(NLML.Test1.PrePostDataset[*First Name],(MATCH(NLML.ChangeInScores.PrePostDataset[[#This Row],[First Name & Last Name*\n(choose from list)]],'NLM Data Test 1'!W19:W143,0)),1),\"\")","v":""},{"$f":"IFERROR(INDEX(NLML.Test1.PrePostDataset[*Last Name],(MATCH(NLML.ChangeInScores.PrePostDataset[[#This Row],[First Name & Last Name*\n(choose from list)]],'NLM Data Test 1'!W19:W143,0)),1),\"\")","v":""},{"$f":"'NLM Data Test 2'!D19","v":0},{"$f":"IF(IFERROR(MATCH($D23,'NLM Data Test 2'!$D$12:$D$136,0),\"Error\")=\"Error\",(INDEX('NLM Data Test 1'!$D$12:$D$136,(MATCH($D23,'NLM Data Test 1'!$W$12:$W$136,0)),1)),(INDEX('NLM Data Test 2'!$E$12:$E$136,(MATCH($D23,'NLM Data Test 2'!$D$12:$D$136,0)),1)))","v":{"$error":"#N/A"}},{"$f":"IF(IFERROR(MATCH($D23,'NLM Data Test 2'!$D$12:$D$136,0),\"Error\")=\"Error\",(INDEX('NLM Data Test 1'!$E$12:$E$136,(MATCH($D23,'NLM Data Test 1'!$W$12:$W$136,0)),1)),(INDEX('NLM Data Test 2'!$G$12:$G$136,(MATCH($D23,'NLM Data Test 2'!$D$12:$D$136,0)),1)))","v":{"$error":"#N/A"}},{"$f":"IF(IFERROR(MATCH($D23,'NLM Data Test 2'!$D$12:$D$136,0),\"Error\")=\"Error\",(INDEX('NLM Data Test 1'!$F$12:$F$136,(MATCH($D23,'NLM Data Test 1'!$W$12:$W$136,0)),1)),(INDEX('NLM Data Test 2'!$F$12:$F$136,(MATCH($D23,'NLM Data Test 2'!$D$12:$D$136,0)),1)))","v":{"$error":"#N/A"}},{"$f":"IF(INDEX('NLM Data Test 1'!$H$12:$H$136,(MATCH(NLML.ChangeInScores.PrePostDataset[[#This Row],[First Name & Last Name*\n(choose from list)]],'NLM Data Test 1'!$W$12:$W$136,0)),1)=\"\",\"\",(INDEX('NLM Data Test 1'!H$12:H$136,(MATCH(NLML.ChangeInScores.PrePostDataset[[#This Row],[First Name & Last Name*\n(choose from list)]],'NLM Data Test 1'!$W$12:$W$136,0)),1)))","v":{"$error":"#N/A"}},{"$f":"IF(INDEX('NLM Data Test 1'!$I$12:$I$136,(MATCH(NLML.ChangeInScores.PrePostDataset[[#This Row],[First Name & Last Name*\n(choose from list)]],'NLM Data Test 1'!$W$12:$W$136,0)),1)=\"\",\"\",(INDEX('NLM Data Test 1'!I$12:I$136,(MATCH(NLML.ChangeInScores.PrePostDataset[[#This Row],[First Name & Last Name*\n(choose from list)]],'NLM Data Test 1'!$W$12:$W$136,0)),1)))","v":{"$error":"#N/A"}},{"$f":"IF(INDEX('NLM Data Test 1'!$J$12:$J$136,(MATCH(NLML.ChangeInScores.PrePostDataset[[#This Row],[First Name & Last Name*\n(choose from list)]],'NLM Data Test 1'!$W$12:$W$136,0)),1)=\"\",\"\",(INDEX('NLM Data Test 1'!J$12:J$136,(MATCH(NLML.ChangeInScores.PrePostDataset[[#This Row],[First Name & Last Name*\n(choose from list)]],'NLM Data Test 1'!$W$12:$W$136,0)),1)))","v":{"$error":"#N/A"}},{"$f":"IFERROR(INDEX('NLM Data Test 1'!$M$12:$M$136,(MATCH(NLML.ChangeInScores.PrePostDataset[[#This Row],[First Name & Last Name*\n(choose from list)]],'NLM Data Test 1'!$W$12:$W$136,0)),1),\"\")","v":""},{"$f":"INDEX('NLM Data Test 2'!$I$12:$I$136,(MATCH(NLML.ChangeInScores.PrePostDataset[[#This Row],[First Name & Last Name*\n(choose from list)]],'NLM Data Test 2'!$D$12:$D$136,0)),1)","v":{"$error":"#N/A"}},{"$f":"IFERROR(INDEX('NLM Data Test 2'!$J$12:$J$136,(MATCH(NLML.ChangeInScores.PrePostDataset[[#This Row],[First Name & Last Name*\n(choose from list)]],'NLM Data Test 2'!$X$12:$X$136,0)),1),\"\")","v":""},{"$f":"IFERROR(INDEX('NLM Data Test 2'!$K$12:$K$136,(MATCH(NLML.ChangeInScores.PrePostDataset[[#This Row],[First Name & Last Name*\n(choose from list)]],'NLM Data Test 2'!$X$12:$X$136,0)),1),\"\")","v":""},{"$f":"IFERROR(INDEX('NLM Data Test 2'!$N$12:$N$136,(MATCH(NLML.ChangeInScores.PrePostDataset[[#This Row],[First Name & Last Name*\n(choose from list)]],'NLM Data Test 2'!$X$12:$X$136,0)),1),\"\")","v":""},{"$f":"(INDEX('NLM Data Test 2'!$O$12:$O$136,(MATCH(NLML.ChangeInScores.PrePostDataset[[#This Row],[First Name & Last Name*\n(choose from list)]],'NLM Data Test 2'!$X$12:$X$136,0)),1))-(INDEX('NLM Data Test 1'!$N$12:$N$136,(MATCH(NLML.ChangeInScores.PrePostDataset[[#This Row],[First Name & Last Name*\n(choose from list)]],'NLM Data Test 1'!$W$12:$W$136,0)),1))","v":{"$error":"#N/A"}},{"$f":"(INDEX('NLM Data Test 2'!$P$12:$P$136,(MATCH(NLML.ChangeInScores.PrePostDataset[[#This Row],[First Name & Last Name*\n(choose from list)]],'NLM Data Test 2'!$X$12:$X$136,0)),1))-(INDEX('NLM Data Test 1'!$O$12:$O$136,(MATCH(NLML.ChangeInScores.PrePostDataset[[#This Row],[First Name & Last Name*\n(choose from list)]],'NLM Data Test 1'!$W$12:$W$136,0)),1))","v":{"$error":"#N/A"}},{"$f":"(INDEX('NLM Data Test 2'!$Q$12:$Q$136,(MATCH(NLML.ChangeInScores.PrePostDataset[[#This Row],[First Name & Last Name*\n(choose from list)]],'NLM Data Test 2'!$X$12:$X$136,0)),1))-(INDEX('NLM Data Test 1'!$P$12:$P$136,(MATCH(NLML.ChangeInScores.PrePostDataset[[#This Row],[First Name & Last Name*\n(choose from list)]],'NLM Data Test 1'!$W$12:$W$136,0)),1))","v":{"$error":"#N/A"}},{"$f":"(INDEX('NLM Data Test 2'!$R$12:$R$136,(MATCH(NLML.ChangeInScores.PrePostDataset[[#This Row],[First Name & Last Name*\n(choose from list)]],'NLM Data Test 2'!$X$12:$X$136,0)),1))-(INDEX('NLM Data Test 1'!$Q$12:$Q$136,(MATCH(NLML.ChangeInScores.PrePostDataset[[#This Row],[First Name & Last Name*\n(choose from list)]],'NLM Data Test 1'!$W$12:$W$136,0)),1))","v":{"$error":"#N/A"}},{"$f":"(INDEX('NLM Data Test 2'!$S$12:$S$136,(MATCH(NLML.ChangeInScores.PrePostDataset[[#This Row],[First Name & Last Name*\n(choose from list)]],'NLM Data Test 2'!$X$12:$X$136,0)),1))-(INDEX('NLM Data Test 1'!$R$12:$R$136,(MATCH(NLML.ChangeInScores.PrePostDataset[[#This Row],[First Name & Last Name*\n(choose from list)]],'NLM Data Test 1'!$W$12:$W$136,0)),1))","v":{"$error":"#N/A"}},{"$f":"(INDEX('NLM Data Test 2'!$T$12:$T$136,(MATCH(NLML.ChangeInScores.PrePostDataset[[#This Row],[First Name & Last Name*\n(choose from list)]],'NLM Data Test 2'!$X$12:$X$136,0)),1))-(INDEX('NLM Data Test 1'!$S$12:$S$136,(MATCH(NLML.ChangeInScores.PrePostDataset[[#This Row],[First Name & Last Name*\n(choose from list)]],'NLM Data Test 1'!$W$12:$W$136,0)),1))","v":{"$error":"#N/A"}},{"$f":"IFERROR(INDEX('NLM Data Test 1'!$T$12:$T$136,(MATCH(NLML.ChangeInScores.PrePostDataset[[#This Row],[First Name & Last Name*\n(choose from list)]],'NLM Data Test 1'!$W$12:$W$136,0)),1),\"\")","v":""},{"$f":"IFERROR(INDEX('NLM Data Test 2'!$U$12:$U$136,(MATCH(NLML.ChangeInScores.PrePostDataset[[#This Row],[First Name & Last Name*\n(choose from list)]],'NLM Data Test 2'!$X$12:$X$136,0)),1),\"\")","v":""}]
[9,{"$f":"IFERROR(INDEX(NLML.Test1.PrePostDataset[*First Name],(MATCH(NLML.ChangeInScores.PrePostDataset[[#This Row],[First Name & Last Name*\n(choose from list)]],'NLM Data Test 1'!W20:W144,0)),1),\"\")","v":""},{"$f":"IFERROR(INDEX(NLML.Test1.PrePostDataset[*Last Name],(MATCH(NLML.ChangeInScores.PrePostDataset[[#This Row],[First Name & Last Name*\n(choose from list)]],'NLM Data Test 1'!W20:W144,0)),1),\"\")","v":""},{"$f":"'NLM Data Test 2'!D20","v":0},{"$f":"IF(IFERROR(MATCH($D24,'NLM Data Test 2'!$D$12:$D$136,0),\"Error\")=\"Error\",(INDEX('NLM Data Test 1'!$D$12:$D$136,(MATCH($D24,'NLM Data Test 1'!$W$12:$W$136,0)),1)),(INDEX('NLM Data Test 2'!$E$12:$E$136,(MATCH($D24,'NLM Data Test 2'!$D$12:$D$136,0)),1)))","v":{"$error":"#N/A"}},{"$f":"IF(IFERROR(MATCH($D24,'NLM Data Test 2'!$D$12:$D$136,0),\"Error\")=\"Error\",(INDEX('NLM Data Test 1'!$E$12:$E$136,(MATCH($D24,'NLM Data Test 1'!$W$12:$W$136,0)),1)),(INDEX('NLM Data Test 2'!$G$12:$G$136,(MATCH($D24,'NLM Data Test 2'!$D$12:$D$136,0)),1)))","v":{"$error":"#N/A"}},{"$f":"IF(IFERROR(MATCH($D24,'NLM Data Test 2'!$D$12:$D$136,0),\"Error\")=\"Error\",(INDEX('NLM Data Test 1'!$F$12:$F$136,(MATCH($D24,'NLM Data Test 1'!$W$12:$W$136,0)),1)),(INDEX('NLM Data Test 2'!$F$12:$F$136,(MATCH($D24,'NLM Data Test 2'!$D$12:$D$136,0)),1)))","v":{"$error":"#N/A"}},{"$f":"IF(INDEX('NLM Data Test 1'!$H$12:$H$136,(MATCH(NLML.ChangeInScores.PrePostDataset[[#This Row],[First Name & Last Name*\n(choose from list)]],'NLM Data Test 1'!$W$12:$W$136,0)),1)=\"\",\"\",(INDEX('NLM Data Test 1'!H$12:H$136,(MATCH(NLML.ChangeInScores.PrePostDataset[[#This Row],[First Name & Last Name*\n(choose from list)]],'NLM Data Test 1'!$W$12:$W$136,0)),1)))","v":{"$error":"#N/A"}},{"$f":"IF(INDEX('NLM Data Test 1'!$I$12:$I$136,(MATCH(NLML.ChangeInScores.PrePostDataset[[#This Row],[First Name & Last Name*\n(choose from list)]],'NLM Data Test 1'!$W$12:$W$136,0)),1)=\"\",\"\",(INDEX('NLM Data Test 1'!I$12:I$136,(MATCH(NLML.ChangeInScores.PrePostDataset[[#This Row],[First Name & Last Name*\n(choose from list)]],'NLM Data Test 1'!$W$12:$W$136,0)),1)))","v":{"$error":"#N/A"}},{"$f":"IF(INDEX('NLM Data Test 1'!$J$12:$J$136,(MATCH(NLML.ChangeInScores.PrePostDataset[[#This Row],[First Name & Last Name*\n(choose from list)]],'NLM Data Test 1'!$W$12:$W$136,0)),1)=\"\",\"\",(INDEX('NLM Data Test 1'!J$12:J$136,(MATCH(NLML.ChangeInScores.PrePostDataset[[#This Row],[First Name & Last Name*\n(choose from list)]],'NLM Data Test 1'!$W$12:$W$136,0)),1)))","v":{"$error":"#N/A"}},{"$f":"IFERROR(INDEX('NLM Data Test 1'!$M$12:$M$136,(MATCH(NLML.ChangeInScores.PrePostDataset[[#This Row],[First Name & Last Name*\n(choose from list)]],'NLM Data Test 1'!$W$12:$W$136,0)),1),\"\")","v":""},{"$f":"INDEX('NLM Data Test 2'!$I$12:$I$136,(MATCH(NLML.ChangeInScores.PrePostDataset[[#This Row],[First Name & Last Name*\n(choose from list)]],'NLM Data Test 2'!$D$12:$D$136,0)),1)","v":{"$error":"#N/A"}},{"$f":"IFERROR(INDEX('NLM Data Test 2'!$J$12:$J$136,(MATCH(NLML.ChangeInScores.PrePostDataset[[#This Row],[First Name & Last Name*\n(choose from list)]],'NLM Data Test 2'!$X$12:$X$136,0)),1),\"\")","v":""},{"$f":"IFERROR(INDEX('NLM Data Test 2'!$K$12:$K$136,(MATCH(NLML.ChangeInScores.PrePostDataset[[#This Row],[First Name & Last Name*\n(choose from list)]],'NLM Data Test 2'!$X$12:$X$136,0)),1),\"\")","v":""},{"$f":"IFERROR(INDEX('NLM Data Test 2'!$N$12:$N$136,(MATCH(NLML.ChangeInScores.PrePostDataset[[#This Row],[First Name & Last Name*\n(choose from list)]],'NLM Data Test 2'!$X$12:$X$136,0)),1),\"\")","v":""},{"$f":"(INDEX('NLM Data Test 2'!$O$12:$O$136,(MATCH(NLML.ChangeInScores.PrePostDataset[[#This Row],[First Name & Last Name*\n(choose from list)]],'NLM Data Test 2'!$X$12:$X$136,0)),1))-(INDEX('NLM Data Test 1'!$N$12:$N$136,(MATCH(NLML.ChangeInScores.PrePostDataset[[#This Row],[First Name & Last Name*\n(choose from list)]],'NLM Data Test 1'!$W$12:$W$136,0)),1))","v":{"$error":"#N/A"}},{"$f":"(INDEX('NLM Data Test 2'!$P$12:$P$136,(MATCH(NLML.ChangeInScores.PrePostDataset[[#This Row],[First Name & Last Name*\n(choose from list)]],'NLM Data Test 2'!$X$12:$X$136,0)),1))-(INDEX('NLM Data Test 1'!$O$12:$O$136,(MATCH(NLML.ChangeInScores.PrePostDataset[[#This Row],[First Name & Last Name*\n(choose from list)]],'NLM Data Test 1'!$W$12:$W$136,0)),1))","v":{"$error":"#N/A"}},{"$f":"(INDEX('NLM Data Test 2'!$Q$12:$Q$136,(MATCH(NLML.ChangeInScores.PrePostDataset[[#This Row],[First Name & Last Name*\n(choose from list)]],'NLM Data Test 2'!$X$12:$X$136,0)),1))-(INDEX('NLM Data Test 1'!$P$12:$P$136,(MATCH(NLML.ChangeInScores.PrePostDataset[[#This Row],[First Name & Last Name*\n(choose from list)]],'NLM Data Test 1'!$W$12:$W$136,0)),1))","v":{"$error":"#N/A"}},{"$f":"(INDEX('NLM Data Test 2'!$R$12:$R$136,(MATCH(NLML.ChangeInScores.PrePostDataset[[#This Row],[First Name & Last Name*\n(choose from list)]],'NLM Data Test 2'!$X$12:$X$136,0)),1))-(INDEX('NLM Data Test 1'!$Q$12:$Q$136,(MATCH(NLML.ChangeInScores.PrePostDataset[[#This Row],[First Name & Last Name*\n(choose from list)]],'NLM Data Test 1'!$W$12:$W$136,0)),1))","v":{"$error":"#N/A"}},{"$f":"(INDEX('NLM Data Test 2'!$S$12:$S$136,(MATCH(NLML.ChangeInScores.PrePostDataset[[#This Row],[First Name & Last Name*\n(choose from list)]],'NLM Data Test 2'!$X$12:$X$136,0)),1))-(INDEX('NLM Data Test 1'!$R$12:$R$136,(MATCH(NLML.ChangeInScores.PrePostDataset[[#This Row],[First Name & Last Name*\n(choose from list)]],'NLM Data Test 1'!$W$12:$W$136,0)),1))","v":{"$error":"#N/A"}},{"$f":"(INDEX('NLM Data Test 2'!$T$12:$T$136,(MATCH(NLML.ChangeInScores.PrePostDataset[[#This Row],[First Name & Last Name*\n(choose from list)]],'NLM Data Test 2'!$X$12:$X$136,0)),1))-(INDEX('NLM Data Test 1'!$S$12:$S$136,(MATCH(NLML.ChangeInScores.PrePostDataset[[#This Row],[First Name & Last Name*\n(choose from list)]],'NLM Data Test 1'!$W$12:$W$136,0)),1))","v":{"$error":"#N/A"}},{"$f":"IFERROR(INDEX('NLM Data Test 1'!$T$12:$T$136,(MATCH(NLML.ChangeInScores.PrePostDataset[[#This Row],[First Name & Last Name*\n(choose from list)]],'NLM Data Test 1'!$W$12:$W$136,0)),1),\"\")","v":""},{"$f":"IFERROR(INDEX('NLM Data Test 2'!$U$12:$U$136,(MATCH(NLML.ChangeInScores.PrePostDataset[[#This Row],[First Name & Last Name*\n(choose from list)]],'NLM Data Test 2'!$X$12:$X$136,0)),1),\"\")","v":""}]
[10,{"$f":"IFERROR(INDEX(NLML.Test1.PrePostDataset[*First Name],(MATCH(NLML.ChangeInScores.PrePostDataset[[#This Row],[First Name & Last Name*\n(choose from list)]],'NLM Data Test 1'!W21:W145,0)),1),\"\")","v":""},{"$f":"IFERROR(INDEX(NLML.Test1.PrePostDataset[*Last Name],(MATCH(NLML.ChangeInScores.PrePostDataset[[#This Row],[First Name & Last Name*\n(choose from list)]],'NLM Data Test 1'!W21:W145,0)),1),\"\")","v":""},{"$f":"'NLM Data Test 2'!D21","v":0},{"$f":"IF(IFERROR(MATCH($D25,'NLM Data Test 2'!$D$12:$D$136,0),\"Error\")=\"Error\",(INDEX('NLM Data Test 1'!$D$12:$D$136,(MATCH($D25,'NLM Data Test 1'!$W$12:$W$136,0)),1)),(INDEX('NLM Data Test 2'!$E$12:$E$136,(MATCH($D25,'NLM Data Test 2'!$D$12:$D$136,0)),1)))","v":{"$error":"#N/A"}},{"$f":"IF(IFERROR(MATCH($D25,'NLM Data Test 2'!$D$12:$D$136,0),\"Error\")=\"Error\",(INDEX('NLM Data Test 1'!$E$12:$E$136,(MATCH($D25,'NLM Data Test 1'!$W$12:$W$136,0)),1)),(INDEX('NLM Data Test 2'!$G$12:$G$136,(MATCH($D25,'NLM Data Test 2'!$D$12:$D$136,0)),1)))","v":{"$error":"#N/A"}},{"$f":"IF(IFERROR(MATCH($D25,'NLM Data Test 2'!$D$12:$D$136,0),\"Error\")=\"Error\",(INDEX('NLM Data Test 1'!$F$12:$F$136,(MATCH($D25,'NLM Data Test 1'!$W$12:$W$136,0)),1)),(INDEX('NLM Data Test 2'!$F$12:$F$136,(MATCH($D25,'NLM Data Test 2'!$D$12:$D$136,0)),1)))","v":{"$error":"#N/A"}},{"$f":"IF(INDEX('NLM Data Test 1'!$H$12:$H$136,(MATCH(NLML.ChangeInScores.PrePostDataset[[#This Row],[First Name & Last Name*\n(choose from list)]],'NLM Data Test 1'!$W$12:$W$136,0)),1)=\"\",\"\",(INDEX('NLM Data Test 1'!H$12:H$136,(MATCH(NLML.ChangeInScores.PrePostDataset[[#This Row],[First Name & Last Name*\n(choose from list)]],'NLM Data Test 1'!$W$12:$W$136,0)),1)))","v":{"$error":"#N/A"}},{"$f":"IF(INDEX('NLM Data Test 1'!$I$12:$I$136,(MATCH(NLML.ChangeInScores.PrePostDataset[[#This Row],[First Name & Last Name*\n(choose from list)]],'NLM Data Test 1'!$W$12:$W$136,0)),1)=\"\",\"\",(INDEX('NLM Data Test 1'!I$12:I$136,(MATCH(NLML.ChangeInScores.PrePostDataset[[#This Row],[First Name & Last Name*\n(choose from list)]],'NLM Data Test 1'!$W$12:$W$136,0)),1)))","v":{"$error":"#N/A"}},{"$f":"IF(INDEX('NLM Data Test 1'!$J$12:$J$136,(MATCH(NLML.ChangeInScores.PrePostDataset[[#This Row],[First Name & Last Name*\n(choose from list)]],'NLM Data Test 1'!$W$12:$W$136,0)),1)=\"\",\"\",(INDEX('NLM Data Test 1'!J$12:J$136,(MATCH(NLML.ChangeInScores.PrePostDataset[[#This Row],[First Name & Last Name*\n(choose from list)]],'NLM Data Test 1'!$W$12:$W$136,0)),1)))","v":{"$error":"#N/A"}},{"$f":"IFERROR(INDEX('NLM Data Test 1'!$M$12:$M$136,(MATCH(NLML.ChangeInScores.PrePostDataset[[#This Row],[First Name & Last Name*\n(choose from list)]],'NLM Data Test 1'!$W$12:$W$136,0)),1),\"\")","v":""},{"$f":"INDEX('NLM Data Test 2'!$I$12:$I$136,(MATCH(NLML.ChangeInScores.PrePostDataset[[#This Row],[First Name & Last Name*\n(choose from list)]],'NLM Data Test 2'!$D$12:$D$136,0)),1)","v":{"$error":"#N/A"}},{"$f":"IFERROR(INDEX('NLM Data Test 2'!$J$12:$J$136,(MATCH(NLML.ChangeInScores.PrePostDataset[[#This Row],[First Name & Last Name*\n(choose from list)]],'NLM Data Test 2'!$X$12:$X$136,0)),1),\"\")","v":""},{"$f":"IFERROR(INDEX('NLM Data Test 2'!$K$12:$K$136,(MATCH(NLML.ChangeInScores.PrePostDataset[[#This Row],[First Name & Last Name*\n(choose from list)]],'NLM Data Test 2'!$X$12:$X$136,0)),1),\"\")","v":""},{"$f":"IFERROR(INDEX('NLM Data Test 2'!$N$12:$N$136,(MATCH(NLML.ChangeInScores.PrePostDataset[[#This Row],[First Name & Last Name*\n(choose from list)]],'NLM Data Test 2'!$X$12:$X$136,0)),1),\"\")","v":""},{"$f":"(INDEX('NLM Data Test 2'!$O$12:$O$136,(MATCH(NLML.ChangeInScores.PrePostDataset[[#This Row],[First Name & Last Name*\n(choose from list)]],'NLM Data Test 2'!$X$12:$X$136,0)),1))-(INDEX('NLM Data Test 1'!$N$12:$N$136,(MATCH(NLML.ChangeInScores.PrePostDataset[[#This Row],[First Name & Last Name*\n(choose from list)]],'NLM Data Test 1'!$W$12:$W$136,0)),1))","v":{"$error":"#N/A"}},{"$f":"(INDEX('NLM Data Test 2'!$P$12:$P$136,(MATCH(NLML.ChangeInScores.PrePostDataset[[#This Row],[First Name & Last Name*\n(choose from list)]],'NLM Data Test 2'!$X$12:$X$136,0)),1))-(INDEX('NLM Data Test 1'!$O$12:$O$136,(MATCH(NLML.ChangeInScores.PrePostDataset[[#This Row],[First Name & Last Name*\n(choose from list)]],'NLM Data Test 1'!$W$12:$W$136,0)),1))","v":{"$error":"#N/A"}},{"$f":"(INDEX('NLM Data Test 2'!$Q$12:$Q$136,(MATCH(NLML.ChangeInScores.PrePostDataset[[#This Row],[First Name & Last Name*\n(choose from list)]],'NLM Data Test 2'!$X$12:$X$136,0)),1))-(INDEX('NLM Data Test 1'!$P$12:$P$136,(MATCH(NLML.ChangeInScores.PrePostDataset[[#This Row],[First Name & Last Name*\n(choose from list)]],'NLM Data Test 1'!$W$12:$W$136,0)),1))","v":{"$error":"#N/A"}},{"$f":"(INDEX('NLM Data Test 2'!$R$12:$R$136,(MATCH(NLML.ChangeInScores.PrePostDataset[[#This Row],[First Name & Last Name*\n(choose from list)]],'NLM Data Test 2'!$X$12:$X$136,0)),1))-(INDEX('NLM Data Test 1'!$Q$12:$Q$136,(MATCH(NLML.ChangeInScores.PrePostDataset[[#This Row],[First Name & Last Name*\n(choose from list)]],'NLM Data Test 1'!$W$12:$W$136,0)),1))","v":{"$error":"#N/A"}},{"$f":"(INDEX('NLM Data Test 2'!$S$12:$S$136,(MATCH(NLML.ChangeInScores.PrePostDataset[[#This Row],[First Name & Last Name*\n(choose from list)]],'NLM Data Test 2'!$X$12:$X$136,0)),1))-(INDEX('NLM Data Test 1'!$R$12:$R$136,(MATCH(NLML.ChangeInScores.PrePostDataset[[#This Row],[First Name & Last Name*\n(choose from list)]],'NLM Data Test 1'!$W$12:$W$136,0)),1))","v":{"$error":"#N/A"}},{"$f":"(INDEX('NLM Data Test 2'!$T$12:$T$136,(MATCH(NLML.ChangeInScores.PrePostDataset[[#This Row],[First Name & Last Name*\n(choose from list)]],'NLM Data Test 2'!$X$12:$X$136,0)),1))-(INDEX('NLM Data Test 1'!$S$12:$S$136,(MATCH(NLML.ChangeInScores.PrePostDataset[[#This Row],[First Name & Last Name*\n(choose from list)]],'NLM Data Test 1'!$W$12:$W$136,0)),1))","v":{"$error":"#N/A"}},{"$f":"IFERROR(INDEX('NLM Data Test 1'!$T$12:$T$136,(MATCH(NLML.ChangeInScores.PrePostDataset[[#This Row],[First Name & Last Name*\n(choose from list)]],'NLM Data Test 1'!$W$12:$W$136,0)),1),\"\")","v":""},{"$f":"IFERROR(INDEX('NLM Data Test 2'!$U$12:$U$136,(MATCH(NLML.ChangeInScores.PrePostDataset[[#This Row],[First Name & Last Name*\n(choose from list)]],'NLM Data Test 2'!$X$12:$X$136,0)),1),\"\")","v":""}]
[11,{"$f":"IFERROR(INDEX(NLML.Test1.PrePostDataset[*First Name],(MATCH(NLML.ChangeInScores.PrePostDataset[[#This Row],[First Name & Last Name*\n(choose from list)]],'NLM Data Test 1'!W22:W146,0)),1),\"\")","v":""},{"$f":"IFERROR(INDEX(NLML.Test1.PrePostDataset[*Last Name],(MATCH(NLML.ChangeInScores.PrePostDataset[[#This Row],[First Name & Last Name*\n(choose from list)]],'NLM Data Test 1'!W22:W146,0)),1),\"\")","v":""},{"$f":"'NLM Data Test 2'!D22","v":0},{"$f":"IF(IFERROR(MATCH($D26,'NLM Data Test 2'!$D$12:$D$136,0),\"Error\")=\"Error\",(INDEX('NLM Data Test 1'!$D$12:$D$136,(MATCH($D26,'NLM Data Test 1'!$W$12:$W$136,0)),1)),(INDEX('NLM Data Test 2'!$E$12:$E$136,(MATCH($D26,'NLM Data Test 2'!$D$12:$D$136,0)),1)))","v":{"$error":"#N/A"}},{"$f":"IF(IFERROR(MATCH($D26,'NLM Data Test 2'!$D$12:$D$136,0),\"Error\")=\"Error\",(INDEX('NLM Data Test 1'!$E$12:$E$136,(MATCH($D26,'NLM Data Test 1'!$W$12:$W$136,0)),1)),(INDEX('NLM Data Test 2'!$G$12:$G$136,(MATCH($D26,'NLM Data Test 2'!$D$12:$D$136,0)),1)))","v":{"$error":"#N/A"}},{"$f":"IF(IFERROR(MATCH($D26,'NLM Data Test 2'!$D$12:$D$136,0),\"Error\")=\"Error\",(INDEX('NLM Data Test 1'!$F$12:$F$136,(MATCH($D26,'NLM Data Test 1'!$W$12:$W$136,0)),1)),(INDEX('NLM Data Test 2'!$F$12:$F$136,(MATCH($D26,'NLM Data Test 2'!$D$12:$D$136,0)),1)))","v":{"$error":"#N/A"}},{"$f":"IF(INDEX('NLM Data Test 1'!$H$12:$H$136,(MATCH(NLML.ChangeInScores.PrePostDataset[[#This Row],[First Name & Last Name*\n(choose from list)]],'NLM Data Test 1'!$W$12:$W$136,0)),1)=\"\",\"\",(INDEX('NLM Data Test 1'!H$12:H$136,(MATCH(NLML.ChangeInScores.PrePostDataset[[#This Row],[First Name & Last Name*\n(choose from list)]],'NLM Data Test 1'!$W$12:$W$136,0)),1)))","v":{"$error":"#N/A"}},{"$f":"IF(INDEX('NLM Data Test 1'!$I$12:$I$136,(MATCH(NLML.ChangeInScores.PrePostDataset[[#This Row],[First Name & Last Name*\n(choose from list)]],'NLM Data Test 1'!$W$12:$W$136,0)),1)=\"\",\"\",(INDEX('NLM Data Test 1'!I$12:I$136,(MATCH(NLML.ChangeInScores.PrePostDataset[[#This Row],[First Name & Last Name*\n(choose from list)]],'NLM Data Test 1'!$W$12:$W$136,0)),1)))","v":{"$error":"#N/A"}},{"$f":"IF(INDEX('NLM Data Test 1'!$J$12:$J$136,(MATCH(NLML.ChangeInScores.PrePostDataset[[#This Row],[First Name & Last Name*\n(choose from list)]],'NLM Data Test 1'!$W$12:$W$136,0)),1)=\"\",\"\",(INDEX('NLM Data Test 1'!J$12:J$136,(MATCH(NLML.ChangeInScores.PrePostDataset[[#This Row],[First Name & Last Name*\n(choose from list)]],'NLM Data Test 1'!$W$12:$W$136,0)),1)))","v":{"$error":"#N/A"}},{"$f":"IFERROR(INDEX('NLM Data Test 1'!$M$12:$M$136,(MATCH(NLML.ChangeInScores.PrePostDataset[[#This Row],[First Name & Last Name*\n(choose from list)]],'NLM Data Test 1'!$W$12:$W$136,0)),1),\"\")","v":""},{"$f":"INDEX('NLM Data Test 2'!$I$12:$I$136,(MATCH(NLML.ChangeInScores.PrePostDataset[[#This Row],[First Name & Last Name*\n(choose from list)]],'NLM Data Test 2'!$D$12:$D$136,0)),1)","v":{"$error":"#N/A"}},{"$f":"IFERROR(INDEX('NLM Data Test 2'!$J$12:$J$136,(MATCH(NLML.ChangeInScores.PrePostDataset[[#This Row],[First Name & Last Name*\n(choose from list)]],'NLM Data Test 2'!$X$12:$X$136,0)),1),\"\")","v":""},{"$f":"IFERROR(INDEX('NLM Data Test 2'!$K$12:$K$136,(MATCH(NLML.ChangeInScores.PrePostDataset[[#This Row],[First Name & Last Name*\n(choose from list)]],'NLM Data Test 2'!$X$12:$X$136,0)),1),\"\")","v":""},{"$f":"IFERROR(INDEX('NLM Data Test 2'!$N$12:$N$136,(MATCH(NLML.ChangeInScores.PrePostDataset[[#This Row],[First Name & Last Name*\n(choose from list)]],'NLM Data Test 2'!$X$12:$X$136,0)),1),\"\")","v":""},{"$f":"(INDEX('NLM Data Test 2'!$O$12:$O$136,(MATCH(NLML.ChangeInScores.PrePostDataset[[#This Row],[First Name & Last Name*\n(choose from list)]],'NLM Data Test 2'!$X$12:$X$136,0)),1))-(INDEX('NLM Data Test 1'!$N$12:$N$136,(MATCH(NLML.ChangeInScores.PrePostDataset[[#This Row],[First Name & Last Name*\n(choose from list)]],'NLM Data Test 1'!$W$12:$W$136,0)),1))","v":{"$error":"#N/A"}},{"$f":"(INDEX('NLM Data Test 2'!$P$12:$P$136,(MATCH(NLML.ChangeInScores.PrePostDataset[[#This Row],[First Name & Last Name*\n(choose from list)]],'NLM Data Test 2'!$X$12:$X$136,0)),1))-(INDEX('NLM Data Test 1'!$O$12:$O$136,(MATCH(NLML.ChangeInScores.PrePostDataset[[#This Row],[First Name & Last Name*\n(choose from list)]],'NLM Data Test 1'!$W$12:$W$136,0)),1))","v":{"$error":"#N/A"}},{"$f":"(INDEX('NLM Data Test 2'!$Q$12:$Q$136,(MATCH(NLML.ChangeInScores.PrePostDataset[[#This Row],[First Name & Last Name*\n(choose from list)]],'NLM Data Test 2'!$X$12:$X$136,0)),1))-(INDEX('NLM Data Test 1'!$P$12:$P$136,(MATCH(NLML.ChangeInScores.PrePostDataset[[#This Row],[First Name & Last Name*\n(choose from list)]],'NLM Data Test 1'!$W$12:$W$136,0)),1))","v":{"$error":"#N/A"}},{"$f":"(INDEX('NLM Data Test 2'!$R$12:$R$136,(MATCH(NLML.ChangeInScores.PrePostDataset[[#This Row],[First Name & Last Name*\n(choose from list)]],'NLM Data Test 2'!$X$12:$X$136,0)),1))-(INDEX('NLM Data Test 1'!$Q$12:$Q$136,(MATCH(NLML.ChangeInScores.PrePostDataset[[#This Row],[First Name & Last Name*\n(choose from list)]],'NLM Data Test 1'!$W$12:$W$136,0)),1))","v":{"$error":"#N/A"}},{"$f":"(INDEX('NLM Data Test 2'!$S$12:$S$136,(MATCH(NLML.ChangeInScores.PrePostDataset[[#This Row],[First Name & Last Name*\n(choose from list)]],'NLM Data Test 2'!$X$12:$X$136,0)),1))-(INDEX('NLM Data Test 1'!$R$12:$R$136,(MATCH(NLML.ChangeInScores.PrePostDataset[[#This Row],[First Name & Last Name*\n(choose from list)]],'NLM Data Test 1'!$W$12:$W$136,0)),1))","v":{"$error":"#N/A"}},{"$f":"(INDEX('NLM Data Test 2'!$T$12:$T$136,(MATCH(NLML.ChangeInScores.PrePostDataset[[#This Row],[First Name & Last Name*\n(choose from list)]],'NLM Data Test 2'!$X$12:$X$136,0)),1))-(INDEX('NLM Data Test 1'!$S$12:$S$136,(MATCH(NLML.ChangeInScores.PrePostDataset[[#This Row],[First Name & Last Name*\n(choose from list)]],'NLM Data Test 1'!$W$12:$W$136,0)),1))","v":{"$error":"#N/A"}},{"$f":"IFERROR(INDEX('NLM Data Test 1'!$T$12:$T$136,(MATCH(NLML.ChangeInScores.PrePostDataset[[#This Row],[First Name & Last Name*\n(choose from list)]],'NLM Data Test 1'!$W$12:$W$136,0)),1),\"\")","v":""},{"$f":"IFERROR(INDEX('NLM Data Test 2'!$U$12:$U$136,(MATCH(NLML.ChangeInScores.PrePostDataset[[#This Row],[First Name & Last Name*\n(choose from list)]],'NLM Data Test 2'!$X$12:$X$136,0)),1),\"\")","v":""}]
[12,{"$f":"IFERROR(INDEX(NLML.Test1.PrePostDataset[*First Name],(MATCH(NLML.ChangeInScores.PrePostDataset[[#This Row],[First Name & Last Name*\n(choose from list)]],'NLM Data Test 1'!W23:W147,0)),1),\"\")","v":""},{"$f":"IFERROR(INDEX(NLML.Test1.PrePostDataset[*Last Name],(MATCH(NLML.ChangeInScores.PrePostDataset[[#This Row],[First Name & Last Name*\n(choose from list)]],'NLM Data Test 1'!W23:W147,0)),1),\"\")","v":""},{"$f":"'NLM Data Test 2'!D23","v":0},{"$f":"IF(IFERROR(MATCH($D27,'NLM Data Test 2'!$D$12:$D$136,0),\"Error\")=\"Error\",(INDEX('NLM Data Test 1'!$D$12:$D$136,(MATCH($D27,'NLM Data Test 1'!$W$12:$W$136,0)),1)),(INDEX('NLM Data Test 2'!$E$12:$E$136,(MATCH($D27,'NLM Data Test 2'!$D$12:$D$136,0)),1)))","v":{"$error":"#N/A"}},{"$f":"IF(IFERROR(MATCH($D27,'NLM Data Test 2'!$D$12:$D$136,0),\"Error\")=\"Error\",(INDEX('NLM Data Test 1'!$E$12:$E$136,(MATCH($D27,'NLM Data Test 1'!$W$12:$W$136,0)),1)),(INDEX('NLM Data Test 2'!$G$12:$G$136,(MATCH($D27,'NLM Data Test 2'!$D$12:$D$136,0)),1)))","v":{"$error":"#N/A"}},{"$f":"IF(IFERROR(MATCH($D27,'NLM Data Test 2'!$D$12:$D$136,0),\"Error\")=\"Error\",(INDEX('NLM Data Test 1'!$F$12:$F$136,(MATCH($D27,'NLM Data Test 1'!$W$12:$W$136,0)),1)),(INDEX('NLM Data Test 2'!$F$12:$F$136,(MATCH($D27,'NLM Data Test 2'!$D$12:$D$136,0)),1)))","v":{"$error":"#N/A"}},{"$f":"IF(INDEX('NLM Data Test 1'!$H$12:$H$136,(MATCH(NLML.ChangeInScores.PrePostDataset[[#This Row],[First Name & Last Name*\n(choose from list)]],'NLM Data Test 1'!$W$12:$W$136,0)),1)=\"\",\"\",(INDEX('NLM Data Test 1'!H$12:H$136,(MATCH(NLML.ChangeInScores.PrePostDataset[[#This Row],[First Name & Last Name*\n(choose from list)]],'NLM Data Test 1'!$W$12:$W$136,0)),1)))","v":{"$error":"#N/A"}},{"$f":"IF(INDEX('NLM Data Test 1'!$I$12:$I$136,(MATCH(NLML.ChangeInScores.PrePostDataset[[#This Row],[First Name & Last Name*\n(choose from list)]],'NLM Data Test 1'!$W$12:$W$136,0)),1)=\"\",\"\",(INDEX('NLM Data Test 1'!I$12:I$136,(MATCH(NLML.ChangeInScores.PrePostDataset[[#This Row],[First Name & Last Name*\n(choose from list)]],'NLM Data Test 1'!$W$12:$W$136,0)),1)))","v":{"$error":"#N/A"}},{"$f":"IF(INDEX('NLM Data Test 1'!$J$12:$J$136,(MATCH(NLML.ChangeInScores.PrePostDataset[[#This Row],[First Name & Last Name*\n(choose from list)]],'NLM Data Test 1'!$W$12:$W$136,0)),1)=\"\",\"\",(INDEX('NLM Data Test 1'!J$12:J$136,(MATCH(NLML.ChangeInScores.PrePostDataset[[#This Row],[First Name & Last Name*\n(choose from list)]],'NLM Data Test 1'!$W$12:$W$136,0)),1)))","v":{"$error":"#N/A"}},{"$f":"IFERROR(INDEX('NLM Data Test 1'!$M$12:$M$136,(MATCH(NLML.ChangeInScores.PrePostDataset[[#This Row],[First Name & Last Name*\n(choose from list)]],'NLM Data Test 1'!$W$12:$W$136,0)),1),\"\")","v":""},{"$f":"INDEX('NLM Data Test 2'!$I$12:$I$136,(MATCH(NLML.ChangeInScores.PrePostDataset[[#This Row],[First Name & Last Name*\n(choose from list)]],'NLM Data Test 2'!$D$12:$D$136,0)),1)","v":{"$error":"#N/A"}},{"$f":"IFERROR(INDEX('NLM Data Test 2'!$J$12:$J$136,(MATCH(NLML.ChangeInScores.PrePostDataset[[#This Row],[First Name & Last Name*\n(choose from list)]],'NLM Data Test 2'!$X$12:$X$136,0)),1),\"\")","v":""},{"$f":"IFERROR(INDEX('NLM Data Test 2'!$K$12:$K$136,(MATCH(NLML.ChangeInScores.PrePostDataset[[#This Row],[First Name & Last Name*\n(choose from list)]],'NLM Data Test 2'!$X$12:$X$136,0)),1),\"\")","v":""},{"$f":"IFERROR(INDEX('NLM Data Test 2'!$N$12:$N$136,(MATCH(NLML.ChangeInScores.PrePostDataset[[#This Row],[First Name & Last Name*\n(choose from list)]],'NLM Data Test 2'!$X$12:$X$136,0)),1),\"\")","v":""},{"$f":"(INDEX('NLM Data Test 2'!$O$12:$O$136,(MATCH(NLML.ChangeInScores.PrePostDataset[[#This Row],[First Name & Last Name*\n(choose from list)]],'NLM Data Test 2'!$X$12:$X$136,0)),1))-(INDEX('NLM Data Test 1'!$N$12:$N$136,(MATCH(NLML.ChangeInScores.PrePostDataset[[#This Row],[First Name & Last Name*\n(choose from list)]],'NLM Data Test 1'!$W$12:$W$136,0)),1))","v":{"$error":"#N/A"}},{"$f":"(INDEX('NLM Data Test 2'!$P$12:$P$136,(MATCH(NLML.ChangeInScores.PrePostDataset[[#This Row],[First Name & Last Name*\n(choose from list)]],'NLM Data Test 2'!$X$12:$X$136,0)),1))-(INDEX('NLM Data Test 1'!$O$12:$O$136,(MATCH(NLML.ChangeInScores.PrePostDataset[[#This Row],[First Name & Last Name*\n(choose from list)]],'NLM Data Test 1'!$W$12:$W$136,0)),1))","v":{"$error":"#N/A"}},{"$f":"(INDEX('NLM Data Test 2'!$Q$12:$Q$136,(MATCH(NLML.ChangeInScores.PrePostDataset[[#This Row],[First Name & Last Name*\n(choose from list)]],'NLM Data Test 2'!$X$12:$X$136,0)),1))-(INDEX('NLM Data Test 1'!$P$12:$P$136,(MATCH(NLML.ChangeInScores.PrePostDataset[[#This Row],[First Name & Last Name*\n(choose from list)]],'NLM Data Test 1'!$W$12:$W$136,0)),1))","v":{"$error":"#N/A"}},{"$f":"(INDEX('NLM Data Test 2'!$R$12:$R$136,(MATCH(NLML.ChangeInScores.PrePostDataset[[#This Row],[First Name & Last Name*\n(choose from list)]],'NLM Data Test 2'!$X$12:$X$136,0)),1))-(INDEX('NLM Data Test 1'!$Q$12:$Q$136,(MATCH(NLML.ChangeInScores.PrePostDataset[[#This Row],[First Name & Last Name*\n(choose from list)]],'NLM Data Test 1'!$W$12:$W$136,0)),1))","v":{"$error":"#N/A"}},{"$f":"(INDEX('NLM Data Test 2'!$S$12:$S$136,(MATCH(NLML.ChangeInScores.PrePostDataset[[#This Row],[First Name & Last Name*\n(choose from list)]],'NLM Data Test 2'!$X$12:$X$136,0)),1))-(INDEX('NLM Data Test 1'!$R$12:$R$136,(MATCH(NLML.ChangeInScores.PrePostDataset[[#This Row],[First Name & Last Name*\n(choose from list)]],'NLM Data Test 1'!$W$12:$W$136,0)),1))","v":{"$error":"#N/A"}},{"$f":"(INDEX('NLM Data Test 2'!$T$12:$T$136,(MATCH(NLML.ChangeInScores.PrePostDataset[[#This Row],[First Name & Last Name*\n(choose from list)]],'NLM Data Test 2'!$X$12:$X$136,0)),1))-(INDEX('NLM Data Test 1'!$S$12:$S$136,(MATCH(NLML.ChangeInScores.PrePostDataset[[#This Row],[First Name & Last Name*\n(choose from list)]],'NLM Data Test 1'!$W$12:$W$136,0)),1))","v":{"$error":"#N/A"}},{"$f":"IFERROR(INDEX('NLM Data Test 1'!$T$12:$T$136,(MATCH(NLML.ChangeInScores.PrePostDataset[[#This Row],[First Name & Last Name*\n(choose from list)]],'NLM Data Test 1'!$W$12:$W$136,0)),1),\"\")","v":""},{"$f":"IFERROR(INDEX('NLM Data Test 2'!$U$12:$U$136,(MATCH(NLML.ChangeInScores.PrePostDataset[[#This Row],[First Name & Last Name*\n(choose from list)]],'NLM Data Test 2'!$X$12:$X$136,0)),1),\"\")","v":""}]
[13,{"$f":"IFERROR(INDEX(NLML.Test1.PrePostDataset[*First Name],(MATCH(NLML.ChangeInScores.PrePostDataset[[#This Row],[First Name & Last Name*\n(choose from list)]],'NLM Data Test 1'!W24:W148,0)),1),\"\")","v":""},{"$f":"IFERROR(INDEX(NLML.Test1.PrePostDataset[*Last Name],(MATCH(NLML.ChangeInScores.PrePostDataset[[#This Row],[First Name & Last Name*\n(choose from list)]],'NLM Data Test 1'!W24:W148,0)),1),\"\")","v":""},{"$f":"'NLM Data Test 2'!D24","v":0},{"$f":"IF(IFERROR(MATCH($D28,'NLM Data Test 2'!$D$12:$D$136,0),\"Error\")=\"Error\",(INDEX('NLM Data Test 1'!$D$12:$D$136,(MATCH($D28,'NLM Data Test 1'!$W$12:$W$136,0)),1)),(INDEX('NLM Data Test 2'!$E$12:$E$136,(MATCH($D28,'NLM Data Test 2'!$D$12:$D$136,0)),1)))","v":{"$error":"#N/A"}},{"$f":"IF(IFERROR(MATCH($D28,'NLM Data Test 2'!$D$12:$D$136,0),\"Error\")=\"Error\",(INDEX('NLM Data Test 1'!$E$12:$E$136,(MATCH($D28,'NLM Data Test 1'!$W$12:$W$136,0)),1)),(INDEX('NLM Data Test 2'!$G$12:$G$136,(MATCH($D28,'NLM Data Test 2'!$D$12:$D$136,0)),1)))","v":{"$error":"#N/A"}},{"$f":"IF(IFERROR(MATCH($D28,'NLM Data Test 2'!$D$12:$D$136,0),\"Error\")=\"Error\",(INDEX('NLM Data Test 1'!$F$12:$F$136,(MATCH($D28,'NLM Data Test 1'!$W$12:$W$136,0)),1)),(INDEX('NLM Data Test 2'!$F$12:$F$136,(MATCH($D28,'NLM Data Test 2'!$D$12:$D$136,0)),1)))","v":{"$error":"#N/A"}},{"$f":"IF(INDEX('NLM Data Test 1'!$H$12:$H$136,(MATCH(NLML.ChangeInScores.PrePostDataset[[#This Row],[First Name & Last Name*\n(choose from list)]],'NLM Data Test 1'!$W$12:$W$136,0)),1)=\"\",\"\",(INDEX('NLM Data Test 1'!H$12:H$136,(MATCH(NLML.ChangeInScores.PrePostDataset[[#This Row],[First Name & Last Name*\n(choose from list)]],'NLM Data Test 1'!$W$12:$W$136,0)),1)))","v":{"$error":"#N/A"}},{"$f":"IF(INDEX('NLM Data Test 1'!$I$12:$I$136,(MATCH(NLML.ChangeInScores.PrePostDataset[[#This Row],[First Name & Last Name*\n(choose from list)]],'NLM Data Test 1'!$W$12:$W$136,0)),1)=\"\",\"\",(INDEX('NLM Data Test 1'!I$12:I$136,(MATCH(NLML.ChangeInScores.PrePostDataset[[#This Row],[First Name & Last Name*\n(choose from list)]],'NLM Data Test 1'!$W$12:$W$136,0)),1)))","v":{"$error":"#N/A"}},{"$f":"IF(INDEX('NLM Data Test 1'!$J$12:$J$136,(MATCH(NLML.ChangeInScores.PrePostDataset[[#This Row],[First Name & Last Name*\n(choose from list)]],'NLM Data Test 1'!$W$12:$W$136,0)),1)=\"\",\"\",(INDEX('NLM Data Test 1'!J$12:J$136,(MATCH(NLML.ChangeInScores.PrePostDataset[[#This Row],[First Name & Last Name*\n(choose from list)]],'NLM Data Test 1'!$W$12:$W$136,0)),1)))","v":{"$error":"#N/A"}},{"$f":"IFERROR(INDEX('NLM Data Test 1'!$M$12:$M$136,(MATCH(NLML.ChangeInScores.PrePostDataset[[#This Row],[First Name & Last Name*\n(choose from list)]],'NLM Data Test 1'!$W$12:$W$136,0)),1),\"\")","v":""},{"$f":"INDEX('NLM Data Test 2'!$I$12:$I$136,(MATCH(NLML.ChangeInScores.PrePostDataset[[#This Row],[First Name & Last Name*\n(choose from list)]],'NLM Data Test 2'!$D$12:$D$136,0)),1)","v":{"$error":"#N/A"}},{"$f":"IFERROR(INDEX('NLM Data Test 2'!$J$12:$J$136,(MATCH(NLML.ChangeInScores.PrePostDataset[[#This Row],[First Name & Last Name*\n(choose from list)]],'NLM Data Test 2'!$X$12:$X$136,0)),1),\"\")","v":""},{"$f":"IFERROR(INDEX('NLM Data Test 2'!$K$12:$K$136,(MATCH(NLML.ChangeInScores.PrePostDataset[[#This Row],[First Name & Last Name*\n(choose from list)]],'NLM Data Test 2'!$X$12:$X$136,0)),1),\"\")","v":""},{"$f":"IFERROR(INDEX('NLM Data Test 2'!$N$12:$N$136,(MATCH(NLML.ChangeInScores.PrePostDataset[[#This Row],[First Name & Last Name*\n(choose from list)]],'NLM Data Test 2'!$X$12:$X$136,0)),1),\"\")","v":""},{"$f":"(INDEX('NLM Data Test 2'!$O$12:$O$136,(MATCH(NLML.ChangeInScores.PrePostDataset[[#This Row],[First Name & Last Name*\n(choose from list)]],'NLM Data Test 2'!$X$12:$X$136,0)),1))-(INDEX('NLM Data Test 1'!$N$12:$N$136,(MATCH(NLML.ChangeInScores.PrePostDataset[[#This Row],[First Name & Last Name*\n(choose from list)]],'NLM Data Test 1'!$W$12:$W$136,0)),1))","v":{"$error":"#N/A"}},{"$f":"(INDEX('NLM Data Test 2'!$P$12:$P$136,(MATCH(NLML.ChangeInScores.PrePostDataset[[#This Row],[First Name & Last Name*\n(choose from list)]],'NLM Data Test 2'!$X$12:$X$136,0)),1))-(INDEX('NLM Data Test 1'!$O$12:$O$136,(MATCH(NLML.ChangeInScores.PrePostDataset[[#This Row],[First Name & Last Name*\n(choose from list)]],'NLM Data Test 1'!$W$12:$W$136,0)),1))","v":{"$error":"#N/A"}},{"$f":"(INDEX('NLM Data Test 2'!$Q$12:$Q$136,(MATCH(NLML.ChangeInScores.PrePostDataset[[#This Row],[First Name & Last Name*\n(choose from list)]],'NLM Data Test 2'!$X$12:$X$136,0)),1))-(INDEX('NLM Data Test 1'!$P$12:$P$136,(MATCH(NLML.ChangeInScores.PrePostDataset[[#This Row],[First Name & Last Name*\n(choose from list)]],'NLM Data Test 1'!$W$12:$W$136,0)),1))","v":{"$error":"#N/A"}},{"$f":"(INDEX('NLM Data Test 2'!$R$12:$R$136,(MATCH(NLML.ChangeInScores.PrePostDataset[[#This Row],[First Name & Last Name*\n(choose from list)]],'NLM Data Test 2'!$X$12:$X$136,0)),1))-(INDEX('NLM Data Test 1'!$Q$12:$Q$136,(MATCH(NLML.ChangeInScores.PrePostDataset[[#This Row],[First Name & Last Name*\n(choose from list)]],'NLM Data Test 1'!$W$12:$W$136,0)),1))","v":{"$error":"#N/A"}},{"$f":"(INDEX('NLM Data Test 2'!$S$12:$S$136,(MATCH(NLML.ChangeInScores.PrePostDataset[[#This Row],[First Name & Last Name*\n(choose from list)]],'NLM Data Test 2'!$X$12:$X$136,0)),1))-(INDEX('NLM Data Test 1'!$R$12:$R$136,(MATCH(NLML.ChangeInScores.PrePostDataset[[#This Row],[First Name & Last Name*\n(choose from list)]],'NLM Data Test 1'!$W$12:$W$136,0)),1))","v":{"$error":"#N/A"}},{"$f":"(INDEX('NLM Data Test 2'!$T$12:$T$136,(MATCH(NLML.ChangeInScores.PrePostDataset[[#This Row],[First Name & Last Name*\n(choose from list)]],'NLM Data Test 2'!$X$12:$X$136,0)),1))-(INDEX('NLM Data Test 1'!$S$12:$S$136,(MATCH(NLML.ChangeInScores.PrePostDataset[[#This Row],[First Name & Last Name*\n(choose from list)]],'NLM Data Test 1'!$W$12:$W$136,0)),1))","v":{"$error":"#N/A"}},{"$f":"IFERROR(INDEX('NLM Data Test 1'!$T$12:$T$136,(MATCH(NLML.ChangeInScores.PrePostDataset[[#This Row],[First Name & Last Name*\n(choose from list)]],'NLM Data Test 1'!$W$12:$W$136,0)),1),\"\")","v":""},{"$f":"IFERROR(INDEX('NLM Data Test 2'!$U$12:$U$136,(MATCH(NLML.ChangeInScores.PrePostDataset[[#This Row],[First Name & Last Name*\n(choose from list)]],'NLM Data Test 2'!$X$12:$X$136,0)),1),\"\")","v":""}]
[14,{"$f":"IFERROR(INDEX(NLML.Test1.PrePostDataset[*First Name],(MATCH(NLML.ChangeInScores.PrePostDataset[[#This Row],[First Name & Last Name*\n(choose from list)]],'NLM Data Test 1'!W25:W149,0)),1),\"\")","v":""},{"$f":"IFERROR(INDEX(NLML.Test1.PrePostDataset[*Last Name],(MATCH(NLML.ChangeInScores.PrePostDataset[[#This Row],[First Name & Last Name*\n(choose from list)]],'NLM Data Test 1'!W25:W149,0)),1),\"\")","v":""},{"$f":"'NLM Data Test 2'!D25","v":0},{"$f":"IF(IFERROR(MATCH($D29,'NLM Data Test 2'!$D$12:$D$136,0),\"Error\")=\"Error\",(INDEX('NLM Data Test 1'!$D$12:$D$136,(MATCH($D29,'NLM Data Test 1'!$W$12:$W$136,0)),1)),(INDEX('NLM Data Test 2'!$E$12:$E$136,(MATCH($D29,'NLM Data Test 2'!$D$12:$D$136,0)),1)))","v":{"$error":"#N/A"}},{"$f":"IF(IFERROR(MATCH($D29,'NLM Data Test 2'!$D$12:$D$136,0),\"Error\")=\"Error\",(INDEX('NLM Data Test 1'!$E$12:$E$136,(MATCH($D29,'NLM Data Test 1'!$W$12:$W$136,0)),1)),(INDEX('NLM Data Test 2'!$G$12:$G$136,(MATCH($D29,'NLM Data Test 2'!$D$12:$D$136,0)),1)))","v":{"$error":"#N/A"}},{"$f":"IF(IFERROR(MATCH($D29,'NLM Data Test 2'!$D$12:$D$136,0),\"Error\")=\"Error\",(INDEX('NLM Data Test 1'!$F$12:$F$136,(MATCH($D29,'NLM Data Test 1'!$W$12:$W$136,0)),1)),(INDEX('NLM Data Test 2'!$F$12:$F$136,(MATCH($D29,'NLM Data Test 2'!$D$12:$D$136,0)),1)))","v":{"$error":"#N/A"}},{"$f":"IF(INDEX('NLM Data Test 1'!$H$12:$H$136,(MATCH(NLML.ChangeInScores.PrePostDataset[[#This Row],[First Name & Last Name*\n(choose from list)]],'NLM Data Test 1'!$W$12:$W$136,0)),1)=\"\",\"\",(INDEX('NLM Data Test 1'!H$12:H$136,(MATCH(NLML.ChangeInScores.PrePostDataset[[#This Row],[First Name & Last Name*\n(choose from list)]],'NLM Data Test 1'!$W$12:$W$136,0)),1)))","v":{"$error":"#N/A"}},{"$f":"IF(INDEX('NLM Data Test 1'!$I$12:$I$136,(MATCH(NLML.ChangeInScores.PrePostDataset[[#This Row],[First Name & Last Name*\n(choose from list)]],'NLM Data Test 1'!$W$12:$W$136,0)),1)=\"\",\"\",(INDEX('NLM Data Test 1'!I$12:I$136,(MATCH(NLML.ChangeInScores.PrePostDataset[[#This Row],[First Name & Last Name*\n(choose from list)]],'NLM Data Test 1'!$W$12:$W$136,0)),1)))","v":{"$error":"#N/A"}},{"$f":"IF(INDEX('NLM Data Test 1'!$J$12:$J$136,(MATCH(NLML.ChangeInScores.PrePostDataset[[#This Row],[First Name & Last Name*\n(choose from list)]],'NLM Data Test 1'!$W$12:$W$136,0)),1)=\"\",\"\",(INDEX('NLM Data Test 1'!J$12:J$136,(MATCH(NLML.ChangeInScores.PrePostDataset[[#This Row],[First Name & Last Name*\n(choose from list)]],'NLM Data Test 1'!$W$12:$W$136,0)),1)))","v":{"$error":"#N/A"}},{"$f":"IFERROR(INDEX('NLM Data Test 1'!$M$12:$M$136,(MATCH(NLML.ChangeInScores.PrePostDataset[[#This Row],[First Name & Last Name*\n(choose from list)]],'NLM Data Test 1'!$W$12:$W$136,0)),1),\"\")","v":""},{"$f":"INDEX('NLM Data Test 2'!$I$12:$I$136,(MATCH(NLML.ChangeInScores.PrePostDataset[[#This Row],[First Name & Last Name*\n(choose from list)]],'NLM Data Test 2'!$D$12:$D$136,0)),1)","v":{"$error":"#N/A"}},{"$f":"IFERROR(INDEX('NLM Data Test 2'!$J$12:$J$136,(MATCH(NLML.ChangeInScores.PrePostDataset[[#This Row],[First Name & Last Name*\n(choose from list)]],'NLM Data Test 2'!$X$12:$X$136,0)),1),\"\")","v":""},{"$f":"IFERROR(INDEX('NLM Data Test 2'!$K$12:$K$136,(MATCH(NLML.ChangeInScores.PrePostDataset[[#This Row],[First Name & Last Name*\n(choose from list)]],'NLM Data Test 2'!$X$12:$X$136,0)),1),\"\")","v":""},{"$f":"IFERROR(INDEX('NLM Data Test 2'!$N$12:$N$136,(MATCH(NLML.ChangeInScores.PrePostDataset[[#This Row],[First Name & Last Name*\n(choose from list)]],'NLM Data Test 2'!$X$12:$X$136,0)),1),\"\")","v":""},{"$f":"(INDEX('NLM Data Test 2'!$O$12:$O$136,(MATCH(NLML.ChangeInScores.PrePostDataset[[#This Row],[First Name & Last Name*\n(choose from list)]],'NLM Data Test 2'!$X$12:$X$136,0)),1))-(INDEX('NLM Data Test 1'!$N$12:$N$136,(MATCH(NLML.ChangeInScores.PrePostDataset[[#This Row],[First Name & Last Name*\n(choose from list)]],'NLM Data Test 1'!$W$12:$W$136,0)),1))","v":{"$error":"#N/A"}},{"$f":"(INDEX('NLM Data Test 2'!$P$12:$P$136,(MATCH(NLML.ChangeInScores.PrePostDataset[[#This Row],[First Name & Last Name*\n(choose from list)]],'NLM Data Test 2'!$X$12:$X$136,0)),1))-(INDEX('NLM Data Test 1'!$O$12:$O$136,(MATCH(NLML.ChangeInScores.PrePostDataset[[#This Row],[First Name & Last Name*\n(choose from list)]],'NLM Data Test 1'!$W$12:$W$136,0)),1))","v":{"$error":"#N/A"}},{"$f":"(INDEX('NLM Data Test 2'!$Q$12:$Q$136,(MATCH(NLML.ChangeInScores.PrePostDataset[[#This Row],[First Name & Last Name*\n(choose from list)]],'NLM Data Test 2'!$X$12:$X$136,0)),1))-(INDEX('NLM Data Test 1'!$P$12:$P$136,(MATCH(NLML.ChangeInScores.PrePostDataset[[#This Row],[First Name & Last Name*\n(choose from list)]],'NLM Data Test 1'!$W$12:$W$136,0)),1))","v":{"$error":"#N/A"}},{"$f":"(INDEX('NLM Data Test 2'!$R$12:$R$136,(MATCH(NLML.ChangeInScores.PrePostDataset[[#This Row],[First Name & Last Name*\n(choose from list)]],'NLM Data Test 2'!$X$12:$X$136,0)),1))-(INDEX('NLM Data Test 1'!$Q$12:$Q$136,(MATCH(NLML.ChangeInScores.PrePostDataset[[#This Row],[First Name & Last Name*\n(choose from list)]],'NLM Data Test 1'!$W$12:$W$136,0)),1))","v":{"$error":"#N/A"}},{"$f":"(INDEX('NLM Data Test 2'!$S$12:$S$136,(MATCH(NLML.ChangeInScores.PrePostDataset[[#This Row],[First Name & Last Name*\n(choose from list)]],'NLM Data Test 2'!$X$12:$X$136,0)),1))-(INDEX('NLM Data Test 1'!$R$12:$R$136,(MATCH(NLML.ChangeInScores.PrePostDataset[[#This Row],[First Name & Last Name*\n(choose from list)]],'NLM Data Test 1'!$W$12:$W$136,0)),1))","v":{"$error":"#N/A"}},{"$f":"(INDEX('NLM Data Test 2'!$T$12:$T$136,(MATCH(NLML.ChangeInScores.PrePostDataset[[#This Row],[First Name & Last Name*\n(choose from list)]],'NLM Data Test 2'!$X$12:$X$136,0)),1))-(INDEX('NLM Data Test 1'!$S$12:$S$136,(MATCH(NLML.ChangeInScores.PrePostDataset[[#This Row],[First Name & Last Name*\n(choose from list)]],'NLM Data Test 1'!$W$12:$W$136,0)),1))","v":{"$error":"#N/A"}},{"$f":"IFERROR(INDEX('NLM Data Test 1'!$T$12:$T$136,(MATCH(NLML.ChangeInScores.PrePostDataset[[#This Row],[First Name & Last Name*\n(choose from list)]],'NLM Data Test 1'!$W$12:$W$136,0)),1),\"\")","v":""},{"$f":"IFERROR(INDEX('NLM Data Test 2'!$U$12:$U$136,(MATCH(NLML.ChangeInScores.PrePostDataset[[#This Row],[First Name & Last Name*\n(choose from list)]],'NLM Data Test 2'!$X$12:$X$136,0)),1),\"\")","v":""}]
[15,{"$f":"IFERROR(INDEX(NLML.Test1.PrePostDataset[*First Name],(MATCH(NLML.ChangeInScores.PrePostDataset[[#This Row],[First Name & Last Name*\n(choose from list)]],'NLM Data Test 1'!W26:W150,0)),1),\"\")","v":""},{"$f":"IFERROR(INDEX(NLML.Test1.PrePostDataset[*Last Name],(MATCH(NLML.ChangeInScores.PrePostDataset[[#This Row],[First Name & Last Name*\n(choose from list)]],'NLM Data Test 1'!W26:W150,0)),1),\"\")","v":""},{"$f":"'NLM Data Test 2'!D26","v":0},{"$f":"IF(IFERROR(MATCH($D30,'NLM Data Test 2'!$D$12:$D$136,0),\"Error\")=\"Error\",(INDEX('NLM Data Test 1'!$D$12:$D$136,(MATCH($D30,'NLM Data Test 1'!$W$12:$W$136,0)),1)),(INDEX('NLM Data Test 2'!$E$12:$E$136,(MATCH($D30,'NLM Data Test 2'!$D$12:$D$136,0)),1)))","v":{"$error":"#N/A"}},{"$f":"IF(IFERROR(MATCH($D30,'NLM Data Test 2'!$D$12:$D$136,0),\"Error\")=\"Error\",(INDEX('NLM Data Test 1'!$E$12:$E$136,(MATCH($D30,'NLM Data Test 1'!$W$12:$W$136,0)),1)),(INDEX('NLM Data Test 2'!$G$12:$G$136,(MATCH($D30,'NLM Data Test 2'!$D$12:$D$136,0)),1)))","v":{"$error":"#N/A"}},{"$f":"IF(IFERROR(MATCH($D30,'NLM Data Test 2'!$D$12:$D$136,0),\"Error\")=\"Error\",(INDEX('NLM Data Test 1'!$F$12:$F$136,(MATCH($D30,'NLM Data Test 1'!$W$12:$W$136,0)),1)),(INDEX('NLM Data Test 2'!$F$12:$F$136,(MATCH($D30,'NLM Data Test 2'!$D$12:$D$136,0)),1)))","v":{"$error":"#N/A"}},{"$f":"IF(INDEX('NLM Data Test 1'!$H$12:$H$136,(MATCH(NLML.ChangeInScores.PrePostDataset[[#This Row],[First Name & Last Name*\n(choose from list)]],'NLM Data Test 1'!$W$12:$W$136,0)),1)=\"\",\"\",(INDEX('NLM Data Test 1'!H$12:H$136,(MATCH(NLML.ChangeInScores.PrePostDataset[[#This Row],[First Name & Last Name*\n(choose from list)]],'NLM Data Test 1'!$W$12:$W$136,0)),1)))","v":{"$error":"#N/A"}},{"$f":"IF(INDEX('NLM Data Test 1'!$I$12:$I$136,(MATCH(NLML.ChangeInScores.PrePostDataset[[#This Row],[First Name & Last Name*\n(choose from list)]],'NLM Data Test 1'!$W$12:$W$136,0)),1)=\"\",\"\",(INDEX('NLM Data Test 1'!I$12:I$136,(MATCH(NLML.ChangeInScores.PrePostDataset[[#This Row],[First Name & Last Name*\n(choose from list)]],'NLM Data Test 1'!$W$12:$W$136,0)),1)))","v":{"$error":"#N/A"}},{"$f":"IF(INDEX('NLM Data Test 1'!$J$12:$J$136,(MATCH(NLML.ChangeInScores.PrePostDataset[[#This Row],[First Name & Last Name*\n(choose from list)]],'NLM Data Test 1'!$W$12:$W$136,0)),1)=\"\",\"\",(INDEX('NLM Data Test 1'!J$12:J$136,(MATCH(NLML.ChangeInScores.PrePostDataset[[#This Row],[First Name & Last Name*\n(choose from list)]],'NLM Data Test 1'!$W$12:$W$136,0)),1)))","v":{"$error":"#N/A"}},{"$f":"IFERROR(INDEX('NLM Data Test 1'!$M$12:$M$136,(MATCH(NLML.ChangeInScores.PrePostDataset[[#This Row],[First Name & Last Name*\n(choose from list)]],'NLM Data Test 1'!$W$12:$W$136,0)),1),\"\")","v":""},{"$f":"INDEX('NLM Data Test 2'!$I$12:$I$136,(MATCH(NLML.ChangeInScores.PrePostDataset[[#This Row],[First Name & Last Name*\n(choose from list)]],'NLM Data Test 2'!$D$12:$D$136,0)),1)","v":{"$error":"#N/A"}},{"$f":"IFERROR(INDEX('NLM Data Test 2'!$J$12:$J$136,(MATCH(NLML.ChangeInScores.PrePostDataset[[#This Row],[First Name & Last Name*\n(choose from list)]],'NLM Data Test 2'!$X$12:$X$136,0)),1),\"\")","v":""},{"$f":"IFERROR(INDEX('NLM Data Test 2'!$K$12:$K$136,(MATCH(NLML.ChangeInScores.PrePostDataset[[#This Row],[First Name & Last Name*\n(choose from list)]],'NLM Data Test 2'!$X$12:$X$136,0)),1),\"\")","v":""},{"$f":"IFERROR(INDEX('NLM Data Test 2'!$N$12:$N$136,(MATCH(NLML.ChangeInScores.PrePostDataset[[#This Row],[First Name & Last Name*\n(choose from list)]],'NLM Data Test 2'!$X$12:$X$136,0)),1),\"\")","v":""},{"$f":"(INDEX('NLM Data Test 2'!$O$12:$O$136,(MATCH(NLML.ChangeInScores.PrePostDataset[[#This Row],[First Name & Last Name*\n(choose from list)]],'NLM Data Test 2'!$X$12:$X$136,0)),1))-(INDEX('NLM Data Test 1'!$N$12:$N$136,(MATCH(NLML.ChangeInScores.PrePostDataset[[#This Row],[First Name & Last Name*\n(choose from list)]],'NLM Data Test 1'!$W$12:$W$136,0)),1))","v":{"$error":"#N/A"}},{"$f":"(INDEX('NLM Data Test 2'!$P$12:$P$136,(MATCH(NLML.ChangeInScores.PrePostDataset[[#This Row],[First Name & Last Name*\n(choose from list)]],'NLM Data Test 2'!$X$12:$X$136,0)),1))-(INDEX('NLM Data Test 1'!$O$12:$O$136,(MATCH(NLML.ChangeInScores.PrePostDataset[[#This Row],[First Name & Last Name*\n(choose from list)]],'NLM Data Test 1'!$W$12:$W$136,0)),1))","v":{"$error":"#N/A"}},{"$f":"(INDEX('NLM Data Test 2'!$Q$12:$Q$136,(MATCH(NLML.ChangeInScores.PrePostDataset[[#This Row],[First Name & Last Name*\n(choose from list)]],'NLM Data Test 2'!$X$12:$X$136,0)),1))-(INDEX('NLM Data Test 1'!$P$12:$P$136,(MATCH(NLML.ChangeInScores.PrePostDataset[[#This Row],[First Name & Last Name*\n(choose from list)]],'NLM Data Test 1'!$W$12:$W$136,0)),1))","v":{"$error":"#N/A"}},{"$f":"(INDEX('NLM Data Test 2'!$R$12:$R$136,(MATCH(NLML.ChangeInScores.PrePostDataset[[#This Row],[First Name & Last Name*\n(choose from list)]],'NLM Data Test 2'!$X$12:$X$136,0)),1))-(INDEX('NLM Data Test 1'!$Q$12:$Q$136,(MATCH(NLML.ChangeInScores.PrePostDataset[[#This Row],[First Name & Last Name*\n(choose from list)]],'NLM Data Test 1'!$W$12:$W$136,0)),1))","v":{"$error":"#N/A"}},{"$f":"(INDEX('NLM Data Test 2'!$S$12:$S$136,(MATCH(NLML.ChangeInScores.PrePostDataset[[#This Row],[First Name & Last Name*\n(choose from list)]],'NLM Data Test 2'!$X$12:$X$136,0)),1))-(INDEX('NLM Data Test 1'!$R$12:$R$136,(MATCH(NLML.ChangeInScores.PrePostDataset[[#This Row],[First Name & Last Name*\n(choose from list)]],'NLM Data Test 1'!$W$12:$W$136,0)),1))","v":{"$error":"#N/A"}},{"$f":"(INDEX('NLM Data Test 2'!$T$12:$T$136,(MATCH(NLML.ChangeInScores.PrePostDataset[[#This Row],[First Name & Last Name*\n(choose from list)]],'NLM Data Test 2'!$X$12:$X$136,0)),1))-(INDEX('NLM Data Test 1'!$S$12:$S$136,(MATCH(NLML.ChangeInScores.PrePostDataset[[#This Row],[First Name & Last Name*\n(choose from list)]],'NLM Data Test 1'!$W$12:$W$136,0)),1))","v":{"$error":"#N/A"}},{"$f":"IFERROR(INDEX('NLM Data Test 1'!$T$12:$T$136,(MATCH(NLML.ChangeInScores.PrePostDataset[[#This Row],[First Name & Last Name*\n(choose from list)]],'NLM Data Test 1'!$W$12:$W$136,0)),1),\"\")","v":""},{"$f":"IFERROR(INDEX('NLM Data Test 2'!$U$12:$U$136,(MATCH(NLML.ChangeInScores.PrePostDataset[[#This Row],[First Name & Last Name*\n(choose from list)]],'NLM Data Test 2'!$X$12:$X$136,0)),1),\"\")","v":""}]
[16,{"$f":"IFERROR(INDEX(NLML.Test1.PrePostDataset[*First Name],(MATCH(NLML.ChangeInScores.PrePostDataset[[#This Row],[First Name & Last Name*\n(choose from list)]],'NLM Data Test 1'!W27:W151,0)),1),\"\")","v":""},{"$f":"IFERROR(INDEX(NLML.Test1.PrePostDataset[*Last Name],(MATCH(NLML.ChangeInScores.PrePostDataset[[#This Row],[First Name & Last Name*\n(choose from list)]],'NLM Data Test 1'!W27:W151,0)),1),\"\")","v":""},{"$f":"'NLM Data Test 2'!D27","v":0},{"$f":"IF(IFERROR(MATCH($D31,'NLM Data Test 2'!$D$12:$D$136,0),\"Error\")=\"Error\",(INDEX('NLM Data Test 1'!$D$12:$D$136,(MATCH($D31,'NLM Data Test 1'!$W$12:$W$136,0)),1)),(INDEX('NLM Data Test 2'!$E$12:$E$136,(MATCH($D31,'NLM Data Test 2'!$D$12:$D$136,0)),1)))","v":{"$error":"#N/A"}},{"$f":"IF(IFERROR(MATCH($D31,'NLM Data Test 2'!$D$12:$D$136,0),\"Error\")=\"Error\",(INDEX('NLM Data Test 1'!$E$12:$E$136,(MATCH($D31,'NLM Data Test 1'!$W$12:$W$136,0)),1)),(INDEX('NLM Data Test 2'!$G$12:$G$136,(MATCH($D31,'NLM Data Test 2'!$D$12:$D$136,0)),1)))","v":{"$error":"#N/A"}},{"$f":"IF(IFERROR(MATCH($D31,'NLM Data Test 2'!$D$12:$D$136,0),\"Error\")=\"Error\",(INDEX('NLM Data Test 1'!$F$12:$F$136,(MATCH($D31,'NLM Data Test 1'!$W$12:$W$136,0)),1)),(INDEX('NLM Data Test 2'!$F$12:$F$136,(MATCH($D31,'NLM Data Test 2'!$D$12:$D$136,0)),1)))","v":{"$error":"#N/A"}},{"$f":"IF(INDEX('NLM Data Test 1'!$H$12:$H$136,(MATCH(NLML.ChangeInScores.PrePostDataset[[#This Row],[First Name & Last Name*\n(choose from list)]],'NLM Data Test 1'!$W$12:$W$136,0)),1)=\"\",\"\",(INDEX('NLM Data Test 1'!H$12:H$136,(MATCH(NLML.ChangeInScores.PrePostDataset[[#This Row],[First Name & Last Name*\n(choose from list)]],'NLM Data Test 1'!$W$12:$W$136,0)),1)))","v":{"$error":"#N/A"}},{"$f":"IF(INDEX('NLM Data Test 1'!$I$12:$I$136,(MATCH(NLML.ChangeInScores.PrePostDataset[[#This Row],[First Name & Last Name*\n(choose from list)]],'NLM Data Test 1'!$W$12:$W$136,0)),1)=\"\",\"\",(INDEX('NLM Data Test 1'!I$12:I$136,(MATCH(NLML.ChangeInScores.PrePostDataset[[#This Row],[First Name & Last Name*\n(choose from list)]],'NLM Data Test 1'!$W$12:$W$136,0)),1)))","v":{"$error":"#N/A"}},{"$f":"IF(INDEX('NLM Data Test 1'!$J$12:$J$136,(MATCH(NLML.ChangeInScores.PrePostDataset[[#This Row],[First Name & Last Name*\n(choose from list)]],'NLM Data Test 1'!$W$12:$W$136,0)),1)=\"\",\"\",(INDEX('NLM Data Test 1'!J$12:J$136,(MATCH(NLML.ChangeInScores.PrePostDataset[[#This Row],[First Name & Last Name*\n(choose from list)]],'NLM Data Test 1'!$W$12:$W$136,0)),1)))","v":{"$error":"#N/A"}},{"$f":"IFERROR(INDEX('NLM Data Test 1'!$M$12:$M$136,(MATCH(NLML.ChangeInScores.PrePostDataset[[#This Row],[First Name & Last Name*\n(choose from list)]],'NLM Data Test 1'!$W$12:$W$136,0)),1),\"\")","v":""},{"$f":"INDEX('NLM Data Test 2'!$I$12:$I$136,(MATCH(NLML.ChangeInScores.PrePostDataset[[#This Row],[First Name & Last Name*\n(choose from list)]],'NLM Data Test 2'!$D$12:$D$136,0)),1)","v":{"$error":"#N/A"}},{"$f":"IFERROR(INDEX('NLM Data Test 2'!$J$12:$J$136,(MATCH(NLML.ChangeInScores.PrePostDataset[[#This Row],[First Name & Last Name*\n(choose from list)]],'NLM Data Test 2'!$X$12:$X$136,0)),1),\"\")","v":""},{"$f":"IFERROR(INDEX('NLM Data Test 2'!$K$12:$K$136,(MATCH(NLML.ChangeInScores.PrePostDataset[[#This Row],[First Name & Last Name*\n(choose from list)]],'NLM Data Test 2'!$X$12:$X$136,0)),1),\"\")","v":""},{"$f":"IFERROR(INDEX('NLM Data Test 2'!$N$12:$N$136,(MATCH(NLML.ChangeInScores.PrePostDataset[[#This Row],[First Name & Last Name*\n(choose from list)]],'NLM Data Test 2'!$X$12:$X$136,0)),1),\"\")","v":""},{"$f":"(INDEX('NLM Data Test 2'!$O$12:$O$136,(MATCH(NLML.ChangeInScores.PrePostDataset[[#This Row],[First Name & Last Name*\n(choose from list)]],'NLM Data Test 2'!$X$12:$X$136,0)),1))-(INDEX('NLM Data Test 1'!$N$12:$N$136,(MATCH(NLML.ChangeInScores.PrePostDataset[[#This Row],[First Name & Last Name*\n(choose from list)]],'NLM Data Test 1'!$W$12:$W$136,0)),1))","v":{"$error":"#N/A"}},{"$f":"(INDEX('NLM Data Test 2'!$P$12:$P$136,(MATCH(NLML.ChangeInScores.PrePostDataset[[#This Row],[First Name & Last Name*\n(choose from list)]],'NLM Data Test 2'!$X$12:$X$136,0)),1))-(INDEX('NLM Data Test 1'!$O$12:$O$136,(MATCH(NLML.ChangeInScores.PrePostDataset[[#This Row],[First Name & Last Name*\n(choose from list)]],'NLM Data Test 1'!$W$12:$W$136,0)),1))","v":{"$error":"#N/A"}},{"$f":"(INDEX('NLM Data Test 2'!$Q$12:$Q$136,(MATCH(NLML.ChangeInScores.PrePostDataset[[#This Row],[First Name & Last Name*\n(choose from list)]],'NLM Data Test 2'!$X$12:$X$136,0)),1))-(INDEX('NLM Data Test 1'!$P$12:$P$136,(MATCH(NLML.ChangeInScores.PrePostDataset[[#This Row],[First Name & Last Name*\n(choose from list)]],'NLM Data Test 1'!$W$12:$W$136,0)),1))","v":{"$error":"#N/A"}},{"$f":"(INDEX('NLM Data Test 2'!$R$12:$R$136,(MATCH(NLML.ChangeInScores.PrePostDataset[[#This Row],[First Name & Last Name*\n(choose from list)]],'NLM Data Test 2'!$X$12:$X$136,0)),1))-(INDEX('NLM Data Test 1'!$Q$12:$Q$136,(MATCH(NLML.ChangeInScores.PrePostDataset[[#This Row],[First Name & Last Name*\n(choose from list)]],'NLM Data Test 1'!$W$12:$W$136,0)),1))","v":{"$error":"#N/A"}},{"$f":"(INDEX('NLM Data Test 2'!$S$12:$S$136,(MATCH(NLML.ChangeInScores.PrePostDataset[[#This Row],[First Name & Last Name*\n(choose from list)]],'NLM Data Test 2'!$X$12:$X$136,0)),1))-(INDEX('NLM Data Test 1'!$R$12:$R$136,(MATCH(NLML.ChangeInScores.PrePostDataset[[#This Row],[First Name & Last Name*\n(choose from list)]],'NLM Data Test 1'!$W$12:$W$136,0)),1))","v":{"$error":"#N/A"}},{"$f":"(INDEX('NLM Data Test 2'!$T$12:$T$136,(MATCH(NLML.ChangeInScores.PrePostDataset[[#This Row],[First Name & Last Name*\n(choose from list)]],'NLM Data Test 2'!$X$12:$X$136,0)),1))-(INDEX('NLM Data Test 1'!$S$12:$S$136,(MATCH(NLML.ChangeInScores.PrePostDataset[[#This Row],[First Name & Last Name*\n(choose from list)]],'NLM Data Test 1'!$W$12:$W$136,0)),1))","v":{"$error":"#N/A"}},{"$f":"IFERROR(INDEX('NLM Data Test 1'!$T$12:$T$136,(MATCH(NLML.ChangeInScores.PrePostDataset[[#This Row],[First Name & Last Name*\n(choose from list)]],'NLM Data Test 1'!$W$12:$W$136,0)),1),\"\")","v":""},{"$f":"IFERROR(INDEX('NLM Data Test 2'!$U$12:$U$136,(MATCH(NLML.ChangeInScores.PrePostDataset[[#This Row],[First Name & Last Name*\n(choose from list)]],'NLM Data Test 2'!$X$12:$X$136,0)),1),\"\")","v":""}]
[17,{"$f":"IFERROR(INDEX(NLML.Test1.PrePostDataset[*First Name],(MATCH(NLML.ChangeInScores.PrePostDataset[[#This Row],[First Name & Last Name*\n(choose from list)]],'NLM Data Test 1'!W28:W152,0)),1),\"\")","v":""},{"$f":"IFERROR(INDEX(NLML.Test1.PrePostDataset[*Last Name],(MATCH(NLML.ChangeInScores.PrePostDataset[[#This Row],[First Name & Last Name*\n(choose from list)]],'NLM Data Test 1'!W28:W152,0)),1),\"\")","v":""},{"$f":"'NLM Data Test 2'!D28","v":0},{"$f":"IF(IFERROR(MATCH($D32,'NLM Data Test 2'!$D$12:$D$136,0),\"Error\")=\"Error\",(INDEX('NLM Data Test 1'!$D$12:$D$136,(MATCH($D32,'NLM Data Test 1'!$W$12:$W$136,0)),1)),(INDEX('NLM Data Test 2'!$E$12:$E$136,(MATCH($D32,'NLM Data Test 2'!$D$12:$D$136,0)),1)))","v":{"$error":"#N/A"}},{"$f":"IF(IFERROR(MATCH($D32,'NLM Data Test 2'!$D$12:$D$136,0),\"Error\")=\"Error\",(INDEX('NLM Data Test 1'!$E$12:$E$136,(MATCH($D32,'NLM Data Test 1'!$W$12:$W$136,0)),1)),(INDEX('NLM Data Test 2'!$G$12:$G$136,(MATCH($D32,'NLM Data Test 2'!$D$12:$D$136,0)),1)))","v":{"$error":"#N/A"}},{"$f":"IF(IFERROR(MATCH($D32,'NLM Data Test 2'!$D$12:$D$136,0),\"Error\")=\"Error\",(INDEX('NLM Data Test 1'!$F$12:$F$136,(MATCH($D32,'NLM Data Test 1'!$W$12:$W$136,0)),1)),(INDEX('NLM Data Test 2'!$F$12:$F$136,(MATCH($D32,'NLM Data Test 2'!$D$12:$D$136,0)),1)))","v":{"$error":"#N/A"}},{"$f":"IF(INDEX('NLM Data Test 1'!$H$12:$H$136,(MATCH(NLML.ChangeInScores.PrePostDataset[[#This Row],[First Name & Last Name*\n(choose from list)]],'NLM Data Test 1'!$W$12:$W$136,0)),1)=\"\",\"\",(INDEX('NLM Data Test 1'!H$12:H$136,(MATCH(NLML.ChangeInScores.PrePostDataset[[#This Row],[First Name & Last Name*\n(choose from list)]],'NLM Data Test 1'!$W$12:$W$136,0)),1)))","v":{"$error":"#N/A"}},{"$f":"IF(INDEX('NLM Data Test 1'!$I$12:$I$136,(MATCH(NLML.ChangeInScores.PrePostDataset[[#This Row],[First Name & Last Name*\n(choose from list)]],'NLM Data Test 1'!$W$12:$W$136,0)),1)=\"\",\"\",(INDEX('NLM Data Test 1'!I$12:I$136,(MATCH(NLML.ChangeInScores.PrePostDataset[[#This Row],[First Name & Last Name*\n(choose from list)]],'NLM Data Test 1'!$W$12:$W$136,0)),1)))","v":{"$error":"#N/A"}},{"$f":"IF(INDEX('NLM Data Test 1'!$J$12:$J$136,(MATCH(NLML.ChangeInScores.PrePostDataset[[#This Row],[First Name & Last Name*\n(choose from list)]],'NLM Data Test 1'!$W$12:$W$136,0)),1)=\"\",\"\",(INDEX('NLM Data Test 1'!J$12:J$136,(MATCH(NLML.ChangeInScores.PrePostDataset[[#This Row],[First Name & Last Name*\n(choose from list)]],'NLM Data Test 1'!$W$12:$W$136,0)),1)))","v":{"$error":"#N/A"}},{"$f":"IFERROR(INDEX('NLM Data Test 1'!$M$12:$M$136,(MATCH(NLML.ChangeInScores.PrePostDataset[[#This Row],[First Name & Last Name*\n(choose from list)]],'NLM Data Test 1'!$W$12:$W$136,0)),1),\"\")","v":""},{"$f":"INDEX('NLM Data Test 2'!$I$12:$I$136,(MATCH(NLML.ChangeInScores.PrePostDataset[[#This Row],[First Name & Last Name*\n(choose from list)]],'NLM Data Test 2'!$D$12:$D$136,0)),1)","v":{"$error":"#N/A"}},{"$f":"IFERROR(INDEX('NLM Data Test 2'!$J$12:$J$136,(MATCH(NLML.ChangeInScores.PrePostDataset[[#This Row],[First Name & Last Name*\n(choose from list)]],'NLM Data Test 2'!$X$12:$X$136,0)),1),\"\")","v":""},{"$f":"IFERROR(INDEX('NLM Data Test 2'!$K$12:$K$136,(MATCH(NLML.ChangeInScores.PrePostDataset[[#This Row],[First Name & Last Name*\n(choose from list)]],'NLM Data Test 2'!$X$12:$X$136,0)),1),\"\")","v":""},{"$f":"IFERROR(INDEX('NLM Data Test 2'!$N$12:$N$136,(MATCH(NLML.ChangeInScores.PrePostDataset[[#This Row],[First Name & Last Name*\n(choose from list)]],'NLM Data Test 2'!$X$12:$X$136,0)),1),\"\")","v":""},{"$f":"(INDEX('NLM Data Test 2'!$O$12:$O$136,(MATCH(NLML.ChangeInScores.PrePostDataset[[#This Row],[First Name & Last Name*\n(choose from list)]],'NLM Data Test 2'!$X$12:$X$136,0)),1))-(INDEX('NLM Data Test 1'!$N$12:$N$136,(MATCH(NLML.ChangeInScores.PrePostDataset[[#This Row],[First Name & Last Name*\n(choose from list)]],'NLM Data Test 1'!$W$12:$W$136,0)),1))","v":{"$error":"#N/A"}},{"$f":"(INDEX('NLM Data Test 2'!$P$12:$P$136,(MATCH(NLML.ChangeInScores.PrePostDataset[[#This Row],[First Name & Last Name*\n(choose from list)]],'NLM Data Test 2'!$X$12:$X$136,0)),1))-(INDEX('NLM Data Test 1'!$O$12:$O$136,(MATCH(NLML.ChangeInScores.PrePostDataset[[#This Row],[First Name & Last Name*\n(choose from list)]],'NLM Data Test 1'!$W$12:$W$136,0)),1))","v":{"$error":"#N/A"}},{"$f":"(INDEX('NLM Data Test 2'!$Q$12:$Q$136,(MATCH(NLML.ChangeInScores.PrePostDataset[[#This Row],[First Name & Last Name*\n(choose from list)]],'NLM Data Test 2'!$X$12:$X$136,0)),1))-(INDEX('NLM Data Test 1'!$P$12:$P$136,(MATCH(NLML.ChangeInScores.PrePostDataset[[#This Row],[First Name & Last Name*\n(choose from list)]],'NLM Data Test 1'!$W$12:$W$136,0)),1))","v":{"$error":"#N/A"}},{"$f":"(INDEX('NLM Data Test 2'!$R$12:$R$136,(MATCH(NLML.ChangeInScores.PrePostDataset[[#This Row],[First Name & Last Name*\n(choose from list)]],'NLM Data Test 2'!$X$12:$X$136,0)),1))-(INDEX('NLM Data Test 1'!$Q$12:$Q$136,(MATCH(NLML.ChangeInScores.PrePostDataset[[#This Row],[First Name & Last Name*\n(choose from list)]],'NLM Data Test 1'!$W$12:$W$136,0)),1))","v":{"$error":"#N/A"}},{"$f":"(INDEX('NLM Data Test 2'!$S$12:$S$136,(MATCH(NLML.ChangeInScores.PrePostDataset[[#This Row],[First Name & Last Name*\n(choose from list)]],'NLM Data Test 2'!$X$12:$X$136,0)),1))-(INDEX('NLM Data Test 1'!$R$12:$R$136,(MATCH(NLML.ChangeInScores.PrePostDataset[[#This Row],[First Name & Last Name*\n(choose from list)]],'NLM Data Test 1'!$W$12:$W$136,0)),1))","v":{"$error":"#N/A"}},{"$f":"(INDEX('NLM Data Test 2'!$T$12:$T$136,(MATCH(NLML.ChangeInScores.PrePostDataset[[#This Row],[First Name & Last Name*\n(choose from list)]],'NLM Data Test 2'!$X$12:$X$136,0)),1))-(INDEX('NLM Data Test 1'!$S$12:$S$136,(MATCH(NLML.ChangeInScores.PrePostDataset[[#This Row],[First Name & Last Name*\n(choose from list)]],'NLM Data Test 1'!$W$12:$W$136,0)),1))","v":{"$error":"#N/A"}},{"$f":"IFERROR(INDEX('NLM Data Test 1'!$T$12:$T$136,(MATCH(NLML.ChangeInScores.PrePostDataset[[#This Row],[First Name & Last Name*\n(choose from list)]],'NLM Data Test 1'!$W$12:$W$136,0)),1),\"\")","v":""},{"$f":"IFERROR(INDEX('NLM Data Test 2'!$U$12:$U$136,(MATCH(NLML.ChangeInScores.PrePostDataset[[#This Row],[First Name & Last Name*\n(choose from list)]],'NLM Data Test 2'!$X$12:$X$136,0)),1),\"\")","v":""}]
[18,{"$f":"IFERROR(INDEX(NLML.Test1.PrePostDataset[*First Name],(MATCH(NLML.ChangeInScores.PrePostDataset[[#This Row],[First Name & Last Name*\n(choose from list)]],'NLM Data Test 1'!W29:W153,0)),1),\"\")","v":""},{"$f":"IFERROR(INDEX(NLML.Test1.PrePostDataset[*Last Name],(MATCH(NLML.ChangeInScores.PrePostDataset[[#This Row],[First Name & Last Name*\n(choose from list)]],'NLM Data Test 1'!W29:W153,0)),1),\"\")","v":""},{"$f":"'NLM Data Test 2'!D29","v":0},{"$f":"IF(IFERROR(MATCH($D33,'NLM Data Test 2'!$D$12:$D$136,0),\"Error\")=\"Error\",(INDEX('NLM Data Test 1'!$D$12:$D$136,(MATCH($D33,'NLM Data Test 1'!$W$12:$W$136,0)),1)),(INDEX('NLM Data Test 2'!$E$12:$E$136,(MATCH($D33,'NLM Data Test 2'!$D$12:$D$136,0)),1)))","v":{"$error":"#N/A"}},{"$f":"IF(IFERROR(MATCH($D33,'NLM Data Test 2'!$D$12:$D$136,0),\"Error\")=\"Error\",(INDEX('NLM Data Test 1'!$E$12:$E$136,(MATCH($D33,'NLM Data Test 1'!$W$12:$W$136,0)),1)),(INDEX('NLM Data Test 2'!$G$12:$G$136,(MATCH($D33,'NLM Data Test 2'!$D$12:$D$136,0)),1)))","v":{"$error":"#N/A"}},{"$f":"IF(IFERROR(MATCH($D33,'NLM Data Test 2'!$D$12:$D$136,0),\"Error\")=\"Error\",(INDEX('NLM Data Test 1'!$F$12:$F$136,(MATCH($D33,'NLM Data Test 1'!$W$12:$W$136,0)),1)),(INDEX('NLM Data Test 2'!$F$12:$F$136,(MATCH($D33,'NLM Data Test 2'!$D$12:$D$136,0)),1)))","v":{"$error":"#N/A"}},{"$f":"IF(INDEX('NLM Data Test 1'!$H$12:$H$136,(MATCH(NLML.ChangeInScores.PrePostDataset[[#This Row],[First Name & Last Name*\n(choose from list)]],'NLM Data Test 1'!$W$12:$W$136,0)),1)=\"\",\"\",(INDEX('NLM Data Test 1'!H$12:H$136,(MATCH(NLML.ChangeInScores.PrePostDataset[[#This Row],[First Name & Last Name*\n(choose from list)]],'NLM Data Test 1'!$W$12:$W$136,0)),1)))","v":{"$error":"#N/A"}},{"$f":"IF(INDEX('NLM Data Test 1'!$I$12:$I$136,(MATCH(NLML.ChangeInScores.PrePostDataset[[#This Row],[First Name & Last Name*\n(choose from list)]],'NLM Data Test 1'!$W$12:$W$136,0)),1)=\"\",\"\",(INDEX('NLM Data Test 1'!I$12:I$136,(MATCH(NLML.ChangeInScores.PrePostDataset[[#This Row],[First Name & Last Name*\n(choose from list)]],'NLM Data Test 1'!$W$12:$W$136,0)),1)))","v":{"$error":"#N/A"}},{"$f":"IF(INDEX('NLM Data Test 1'!$J$12:$J$136,(MATCH(NLML.ChangeInScores.PrePostDataset[[#This Row],[First Name & Last Name*\n(choose from list)]],'NLM Data Test 1'!$W$12:$W$136,0)),1)=\"\",\"\",(INDEX('NLM Data Test 1'!J$12:J$136,(MATCH(NLML.ChangeInScores.PrePostDataset[[#This Row],[First Name & Last Name*\n(choose from list)]],'NLM Data Test 1'!$W$12:$W$136,0)),1)))","v":{"$error":"#N/A"}},{"$f":"IFERROR(INDEX('NLM Data Test 1'!$M$12:$M$136,(MATCH(NLML.ChangeInScores.PrePostDataset[[#This Row],[First Name & Last Name*\n(choose from list)]],'NLM Data Test 1'!$W$12:$W$136,0)),1),\"\")","v":""},{"$f":"INDEX('NLM Data Test 2'!$I$12:$I$136,(MATCH(NLML.ChangeInScores.PrePostDataset[[#This Row],[First Name & Last Name*\n(choose from list)]],'NLM Data Test 2'!$D$12:$D$136,0)),1)","v":{"$error":"#N/A"}},{"$f":"IFERROR(INDEX('NLM Data Test 2'!$J$12:$J$136,(MATCH(NLML.ChangeInScores.PrePostDataset[[#This Row],[First Name & Last Name*\n(choose from list)]],'NLM Data Test 2'!$X$12:$X$136,0)),1),\"\")","v":""},{"$f":"IFERROR(INDEX('NLM Data Test 2'!$K$12:$K$136,(MATCH(NLML.ChangeInScores.PrePostDataset[[#This Row],[First Name & Last Name*\n(choose from list)]],'NLM Data Test 2'!$X$12:$X$136,0)),1),\"\")","v":""},{"$f":"IFERROR(INDEX('NLM Data Test 2'!$N$12:$N$136,(MATCH(NLML.ChangeInScores.PrePostDataset[[#This Row],[First Name & Last Name*\n(choose from list)]],'NLM Data Test 2'!$X$12:$X$136,0)),1),\"\")","v":""},{"$f":"(INDEX('NLM Data Test 2'!$O$12:$O$136,(MATCH(NLML.ChangeInScores.PrePostDataset[[#This Row],[First Name & Last Name*\n(choose from list)]],'NLM Data Test 2'!$X$12:$X$136,0)),1))-(INDEX('NLM Data Test 1'!$N$12:$N$136,(MATCH(NLML.ChangeInScores.PrePostDataset[[#This Row],[First Name & Last Name*\n(choose from list)]],'NLM Data Test 1'!$W$12:$W$136,0)),1))","v":{"$error":"#N/A"}},{"$f":"(INDEX('NLM Data Test 2'!$P$12:$P$136,(MATCH(NLML.ChangeInScores.PrePostDataset[[#This Row],[First Name & Last Name*\n(choose from list)]],'NLM Data Test 2'!$X$12:$X$136,0)),1))-(INDEX('NLM Data Test 1'!$O$12:$O$136,(MATCH(NLML.ChangeInScores.PrePostDataset[[#This Row],[First Name & Last Name*\n(choose from list)]],'NLM Data Test 1'!$W$12:$W$136,0)),1))","v":{"$error":"#N/A"}},{"$f":"(INDEX('NLM Data Test 2'!$Q$12:$Q$136,(MATCH(NLML.ChangeInScores.PrePostDataset[[#This Row],[First Name & Last Name*\n(choose from list)]],'NLM Data Test 2'!$X$12:$X$136,0)),1))-(INDEX('NLM Data Test 1'!$P$12:$P$136,(MATCH(NLML.ChangeInScores.PrePostDataset[[#This Row],[First Name & Last Name*\n(choose from list)]],'NLM Data Test 1'!$W$12:$W$136,0)),1))","v":{"$error":"#N/A"}},{"$f":"(INDEX('NLM Data Test 2'!$R$12:$R$136,(MATCH(NLML.ChangeInScores.PrePostDataset[[#This Row],[First Name & Last Name*\n(choose from list)]],'NLM Data Test 2'!$X$12:$X$136,0)),1))-(INDEX('NLM Data Test 1'!$Q$12:$Q$136,(MATCH(NLML.ChangeInScores.PrePostDataset[[#This Row],[First Name & Last Name*\n(choose from list)]],'NLM Data Test 1'!$W$12:$W$136,0)),1))","v":{"$error":"#N/A"}},{"$f":"(INDEX('NLM Data Test 2'!$S$12:$S$136,(MATCH(NLML.ChangeInScores.PrePostDataset[[#This Row],[First Name & Last Name*\n(choose from list)]],'NLM Data Test 2'!$X$12:$X$136,0)),1))-(INDEX('NLM Data Test 1'!$R$12:$R$136,(MATCH(NLML.ChangeInScores.PrePostDataset[[#This Row],[First Name & Last Name*\n(choose from list)]],'NLM Data Test 1'!$W$12:$W$136,0)),1))","v":{"$error":"#N/A"}},{"$f":"(INDEX('NLM Data Test 2'!$T$12:$T$136,(MATCH(NLML.ChangeInScores.PrePostDataset[[#This Row],[First Name & Last Name*\n(choose from list)]],'NLM Data Test 2'!$X$12:$X$136,0)),1))-(INDEX('NLM Data Test 1'!$S$12:$S$136,(MATCH(NLML.ChangeInScores.PrePostDataset[[#This Row],[First Name & Last Name*\n(choose from list)]],'NLM Data Test 1'!$W$12:$W$136,0)),1))","v":{"$error":"#N/A"}},{"$f":"IFERROR(INDEX('NLM Data Test 1'!$T$12:$T$136,(MATCH(NLML.ChangeInScores.PrePostDataset[[#This Row],[First Name & Last Name*\n(choose from list)]],'NLM Data Test 1'!$W$12:$W$136,0)),1),\"\")","v":""},{"$f":"IFERROR(INDEX('NLM Data Test 2'!$U$12:$U$136,(MATCH(NLML.ChangeInScores.PrePostDataset[[#This Row],[First Name & Last Name*\n(choose from list)]],'NLM Data Test 2'!$X$12:$X$136,0)),1),\"\")","v":""}]
[19,{"$f":"IFERROR(INDEX(NLML.Test1.PrePostDataset[*First Name],(MATCH(NLML.ChangeInScores.PrePostDataset[[#This Row],[First Name & Last Name*\n(choose from list)]],'NLM Data Test 1'!W30:W154,0)),1),\"\")","v":""},{"$f":"IFERROR(INDEX(NLML.Test1.PrePostDataset[*Last Name],(MATCH(NLML.ChangeInScores.PrePostDataset[[#This Row],[First Name & Last Name*\n(choose from list)]],'NLM Data Test 1'!W30:W154,0)),1),\"\")","v":""},{"$f":"'NLM Data Test 2'!D30","v":0},{"$f":"IF(IFERROR(MATCH($D34,'NLM Data Test 2'!$D$12:$D$136,0),\"Error\")=\"Error\",(INDEX('NLM Data Test 1'!$D$12:$D$136,(MATCH($D34,'NLM Data Test 1'!$W$12:$W$136,0)),1)),(INDEX('NLM Data Test 2'!$E$12:$E$136,(MATCH($D34,'NLM Data Test 2'!$D$12:$D$136,0)),1)))","v":{"$error":"#N/A"}},{"$f":"IF(IFERROR(MATCH($D34,'NLM Data Test 2'!$D$12:$D$136,0),\"Error\")=\"Error\",(INDEX('NLM Data Test 1'!$E$12:$E$136,(MATCH($D34,'NLM Data Test 1'!$W$12:$W$136,0)),1)),(INDEX('NLM Data Test 2'!$G$12:$G$136,(MATCH($D34,'NLM Data Test 2'!$D$12:$D$136,0)),1)))","v":{"$error":"#N/A"}},{"$f":"IF(IFERROR(MATCH($D34,'NLM Data Test 2'!$D$12:$D$136,0),\"Error\")=\"Error\",(INDEX('NLM Data Test 1'!$F$12:$F$136,(MATCH($D34,'NLM Data Test 1'!$W$12:$W$136,0)),1)),(INDEX('NLM Data Test 2'!$F$12:$F$136,(MATCH($D34,'NLM Data Test 2'!$D$12:$D$136,0)),1)))","v":{"$error":"#N/A"}},{"$f":"IF(INDEX('NLM Data Test 1'!$H$12:$H$136,(MATCH(NLML.ChangeInScores.PrePostDataset[[#This Row],[First Name & Last Name*\n(choose from list)]],'NLM Data Test 1'!$W$12:$W$136,0)),1)=\"\",\"\",(INDEX('NLM Data Test 1'!H$12:H$136,(MATCH(NLML.ChangeInScores.PrePostDataset[[#This Row],[First Name & Last Name*\n(choose from list)]],'NLM Data Test 1'!$W$12:$W$136,0)),1)))","v":{"$error":"#N/A"}},{"$f":"IF(INDEX('NLM Data Test 1'!$I$12:$I$136,(MATCH(NLML.ChangeInScores.PrePostDataset[[#This Row],[First Name & Last Name*\n(choose from list)]],'NLM Data Test 1'!$W$12:$W$136,0)),1)=\"\",\"\",(INDEX('NLM Data Test 1'!I$12:I$136,(MATCH(NLML.ChangeInScores.PrePostDataset[[#This Row],[First Name & Last Name*\n(choose from list)]],'NLM Data Test 1'!$W$12:$W$136,0)),1)))","v":{"$error":"#N/A"}},{"$f":"IF(INDEX('NLM Data Test 1'!$J$12:$J$136,(MATCH(NLML.ChangeInScores.PrePostDataset[[#This Row],[First Name & Last Name*\n(choose from list)]],'NLM Data Test 1'!$W$12:$W$136,0)),1)=\"\",\"\",(INDEX('NLM Data Test 1'!J$12:J$136,(MATCH(NLML.ChangeInScores.PrePostDataset[[#This Row],[First Name & Last Name*\n(choose from list)]],'NLM Data Test 1'!$W$12:$W$136,0)),1)))","v":{"$error":"#N/A"}},{"$f":"IFERROR(INDEX('NLM Data Test 1'!$M$12:$M$136,(MATCH(NLML.ChangeInScores.PrePostDataset[[#This Row],[First Name & Last Name*\n(choose from list)]],'NLM Data Test 1'!$W$12:$W$136,0)),1),\"\")","v":""},{"$f":"INDEX('NLM Data Test 2'!$I$12:$I$136,(MATCH(NLML.ChangeInScores.PrePostDataset[[#This Row],[First Name & Last Name*\n(choose from list)]],'NLM Data Test 2'!$D$12:$D$136,0)),1)","v":{"$error":"#N/A"}},{"$f":"IFERROR(INDEX('NLM Data Test 2'!$J$12:$J$136,(MATCH(NLML.ChangeInScores.PrePostDataset[[#This Row],[First Name & Last Name*\n(choose from list)]],'NLM Data Test 2'!$X$12:$X$136,0)),1),\"\")","v":""},{"$f":"IFERROR(INDEX('NLM Data Test 2'!$K$12:$K$136,(MATCH(NLML.ChangeInScores.PrePostDataset[[#This Row],[First Name & Last Name*\n(choose from list)]],'NLM Data Test 2'!$X$12:$X$136,0)),1),\"\")","v":""},{"$f":"IFERROR(INDEX('NLM Data Test 2'!$N$12:$N$136,(MATCH(NLML.ChangeInScores.PrePostDataset[[#This Row],[First Name & Last Name*\n(choose from list)]],'NLM Data Test 2'!$X$12:$X$136,0)),1),\"\")","v":""},{"$f":"(INDEX('NLM Data Test 2'!$O$12:$O$136,(MATCH(NLML.ChangeInScores.PrePostDataset[[#This Row],[First Name & Last Name*\n(choose from list)]],'NLM Data Test 2'!$X$12:$X$136,0)),1))-(INDEX('NLM Data Test 1'!$N$12:$N$136,(MATCH(NLML.ChangeInScores.PrePostDataset[[#This Row],[First Name & Last Name*\n(choose from list)]],'NLM Data Test 1'!$W$12:$W$136,0)),1))","v":{"$error":"#N/A"}},{"$f":"(INDEX('NLM Data Test 2'!$P$12:$P$136,(MATCH(NLML.ChangeInScores.PrePostDataset[[#This Row],[First Name & Last Name*\n(choose from list)]],'NLM Data Test 2'!$X$12:$X$136,0)),1))-(INDEX('NLM Data Test 1'!$O$12:$O$136,(MATCH(NLML.ChangeInScores.PrePostDataset[[#This Row],[First Name & Last Name*\n(choose from list)]],'NLM Data Test 1'!$W$12:$W$136,0)),1))","v":{"$error":"#N/A"}},{"$f":"(INDEX('NLM Data Test 2'!$Q$12:$Q$136,(MATCH(NLML.ChangeInScores.PrePostDataset[[#This Row],[First Name & Last Name*\n(choose from list)]],'NLM Data Test 2'!$X$12:$X$136,0)),1))-(INDEX('NLM Data Test 1'!$P$12:$P$136,(MATCH(NLML.ChangeInScores.PrePostDataset[[#This Row],[First Name & Last Name*\n(choose from list)]],'NLM Data Test 1'!$W$12:$W$136,0)),1))","v":{"$error":"#N/A"}},{"$f":"(INDEX('NLM Data Test 2'!$R$12:$R$136,(MATCH(NLML.ChangeInScores.PrePostDataset[[#This Row],[First Name & Last Name*\n(choose from list)]],'NLM Data Test 2'!$X$12:$X$136,0)),1))-(INDEX('NLM Data Test 1'!$Q$12:$Q$136,(MATCH(NLML.ChangeInScores.PrePostDataset[[#This Row],[First Name & Last Name*\n(choose from list)]],'NLM Data Test 1'!$W$12:$W$136,0)),1))","v":{"$error":"#N/A"}},{"$f":"(INDEX('NLM Data Test 2'!$S$12:$S$136,(MATCH(NLML.ChangeInScores.PrePostDataset[[#This Row],[First Name & Last Name*\n(choose from list)]],'NLM Data Test 2'!$X$12:$X$136,0)),1))-(INDEX('NLM Data Test 1'!$R$12:$R$136,(MATCH(NLML.ChangeInScores.PrePostDataset[[#This Row],[First Name & Last Name*\n(choose from list)]],'NLM Data Test 1'!$W$12:$W$136,0)),1))","v":{"$error":"#N/A"}},{"$f":"(INDEX('NLM Data Test 2'!$T$12:$T$136,(MATCH(NLML.ChangeInScores.PrePostDataset[[#This Row],[First Name & Last Name*\n(choose from list)]],'NLM Data Test 2'!$X$12:$X$136,0)),1))-(INDEX('NLM Data Test 1'!$S$12:$S$136,(MATCH(NLML.ChangeInScores.PrePostDataset[[#This Row],[First Name & Last Name*\n(choose from list)]],'NLM Data Test 1'!$W$12:$W$136,0)),1))","v":{"$error":"#N/A"}},{"$f":"IFERROR(INDEX('NLM Data Test 1'!$T$12:$T$136,(MATCH(NLML.ChangeInScores.PrePostDataset[[#This Row],[First Name & Last Name*\n(choose from list)]],'NLM Data Test 1'!$W$12:$W$136,0)),1),\"\")","v":""},{"$f":"IFERROR(INDEX('NLM Data Test 2'!$U$12:$U$136,(MATCH(NLML.ChangeInScores.PrePostDataset[[#This Row],[First Name & Last Name*\n(choose from list)]],'NLM Data Test 2'!$X$12:$X$136,0)),1),\"\")","v":""}]
[20,{"$f":"IFERROR(INDEX(NLML.Test1.PrePostDataset[*First Name],(MATCH(NLML.ChangeInScores.PrePostDataset[[#This Row],[First Name & Last Name*\n(choose from list)]],'NLM Data Test 1'!W31:W155,0)),1),\"\")","v":""},{"$f":"IFERROR(INDEX(NLML.Test1.PrePostDataset[*Last Name],(MATCH(NLML.ChangeInScores.PrePostDataset[[#This Row],[First Name & Last Name*\n(choose from list)]],'NLM Data Test 1'!W31:W155,0)),1),\"\")","v":""},{"$f":"'NLM Data Test 2'!D31","v":0},{"$f":"IF(IFERROR(MATCH($D35,'NLM Data Test 2'!$D$12:$D$136,0),\"Error\")=\"Error\",(INDEX('NLM Data Test 1'!$D$12:$D$136,(MATCH($D35,'NLM Data Test 1'!$W$12:$W$136,0)),1)),(INDEX('NLM Data Test 2'!$E$12:$E$136,(MATCH($D35,'NLM Data Test 2'!$D$12:$D$136,0)),1)))","v":{"$error":"#N/A"}},{"$f":"IF(IFERROR(MATCH($D35,'NLM Data Test 2'!$D$12:$D$136,0),\"Error\")=\"Error\",(INDEX('NLM Data Test 1'!$E$12:$E$136,(MATCH($D35,'NLM Data Test 1'!$W$12:$W$136,0)),1)),(INDEX('NLM Data Test 2'!$G$12:$G$136,(MATCH($D35,'NLM Data Test 2'!$D$12:$D$136,0)),1)))","v":{"$error":"#N/A"}},{"$f":"IF(IFERROR(MATCH($D35,'NLM Data Test 2'!$D$12:$D$136,0),\"Error\")=\"Error\",(INDEX('NLM Data Test 1'!$F$12:$F$136,(MATCH($D35,'NLM Data Test 1'!$W$12:$W$136,0)),1)),(INDEX('NLM Data Test 2'!$F$12:$F$136,(MATCH($D35,'NLM Data Test 2'!$D$12:$D$136,0)),1)))","v":{"$error":"#N/A"}},{"$f":"IF(INDEX('NLM Data Test 1'!$H$12:$H$136,(MATCH(NLML.ChangeInScores.PrePostDataset[[#This Row],[First Name & Last Name*\n(choose from list)]],'NLM Data Test 1'!$W$12:$W$136,0)),1)=\"\",\"\",(INDEX('NLM Data Test 1'!H$12:H$136,(MATCH(NLML.ChangeInScores.PrePostDataset[[#This Row],[First Name & Last Name*\n(choose from list)]],'NLM Data Test 1'!$W$12:$W$136,0)),1)))","v":{"$error":"#N/A"}},{"$f":"IF(INDEX('NLM Data Test 1'!$I$12:$I$136,(MATCH(NLML.ChangeInScores.PrePostDataset[[#This Row],[First Name & Last Name*\n(choose from list)]],'NLM Data Test 1'!$W$12:$W$136,0)),1)=\"\",\"\",(INDEX('NLM Data Test 1'!I$12:I$136,(MATCH(NLML.ChangeInScores.PrePostDataset[[#This Row],[First Name & Last Name*\n(choose from list)]],'NLM Data Test 1'!$W$12:$W$136,0)),1)))","v":{"$error":"#N/A"}},{"$f":"IF(INDEX('NLM Data Test 1'!$J$12:$J$136,(MATCH(NLML.ChangeInScores.PrePostDataset[[#This Row],[First Name & Last Name*\n(choose from list)]],'NLM Data Test 1'!$W$12:$W$136,0)),1)=\"\",\"\",(INDEX('NLM Data Test 1'!J$12:J$136,(MATCH(NLML.ChangeInScores.PrePostDataset[[#This Row],[First Name & Last Name*\n(choose from list)]],'NLM Data Test 1'!$W$12:$W$136,0)),1)))","v":{"$error":"#N/A"}},{"$f":"IFERROR(INDEX('NLM Data Test 1'!$M$12:$M$136,(MATCH(NLML.ChangeInScores.PrePostDataset[[#This Row],[First Name & Last Name*\n(choose from list)]],'NLM Data Test 1'!$W$12:$W$136,0)),1),\"\")","v":""},{"$f":"INDEX('NLM Data Test 2'!$I$12:$I$136,(MATCH(NLML.ChangeInScores.PrePostDataset[[#This Row],[First Name & Last Name*\n(choose from list)]],'NLM Data Test 2'!$D$12:$D$136,0)),1)","v":{"$error":"#N/A"}},{"$f":"IFERROR(INDEX('NLM Data Test 2'!$J$12:$J$136,(MATCH(NLML.ChangeInScores.PrePostDataset[[#This Row],[First Name & Last Name*\n(choose from list)]],'NLM Data Test 2'!$X$12:$X$136,0)),1),\"\")","v":""},{"$f":"IFERROR(INDEX('NLM Data Test 2'!$K$12:$K$136,(MATCH(NLML.ChangeInScores.PrePostDataset[[#This Row],[First Name & Last Name*\n(choose from list)]],'NLM Data Test 2'!$X$12:$X$136,0)),1),\"\")","v":""},{"$f":"IFERROR(INDEX('NLM Data Test 2'!$N$12:$N$136,(MATCH(NLML.ChangeInScores.PrePostDataset[[#This Row],[First Name & Last Name*\n(choose from list)]],'NLM Data Test 2'!$X$12:$X$136,0)),1),\"\")","v":""},{"$f":"(INDEX('NLM Data Test 2'!$O$12:$O$136,(MATCH(NLML.ChangeInScores.PrePostDataset[[#This Row],[First Name & Last Name*\n(choose from list)]],'NLM Data Test 2'!$X$12:$X$136,0)),1))-(INDEX('NLM Data Test 1'!$N$12:$N$136,(MATCH(NLML.ChangeInScores.PrePostDataset[[#This Row],[First Name & Last Name*\n(choose from list)]],'NLM Data Test 1'!$W$12:$W$136,0)),1))","v":{"$error":"#N/A"}},{"$f":"(INDEX('NLM Data Test 2'!$P$12:$P$136,(MATCH(NLML.ChangeInScores.PrePostDataset[[#This Row],[First Name & Last Name*\n(choose from list)]],'NLM Data Test 2'!$X$12:$X$136,0)),1))-(INDEX('NLM Data Test 1'!$O$12:$O$136,(MATCH(NLML.ChangeInScores.PrePostDataset[[#This Row],[First Name & Last Name*\n(choose from list)]],'NLM Data Test 1'!$W$12:$W$136,0)),1))","v":{"$error":"#N/A"}},{"$f":"(INDEX('NLM Data Test 2'!$Q$12:$Q$136,(MATCH(NLML.ChangeInScores.PrePostDataset[[#This Row],[First Name & Last Name*\n(choose from list)]],'NLM Data Test 2'!$X$12:$X$136,0)),1))-(INDEX('NLM Data Test 1'!$P$12:$P$136,(MATCH(NLML.ChangeInScores.PrePostDataset[[#This Row],[First Name & Last Name*\n(choose from list)]],'NLM Data Test 1'!$W$12:$W$136,0)),1))","v":{"$error":"#N/A"}},{"$f":"(INDEX('NLM Data Test 2'!$R$12:$R$136,(MATCH(NLML.ChangeInScores.PrePostDataset[[#This Row],[First Name & Last Name*\n(choose from list)]],'NLM Data Test 2'!$X$12:$X$136,0)),1))-(INDEX('NLM Data Test 1'!$Q$12:$Q$136,(MATCH(NLML.ChangeInScores.PrePostDataset[[#This Row],[First Name & Last Name*\n(choose from list)]],'NLM Data Test 1'!$W$12:$W$136,0)),1))","v":{"$error":"#N/A"}},{"$f":"(INDEX('NLM Data Test 2'!$S$12:$S$136,(MATCH(NLML.ChangeInScores.PrePostDataset[[#This Row],[First Name & Last Name*\n(choose from list)]],'NLM Data Test 2'!$X$12:$X$136,0)),1))-(INDEX('NLM Data Test 1'!$R$12:$R$136,(MATCH(NLML.ChangeInScores.PrePostDataset[[#This Row],[First Name & Last Name*\n(choose from list)]],'NLM Data Test 1'!$W$12:$W$136,0)),1))","v":{"$error":"#N/A"}},{"$f":"(INDEX('NLM Data Test 2'!$T$12:$T$136,(MATCH(NLML.ChangeInScores.PrePostDataset[[#This Row],[First Name & Last Name*\n(choose from list)]],'NLM Data Test 2'!$X$12:$X$136,0)),1))-(INDEX('NLM Data Test 1'!$S$12:$S$136,(MATCH(NLML.ChangeInScores.PrePostDataset[[#This Row],[First Name & Last Name*\n(choose from list)]],'NLM Data Test 1'!$W$12:$W$136,0)),1))","v":{"$error":"#N/A"}},{"$f":"IFERROR(INDEX('NLM Data Test 1'!$T$12:$T$136,(MATCH(NLML.ChangeInScores.PrePostDataset[[#This Row],[First Name & Last Name*\n(choose from list)]],'NLM Data Test 1'!$W$12:$W$136,0)),1),\"\")","v":""},{"$f":"IFERROR(INDEX('NLM Data Test 2'!$U$12:$U$136,(MATCH(NLML.ChangeInScores.PrePostDataset[[#This Row],[First Name & Last Name*\n(choose from list)]],'NLM Data Test 2'!$X$12:$X$136,0)),1),\"\")","v":""}]
[21,{"$f":"IFERROR(INDEX(NLML.Test1.PrePostDataset[*First Name],(MATCH(NLML.ChangeInScores.PrePostDataset[[#This Row],[First Name & Last Name*\n(choose from list)]],'NLM Data Test 1'!W32:W156,0)),1),\"\")","v":""},{"$f":"IFERROR(INDEX(NLML.Test1.PrePostDataset[*Last Name],(MATCH(NLML.ChangeInScores.PrePostDataset[[#This Row],[First Name & Last Name*\n(choose from list)]],'NLM Data Test 1'!W32:W156,0)),1),\"\")","v":""},{"$f":"'NLM Data Test 2'!D32","v":0},{"$f":"IF(IFERROR(MATCH($D36,'NLM Data Test 2'!$D$12:$D$136,0),\"Error\")=\"Error\",(INDEX('NLM Data Test 1'!$D$12:$D$136,(MATCH($D36,'NLM Data Test 1'!$W$12:$W$136,0)),1)),(INDEX('NLM Data Test 2'!$E$12:$E$136,(MATCH($D36,'NLM Data Test 2'!$D$12:$D$136,0)),1)))","v":{"$error":"#N/A"}},{"$f":"IF(IFERROR(MATCH($D36,'NLM Data Test 2'!$D$12:$D$136,0),\"Error\")=\"Error\",(INDEX('NLM Data Test 1'!$E$12:$E$136,(MATCH($D36,'NLM Data Test 1'!$W$12:$W$136,0)),1)),(INDEX('NLM Data Test 2'!$G$12:$G$136,(MATCH($D36,'NLM Data Test 2'!$D$12:$D$136,0)),1)))","v":{"$error":"#N/A"}},{"$f":"IF(IFERROR(MATCH($D36,'NLM Data Test 2'!$D$12:$D$136,0),\"Error\")=\"Error\",(INDEX('NLM Data Test 1'!$F$12:$F$136,(MATCH($D36,'NLM Data Test 1'!$W$12:$W$136,0)),1)),(INDEX('NLM Data Test 2'!$F$12:$F$136,(MATCH($D36,'NLM Data Test 2'!$D$12:$D$136,0)),1)))","v":{"$error":"#N/A"}},{"$f":"IF(INDEX('NLM Data Test 1'!$H$12:$H$136,(MATCH(NLML.ChangeInScores.PrePostDataset[[#This Row],[First Name & Last Name*\n(choose from list)]],'NLM Data Test 1'!$W$12:$W$136,0)),1)=\"\",\"\",(INDEX('NLM Data Test 1'!H$12:H$136,(MATCH(NLML.ChangeInScores.PrePostDataset[[#This Row],[First Name & Last Name*\n(choose from list)]],'NLM Data Test 1'!$W$12:$W$136,0)),1)))","v":{"$error":"#N/A"}},{"$f":"IF(INDEX('NLM Data Test 1'!$I$12:$I$136,(MATCH(NLML.ChangeInScores.PrePostDataset[[#This Row],[First Name & Last Name*\n(choose from list)]],'NLM Data Test 1'!$W$12:$W$136,0)),1)=\"\",\"\",(INDEX('NLM Data Test 1'!I$12:I$136,(MATCH(NLML.ChangeInScores.PrePostDataset[[#This Row],[First Name & Last Name*\n(choose from list)]],'NLM Data Test 1'!$W$12:$W$136,0)),1)))","v":{"$error":"#N/A"}},{"$f":"IF(INDEX('NLM Data Test 1'!$J$12:$J$136,(MATCH(NLML.ChangeInScores.PrePostDataset[[#This Row],[First Name & Last Name*\n(choose from list)]],'NLM Data Test 1'!$W$12:$W$136,0)),1)=\"\",\"\",(INDEX('NLM Data Test 1'!J$12:J$136,(MATCH(NLML.ChangeInScores.PrePostDataset[[#This Row],[First Name & Last Name*\n(choose from list)]],'NLM Data Test 1'!$W$12:$W$136,0)),1)))","v":{"$error":"#N/A"}},{"$f":"IFERROR(INDEX('NLM Data Test 1'!$M$12:$M$136,(MATCH(NLML.ChangeInScores.PrePostDataset[[#This Row],[First Name & Last Name*\n(choose from list)]],'NLM Data Test 1'!$W$12:$W$136,0)),1),\"\")","v":""},{"$f":"INDEX('NLM Data Test 2'!$I$12:$I$136,(MATCH(NLML.ChangeInScores.PrePostDataset[[#This Row],[First Name & Last Name*\n(choose from list)]],'NLM Data Test 2'!$D$12:$D$136,0)),1)","v":{"$error":"#N/A"}},{"$f":"IFERROR(INDEX('NLM Data Test 2'!$J$12:$J$136,(MATCH(NLML.ChangeInScores.PrePostDataset[[#This Row],[First Name & Last Name*\n(choose from list)]],'NLM Data Test 2'!$X$12:$X$136,0)),1),\"\")","v":""},{"$f":"IFERROR(INDEX('NLM Data Test 2'!$K$12:$K$136,(MATCH(NLML.ChangeInScores.PrePostDataset[[#This Row],[First Name & Last Name*\n(choose from list)]],'NLM Data Test 2'!$X$12:$X$136,0)),1),\"\")","v":""},{"$f":"IFERROR(INDEX('NLM Data Test 2'!$N$12:$N$136,(MATCH(NLML.ChangeInScores.PrePostDataset[[#This Row],[First Name & Last Name*\n(choose from list)]],'NLM Data Test 2'!$X$12:$X$136,0)),1),\"\")","v":""},{"$f":"(INDEX('NLM Data Test 2'!$O$12:$O$136,(MATCH(NLML.ChangeInScores.PrePostDataset[[#This Row],[First Name & Last Name*\n(choose from list)]],'NLM Data Test 2'!$X$12:$X$136,0)),1))-(INDEX('NLM Data Test 1'!$N$12:$N$136,(MATCH(NLML.ChangeInScores.PrePostDataset[[#This Row],[First Name & Last Name*\n(choose from list)]],'NLM Data Test 1'!$W$12:$W$136,0)),1))","v":{"$error":"#N/A"}},{"$f":"(INDEX('NLM Data Test 2'!$P$12:$P$136,(MATCH(NLML.ChangeInScores.PrePostDataset[[#This Row],[First Name & Last Name*\n(choose from list)]],'NLM Data Test 2'!$X$12:$X$136,0)),1))-(INDEX('NLM Data Test 1'!$O$12:$O$136,(MATCH(NLML.ChangeInScores.PrePostDataset[[#This Row],[First Name & Last Name*\n(choose from list)]],'NLM Data Test 1'!$W$12:$W$136,0)),1))","v":{"$error":"#N/A"}},{"$f":"(INDEX('NLM Data Test 2'!$Q$12:$Q$136,(MATCH(NLML.ChangeInScores.PrePostDataset[[#This Row],[First Name & Last Name*\n(choose from list)]],'NLM Data Test 2'!$X$12:$X$136,0)),1))-(INDEX('NLM Data Test 1'!$P$12:$P$136,(MATCH(NLML.ChangeInScores.PrePostDataset[[#This Row],[First Name & Last Name*\n(choose from list)]],'NLM Data Test 1'!$W$12:$W$136,0)),1))","v":{"$error":"#N/A"}},{"$f":"(INDEX('NLM Data Test 2'!$R$12:$R$136,(MATCH(NLML.ChangeInScores.PrePostDataset[[#This Row],[First Name & Last Name*\n(choose from list)]],'NLM Data Test 2'!$X$12:$X$136,0)),1))-(INDEX('NLM Data Test 1'!$Q$12:$Q$136,(MATCH(NLML.ChangeInScores.PrePostDataset[[#This Row],[First Name & Last Name*\n(choose from list)]],'NLM Data Test 1'!$W$12:$W$136,0)),1))","v":{"$error":"#N/A"}},{"$f":"(INDEX('NLM Data Test 2'!$S$12:$S$136,(MATCH(NLML.ChangeInScores.PrePostDataset[[#This Row],[First Name & Last Name*\n(choose from list)]],'NLM Data Test 2'!$X$12:$X$136,0)),1))-(INDEX('NLM Data Test 1'!$R$12:$R$136,(MATCH(NLML.ChangeInScores.PrePostDataset[[#This Row],[First Name & Last Name*\n(choose from list)]],'NLM Data Test 1'!$W$12:$W$136,0)),1))","v":{"$error":"#N/A"}},{"$f":"(INDEX('NLM Data Test 2'!$T$12:$T$136,(MATCH(NLML.ChangeInScores.PrePostDataset[[#This Row],[First Name & Last Name*\n(choose from list)]],'NLM Data Test 2'!$X$12:$X$136,0)),1))-(INDEX('NLM Data Test 1'!$S$12:$S$136,(MATCH(NLML.ChangeInScores.PrePostDataset[[#This Row],[First Name & Last Name*\n(choose from list)]],'NLM Data Test 1'!$W$12:$W$136,0)),1))","v":{"$error":"#N/A"}},{"$f":"IFERROR(INDEX('NLM Data Test 1'!$T$12:$T$136,(MATCH(NLML.ChangeInScores.PrePostDataset[[#This Row],[First Name & Last Name*\n(choose from list)]],'NLM Data Test 1'!$W$12:$W$136,0)),1),\"\")","v":""},{"$f":"IFERROR(INDEX('NLM Data Test 2'!$U$12:$U$136,(MATCH(NLML.ChangeInScores.PrePostDataset[[#This Row],[First Name & Last Name*\n(choose from list)]],'NLM Data Test 2'!$X$12:$X$136,0)),1),\"\")","v":""}]
[22,{"$f":"IFERROR(INDEX(NLML.Test1.PrePostDataset[*First Name],(MATCH(NLML.ChangeInScores.PrePostDataset[[#This Row],[First Name & Last Name*\n(choose from list)]],'NLM Data Test 1'!W33:W157,0)),1),\"\")","v":""},{"$f":"IFERROR(INDEX(NLML.Test1.PrePostDataset[*Last Name],(MATCH(NLML.ChangeInScores.PrePostDataset[[#This Row],[First Name & Last Name*\n(choose from list)]],'NLM Data Test 1'!W33:W157,0)),1),\"\")","v":""},{"$f":"'NLM Data Test 2'!D33","v":0},{"$f":"IF(IFERROR(MATCH($D37,'NLM Data Test 2'!$D$12:$D$136,0),\"Error\")=\"Error\",(INDEX('NLM Data Test 1'!$D$12:$D$136,(MATCH($D37,'NLM Data Test 1'!$W$12:$W$136,0)),1)),(INDEX('NLM Data Test 2'!$E$12:$E$136,(MATCH($D37,'NLM Data Test 2'!$D$12:$D$136,0)),1)))","v":{"$error":"#N/A"}},{"$f":"IF(IFERROR(MATCH($D37,'NLM Data Test 2'!$D$12:$D$136,0),\"Error\")=\"Error\",(INDEX('NLM Data Test 1'!$E$12:$E$136,(MATCH($D37,'NLM Data Test 1'!$W$12:$W$136,0)),1)),(INDEX('NLM Data Test 2'!$G$12:$G$136,(MATCH($D37,'NLM Data Test 2'!$D$12:$D$136,0)),1)))","v":{"$error":"#N/A"}},{"$f":"IF(IFERROR(MATCH($D37,'NLM Data Test 2'!$D$12:$D$136,0),\"Error\")=\"Error\",(INDEX('NLM Data Test 1'!$F$12:$F$136,(MATCH($D37,'NLM Data Test 1'!$W$12:$W$136,0)),1)),(INDEX('NLM Data Test 2'!$F$12:$F$136,(MATCH($D37,'NLM Data Test 2'!$D$12:$D$136,0)),1)))","v":{"$error":"#N/A"}},{"$f":"IF(INDEX('NLM Data Test 1'!$H$12:$H$136,(MATCH(NLML.ChangeInScores.PrePostDataset[[#This Row],[First Name & Last Name*\n(choose from list)]],'NLM Data Test 1'!$W$12:$W$136,0)),1)=\"\",\"\",(INDEX('NLM Data Test 1'!H$12:H$136,(MATCH(NLML.ChangeInScores.PrePostDataset[[#This Row],[First Name & Last Name*\n(choose from list)]],'NLM Data Test 1'!$W$12:$W$136,0)),1)))","v":{"$error":"#N/A"}},{"$f":"IF(INDEX('NLM Data Test 1'!$I$12:$I$136,(MATCH(NLML.ChangeInScores.PrePostDataset[[#This Row],[First Name & Last Name*\n(choose from list)]],'NLM Data Test 1'!$W$12:$W$136,0)),1)=\"\",\"\",(INDEX('NLM Data Test 1'!I$12:I$136,(MATCH(NLML.ChangeInScores.PrePostDataset[[#This Row],[First Name & Last Name*\n(choose from list)]],'NLM Data Test 1'!$W$12:$W$136,0)),1)))","v":{"$error":"#N/A"}},{"$f":"IF(INDEX('NLM Data Test 1'!$J$12:$J$136,(MATCH(NLML.ChangeInScores.PrePostDataset[[#This Row],[First Name & Last Name*\n(choose from list)]],'NLM Data Test 1'!$W$12:$W$136,0)),1)=\"\",\"\",(INDEX('NLM Data Test 1'!J$12:J$136,(MATCH(NLML.ChangeInScores.PrePostDataset[[#This Row],[First Name & Last Name*\n(choose from list)]],'NLM Data Test 1'!$W$12:$W$136,0)),1)))","v":{"$error":"#N/A"}},{"$f":"IFERROR(INDEX('NLM Data Test 1'!$M$12:$M$136,(MATCH(NLML.ChangeInScores.PrePostDataset[[#This Row],[First Name & Last Name*\n(choose from list)]],'NLM Data Test 1'!$W$12:$W$136,0)),1),\"\")","v":""},{"$f":"INDEX('NLM Data Test 2'!$I$12:$I$136,(MATCH(NLML.ChangeInScores.PrePostDataset[[#This Row],[First Name & Last Name*\n(choose from list)]],'NLM Data Test 2'!$D$12:$D$136,0)),1)","v":{"$error":"#N/A"}},{"$f":"IFERROR(INDEX('NLM Data Test 2'!$J$12:$J$136,(MATCH(NLML.ChangeInScores.PrePostDataset[[#This Row],[First Name & Last Name*\n(choose from list)]],'NLM Data Test 2'!$X$12:$X$136,0)),1),\"\")","v":""},{"$f":"IFERROR(INDEX('NLM Data Test 2'!$K$12:$K$136,(MATCH(NLML.ChangeInScores.PrePostDataset[[#This Row],[First Name & Last Name*\n(choose from list)]],'NLM Data Test 2'!$X$12:$X$136,0)),1),\"\")","v":""},{"$f":"IFERROR(INDEX('NLM Data Test 2'!$N$12:$N$136,(MATCH(NLML.ChangeInScores.PrePostDataset[[#This Row],[First Name & Last Name*\n(choose from list)]],'NLM Data Test 2'!$X$12:$X$136,0)),1),\"\")","v":""},{"$f":"(INDEX('NLM Data Test 2'!$O$12:$O$136,(MATCH(NLML.ChangeInScores.PrePostDataset[[#This Row],[First Name & Last Name*\n(choose from list)]],'NLM Data Test 2'!$X$12:$X$136,0)),1))-(INDEX('NLM Data Test 1'!$N$12:$N$136,(MATCH(NLML.ChangeInScores.PrePostDataset[[#This Row],[First Name & Last Name*\n(choose from list)]],'NLM Data Test 1'!$W$12:$W$136,0)),1))","v":{"$error":"#N/A"}},{"$f":"(INDEX('NLM Data Test 2'!$P$12:$P$136,(MATCH(NLML.ChangeInScores.PrePostDataset[[#This Row],[First Name & Last Name*\n(choose from list)]],'NLM Data Test 2'!$X$12:$X$136,0)),1))-(INDEX('NLM Data Test 1'!$O$12:$O$136,(MATCH(NLML.ChangeInScores.PrePostDataset[[#This Row],[First Name & Last Name*\n(choose from list)]],'NLM Data Test 1'!$W$12:$W$136,0)),1))","v":{"$error":"#N/A"}},{"$f":"(INDEX('NLM Data Test 2'!$Q$12:$Q$136,(MATCH(NLML.ChangeInScores.PrePostDataset[[#This Row],[First Name & Last Name*\n(choose from list)]],'NLM Data Test 2'!$X$12:$X$136,0)),1))-(INDEX('NLM Data Test 1'!$P$12:$P$136,(MATCH(NLML.ChangeInScores.PrePostDataset[[#This Row],[First Name & Last Name*\n(choose from list)]],'NLM Data Test 1'!$W$12:$W$136,0)),1))","v":{"$error":"#N/A"}},{"$f":"(INDEX('NLM Data Test 2'!$R$12:$R$136,(MATCH(NLML.ChangeInScores.PrePostDataset[[#This Row],[First Name & Last Name*\n(choose from list)]],'NLM Data Test 2'!$X$12:$X$136,0)),1))-(INDEX('NLM Data Test 1'!$Q$12:$Q$136,(MATCH(NLML.ChangeInScores.PrePostDataset[[#This Row],[First Name & Last Name*\n(choose from list)]],'NLM Data Test 1'!$W$12:$W$136,0)),1))","v":{"$error":"#N/A"}},{"$f":"(INDEX('NLM Data Test 2'!$S$12:$S$136,(MATCH(NLML.ChangeInScores.PrePostDataset[[#This Row],[First Name & Last Name*\n(choose from list)]],'NLM Data Test 2'!$X$12:$X$136,0)),1))-(INDEX('NLM Data Test 1'!$R$12:$R$136,(MATCH(NLML.ChangeInScores.PrePostDataset[[#This Row],[First Name & Last Name*\n(choose from list)]],'NLM Data Test 1'!$W$12:$W$136,0)),1))","v":{"$error":"#N/A"}},{"$f":"(INDEX('NLM Data Test 2'!$T$12:$T$136,(MATCH(NLML.ChangeInScores.PrePostDataset[[#This Row],[First Name & Last Name*\n(choose from list)]],'NLM Data Test 2'!$X$12:$X$136,0)),1))-(INDEX('NLM Data Test 1'!$S$12:$S$136,(MATCH(NLML.ChangeInScores.PrePostDataset[[#This Row],[First Name & Last Name*\n(choose from list)]],'NLM Data Test 1'!$W$12:$W$136,0)),1))","v":{"$error":"#N/A"}},{"$f":"IFERROR(INDEX('NLM Data Test 1'!$T$12:$T$136,(MATCH(NLML.ChangeInScores.PrePostDataset[[#This Row],[First Name & Last Name*\n(choose from list)]],'NLM Data Test 1'!$W$12:$W$136,0)),1),\"\")","v":""},{"$f":"IFERROR(INDEX('NLM Data Test 2'!$U$12:$U$136,(MATCH(NLML.ChangeInScores.PrePostDataset[[#This Row],[First Name & Last Name*\n(choose from list)]],'NLM Data Test 2'!$X$12:$X$136,0)),1),\"\")","v":""}]
[23,{"$f":"IFERROR(INDEX(NLML.Test1.PrePostDataset[*First Name],(MATCH(NLML.ChangeInScores.PrePostDataset[[#This Row],[First Name & Last Name*\n(choose from list)]],'NLM Data Test 1'!W34:W158,0)),1),\"\")","v":""},{"$f":"IFERROR(INDEX(NLML.Test1.PrePostDataset[*Last Name],(MATCH(NLML.ChangeInScores.PrePostDataset[[#This Row],[First Name & Last Name*\n(choose from list)]],'NLM Data Test 1'!W34:W158,0)),1),\"\")","v":""},{"$f":"'NLM Data Test 2'!D34","v":0},{"$f":"IF(IFERROR(MATCH($D38,'NLM Data Test 2'!$D$12:$D$136,0),\"Error\")=\"Error\",(INDEX('NLM Data Test 1'!$D$12:$D$136,(MATCH($D38,'NLM Data Test 1'!$W$12:$W$136,0)),1)),(INDEX('NLM Data Test 2'!$E$12:$E$136,(MATCH($D38,'NLM Data Test 2'!$D$12:$D$136,0)),1)))","v":{"$error":"#N/A"}},{"$f":"IF(IFERROR(MATCH($D38,'NLM Data Test 2'!$D$12:$D$136,0),\"Error\")=\"Error\",(INDEX('NLM Data Test 1'!$E$12:$E$136,(MATCH($D38,'NLM Data Test 1'!$W$12:$W$136,0)),1)),(INDEX('NLM Data Test 2'!$G$12:$G$136,(MATCH($D38,'NLM Data Test 2'!$D$12:$D$136,0)),1)))","v":{"$error":"#N/A"}},{"$f":"IF(IFERROR(MATCH($D38,'NLM Data Test 2'!$D$12:$D$136,0),\"Error\")=\"Error\",(INDEX('NLM Data Test 1'!$F$12:$F$136,(MATCH($D38,'NLM Data Test 1'!$W$12:$W$136,0)),1)),(INDEX('NLM Data Test 2'!$F$12:$F$136,(MATCH($D38,'NLM Data Test 2'!$D$12:$D$136,0)),1)))","v":{"$error":"#N/A"}},{"$f":"IF(INDEX('NLM Data Test 1'!$H$12:$H$136,(MATCH(NLML.ChangeInScores.PrePostDataset[[#This Row],[First Name & Last Name*\n(choose from list)]],'NLM Data Test 1'!$W$12:$W$136,0)),1)=\"\",\"\",(INDEX('NLM Data Test 1'!H$12:H$136,(MATCH(NLML.ChangeInScores.PrePostDataset[[#This Row],[First Name & Last Name*\n(choose from list)]],'NLM Data Test 1'!$W$12:$W$136,0)),1)))","v":{"$error":"#N/A"}},{"$f":"IF(INDEX('NLM Data Test 1'!$I$12:$I$136,(MATCH(NLML.ChangeInScores.PrePostDataset[[#This Row],[First Name & Last Name*\n(choose from list)]],'NLM Data Test 1'!$W$12:$W$136,0)),1)=\"\",\"\",(INDEX('NLM Data Test 1'!I$12:I$136,(MATCH(NLML.ChangeInScores.PrePostDataset[[#This Row],[First Name & Last Name*\n(choose from list)]],'NLM Data Test 1'!$W$12:$W$136,0)),1)))","v":{"$error":"#N/A"}},{"$f":"IF(INDEX('NLM Data Test 1'!$J$12:$J$136,(MATCH(NLML.ChangeInScores.PrePostDataset[[#This Row],[First Name & Last Name*\n(choose from list)]],'NLM Data Test 1'!$W$12:$W$136,0)),1)=\"\",\"\",(INDEX('NLM Data Test 1'!J$12:J$136,(MATCH(NLML.ChangeInScores.PrePostDataset[[#This Row],[First Name & Last Name*\n(choose from list)]],'NLM Data Test 1'!$W$12:$W$136,0)),1)))","v":{"$error":"#N/A"}},{"$f":"IFERROR(INDEX('NLM Data Test 1'!$M$12:$M$136,(MATCH(NLML.ChangeInScores.PrePostDataset[[#This Row],[First Name & Last Name*\n(choose from list)]],'NLM Data Test 1'!$W$12:$W$136,0)),1),\"\")","v":""},{"$f":"INDEX('NLM Data Test 2'!$I$12:$I$136,(MATCH(NLML.ChangeInScores.PrePostDataset[[#This Row],[First Name & Last Name*\n(choose from list)]],'NLM Data Test 2'!$D$12:$D$136,0)),1)","v":{"$error":"#N/A"}},{"$f":"IFERROR(INDEX('NLM Data Test 2'!$J$12:$J$136,(MATCH(NLML.ChangeInScores.PrePostDataset[[#This Row],[First Name & Last Name*\n(choose from list)]],'NLM Data Test 2'!$X$12:$X$136,0)),1),\"\")","v":""},{"$f":"IFERROR(INDEX('NLM Data Test 2'!$K$12:$K$136,(MATCH(NLML.ChangeInScores.PrePostDataset[[#This Row],[First Name & Last Name*\n(choose from list)]],'NLM Data Test 2'!$X$12:$X$136,0)),1),\"\")","v":""},{"$f":"IFERROR(INDEX('NLM Data Test 2'!$N$12:$N$136,(MATCH(NLML.ChangeInScores.PrePostDataset[[#This Row],[First Name & Last Name*\n(choose from list)]],'NLM Data Test 2'!$X$12:$X$136,0)),1),\"\")","v":""},{"$f":"(INDEX('NLM Data Test 2'!$O$12:$O$136,(MATCH(NLML.ChangeInScores.PrePostDataset[[#This Row],[First Name & Last Name*\n(choose from list)]],'NLM Data Test 2'!$X$12:$X$136,0)),1))-(INDEX('NLM Data Test 1'!$N$12:$N$136,(MATCH(NLML.ChangeInScores.PrePostDataset[[#This Row],[First Name & Last Name*\n(choose from list)]],'NLM Data Test 1'!$W$12:$W$136,0)),1))","v":{"$error":"#N/A"}},{"$f":"(INDEX('NLM Data Test 2'!$P$12:$P$136,(MATCH(NLML.ChangeInScores.PrePostDataset[[#This Row],[First Name & Last Name*\n(choose from list)]],'NLM Data Test 2'!$X$12:$X$136,0)),1))-(INDEX('NLM Data Test 1'!$O$12:$O$136,(MATCH(NLML.ChangeInScores.PrePostDataset[[#This Row],[First Name & Last Name*\n(choose from list)]],'NLM Data Test 1'!$W$12:$W$136,0)),1))","v":{"$error":"#N/A"}},{"$f":"(INDEX('NLM Data Test 2'!$Q$12:$Q$136,(MATCH(NLML.ChangeInScores.PrePostDataset[[#This Row],[First Name & Last Name*\n(choose from list)]],'NLM Data Test 2'!$X$12:$X$136,0)),1))-(INDEX('NLM Data Test 1'!$P$12:$P$136,(MATCH(NLML.ChangeInScores.PrePostDataset[[#This Row],[First Name & Last Name*\n(choose from list)]],'NLM Data Test 1'!$W$12:$W$136,0)),1))","v":{"$error":"#N/A"}},{"$f":"(INDEX('NLM Data Test 2'!$R$12:$R$136,(MATCH(NLML.ChangeInScores.PrePostDataset[[#This Row],[First Name & Last Name*\n(choose from list)]],'NLM Data Test 2'!$X$12:$X$136,0)),1))-(INDEX('NLM Data Test 1'!$Q$12:$Q$136,(MATCH(NLML.ChangeInScores.PrePostDataset[[#This Row],[First Name & Last Name*\n(choose from list)]],'NLM Data Test 1'!$W$12:$W$136,0)),1))","v":{"$error":"#N/A"}},{"$f":"(INDEX('NLM Data Test 2'!$S$12:$S$136,(MATCH(NLML.ChangeInScores.PrePostDataset[[#This Row],[First Name & Last Name*\n(choose from list)]],'NLM Data Test 2'!$X$12:$X$136,0)),1))-(INDEX('NLM Data Test 1'!$R$12:$R$136,(MATCH(NLML.ChangeInScores.PrePostDataset[[#This Row],[First Name & Last Name*\n(choose from list)]],'NLM Data Test 1'!$W$12:$W$136,0)),1))","v":{"$error":"#N/A"}},{"$f":"(INDEX('NLM Data Test 2'!$T$12:$T$136,(MATCH(NLML.ChangeInScores.PrePostDataset[[#This Row],[First Name & Last Name*\n(choose from list)]],'NLM Data Test 2'!$X$12:$X$136,0)),1))-(INDEX('NLM Data Test 1'!$S$12:$S$136,(MATCH(NLML.ChangeInScores.PrePostDataset[[#This Row],[First Name & Last Name*\n(choose from list)]],'NLM Data Test 1'!$W$12:$W$136,0)),1))","v":{"$error":"#N/A"}},{"$f":"IFERROR(INDEX('NLM Data Test 1'!$T$12:$T$136,(MATCH(NLML.ChangeInScores.PrePostDataset[[#This Row],[First Name & Last Name*\n(choose from list)]],'NLM Data Test 1'!$W$12:$W$136,0)),1),\"\")","v":""},{"$f":"IFERROR(INDEX('NLM Data Test 2'!$U$12:$U$136,(MATCH(NLML.ChangeInScores.PrePostDataset[[#This Row],[First Name & Last Name*\n(choose from list)]],'NLM Data Test 2'!$X$12:$X$136,0)),1),\"\")","v":""}]
[24,{"$f":"IFERROR(INDEX(NLML.Test1.PrePostDataset[*First Name],(MATCH(NLML.ChangeInScores.PrePostDataset[[#This Row],[First Name & Last Name*\n(choose from list)]],'NLM Data Test 1'!W35:W159,0)),1),\"\")","v":""},{"$f":"IFERROR(INDEX(NLML.Test1.PrePostDataset[*Last Name],(MATCH(NLML.ChangeInScores.PrePostDataset[[#This Row],[First Name & Last Name*\n(choose from list)]],'NLM Data Test 1'!W35:W159,0)),1),\"\")","v":""},{"$f":"'NLM Data Test 2'!D35","v":0},{"$f":"IF(IFERROR(MATCH($D39,'NLM Data Test 2'!$D$12:$D$136,0),\"Error\")=\"Error\",(INDEX('NLM Data Test 1'!$D$12:$D$136,(MATCH($D39,'NLM Data Test 1'!$W$12:$W$136,0)),1)),(INDEX('NLM Data Test 2'!$E$12:$E$136,(MATCH($D39,'NLM Data Test 2'!$D$12:$D$136,0)),1)))","v":{"$error":"#N/A"}},{"$f":"IF(IFERROR(MATCH($D39,'NLM Data Test 2'!$D$12:$D$136,0),\"Error\")=\"Error\",(INDEX('NLM Data Test 1'!$E$12:$E$136,(MATCH($D39,'NLM Data Test 1'!$W$12:$W$136,0)),1)),(INDEX('NLM Data Test 2'!$G$12:$G$136,(MATCH($D39,'NLM Data Test 2'!$D$12:$D$136,0)),1)))","v":{"$error":"#N/A"}},{"$f":"IF(IFERROR(MATCH($D39,'NLM Data Test 2'!$D$12:$D$136,0),\"Error\")=\"Error\",(INDEX('NLM Data Test 1'!$F$12:$F$136,(MATCH($D39,'NLM Data Test 1'!$W$12:$W$136,0)),1)),(INDEX('NLM Data Test 2'!$F$12:$F$136,(MATCH($D39,'NLM Data Test 2'!$D$12:$D$136,0)),1)))","v":{"$error":"#N/A"}},{"$f":"IF(INDEX('NLM Data Test 1'!$H$12:$H$136,(MATCH(NLML.ChangeInScores.PrePostDataset[[#This Row],[First Name & Last Name*\n(choose from list)]],'NLM Data Test 1'!$W$12:$W$136,0)),1)=\"\",\"\",(INDEX('NLM Data Test 1'!H$12:H$136,(MATCH(NLML.ChangeInScores.PrePostDataset[[#This Row],[First Name & Last Name*\n(choose from list)]],'NLM Data Test 1'!$W$12:$W$136,0)),1)))","v":{"$error":"#N/A"}},{"$f":"IF(INDEX('NLM Data Test 1'!$I$12:$I$136,(MATCH(NLML.ChangeInScores.PrePostDataset[[#This Row],[First Name & Last Name*\n(choose from list)]],'NLM Data Test 1'!$W$12:$W$136,0)),1)=\"\",\"\",(INDEX('NLM Data Test 1'!I$12:I$136,(MATCH(NLML.ChangeInScores.PrePostDataset[[#This Row],[First Name & Last Name*\n(choose from list)]],'NLM Data Test 1'!$W$12:$W$136,0)),1)))","v":{"$error":"#N/A"}},{"$f":"IF(INDEX('NLM Data Test 1'!$J$12:$J$136,(MATCH(NLML.ChangeInScores.PrePostDataset[[#This Row],[First Name & Last Name*\n(choose from list)]],'NLM Data Test 1'!$W$12:$W$136,0)),1)=\"\",\"\",(INDEX('NLM Data Test 1'!J$12:J$136,(MATCH(NLML.ChangeInScores.PrePostDataset[[#This Row],[First Name & Last Name*\n(choose from list)]],'NLM Data Test 1'!$W$12:$W$136,0)),1)))","v":{"$error":"#N/A"}},{"$f":"IFERROR(INDEX('NLM Data Test 1'!$M$12:$M$136,(MATCH(NLML.ChangeInScores.PrePostDataset[[#This Row],[First Name & Last Name*\n(choose from list)]],'NLM Data Test 1'!$W$12:$W$136,0)),1),\"\")","v":""},{"$f":"INDEX('NLM Data Test 2'!$I$12:$I$136,(MATCH(NLML.ChangeInScores.PrePostDataset[[#This Row],[First Name & Last Name*\n(choose from list)]],'NLM Data Test 2'!$D$12:$D$136,0)),1)","v":{"$error":"#N/A"}},{"$f":"IFERROR(INDEX('NLM Data Test 2'!$J$12:$J$136,(MATCH(NLML.ChangeInScores.PrePostDataset[[#This Row],[First Name & Last Name*\n(choose from list)]],'NLM Data Test 2'!$X$12:$X$136,0)),1),\"\")","v":""},{"$f":"IFERROR(INDEX('NLM Data Test 2'!$K$12:$K$136,(MATCH(NLML.ChangeInScores.PrePostDataset[[#This Row],[First Name & Last Name*\n(choose from list)]],'NLM Data Test 2'!$X$12:$X$136,0)),1),\"\")","v":""},{"$f":"IFERROR(INDEX('NLM Data Test 2'!$N$12:$N$136,(MATCH(NLML.ChangeInScores.PrePostDataset[[#This Row],[First Name & Last Name*\n(choose from list)]],'NLM Data Test 2'!$X$12:$X$136,0)),1),\"\")","v":""},{"$f":"(INDEX('NLM Data Test 2'!$O$12:$O$136,(MATCH(NLML.ChangeInScores.PrePostDataset[[#This Row],[First Name & Last Name*\n(choose from list)]],'NLM Data Test 2'!$X$12:$X$136,0)),1))-(INDEX('NLM Data Test 1'!$N$12:$N$136,(MATCH(NLML.ChangeInScores.PrePostDataset[[#This Row],[First Name & Last Name*\n(choose from list)]],'NLM Data Test 1'!$W$12:$W$136,0)),1))","v":{"$error":"#N/A"}},{"$f":"(INDEX('NLM Data Test 2'!$P$12:$P$136,(MATCH(NLML.ChangeInScores.PrePostDataset[[#This Row],[First Name & Last Name*\n(choose from list)]],'NLM Data Test 2'!$X$12:$X$136,0)),1))-(INDEX('NLM Data Test 1'!$O$12:$O$136,(MATCH(NLML.ChangeInScores.PrePostDataset[[#This Row],[First Name & Last Name*\n(choose from list)]],'NLM Data Test 1'!$W$12:$W$136,0)),1))","v":{"$error":"#N/A"}},{"$f":"(INDEX('NLM Data Test 2'!$Q$12:$Q$136,(MATCH(NLML.ChangeInScores.PrePostDataset[[#This Row],[First Name & Last Name*\n(choose from list)]],'NLM Data Test 2'!$X$12:$X$136,0)),1))-(INDEX('NLM Data Test 1'!$P$12:$P$136,(MATCH(NLML.ChangeInScores.PrePostDataset[[#This Row],[First Name & Last Name*\n(choose from list)]],'NLM Data Test 1'!$W$12:$W$136,0)),1))","v":{"$error":"#N/A"}},{"$f":"(INDEX('NLM Data Test 2'!$R$12:$R$136,(MATCH(NLML.ChangeInScores.PrePostDataset[[#This Row],[First Name & Last Name*\n(choose from list)]],'NLM Data Test 2'!$X$12:$X$136,0)),1))-(INDEX('NLM Data Test 1'!$Q$12:$Q$136,(MATCH(NLML.ChangeInScores.PrePostDataset[[#This Row],[First Name & Last Name*\n(choose from list)]],'NLM Data Test 1'!$W$12:$W$136,0)),1))","v":{"$error":"#N/A"}},{"$f":"(INDEX('NLM Data Test 2'!$S$12:$S$136,(MATCH(NLML.ChangeInScores.PrePostDataset[[#This Row],[First Name & Last Name*\n(choose from list)]],'NLM Data Test 2'!$X$12:$X$136,0)),1))-(INDEX('NLM Data Test 1'!$R$12:$R$136,(MATCH(NLML.ChangeInScores.PrePostDataset[[#This Row],[First Name & Last Name*\n(choose from list)]],'NLM Data Test 1'!$W$12:$W$136,0)),1))","v":{"$error":"#N/A"}},{"$f":"(INDEX('NLM Data Test 2'!$T$12:$T$136,(MATCH(NLML.ChangeInScores.PrePostDataset[[#This Row],[First Name & Last Name*\n(choose from list)]],'NLM Data Test 2'!$X$12:$X$136,0)),1))-(INDEX('NLM Data Test 1'!$S$12:$S$136,(MATCH(NLML.ChangeInScores.PrePostDataset[[#This Row],[First Name & Last Name*\n(choose from list)]],'NLM Data Test 1'!$W$12:$W$136,0)),1))","v":{"$error":"#N/A"}},{"$f":"IFERROR(INDEX('NLM Data Test 1'!$T$12:$T$136,(MATCH(NLML.ChangeInScores.PrePostDataset[[#This Row],[First Name & Last Name*\n(choose from list)]],'NLM Data Test 1'!$W$12:$W$136,0)),1),\"\")","v":""},{"$f":"IFERROR(INDEX('NLM Data Test 2'!$U$12:$U$136,(MATCH(NLML.ChangeInScores.PrePostDataset[[#This Row],[First Name & Last Name*\n(choose from list)]],'NLM Data Test 2'!$X$12:$X$136,0)),1),\"\")","v":""}]
[25,{"$f":"IFERROR(INDEX(NLML.Test1.PrePostDataset[*First Name],(MATCH(NLML.ChangeInScores.PrePostDataset[[#This Row],[First Name & Last Name*\n(choose from list)]],'NLM Data Test 1'!W36:W160,0)),1),\"\")","v":""},{"$f":"IFERROR(INDEX(NLML.Test1.PrePostDataset[*Last Name],(MATCH(NLML.ChangeInScores.PrePostDataset[[#This Row],[First Name & Last Name*\n(choose from list)]],'NLM Data Test 1'!W36:W160,0)),1),\"\")","v":""},{"$f":"'NLM Data Test 2'!D36","v":0},{"$f":"IF(IFERROR(MATCH($D40,'NLM Data Test 2'!$D$12:$D$136,0),\"Error\")=\"Error\",(INDEX('NLM Data Test 1'!$D$12:$D$136,(MATCH($D40,'NLM Data Test 1'!$W$12:$W$136,0)),1)),(INDEX('NLM Data Test 2'!$E$12:$E$136,(MATCH($D40,'NLM Data Test 2'!$D$12:$D$136,0)),1)))","v":{"$error":"#N/A"}},{"$f":"IF(IFERROR(MATCH($D40,'NLM Data Test 2'!$D$12:$D$136,0),\"Error\")=\"Error\",(INDEX('NLM Data Test 1'!$E$12:$E$136,(MATCH($D40,'NLM Data Test 1'!$W$12:$W$136,0)),1)),(INDEX('NLM Data Test 2'!$G$12:$G$136,(MATCH($D40,'NLM Data Test 2'!$D$12:$D$136,0)),1)))","v":{"$error":"#N/A"}},{"$f":"IF(IFERROR(MATCH($D40,'NLM Data Test 2'!$D$12:$D$136,0),\"Error\")=\"Error\",(INDEX('NLM Data Test 1'!$F$12:$F$136,(MATCH($D40,'NLM Data Test 1'!$W$12:$W$136,0)),1)),(INDEX('NLM Data Test 2'!$F$12:$F$136,(MATCH($D40,'NLM Data Test 2'!$D$12:$D$136,0)),1)))","v":{"$error":"#N/A"}},{"$f":"IF(INDEX('NLM Data Test 1'!$H$12:$H$136,(MATCH(NLML.ChangeInScores.PrePostDataset[[#This Row],[First Name & Last Name*\n(choose from list)]],'NLM Data Test 1'!$W$12:$W$136,0)),1)=\"\",\"\",(INDEX('NLM Data Test 1'!H$12:H$136,(MATCH(NLML.ChangeInScores.PrePostDataset[[#This Row],[First Name & Last Name*\n(choose from list)]],'NLM Data Test 1'!$W$12:$W$136,0)),1)))","v":{"$error":"#N/A"}},{"$f":"IF(INDEX('NLM Data Test 1'!$I$12:$I$136,(MATCH(NLML.ChangeInScores.PrePostDataset[[#This Row],[First Name & Last Name*\n(choose from list)]],'NLM Data Test 1'!$W$12:$W$136,0)),1)=\"\",\"\",(INDEX('NLM Data Test 1'!I$12:I$136,(MATCH(NLML.ChangeInScores.PrePostDataset[[#This Row],[First Name & Last Name*\n(choose from list)]],'NLM Data Test 1'!$W$12:$W$136,0)),1)))","v":{"$error":"#N/A"}},{"$f":"IF(INDEX('NLM Data Test 1'!$J$12:$J$136,(MATCH(NLML.ChangeInScores.PrePostDataset[[#This Row],[First Name & Last Name*\n(choose from list)]],'NLM Data Test 1'!$W$12:$W$136,0)),1)=\"\",\"\",(INDEX('NLM Data Test 1'!J$12:J$136,(MATCH(NLML.ChangeInScores.PrePostDataset[[#This Row],[First Name & Last Name*\n(choose from list)]],'NLM Data Test 1'!$W$12:$W$136,0)),1)))","v":{"$error":"#N/A"}},{"$f":"IFERROR(INDEX('NLM Data Test 1'!$M$12:$M$136,(MATCH(NLML.ChangeInScores.PrePostDataset[[#This Row],[First Name & Last Name*\n(choose from list)]],'NLM Data Test 1'!$W$12:$W$136,0)),1),\"\")","v":""},{"$f":"INDEX('NLM Data Test 2'!$I$12:$I$136,(MATCH(NLML.ChangeInScores.PrePostDataset[[#This Row],[First Name & Last Name*\n(choose from list)]],'NLM Data Test 2'!$D$12:$D$136,0)),1)","v":{"$error":"#N/A"}},{"$f":"IFERROR(INDEX('NLM Data Test 2'!$J$12:$J$136,(MATCH(NLML.ChangeInScores.PrePostDataset[[#This Row],[First Name & Last Name*\n(choose from list)]],'NLM Data Test 2'!$X$12:$X$136,0)),1),\"\")","v":""},{"$f":"IFERROR(INDEX('NLM Data Test 2'!$K$12:$K$136,(MATCH(NLML.ChangeInScores.PrePostDataset[[#This Row],[First Name & Last Name*\n(choose from list)]],'NLM Data Test 2'!$X$12:$X$136,0)),1),\"\")","v":""},{"$f":"IFERROR(INDEX('NLM Data Test 2'!$N$12:$N$136,(MATCH(NLML.ChangeInScores.PrePostDataset[[#This Row],[First Name & Last Name*\n(choose from list)]],'NLM Data Test 2'!$X$12:$X$136,0)),1),\"\")","v":""},{"$f":"(INDEX('NLM Data Test 2'!$O$12:$O$136,(MATCH(NLML.ChangeInScores.PrePostDataset[[#This Row],[First Name & Last Name*\n(choose from list)]],'NLM Data Test 2'!$X$12:$X$136,0)),1))-(INDEX('NLM Data Test 1'!$N$12:$N$136,(MATCH(NLML.ChangeInScores.PrePostDataset[[#This Row],[First Name & Last Name*\n(choose from list)]],'NLM Data Test 1'!$W$12:$W$136,0)),1))","v":{"$error":"#N/A"}},{"$f":"(INDEX('NLM Data Test 2'!$P$12:$P$136,(MATCH(NLML.ChangeInScores.PrePostDataset[[#This Row],[First Name & Last Name*\n(choose from list)]],'NLM Data Test 2'!$X$12:$X$136,0)),1))-(INDEX('NLM Data Test 1'!$O$12:$O$136,(MATCH(NLML.ChangeInScores.PrePostDataset[[#This Row],[First Name & Last Name*\n(choose from list)]],'NLM Data Test 1'!$W$12:$W$136,0)),1))","v":{"$error":"#N/A"}},{"$f":"(INDEX('NLM Data Test 2'!$Q$12:$Q$136,(MATCH(NLML.ChangeInScores.PrePostDataset[[#This Row],[First Name & Last Name*\n(choose from list)]],'NLM Data Test 2'!$X$12:$X$136,0)),1))-(INDEX('NLM Data Test 1'!$P$12:$P$136,(MATCH(NLML.ChangeInScores.PrePostDataset[[#This Row],[First Name & Last Name*\n(choose from list)]],'NLM Data Test 1'!$W$12:$W$136,0)),1))","v":{"$error":"#N/A"}},{"$f":"(INDEX('NLM Data Test 2'!$R$12:$R$136,(MATCH(NLML.ChangeInScores.PrePostDataset[[#This Row],[First Name & Last Name*\n(choose from list)]],'NLM Data Test 2'!$X$12:$X$136,0)),1))-(INDEX('NLM Data Test 1'!$Q$12:$Q$136,(MATCH(NLML.ChangeInScores.PrePostDataset[[#This Row],[First Name & Last Name*\n(choose from list)]],'NLM Data Test 1'!$W$12:$W$136,0)),1))","v":{"$error":"#N/A"}},{"$f":"(INDEX('NLM Data Test 2'!$S$12:$S$136,(MATCH(NLML.ChangeInScores.PrePostDataset[[#This Row],[First Name & Last Name*\n(choose from list)]],'NLM Data Test 2'!$X$12:$X$136,0)),1))-(INDEX('NLM Data Test 1'!$R$12:$R$136,(MATCH(NLML.ChangeInScores.PrePostDataset[[#This Row],[First Name & Last Name*\n(choose from list)]],'NLM Data Test 1'!$W$12:$W$136,0)),1))","v":{"$error":"#N/A"}},{"$f":"(INDEX('NLM Data Test 2'!$T$12:$T$136,(MATCH(NLML.ChangeInScores.PrePostDataset[[#This Row],[First Name & Last Name*\n(choose from list)]],'NLM Data Test 2'!$X$12:$X$136,0)),1))-(INDEX('NLM Data Test 1'!$S$12:$S$136,(MATCH(NLML.ChangeInScores.PrePostDataset[[#This Row],[First Name & Last Name*\n(choose from list)]],'NLM Data Test 1'!$W$12:$W$136,0)),1))","v":{"$error":"#N/A"}},{"$f":"IFERROR(INDEX('NLM Data Test 1'!$T$12:$T$136,(MATCH(NLML.ChangeInScores.PrePostDataset[[#This Row],[First Name & Last Name*\n(choose from list)]],'NLM Data Test 1'!$W$12:$W$136,0)),1),\"\")","v":""},{"$f":"IFERROR(INDEX('NLM Data Test 2'!$U$12:$U$136,(MATCH(NLML.ChangeInScores.PrePostDataset[[#This Row],[First Name & Last Name*\n(choose from list)]],'NLM Data Test 2'!$X$12:$X$136,0)),1),\"\")","v":""}]
[26,{"$f":"IFERROR(INDEX(NLML.Test1.PrePostDataset[*First Name],(MATCH(NLML.ChangeInScores.PrePostDataset[[#This Row],[First Name & Last Name*\n(choose from list)]],'NLM Data Test 1'!W37:W161,0)),1),\"\")","v":""},{"$f":"IFERROR(INDEX(NLML.Test1.PrePostDataset[*Last Name],(MATCH(NLML.ChangeInScores.PrePostDataset[[#This Row],[First Name & Last Name*\n(choose from list)]],'NLM Data Test 1'!W37:W161,0)),1),\"\")","v":""},{"$f":"'NLM Data Test 2'!D37","v":0},{"$f":"IF(IFERROR(MATCH($D41,'NLM Data Test 2'!$D$12:$D$136,0),\"Error\")=\"Error\",(INDEX('NLM Data Test 1'!$D$12:$D$136,(MATCH($D41,'NLM Data Test 1'!$W$12:$W$136,0)),1)),(INDEX('NLM Data Test 2'!$E$12:$E$136,(MATCH($D41,'NLM Data Test 2'!$D$12:$D$136,0)),1)))","v":{"$error":"#N/A"}},{"$f":"IF(IFERROR(MATCH($D41,'NLM Data Test 2'!$D$12:$D$136,0),\"Error\")=\"Error\",(INDEX('NLM Data Test 1'!$E$12:$E$136,(MATCH($D41,'NLM Data Test 1'!$W$12:$W$136,0)),1)),(INDEX('NLM Data Test 2'!$G$12:$G$136,(MATCH($D41,'NLM Data Test 2'!$D$12:$D$136,0)),1)))","v":{"$error":"#N/A"}},{"$f":"IF(IFERROR(MATCH($D41,'NLM Data Test 2'!$D$12:$D$136,0),\"Error\")=\"Error\",(INDEX('NLM Data Test 1'!$F$12:$F$136,(MATCH($D41,'NLM Data Test 1'!$W$12:$W$136,0)),1)),(INDEX('NLM Data Test 2'!$F$12:$F$136,(MATCH($D41,'NLM Data Test 2'!$D$12:$D$136,0)),1)))","v":{"$error":"#N/A"}},{"$f":"IF(INDEX('NLM Data Test 1'!$H$12:$H$136,(MATCH(NLML.ChangeInScores.PrePostDataset[[#This Row],[First Name & Last Name*\n(choose from list)]],'NLM Data Test 1'!$W$12:$W$136,0)),1)=\"\",\"\",(INDEX('NLM Data Test 1'!H$12:H$136,(MATCH(NLML.ChangeInScores.PrePostDataset[[#This Row],[First Name & Last Name*\n(choose from list)]],'NLM Data Test 1'!$W$12:$W$136,0)),1)))","v":{"$error":"#N/A"}},{"$f":"IF(INDEX('NLM Data Test 1'!$I$12:$I$136,(MATCH(NLML.ChangeInScores.PrePostDataset[[#This Row],[First Name & Last Name*\n(choose from list)]],'NLM Data Test 1'!$W$12:$W$136,0)),1)=\"\",\"\",(INDEX('NLM Data Test 1'!I$12:I$136,(MATCH(NLML.ChangeInScores.PrePostDataset[[#This Row],[First Name & Last Name*\n(choose from list)]],'NLM Data Test 1'!$W$12:$W$136,0)),1)))","v":{"$error":"#N/A"}},{"$f":"IF(INDEX('NLM Data Test 1'!$J$12:$J$136,(MATCH(NLML.ChangeInScores.PrePostDataset[[#This Row],[First Name & Last Name*\n(choose from list)]],'NLM Data Test 1'!$W$12:$W$136,0)),1)=\"\",\"\",(INDEX('NLM Data Test 1'!J$12:J$136,(MATCH(NLML.ChangeInScores.PrePostDataset[[#This Row],[First Name & Last Name*\n(choose from list)]],'NLM Data Test 1'!$W$12:$W$136,0)),1)))","v":{"$error":"#N/A"}},{"$f":"IFERROR(INDEX('NLM Data Test 1'!$M$12:$M$136,(MATCH(NLML.ChangeInScores.PrePostDataset[[#This Row],[First Name & Last Name*\n(choose from list)]],'NLM Data Test 1'!$W$12:$W$136,0)),1),\"\")","v":""},{"$f":"INDEX('NLM Data Test 2'!$I$12:$I$136,(MATCH(NLML.ChangeInScores.PrePostDataset[[#This Row],[First Name & Last Name*\n(choose from list)]],'NLM Data Test 2'!$D$12:$D$136,0)),1)","v":{"$error":"#N/A"}},{"$f":"IFERROR(INDEX('NLM Data Test 2'!$J$12:$J$136,(MATCH(NLML.ChangeInScores.PrePostDataset[[#This Row],[First Name & Last Name*\n(choose from list)]],'NLM Data Test 2'!$X$12:$X$136,0)),1),\"\")","v":""},{"$f":"IFERROR(INDEX('NLM Data Test 2'!$K$12:$K$136,(MATCH(NLML.ChangeInScores.PrePostDataset[[#This Row],[First Name & Last Name*\n(choose from list)]],'NLM Data Test 2'!$X$12:$X$136,0)),1),\"\")","v":""},{"$f":"IFERROR(INDEX('NLM Data Test 2'!$N$12:$N$136,(MATCH(NLML.ChangeInScores.PrePostDataset[[#This Row],[First Name & Last Name*\n(choose from list)]],'NLM Data Test 2'!$X$12:$X$136,0)),1),\"\")","v":""},{"$f":"(INDEX('NLM Data Test 2'!$O$12:$O$136,(MATCH(NLML.ChangeInScores.PrePostDataset[[#This Row],[First Name & Last Name*\n(choose from list)]],'NLM Data Test 2'!$X$12:$X$136,0)),1))-(INDEX('NLM Data Test 1'!$N$12:$N$136,(MATCH(NLML.ChangeInScores.PrePostDataset[[#This Row],[First Name & Last Name*\n(choose from list)]],'NLM Data Test 1'!$W$12:$W$136,0)),1))","v":{"$error":"#N/A"}},{"$f":"(INDEX('NLM Data Test 2'!$P$12:$P$136,(MATCH(NLML.ChangeInScores.PrePostDataset[[#This Row],[First Name & Last Name*\n(choose from list)]],'NLM Data Test 2'!$X$12:$X$136,0)),1))-(INDEX('NLM Data Test 1'!$O$12:$O$136,(MATCH(NLML.ChangeInScores.PrePostDataset[[#This Row],[First Name & Last Name*\n(choose from list)]],'NLM Data Test 1'!$W$12:$W$136,0)),1))","v":{"$error":"#N/A"}},{"$f":"(INDEX('NLM Data Test 2'!$Q$12:$Q$136,(MATCH(NLML.ChangeInScores.PrePostDataset[[#This Row],[First Name & Last Name*\n(choose from list)]],'NLM Data Test 2'!$X$12:$X$136,0)),1))-(INDEX('NLM Data Test 1'!$P$12:$P$136,(MATCH(NLML.ChangeInScores.PrePostDataset[[#This Row],[First Name & Last Name*\n(choose from list)]],'NLM Data Test 1'!$W$12:$W$136,0)),1))","v":{"$error":"#N/A"}},{"$f":"(INDEX('NLM Data Test 2'!$R$12:$R$136,(MATCH(NLML.ChangeInScores.PrePostDataset[[#This Row],[First Name & Last Name*\n(choose from list)]],'NLM Data Test 2'!$X$12:$X$136,0)),1))-(INDEX('NLM Data Test 1'!$Q$12:$Q$136,(MATCH(NLML.ChangeInScores.PrePostDataset[[#This Row],[First Name & Last Name*\n(choose from list)]],'NLM Data Test 1'!$W$12:$W$136,0)),1))","v":{"$error":"#N/A"}},{"$f":"(INDEX('NLM Data Test 2'!$S$12:$S$136,(MATCH(NLML.ChangeInScores.PrePostDataset[[#This Row],[First Name & Last Name*\n(choose from list)]],'NLM Data Test 2'!$X$12:$X$136,0)),1))-(INDEX('NLM Data Test 1'!$R$12:$R$136,(MATCH(NLML.ChangeInScores.PrePostDataset[[#This Row],[First Name & Last Name*\n(choose from list)]],'NLM Data Test 1'!$W$12:$W$136,0)),1))","v":{"$error":"#N/A"}},{"$f":"(INDEX('NLM Data Test 2'!$T$12:$T$136,(MATCH(NLML.ChangeInScores.PrePostDataset[[#This Row],[First Name & Last Name*\n(choose from list)]],'NLM Data Test 2'!$X$12:$X$136,0)),1))-(INDEX('NLM Data Test 1'!$S$12:$S$136,(MATCH(NLML.ChangeInScores.PrePostDataset[[#This Row],[First Name & Last Name*\n(choose from list)]],'NLM Data Test 1'!$W$12:$W$136,0)),1))","v":{"$error":"#N/A"}},{"$f":"IFERROR(INDEX('NLM Data Test 1'!$T$12:$T$136,(MATCH(NLML.ChangeInScores.PrePostDataset[[#This Row],[First Name & Last Name*\n(choose from list)]],'NLM Data Test 1'!$W$12:$W$136,0)),1),\"\")","v":""},{"$f":"IFERROR(INDEX('NLM Data Test 2'!$U$12:$U$136,(MATCH(NLML.ChangeInScores.PrePostDataset[[#This Row],[First Name & Last Name*\n(choose from list)]],'NLM Data Test 2'!$X$12:$X$136,0)),1),\"\")","v":""}]
[27,{"$f":"IFERROR(INDEX(NLML.Test1.PrePostDataset[*First Name],(MATCH(NLML.ChangeInScores.PrePostDataset[[#This Row],[First Name & Last Name*\n(choose from list)]],'NLM Data Test 1'!W38:W162,0)),1),\"\")","v":""},{"$f":"IFERROR(INDEX(NLML.Test1.PrePostDataset[*Last Name],(MATCH(NLML.ChangeInScores.PrePostDataset[[#This Row],[First Name & Last Name*\n(choose from list)]],'NLM Data Test 1'!W38:W162,0)),1),\"\")","v":""},{"$f":"'NLM Data Test 2'!D38","v":0},{"$f":"IF(IFERROR(MATCH($D42,'NLM Data Test 2'!$D$12:$D$136,0),\"Error\")=\"Error\",(INDEX('NLM Data Test 1'!$D$12:$D$136,(MATCH($D42,'NLM Data Test 1'!$W$12:$W$136,0)),1)),(INDEX('NLM Data Test 2'!$E$12:$E$136,(MATCH($D42,'NLM Data Test 2'!$D$12:$D$136,0)),1)))","v":{"$error":"#N/A"}},{"$f":"IF(IFERROR(MATCH($D42,'NLM Data Test 2'!$D$12:$D$136,0),\"Error\")=\"Error\",(INDEX('NLM Data Test 1'!$E$12:$E$136,(MATCH($D42,'NLM Data Test 1'!$W$12:$W$136,0)),1)),(INDEX('NLM Data Test 2'!$G$12:$G$136,(MATCH($D42,'NLM Data Test 2'!$D$12:$D$136,0)),1)))","v":{"$error":"#N/A"}},{"$f":"IF(IFERROR(MATCH($D42,'NLM Data Test 2'!$D$12:$D$136,0),\"Error\")=\"Error\",(INDEX('NLM Data Test 1'!$F$12:$F$136,(MATCH($D42,'NLM Data Test 1'!$W$12:$W$136,0)),1)),(INDEX('NLM Data Test 2'!$F$12:$F$136,(MATCH($D42,'NLM Data Test 2'!$D$12:$D$136,0)),1)))","v":{"$error":"#N/A"}},{"$f":"IF(INDEX('NLM Data Test 1'!$H$12:$H$136,(MATCH(NLML.ChangeInScores.PrePostDataset[[#This Row],[First Name & Last Name*\n(choose from list)]],'NLM Data Test 1'!$W$12:$W$136,0)),1)=\"\",\"\",(INDEX('NLM Data Test 1'!H$12:H$136,(MATCH(NLML.ChangeInScores.PrePostDataset[[#This Row],[First Name & Last Name*\n(choose from list)]],'NLM Data Test 1'!$W$12:$W$136,0)),1)))","v":{"$error":"#N/A"}},{"$f":"IF(INDEX('NLM Data Test 1'!$I$12:$I$136,(MATCH(NLML.ChangeInScores.PrePostDataset[[#This Row],[First Name & Last Name*\n(choose from list)]],'NLM Data Test 1'!$W$12:$W$136,0)),1)=\"\",\"\",(INDEX('NLM Data Test 1'!I$12:I$136,(MATCH(NLML.ChangeInScores.PrePostDataset[[#This Row],[First Name & Last Name*\n(choose from list)]],'NLM Data Test 1'!$W$12:$W$136,0)),1)))","v":{"$error":"#N/A"}},{"$f":"IF(INDEX('NLM Data Test 1'!$J$12:$J$136,(MATCH(NLML.ChangeInScores.PrePostDataset[[#This Row],[First Name & Last Name*\n(choose from list)]],'NLM Data Test 1'!$W$12:$W$136,0)),1)=\"\",\"\",(INDEX('NLM Data Test 1'!J$12:J$136,(MATCH(NLML.ChangeInScores.PrePostDataset[[#This Row],[First Name & Last Name*\n(choose from list)]],'NLM Data Test 1'!$W$12:$W$136,0)),1)))","v":{"$error":"#N/A"}},{"$f":"IFERROR(INDEX('NLM Data Test 1'!$M$12:$M$136,(MATCH(NLML.ChangeInScores.PrePostDataset[[#This Row],[First Name & Last Name*\n(choose from list)]],'NLM Data Test 1'!$W$12:$W$136,0)),1),\"\")","v":""},{"$f":"INDEX('NLM Data Test 2'!$I$12:$I$136,(MATCH(NLML.ChangeInScores.PrePostDataset[[#This Row],[First Name & Last Name*\n(choose from list)]],'NLM Data Test 2'!$D$12:$D$136,0)),1)","v":{"$error":"#N/A"}},{"$f":"IFERROR(INDEX('NLM Data Test 2'!$J$12:$J$136,(MATCH(NLML.ChangeInScores.PrePostDataset[[#This Row],[First Name & Last Name*\n(choose from list)]],'NLM Data Test 2'!$X$12:$X$136,0)),1),\"\")","v":""},{"$f":"IFERROR(INDEX('NLM Data Test 2'!$K$12:$K$136,(MATCH(NLML.ChangeInScores.PrePostDataset[[#This Row],[First Name & Last Name*\n(choose from list)]],'NLM Data Test 2'!$X$12:$X$136,0)),1),\"\")","v":""},{"$f":"IFERROR(INDEX('NLM Data Test 2'!$N$12:$N$136,(MATCH(NLML.ChangeInScores.PrePostDataset[[#This Row],[First Name & Last Name*\n(choose from list)]],'NLM Data Test 2'!$X$12:$X$136,0)),1),\"\")","v":""},{"$f":"(INDEX('NLM Data Test 2'!$O$12:$O$136,(MATCH(NLML.ChangeInScores.PrePostDataset[[#This Row],[First Name & Last Name*\n(choose from list)]],'NLM Data Test 2'!$X$12:$X$136,0)),1))-(INDEX('NLM Data Test 1'!$N$12:$N$136,(MATCH(NLML.ChangeInScores.PrePostDataset[[#This Row],[First Name & Last Name*\n(choose from list)]],'NLM Data Test 1'!$W$12:$W$136,0)),1))","v":{"$error":"#N/A"}},{"$f":"(INDEX('NLM Data Test 2'!$P$12:$P$136,(MATCH(NLML.ChangeInScores.PrePostDataset[[#This Row],[First Name & Last Name*\n(choose from list)]],'NLM Data Test 2'!$X$12:$X$136,0)),1))-(INDEX('NLM Data Test 1'!$O$12:$O$136,(MATCH(NLML.ChangeInScores.PrePostDataset[[#This Row],[First Name & Last Name*\n(choose from list)]],'NLM Data Test 1'!$W$12:$W$136,0)),1))","v":{"$error":"#N/A"}},{"$f":"(INDEX('NLM Data Test 2'!$Q$12:$Q$136,(MATCH(NLML.ChangeInScores.PrePostDataset[[#This Row],[First Name & Last Name*\n(choose from list)]],'NLM Data Test 2'!$X$12:$X$136,0)),1))-(INDEX('NLM Data Test 1'!$P$12:$P$136,(MATCH(NLML.ChangeInScores.PrePostDataset[[#This Row],[First Name & Last Name*\n(choose from list)]],'NLM Data Test 1'!$W$12:$W$136,0)),1))","v":{"$error":"#N/A"}},{"$f":"(INDEX('NLM Data Test 2'!$R$12:$R$136,(MATCH(NLML.ChangeInScores.PrePostDataset[[#This Row],[First Name & Last Name*\n(choose from list)]],'NLM Data Test 2'!$X$12:$X$136,0)),1))-(INDEX('NLM Data Test 1'!$Q$12:$Q$136,(MATCH(NLML.ChangeInScores.PrePostDataset[[#This Row],[First Name & Last Name*\n(choose from list)]],'NLM Data Test 1'!$W$12:$W$136,0)),1))","v":{"$error":"#N/A"}},{"$f":"(INDEX('NLM Data Test 2'!$S$12:$S$136,(MATCH(NLML.ChangeInScores.PrePostDataset[[#This Row],[First Name & Last Name*\n(choose from list)]],'NLM Data Test 2'!$X$12:$X$136,0)),1))-(INDEX('NLM Data Test 1'!$R$12:$R$136,(MATCH(NLML.ChangeInScores.PrePostDataset[[#This Row],[First Name & Last Name*\n(choose from list)]],'NLM Data Test 1'!$W$12:$W$136,0)),1))","v":{"$error":"#N/A"}},{"$f":"(INDEX('NLM Data Test 2'!$T$12:$T$136,(MATCH(NLML.ChangeInScores.PrePostDataset[[#This Row],[First Name & Last Name*\n(choose from list)]],'NLM Data Test 2'!$X$12:$X$136,0)),1))-(INDEX('NLM Data Test 1'!$S$12:$S$136,(MATCH(NLML.ChangeInScores.PrePostDataset[[#This Row],[First Name & Last Name*\n(choose from list)]],'NLM Data Test 1'!$W$12:$W$136,0)),1))","v":{"$error":"#N/A"}},{"$f":"IFERROR(INDEX('NLM Data Test 1'!$T$12:$T$136,(MATCH(NLML.ChangeInScores.PrePostDataset[[#This Row],[First Name & Last Name*\n(choose from list)]],'NLM Data Test 1'!$W$12:$W$136,0)),1),\"\")","v":""},{"$f":"IFERROR(INDEX('NLM Data Test 2'!$U$12:$U$136,(MATCH(NLML.ChangeInScores.PrePostDataset[[#This Row],[First Name & Last Name*\n(choose from list)]],'NLM Data Test 2'!$X$12:$X$136,0)),1),\"\")","v":""}]
[28,{"$f":"IFERROR(INDEX(NLML.Test1.PrePostDataset[*First Name],(MATCH(NLML.ChangeInScores.PrePostDataset[[#This Row],[First Name & Last Name*\n(choose from list)]],'NLM Data Test 1'!W39:W163,0)),1),\"\")","v":""},{"$f":"IFERROR(INDEX(NLML.Test1.PrePostDataset[*Last Name],(MATCH(NLML.ChangeInScores.PrePostDataset[[#This Row],[First Name & Last Name*\n(choose from list)]],'NLM Data Test 1'!W39:W163,0)),1),\"\")","v":""},{"$f":"'NLM Data Test 2'!D39","v":0},{"$f":"IF(IFERROR(MATCH($D43,'NLM Data Test 2'!$D$12:$D$136,0),\"Error\")=\"Error\",(INDEX('NLM Data Test 1'!$D$12:$D$136,(MATCH($D43,'NLM Data Test 1'!$W$12:$W$136,0)),1)),(INDEX('NLM Data Test 2'!$E$12:$E$136,(MATCH($D43,'NLM Data Test 2'!$D$12:$D$136,0)),1)))","v":{"$error":"#N/A"}},{"$f":"IF(IFERROR(MATCH($D43,'NLM Data Test 2'!$D$12:$D$136,0),\"Error\")=\"Error\",(INDEX('NLM Data Test 1'!$E$12:$E$136,(MATCH($D43,'NLM Data Test 1'!$W$12:$W$136,0)),1)),(INDEX('NLM Data Test 2'!$G$12:$G$136,(MATCH($D43,'NLM Data Test 2'!$D$12:$D$136,0)),1)))","v":{"$error":"#N/A"}},{"$f":"IF(IFERROR(MATCH($D43,'NLM Data Test 2'!$D$12:$D$136,0),\"Error\")=\"Error\",(INDEX('NLM Data Test 1'!$F$12:$F$136,(MATCH($D43,'NLM Data Test 1'!$W$12:$W$136,0)),1)),(INDEX('NLM Data Test 2'!$F$12:$F$136,(MATCH($D43,'NLM Data Test 2'!$D$12:$D$136,0)),1)))","v":{"$error":"#N/A"}},{"$f":"IF(INDEX('NLM Data Test 1'!$H$12:$H$136,(MATCH(NLML.ChangeInScores.PrePostDataset[[#This Row],[First Name & Last Name*\n(choose from list)]],'NLM Data Test 1'!$W$12:$W$136,0)),1)=\"\",\"\",(INDEX('NLM Data Test 1'!H$12:H$136,(MATCH(NLML.ChangeInScores.PrePostDataset[[#This Row],[First Name & Last Name*\n(choose from list)]],'NLM Data Test 1'!$W$12:$W$136,0)),1)))","v":{"$error":"#N/A"}},{"$f":"IF(INDEX('NLM Data Test 1'!$I$12:$I$136,(MATCH(NLML.ChangeInScores.PrePostDataset[[#This Row],[First Name & Last Name*\n(choose from list)]],'NLM Data Test 1'!$W$12:$W$136,0)),1)=\"\",\"\",(INDEX('NLM Data Test 1'!I$12:I$136,(MATCH(NLML.ChangeInScores.PrePostDataset[[#This Row],[First Name & Last Name*\n(choose from list)]],'NLM Data Test 1'!$W$12:$W$136,0)),1)))","v":{"$error":"#N/A"}},{"$f":"IF(INDEX('NLM Data Test 1'!$J$12:$J$136,(MATCH(NLML.ChangeInScores.PrePostDataset[[#This Row],[First Name & Last Name*\n(choose from list)]],'NLM Data Test 1'!$W$12:$W$136,0)),1)=\"\",\"\",(INDEX('NLM Data Test 1'!J$12:J$136,(MATCH(NLML.ChangeInScores.PrePostDataset[[#This Row],[First Name & Last Name*\n(choose from list)]],'NLM Data Test 1'!$W$12:$W$136,0)),1)))","v":{"$error":"#N/A"}},{"$f":"IFERROR(INDEX('NLM Data Test 1'!$M$12:$M$136,(MATCH(NLML.ChangeInScores.PrePostDataset[[#This Row],[First Name & Last Name*\n(choose from list)]],'NLM Data Test 1'!$W$12:$W$136,0)),1),\"\")","v":""},{"$f":"INDEX('NLM Data Test 2'!$I$12:$I$136,(MATCH(NLML.ChangeInScores.PrePostDataset[[#This Row],[First Name & Last Name*\n(choose from list)]],'NLM Data Test 2'!$D$12:$D$136,0)),1)","v":{"$error":"#N/A"}},{"$f":"IFERROR(INDEX('NLM Data Test 2'!$J$12:$J$136,(MATCH(NLML.ChangeInScores.PrePostDataset[[#This Row],[First Name & Last Name*\n(choose from list)]],'NLM Data Test 2'!$X$12:$X$136,0)),1),\"\")","v":""},{"$f":"IFERROR(INDEX('NLM Data Test 2'!$K$12:$K$136,(MATCH(NLML.ChangeInScores.PrePostDataset[[#This Row],[First Name & Last Name*\n(choose from list)]],'NLM Data Test 2'!$X$12:$X$136,0)),1),\"\")","v":""},{"$f":"IFERROR(INDEX('NLM Data Test 2'!$N$12:$N$136,(MATCH(NLML.ChangeInScores.PrePostDataset[[#This Row],[First Name & Last Name*\n(choose from list)]],'NLM Data Test 2'!$X$12:$X$136,0)),1),\"\")","v":""},{"$f":"(INDEX('NLM Data Test 2'!$O$12:$O$136,(MATCH(NLML.ChangeInScores.PrePostDataset[[#This Row],[First Name & Last Name*\n(choose from list)]],'NLM Data Test 2'!$X$12:$X$136,0)),1))-(INDEX('NLM Data Test 1'!$N$12:$N$136,(MATCH(NLML.ChangeInScores.PrePostDataset[[#This Row],[First Name & Last Name*\n(choose from list)]],'NLM Data Test 1'!$W$12:$W$136,0)),1))","v":{"$error":"#N/A"}},{"$f":"(INDEX('NLM Data Test 2'!$P$12:$P$136,(MATCH(NLML.ChangeInScores.PrePostDataset[[#This Row],[First Name & Last Name*\n(choose from list)]],'NLM Data Test 2'!$X$12:$X$136,0)),1))-(INDEX('NLM Data Test 1'!$O$12:$O$136,(MATCH(NLML.ChangeInScores.PrePostDataset[[#This Row],[First Name & Last Name*\n(choose from list)]],'NLM Data Test 1'!$W$12:$W$136,0)),1))","v":{"$error":"#N/A"}},{"$f":"(INDEX('NLM Data Test 2'!$Q$12:$Q$136,(MATCH(NLML.ChangeInScores.PrePostDataset[[#This Row],[First Name & Last Name*\n(choose from list)]],'NLM Data Test 2'!$X$12:$X$136,0)),1))-(INDEX('NLM Data Test 1'!$P$12:$P$136,(MATCH(NLML.ChangeInScores.PrePostDataset[[#This Row],[First Name & Last Name*\n(choose from list)]],'NLM Data Test 1'!$W$12:$W$136,0)),1))","v":{"$error":"#N/A"}},{"$f":"(INDEX('NLM Data Test 2'!$R$12:$R$136,(MATCH(NLML.ChangeInScores.PrePostDataset[[#This Row],[First Name & Last Name*\n(choose from list)]],'NLM Data Test 2'!$X$12:$X$136,0)),1))-(INDEX('NLM Data Test 1'!$Q$12:$Q$136,(MATCH(NLML.ChangeInScores.PrePostDataset[[#This Row],[First Name & Last Name*\n(choose from list)]],'NLM Data Test 1'!$W$12:$W$136,0)),1))","v":{"$error":"#N/A"}},{"$f":"(INDEX('NLM Data Test 2'!$S$12:$S$136,(MATCH(NLML.ChangeInScores.PrePostDataset[[#This Row],[First Name & Last Name*\n(choose from list)]],'NLM Data Test 2'!$X$12:$X$136,0)),1))-(INDEX('NLM Data Test 1'!$R$12:$R$136,(MATCH(NLML.ChangeInScores.PrePostDataset[[#This Row],[First Name & Last Name*\n(choose from list)]],'NLM Data Test 1'!$W$12:$W$136,0)),1))","v":{"$error":"#N/A"}},{"$f":"(INDEX('NLM Data Test 2'!$T$12:$T$136,(MATCH(NLML.ChangeInScores.PrePostDataset[[#This Row],[First Name & Last Name*\n(choose from list)]],'NLM Data Test 2'!$X$12:$X$136,0)),1))-(INDEX('NLM Data Test 1'!$S$12:$S$136,(MATCH(NLML.ChangeInScores.PrePostDataset[[#This Row],[First Name & Last Name*\n(choose from list)]],'NLM Data Test 1'!$W$12:$W$136,0)),1))","v":{"$error":"#N/A"}},{"$f":"IFERROR(INDEX('NLM Data Test 1'!$T$12:$T$136,(MATCH(NLML.ChangeInScores.PrePostDataset[[#This Row],[First Name & Last Name*\n(choose from list)]],'NLM Data Test 1'!$W$12:$W$136,0)),1),\"\")","v":""},{"$f":"IFERROR(INDEX('NLM Data Test 2'!$U$12:$U$136,(MATCH(NLML.ChangeInScores.PrePostDataset[[#This Row],[First Name & Last Name*\n(choose from list)]],'NLM Data Test 2'!$X$12:$X$136,0)),1),\"\")","v":""}]
[29,{"$f":"IFERROR(INDEX(NLML.Test1.PrePostDataset[*First Name],(MATCH(NLML.ChangeInScores.PrePostDataset[[#This Row],[First Name & Last Name*\n(choose from list)]],'NLM Data Test 1'!W40:W164,0)),1),\"\")","v":""},{"$f":"IFERROR(INDEX(NLML.Test1.PrePostDataset[*Last Name],(MATCH(NLML.ChangeInScores.PrePostDataset[[#This Row],[First Name & Last Name*\n(choose from list)]],'NLM Data Test 1'!W40:W164,0)),1),\"\")","v":""},{"$f":"'NLM Data Test 2'!D40","v":0},{"$f":"IF(IFERROR(MATCH($D44,'NLM Data Test 2'!$D$12:$D$136,0),\"Error\")=\"Error\",(INDEX('NLM Data Test 1'!$D$12:$D$136,(MATCH($D44,'NLM Data Test 1'!$W$12:$W$136,0)),1)),(INDEX('NLM Data Test 2'!$E$12:$E$136,(MATCH($D44,'NLM Data Test 2'!$D$12:$D$136,0)),1)))","v":{"$error":"#N/A"}},{"$f":"IF(IFERROR(MATCH($D44,'NLM Data Test 2'!$D$12:$D$136,0),\"Error\")=\"Error\",(INDEX('NLM Data Test 1'!$E$12:$E$136,(MATCH($D44,'NLM Data Test 1'!$W$12:$W$136,0)),1)),(INDEX('NLM Data Test 2'!$G$12:$G$136,(MATCH($D44,'NLM Data Test 2'!$D$12:$D$136,0)),1)))","v":{"$error":"#N/A"}},{"$f":"IF(IFERROR(MATCH($D44,'NLM Data Test 2'!$D$12:$D$136,0),\"Error\")=\"Error\",(INDEX('NLM Data Test 1'!$F$12:$F$136,(MATCH($D44,'NLM Data Test 1'!$W$12:$W$136,0)),1)),(INDEX('NLM Data Test 2'!$F$12:$F$136,(MATCH($D44,'NLM Data Test 2'!$D$12:$D$136,0)),1)))","v":{"$error":"#N/A"}},{"$f":"IF(INDEX('NLM Data Test 1'!$H$12:$H$136,(MATCH(NLML.ChangeInScores.PrePostDataset[[#This Row],[First Name & Last Name*\n(choose from list)]],'NLM Data Test 1'!$W$12:$W$136,0)),1)=\"\",\"\",(INDEX('NLM Data Test 1'!H$12:H$136,(MATCH(NLML.ChangeInScores.PrePostDataset[[#This Row],[First Name & Last Name*\n(choose from list)]],'NLM Data Test 1'!$W$12:$W$136,0)),1)))","v":{"$error":"#N/A"}},{"$f":"IF(INDEX('NLM Data Test 1'!$I$12:$I$136,(MATCH(NLML.ChangeInScores.PrePostDataset[[#This Row],[First Name & Last Name*\n(choose from list)]],'NLM Data Test 1'!$W$12:$W$136,0)),1)=\"\",\"\",(INDEX('NLM Data Test 1'!I$12:I$136,(MATCH(NLML.ChangeInScores.PrePostDataset[[#This Row],[First Name & Last Name*\n(choose from list)]],'NLM Data Test 1'!$W$12:$W$136,0)),1)))","v":{"$error":"#N/A"}},{"$f":"IF(INDEX('NLM Data Test 1'!$J$12:$J$136,(MATCH(NLML.ChangeInScores.PrePostDataset[[#This Row],[First Name & Last Name*\n(choose from list)]],'NLM Data Test 1'!$W$12:$W$136,0)),1)=\"\",\"\",(INDEX('NLM Data Test 1'!J$12:J$136,(MATCH(NLML.ChangeInScores.PrePostDataset[[#This Row],[First Name & Last Name*\n(choose from list)]],'NLM Data Test 1'!$W$12:$W$136,0)),1)))","v":{"$error":"#N/A"}},{"$f":"IFERROR(INDEX('NLM Data Test 1'!$M$12:$M$136,(MATCH(NLML.ChangeInScores.PrePostDataset[[#This Row],[First Name & Last Name*\n(choose from list)]],'NLM Data Test 1'!$W$12:$W$136,0)),1),\"\")","v":""},{"$f":"INDEX('NLM Data Test 2'!$I$12:$I$136,(MATCH(NLML.ChangeInScores.PrePostDataset[[#This Row],[First Name & Last Name*\n(choose from list)]],'NLM Data Test 2'!$D$12:$D$136,0)),1)","v":{"$error":"#N/A"}},{"$f":"IFERROR(INDEX('NLM Data Test 2'!$J$12:$J$136,(MATCH(NLML.ChangeInScores.PrePostDataset[[#This Row],[First Name & Last Name*\n(choose from list)]],'NLM Data Test 2'!$X$12:$X$136,0)),1),\"\")","v":""},{"$f":"IFERROR(INDEX('NLM Data Test 2'!$K$12:$K$136,(MATCH(NLML.ChangeInScores.PrePostDataset[[#This Row],[First Name & Last Name*\n(choose from list)]],'NLM Data Test 2'!$X$12:$X$136,0)),1),\"\")","v":""},{"$f":"IFERROR(INDEX('NLM Data Test 2'!$N$12:$N$136,(MATCH(NLML.ChangeInScores.PrePostDataset[[#This Row],[First Name & Last Name*\n(choose from list)]],'NLM Data Test 2'!$X$12:$X$136,0)),1),\"\")","v":""},{"$f":"(INDEX('NLM Data Test 2'!$O$12:$O$136,(MATCH(NLML.ChangeInScores.PrePostDataset[[#This Row],[First Name & Last Name*\n(choose from list)]],'NLM Data Test 2'!$X$12:$X$136,0)),1))-(INDEX('NLM Data Test 1'!$N$12:$N$136,(MATCH(NLML.ChangeInScores.PrePostDataset[[#This Row],[First Name & Last Name*\n(choose from list)]],'NLM Data Test 1'!$W$12:$W$136,0)),1))","v":{"$error":"#N/A"}},{"$f":"(INDEX('NLM Data Test 2'!$P$12:$P$136,(MATCH(NLML.ChangeInScores.PrePostDataset[[#This Row],[First Name & Last Name*\n(choose from list)]],'NLM Data Test 2'!$X$12:$X$136,0)),1))-(INDEX('NLM Data Test 1'!$O$12:$O$136,(MATCH(NLML.ChangeInScores.PrePostDataset[[#This Row],[First Name & Last Name*\n(choose from list)]],'NLM Data Test 1'!$W$12:$W$136,0)),1))","v":{"$error":"#N/A"}},{"$f":"(INDEX('NLM Data Test 2'!$Q$12:$Q$136,(MATCH(NLML.ChangeInScores.PrePostDataset[[#This Row],[First Name & Last Name*\n(choose from list)]],'NLM Data Test 2'!$X$12:$X$136,0)),1))-(INDEX('NLM Data Test 1'!$P$12:$P$136,(MATCH(NLML.ChangeInScores.PrePostDataset[[#This Row],[First Name & Last Name*\n(choose from list)]],'NLM Data Test 1'!$W$12:$W$136,0)),1))","v":{"$error":"#N/A"}},{"$f":"(INDEX('NLM Data Test 2'!$R$12:$R$136,(MATCH(NLML.ChangeInScores.PrePostDataset[[#This Row],[First Name & Last Name*\n(choose from list)]],'NLM Data Test 2'!$X$12:$X$136,0)),1))-(INDEX('NLM Data Test 1'!$Q$12:$Q$136,(MATCH(NLML.ChangeInScores.PrePostDataset[[#This Row],[First Name & Last Name*\n(choose from list)]],'NLM Data Test 1'!$W$12:$W$136,0)),1))","v":{"$error":"#N/A"}},{"$f":"(INDEX('NLM Data Test 2'!$S$12:$S$136,(MATCH(NLML.ChangeInScores.PrePostDataset[[#This Row],[First Name & Last Name*\n(choose from list)]],'NLM Data Test 2'!$X$12:$X$136,0)),1))-(INDEX('NLM Data Test 1'!$R$12:$R$136,(MATCH(NLML.ChangeInScores.PrePostDataset[[#This Row],[First Name & Last Name*\n(choose from list)]],'NLM Data Test 1'!$W$12:$W$136,0)),1))","v":{"$error":"#N/A"}},{"$f":"(INDEX('NLM Data Test 2'!$T$12:$T$136,(MATCH(NLML.ChangeInScores.PrePostDataset[[#This Row],[First Name & Last Name*\n(choose from list)]],'NLM Data Test 2'!$X$12:$X$136,0)),1))-(INDEX('NLM Data Test 1'!$S$12:$S$136,(MATCH(NLML.ChangeInScores.PrePostDataset[[#This Row],[First Name & Last Name*\n(choose from list)]],'NLM Data Test 1'!$W$12:$W$136,0)),1))","v":{"$error":"#N/A"}},{"$f":"IFERROR(INDEX('NLM Data Test 1'!$T$12:$T$136,(MATCH(NLML.ChangeInScores.PrePostDataset[[#This Row],[First Name & Last Name*\n(choose from list)]],'NLM Data Test 1'!$W$12:$W$136,0)),1),\"\")","v":""},{"$f":"IFERROR(INDEX('NLM Data Test 2'!$U$12:$U$136,(MATCH(NLML.ChangeInScores.PrePostDataset[[#This Row],[First Name & Last Name*\n(choose from list)]],'NLM Data Test 2'!$X$12:$X$136,0)),1),\"\")","v":""}]
[30,{"$f":"IFERROR(INDEX(NLML.Test1.PrePostDataset[*First Name],(MATCH(NLML.ChangeInScores.PrePostDataset[[#This Row],[First Name & Last Name*\n(choose from list)]],'NLM Data Test 1'!W41:W165,0)),1),\"\")","v":""},{"$f":"IFERROR(INDEX(NLML.Test1.PrePostDataset[*Last Name],(MATCH(NLML.ChangeInScores.PrePostDataset[[#This Row],[First Name & Last Name*\n(choose from list)]],'NLM Data Test 1'!W41:W165,0)),1),\"\")","v":""},{"$f":"'NLM Data Test 2'!D41","v":0},{"$f":"IF(IFERROR(MATCH($D45,'NLM Data Test 2'!$D$12:$D$136,0),\"Error\")=\"Error\",(INDEX('NLM Data Test 1'!$D$12:$D$136,(MATCH($D45,'NLM Data Test 1'!$W$12:$W$136,0)),1)),(INDEX('NLM Data Test 2'!$E$12:$E$136,(MATCH($D45,'NLM Data Test 2'!$D$12:$D$136,0)),1)))","v":{"$error":"#N/A"}},{"$f":"IF(IFERROR(MATCH($D45,'NLM Data Test 2'!$D$12:$D$136,0),\"Error\")=\"Error\",(INDEX('NLM Data Test 1'!$E$12:$E$136,(MATCH($D45,'NLM Data Test 1'!$W$12:$W$136,0)),1)),(INDEX('NLM Data Test 2'!$G$12:$G$136,(MATCH($D45,'NLM Data Test 2'!$D$12:$D$136,0)),1)))","v":{"$error":"#N/A"}},{"$f":"IF(IFERROR(MATCH($D45,'NLM Data Test 2'!$D$12:$D$136,0),\"Error\")=\"Error\",(INDEX('NLM Data Test 1'!$F$12:$F$136,(MATCH($D45,'NLM Data Test 1'!$W$12:$W$136,0)),1)),(INDEX('NLM Data Test 2'!$F$12:$F$136,(MATCH($D45,'NLM Data Test 2'!$D$12:$D$136,0)),1)))","v":{"$error":"#N/A"}},{"$f":"IF(INDEX('NLM Data Test 1'!$H$12:$H$136,(MATCH(NLML.ChangeInScores.PrePostDataset[[#This Row],[First Name & Last Name*\n(choose from list)]],'NLM Data Test 1'!$W$12:$W$136,0)),1)=\"\",\"\",(INDEX('NLM Data Test 1'!H$12:H$136,(MATCH(NLML.ChangeInScores.PrePostDataset[[#This Row],[First Name & Last Name*\n(choose from list)]],'NLM Data Test 1'!$W$12:$W$136,0)),1)))","v":{"$error":"#N/A"}},{"$f":"IF(INDEX('NLM Data Test 1'!$I$12:$I$136,(MATCH(NLML.ChangeInScores.PrePostDataset[[#This Row],[First Name & Last Name*\n(choose from list)]],'NLM Data Test 1'!$W$12:$W$136,0)),1)=\"\",\"\",(INDEX('NLM Data Test 1'!I$12:I$136,(MATCH(NLML.ChangeInScores.PrePostDataset[[#This Row],[First Name & Last Name*\n(choose from list)]],'NLM Data Test 1'!$W$12:$W$136,0)),1)))","v":{"$error":"#N/A"}},{"$f":"IF(INDEX('NLM Data Test 1'!$J$12:$J$136,(MATCH(NLML.ChangeInScores.PrePostDataset[[#This Row],[First Name & Last Name*\n(choose from list)]],'NLM Data Test 1'!$W$12:$W$136,0)),1)=\"\",\"\",(INDEX('NLM Data Test 1'!J$12:J$136,(MATCH(NLML.ChangeInScores.PrePostDataset[[#This Row],[First Name & Last Name*\n(choose from list)]],'NLM Data Test 1'!$W$12:$W$136,0)),1)))","v":{"$error":"#N/A"}},{"$f":"IFERROR(INDEX('NLM Data Test 1'!$M$12:$M$136,(MATCH(NLML.ChangeInScores.PrePostDataset[[#This Row],[First Name & Last Name*\n(choose from list)]],'NLM Data Test 1'!$W$12:$W$136,0)),1),\"\")","v":""},{"$f":"INDEX('NLM Data Test 2'!$I$12:$I$136,(MATCH(NLML.ChangeInScores.PrePostDataset[[#This Row],[First Name & Last Name*\n(choose from list)]],'NLM Data Test 2'!$D$12:$D$136,0)),1)","v":{"$error":"#N/A"}},{"$f":"IFERROR(INDEX('NLM Data Test 2'!$J$12:$J$136,(MATCH(NLML.ChangeInScores.PrePostDataset[[#This Row],[First Name & Last Name*\n(choose from list)]],'NLM Data Test 2'!$X$12:$X$136,0)),1),\"\")","v":""},{"$f":"IFERROR(INDEX('NLM Data Test 2'!$K$12:$K$136,(MATCH(NLML.ChangeInScores.PrePostDataset[[#This Row],[First Name & Last Name*\n(choose from list)]],'NLM Data Test 2'!$X$12:$X$136,0)),1),\"\")","v":""},{"$f":"IFERROR(INDEX('NLM Data Test 2'!$N$12:$N$136,(MATCH(NLML.ChangeInScores.PrePostDataset[[#This Row],[First Name & Last Name*\n(choose from list)]],'NLM Data Test 2'!$X$12:$X$136,0)),1),\"\")","v":""},{"$f":"(INDEX('NLM Data Test 2'!$O$12:$O$136,(MATCH(NLML.ChangeInScores.PrePostDataset[[#This Row],[First Name & Last Name*\n(choose from list)]],'NLM Data Test 2'!$X$12:$X$136,0)),1))-(INDEX('NLM Data Test 1'!$N$12:$N$136,(MATCH(NLML.ChangeInScores.PrePostDataset[[#This Row],[First Name & Last Name*\n(choose from list)]],'NLM Data Test 1'!$W$12:$W$136,0)),1))","v":{"$error":"#N/A"}},{"$f":"(INDEX('NLM Data Test 2'!$P$12:$P$136,(MATCH(NLML.ChangeInScores.PrePostDataset[[#This Row],[First Name & Last Name*\n(choose from list)]],'NLM Data Test 2'!$X$12:$X$136,0)),1))-(INDEX('NLM Data Test 1'!$O$12:$O$136,(MATCH(NLML.ChangeInScores.PrePostDataset[[#This Row],[First Name & Last Name*\n(choose from list)]],'NLM Data Test 1'!$W$12:$W$136,0)),1))","v":{"$error":"#N/A"}},{"$f":"(INDEX('NLM Data Test 2'!$Q$12:$Q$136,(MATCH(NLML.ChangeInScores.PrePostDataset[[#This Row],[First Name & Last Name*\n(choose from list)]],'NLM Data Test 2'!$X$12:$X$136,0)),1))-(INDEX('NLM Data Test 1'!$P$12:$P$136,(MATCH(NLML.ChangeInScores.PrePostDataset[[#This Row],[First Name & Last Name*\n(choose from list)]],'NLM Data Test 1'!$W$12:$W$136,0)),1))","v":{"$error":"#N/A"}},{"$f":"(INDEX('NLM Data Test 2'!$R$12:$R$136,(MATCH(NLML.ChangeInScores.PrePostDataset[[#This Row],[First Name & Last Name*\n(choose from list)]],'NLM Data Test 2'!$X$12:$X$136,0)),1))-(INDEX('NLM Data Test 1'!$Q$12:$Q$136,(MATCH(NLML.ChangeInScores.PrePostDataset[[#This Row],[First Name & Last Name*\n(choose from list)]],'NLM Data Test 1'!$W$12:$W$136,0)),1))","v":{"$error":"#N/A"}},{"$f":"(INDEX('NLM Data Test 2'!$S$12:$S$136,(MATCH(NLML.ChangeInScores.PrePostDataset[[#This Row],[First Name & Last Name*\n(choose from list)]],'NLM Data Test 2'!$X$12:$X$136,0)),1))-(INDEX('NLM Data Test 1'!$R$12:$R$136,(MATCH(NLML.ChangeInScores.PrePostDataset[[#This Row],[First Name & Last Name*\n(choose from list)]],'NLM Data Test 1'!$W$12:$W$136,0)),1))","v":{"$error":"#N/A"}},{"$f":"(INDEX('NLM Data Test 2'!$T$12:$T$136,(MATCH(NLML.ChangeInScores.PrePostDataset[[#This Row],[First Name & Last Name*\n(choose from list)]],'NLM Data Test 2'!$X$12:$X$136,0)),1))-(INDEX('NLM Data Test 1'!$S$12:$S$136,(MATCH(NLML.ChangeInScores.PrePostDataset[[#This Row],[First Name & Last Name*\n(choose from list)]],'NLM Data Test 1'!$W$12:$W$136,0)),1))","v":{"$error":"#N/A"}},{"$f":"IFERROR(INDEX('NLM Data Test 1'!$T$12:$T$136,(MATCH(NLML.ChangeInScores.PrePostDataset[[#This Row],[First Name & Last Name*\n(choose from list)]],'NLM Data Test 1'!$W$12:$W$136,0)),1),\"\")","v":""},{"$f":"IFERROR(INDEX('NLM Data Test 2'!$U$12:$U$136,(MATCH(NLML.ChangeInScores.PrePostDataset[[#This Row],[First Name & Last Name*\n(choose from list)]],'NLM Data Test 2'!$X$12:$X$136,0)),1),\"\")","v":""}]
[31,{"$f":"IFERROR(INDEX(NLML.Test1.PrePostDataset[*First Name],(MATCH(NLML.ChangeInScores.PrePostDataset[[#This Row],[First Name & Last Name*\n(choose from list)]],'NLM Data Test 1'!W42:W166,0)),1),\"\")","v":""},{"$f":"IFERROR(INDEX(NLML.Test1.PrePostDataset[*Last Name],(MATCH(NLML.ChangeInScores.PrePostDataset[[#This Row],[First Name & Last Name*\n(choose from list)]],'NLM Data Test 1'!W42:W166,0)),1),\"\")","v":""},{"$f":"'NLM Data Test 2'!D42","v":0},{"$f":"IF(IFERROR(MATCH($D46,'NLM Data Test 2'!$D$12:$D$136,0),\"Error\")=\"Error\",(INDEX('NLM Data Test 1'!$D$12:$D$136,(MATCH($D46,'NLM Data Test 1'!$W$12:$W$136,0)),1)),(INDEX('NLM Data Test 2'!$E$12:$E$136,(MATCH($D46,'NLM Data Test 2'!$D$12:$D$136,0)),1)))","v":{"$error":"#N/A"}},{"$f":"IF(IFERROR(MATCH($D46,'NLM Data Test 2'!$D$12:$D$136,0),\"Error\")=\"Error\",(INDEX('NLM Data Test 1'!$E$12:$E$136,(MATCH($D46,'NLM Data Test 1'!$W$12:$W$136,0)),1)),(INDEX('NLM Data Test 2'!$G$12:$G$136,(MATCH($D46,'NLM Data Test 2'!$D$12:$D$136,0)),1)))","v":{"$error":"#N/A"}},{"$f":"IF(IFERROR(MATCH($D46,'NLM Data Test 2'!$D$12:$D$136,0),\"Error\")=\"Error\",(INDEX('NLM Data Test 1'!$F$12:$F$136,(MATCH($D46,'NLM Data Test 1'!$W$12:$W$136,0)),1)),(INDEX('NLM Data Test 2'!$F$12:$F$136,(MATCH($D46,'NLM Data Test 2'!$D$12:$D$136,0)),1)))","v":{"$error":"#N/A"}},{"$f":"IF(INDEX('NLM Data Test 1'!$H$12:$H$136,(MATCH(NLML.ChangeInScores.PrePostDataset[[#This Row],[First Name & Last Name*\n(choose from list)]],'NLM Data Test 1'!$W$12:$W$136,0)),1)=\"\",\"\",(INDEX('NLM Data Test 1'!H$12:H$136,(MATCH(NLML.ChangeInScores.PrePostDataset[[#This Row],[First Name & Last Name*\n(choose from list)]],'NLM Data Test 1'!$W$12:$W$136,0)),1)))","v":{"$error":"#N/A"}},{"$f":"IF(INDEX('NLM Data Test 1'!$I$12:$I$136,(MATCH(NLML.ChangeInScores.PrePostDataset[[#This Row],[First Name & Last Name*\n(choose from list)]],'NLM Data Test 1'!$W$12:$W$136,0)),1)=\"\",\"\",(INDEX('NLM Data Test 1'!I$12:I$136,(MATCH(NLML.ChangeInScores.PrePostDataset[[#This Row],[First Name & Last Name*\n(choose from list)]],'NLM Data Test 1'!$W$12:$W$136,0)),1)))","v":{"$error":"#N/A"}},{"$f":"IF(INDEX('NLM Data Test 1'!$J$12:$J$136,(MATCH(NLML.ChangeInScores.PrePostDataset[[#This Row],[First Name & Last Name*\n(choose from list)]],'NLM Data Test 1'!$W$12:$W$136,0)),1)=\"\",\"\",(INDEX('NLM Data Test 1'!J$12:J$136,(MATCH(NLML.ChangeInScores.PrePostDataset[[#This Row],[First Name & Last Name*\n(choose from list)]],'NLM Data Test 1'!$W$12:$W$136,0)),1)))","v":{"$error":"#N/A"}},{"$f":"IFERROR(INDEX('NLM Data Test 1'!$M$12:$M$136,(MATCH(NLML.ChangeInScores.PrePostDataset[[#This Row],[First Name & Last Name*\n(choose from list)]],'NLM Data Test 1'!$W$12:$W$136,0)),1),\"\")","v":""},{"$f":"INDEX('NLM Data Test 2'!$I$12:$I$136,(MATCH(NLML.ChangeInScores.PrePostDataset[[#This Row],[First Name & Last Name*\n(choose from list)]],'NLM Data Test 2'!$D$12:$D$136,0)),1)","v":{"$error":"#N/A"}},{"$f":"IFERROR(INDEX('NLM Data Test 2'!$J$12:$J$136,(MATCH(NLML.ChangeInScores.PrePostDataset[[#This Row],[First Name & Last Name*\n(choose from list)]],'NLM Data Test 2'!$X$12:$X$136,0)),1),\"\")","v":""},{"$f":"IFERROR(INDEX('NLM Data Test 2'!$K$12:$K$136,(MATCH(NLML.ChangeInScores.PrePostDataset[[#This Row],[First Name & Last Name*\n(choose from list)]],'NLM Data Test 2'!$X$12:$X$136,0)),1),\"\")","v":""},{"$f":"IFERROR(INDEX('NLM Data Test 2'!$N$12:$N$136,(MATCH(NLML.ChangeInScores.PrePostDataset[[#This Row],[First Name & Last Name*\n(choose from list)]],'NLM Data Test 2'!$X$12:$X$136,0)),1),\"\")","v":""},{"$f":"(INDEX('NLM Data Test 2'!$O$12:$O$136,(MATCH(NLML.ChangeInScores.PrePostDataset[[#This Row],[First Name & Last Name*\n(choose from list)]],'NLM Data Test 2'!$X$12:$X$136,0)),1))-(INDEX('NLM Data Test 1'!$N$12:$N$136,(MATCH(NLML.ChangeInScores.PrePostDataset[[#This Row],[First Name & Last Name*\n(choose from list)]],'NLM Data Test 1'!$W$12:$W$136,0)),1))","v":{"$error":"#N/A"}},{"$f":"(INDEX('NLM Data Test 2'!$P$12:$P$136,(MATCH(NLML.ChangeInScores.PrePostDataset[[#This Row],[First Name & Last Name*\n(choose from list)]],'NLM Data Test 2'!$X$12:$X$136,0)),1))-(INDEX('NLM Data Test 1'!$O$12:$O$136,(MATCH(NLML.ChangeInScores.PrePostDataset[[#This Row],[First Name & Last Name*\n(choose from list)]],'NLM Data Test 1'!$W$12:$W$136,0)),1))","v":{"$error":"#N/A"}},{"$f":"(INDEX('NLM Data Test 2'!$Q$12:$Q$136,(MATCH(NLML.ChangeInScores.PrePostDataset[[#This Row],[First Name & Last Name*\n(choose from list)]],'NLM Data Test 2'!$X$12:$X$136,0)),1))-(INDEX('NLM Data Test 1'!$P$12:$P$136,(MATCH(NLML.ChangeInScores.PrePostDataset[[#This Row],[First Name & Last Name*\n(choose from list)]],'NLM Data Test 1'!$W$12:$W$136,0)),1))","v":{"$error":"#N/A"}},{"$f":"(INDEX('NLM Data Test 2'!$R$12:$R$136,(MATCH(NLML.ChangeInScores.PrePostDataset[[#This Row],[First Name & Last Name*\n(choose from list)]],'NLM Data Test 2'!$X$12:$X$136,0)),1))-(INDEX('NLM Data Test 1'!$Q$12:$Q$136,(MATCH(NLML.ChangeInScores.PrePostDataset[[#This Row],[First Name & Last Name*\n(choose from list)]],'NLM Data Test 1'!$W$12:$W$136,0)),1))","v":{"$error":"#N/A"}},{"$f":"(INDEX('NLM Data Test 2'!$S$12:$S$136,(MATCH(NLML.ChangeInScores.PrePostDataset[[#This Row],[First Name & Last Name*\n(choose from list)]],'NLM Data Test 2'!$X$12:$X$136,0)),1))-(INDEX('NLM Data Test 1'!$R$12:$R$136,(MATCH(NLML.ChangeInScores.PrePostDataset[[#This Row],[First Name & Last Name*\n(choose from list)]],'NLM Data Test 1'!$W$12:$W$136,0)),1))","v":{"$error":"#N/A"}},{"$f":"(INDEX('NLM Data Test 2'!$T$12:$T$136,(MATCH(NLML.ChangeInScores.PrePostDataset[[#This Row],[First Name & Last Name*\n(choose from list)]],'NLM Data Test 2'!$X$12:$X$136,0)),1))-(INDEX('NLM Data Test 1'!$S$12:$S$136,(MATCH(NLML.ChangeInScores.PrePostDataset[[#This Row],[First Name & Last Name*\n(choose from list)]],'NLM Data Test 1'!$W$12:$W$136,0)),1))","v":{"$error":"#N/A"}},{"$f":"IFERROR(INDEX('NLM Data Test 1'!$T$12:$T$136,(MATCH(NLML.ChangeInScores.PrePostDataset[[#This Row],[First Name & Last Name*\n(choose from list)]],'NLM Data Test 1'!$W$12:$W$136,0)),1),\"\")","v":""},{"$f":"IFERROR(INDEX('NLM Data Test 2'!$U$12:$U$136,(MATCH(NLML.ChangeInScores.PrePostDataset[[#This Row],[First Name & Last Name*\n(choose from list)]],'NLM Data Test 2'!$X$12:$X$136,0)),1),\"\")","v":""}]
[32,{"$f":"IFERROR(INDEX(NLML.Test1.PrePostDataset[*First Name],(MATCH(NLML.ChangeInScores.PrePostDataset[[#This Row],[First Name & Last Name*\n(choose from list)]],'NLM Data Test 1'!W43:W167,0)),1),\"\")","v":""},{"$f":"IFERROR(INDEX(NLML.Test1.PrePostDataset[*Last Name],(MATCH(NLML.ChangeInScores.PrePostDataset[[#This Row],[First Name & Last Name*\n(choose from list)]],'NLM Data Test 1'!W43:W167,0)),1),\"\")","v":""},{"$f":"'NLM Data Test 2'!D43","v":0},{"$f":"IF(IFERROR(MATCH($D47,'NLM Data Test 2'!$D$12:$D$136,0),\"Error\")=\"Error\",(INDEX('NLM Data Test 1'!$D$12:$D$136,(MATCH($D47,'NLM Data Test 1'!$W$12:$W$136,0)),1)),(INDEX('NLM Data Test 2'!$E$12:$E$136,(MATCH($D47,'NLM Data Test 2'!$D$12:$D$136,0)),1)))","v":{"$error":"#N/A"}},{"$f":"IF(IFERROR(MATCH($D47,'NLM Data Test 2'!$D$12:$D$136,0),\"Error\")=\"Error\",(INDEX('NLM Data Test 1'!$E$12:$E$136,(MATCH($D47,'NLM Data Test 1'!$W$12:$W$136,0)),1)),(INDEX('NLM Data Test 2'!$G$12:$G$136,(MATCH($D47,'NLM Data Test 2'!$D$12:$D$136,0)),1)))","v":{"$error":"#N/A"}},{"$f":"IF(IFERROR(MATCH($D47,'NLM Data Test 2'!$D$12:$D$136,0),\"Error\")=\"Error\",(INDEX('NLM Data Test 1'!$F$12:$F$136,(MATCH($D47,'NLM Data Test 1'!$W$12:$W$136,0)),1)),(INDEX('NLM Data Test 2'!$F$12:$F$136,(MATCH($D47,'NLM Data Test 2'!$D$12:$D$136,0)),1)))","v":{"$error":"#N/A"}},{"$f":"IF(INDEX('NLM Data Test 1'!$H$12:$H$136,(MATCH(NLML.ChangeInScores.PrePostDataset[[#This Row],[First Name & Last Name*\n(choose from list)]],'NLM Data Test 1'!$W$12:$W$136,0)),1)=\"\",\"\",(INDEX('NLM Data Test 1'!H$12:H$136,(MATCH(NLML.ChangeInScores.PrePostDataset[[#This Row],[First Name & Last Name*\n(choose from list)]],'NLM Data Test 1'!$W$12:$W$136,0)),1)))","v":{"$error":"#N/A"}},{"$f":"IF(INDEX('NLM Data Test 1'!$I$12:$I$136,(MATCH(NLML.ChangeInScores.PrePostDataset[[#This Row],[First Name & Last Name*\n(choose from list)]],'NLM Data Test 1'!$W$12:$W$136,0)),1)=\"\",\"\",(INDEX('NLM Data Test 1'!I$12:I$136,(MATCH(NLML.ChangeInScores.PrePostDataset[[#This Row],[First Name & Last Name*\n(choose from list)]],'NLM Data Test 1'!$W$12:$W$136,0)),1)))","v":{"$error":"#N/A"}},{"$f":"IF(INDEX('NLM Data Test 1'!$J$12:$J$136,(MATCH(NLML.ChangeInScores.PrePostDataset[[#This Row],[First Name & Last Name*\n(choose from list)]],'NLM Data Test 1'!$W$12:$W$136,0)),1)=\"\",\"\",(INDEX('NLM Data Test 1'!J$12:J$136,(MATCH(NLML.ChangeInScores.PrePostDataset[[#This Row],[First Name & Last Name*\n(choose from list)]],'NLM Data Test 1'!$W$12:$W$136,0)),1)))","v":{"$error":"#N/A"}},{"$f":"IFERROR(INDEX('NLM Data Test 1'!$M$12:$M$136,(MATCH(NLML.ChangeInScores.PrePostDataset[[#This Row],[First Name & Last Name*\n(choose from list)]],'NLM Data Test 1'!$W$12:$W$136,0)),1),\"\")","v":""},{"$f":"INDEX('NLM Data Test 2'!$I$12:$I$136,(MATCH(NLML.ChangeInScores.PrePostDataset[[#This Row],[First Name & Last Name*\n(choose from list)]],'NLM Data Test 2'!$D$12:$D$136,0)),1)","v":{"$error":"#N/A"}},{"$f":"IFERROR(INDEX('NLM Data Test 2'!$J$12:$J$136,(MATCH(NLML.ChangeInScores.PrePostDataset[[#This Row],[First Name & Last Name*\n(choose from list)]],'NLM Data Test 2'!$X$12:$X$136,0)),1),\"\")","v":""},{"$f":"IFERROR(INDEX('NLM Data Test 2'!$K$12:$K$136,(MATCH(NLML.ChangeInScores.PrePostDataset[[#This Row],[First Name & Last Name*\n(choose from list)]],'NLM Data Test 2'!$X$12:$X$136,0)),1),\"\")","v":""},{"$f":"IFERROR(INDEX('NLM Data Test 2'!$N$12:$N$136,(MATCH(NLML.ChangeInScores.PrePostDataset[[#This Row],[First Name & Last Name*\n(choose from list)]],'NLM Data Test 2'!$X$12:$X$136,0)),1),\"\")","v":""},{"$f":"(INDEX('NLM Data Test 2'!$O$12:$O$136,(MATCH(NLML.ChangeInScores.PrePostDataset[[#This Row],[First Name & Last Name*\n(choose from list)]],'NLM Data Test 2'!$X$12:$X$136,0)),1))-(INDEX('NLM Data Test 1'!$N$12:$N$136,(MATCH(NLML.ChangeInScores.PrePostDataset[[#This Row],[First Name & Last Name*\n(choose from list)]],'NLM Data Test 1'!$W$12:$W$136,0)),1))","v":{"$error":"#N/A"}},{"$f":"(INDEX('NLM Data Test 2'!$P$12:$P$136,(MATCH(NLML.ChangeInScores.PrePostDataset[[#This Row],[First Name & Last Name*\n(choose from list)]],'NLM Data Test 2'!$X$12:$X$136,0)),1))-(INDEX('NLM Data Test 1'!$O$12:$O$136,(MATCH(NLML.ChangeInScores.PrePostDataset[[#This Row],[First Name & Last Name*\n(choose from list)]],'NLM Data Test 1'!$W$12:$W$136,0)),1))","v":{"$error":"#N/A"}},{"$f":"(INDEX('NLM Data Test 2'!$Q$12:$Q$136,(MATCH(NLML.ChangeInScores.PrePostDataset[[#This Row],[First Name & Last Name*\n(choose from list)]],'NLM Data Test 2'!$X$12:$X$136,0)),1))-(INDEX('NLM Data Test 1'!$P$12:$P$136,(MATCH(NLML.ChangeInScores.PrePostDataset[[#This Row],[First Name & Last Name*\n(choose from list)]],'NLM Data Test 1'!$W$12:$W$136,0)),1))","v":{"$error":"#N/A"}},{"$f":"(INDEX('NLM Data Test 2'!$R$12:$R$136,(MATCH(NLML.ChangeInScores.PrePostDataset[[#This Row],[First Name & Last Name*\n(choose from list)]],'NLM Data Test 2'!$X$12:$X$136,0)),1))-(INDEX('NLM Data Test 1'!$Q$12:$Q$136,(MATCH(NLML.ChangeInScores.PrePostDataset[[#This Row],[First Name & Last Name*\n(choose from list)]],'NLM Data Test 1'!$W$12:$W$136,0)),1))","v":{"$error":"#N/A"}},{"$f":"(INDEX('NLM Data Test 2'!$S$12:$S$136,(MATCH(NLML.ChangeInScores.PrePostDataset[[#This Row],[First Name & Last Name*\n(choose from list)]],'NLM Data Test 2'!$X$12:$X$136,0)),1))-(INDEX('NLM Data Test 1'!$R$12:$R$136,(MATCH(NLML.ChangeInScores.PrePostDataset[[#This Row],[First Name & Last Name*\n(choose from list)]],'NLM Data Test 1'!$W$12:$W$136,0)),1))","v":{"$error":"#N/A"}},{"$f":"(INDEX('NLM Data Test 2'!$T$12:$T$136,(MATCH(NLML.ChangeInScores.PrePostDataset[[#This Row],[First Name & Last Name*\n(choose from list)]],'NLM Data Test 2'!$X$12:$X$136,0)),1))-(INDEX('NLM Data Test 1'!$S$12:$S$136,(MATCH(NLML.ChangeInScores.PrePostDataset[[#This Row],[First Name & Last Name*\n(choose from list)]],'NLM Data Test 1'!$W$12:$W$136,0)),1))","v":{"$error":"#N/A"}},{"$f":"IFERROR(INDEX('NLM Data Test 1'!$T$12:$T$136,(MATCH(NLML.ChangeInScores.PrePostDataset[[#This Row],[First Name & Last Name*\n(choose from list)]],'NLM Data Test 1'!$W$12:$W$136,0)),1),\"\")","v":""},{"$f":"IFERROR(INDEX('NLM Data Test 2'!$U$12:$U$136,(MATCH(NLML.ChangeInScores.PrePostDataset[[#This Row],[First Name & Last Name*\n(choose from list)]],'NLM Data Test 2'!$X$12:$X$136,0)),1),\"\")","v":""}]
[33,{"$f":"IFERROR(INDEX(NLML.Test1.PrePostDataset[*First Name],(MATCH(NLML.ChangeInScores.PrePostDataset[[#This Row],[First Name & Last Name*\n(choose from list)]],'NLM Data Test 1'!W44:W168,0)),1),\"\")","v":""},{"$f":"IFERROR(INDEX(NLML.Test1.PrePostDataset[*Last Name],(MATCH(NLML.ChangeInScores.PrePostDataset[[#This Row],[First Name & Last Name*\n(choose from list)]],'NLM Data Test 1'!W44:W168,0)),1),\"\")","v":""},{"$f":"'NLM Data Test 2'!D44","v":0},{"$f":"IF(IFERROR(MATCH($D48,'NLM Data Test 2'!$D$12:$D$136,0),\"Error\")=\"Error\",(INDEX('NLM Data Test 1'!$D$12:$D$136,(MATCH($D48,'NLM Data Test 1'!$W$12:$W$136,0)),1)),(INDEX('NLM Data Test 2'!$E$12:$E$136,(MATCH($D48,'NLM Data Test 2'!$D$12:$D$136,0)),1)))","v":{"$error":"#N/A"}},{"$f":"IF(IFERROR(MATCH($D48,'NLM Data Test 2'!$D$12:$D$136,0),\"Error\")=\"Error\",(INDEX('NLM Data Test 1'!$E$12:$E$136,(MATCH($D48,'NLM Data Test 1'!$W$12:$W$136,0)),1)),(INDEX('NLM Data Test 2'!$G$12:$G$136,(MATCH($D48,'NLM Data Test 2'!$D$12:$D$136,0)),1)))","v":{"$error":"#N/A"}},{"$f":"IF(IFERROR(MATCH($D48,'NLM Data Test 2'!$D$12:$D$136,0),\"Error\")=\"Error\",(INDEX('NLM Data Test 1'!$F$12:$F$136,(MATCH($D48,'NLM Data Test 1'!$W$12:$W$136,0)),1)),(INDEX('NLM Data Test 2'!$F$12:$F$136,(MATCH($D48,'NLM Data Test 2'!$D$12:$D$136,0)),1)))","v":{"$error":"#N/A"}},{"$f":"IF(INDEX('NLM Data Test 1'!$H$12:$H$136,(MATCH(NLML.ChangeInScores.PrePostDataset[[#This Row],[First Name & Last Name*\n(choose from list)]],'NLM Data Test 1'!$W$12:$W$136,0)),1)=\"\",\"\",(INDEX('NLM Data Test 1'!H$12:H$136,(MATCH(NLML.ChangeInScores.PrePostDataset[[#This Row],[First Name & Last Name*\n(choose from list)]],'NLM Data Test 1'!$W$12:$W$136,0)),1)))","v":{"$error":"#N/A"}},{"$f":"IF(INDEX('NLM Data Test 1'!$I$12:$I$136,(MATCH(NLML.ChangeInScores.PrePostDataset[[#This Row],[First Name & Last Name*\n(choose from list)]],'NLM Data Test 1'!$W$12:$W$136,0)),1)=\"\",\"\",(INDEX('NLM Data Test 1'!I$12:I$136,(MATCH(NLML.ChangeInScores.PrePostDataset[[#This Row],[First Name & Last Name*\n(choose from list)]],'NLM Data Test 1'!$W$12:$W$136,0)),1)))","v":{"$error":"#N/A"}},{"$f":"IF(INDEX('NLM Data Test 1'!$J$12:$J$136,(MATCH(NLML.ChangeInScores.PrePostDataset[[#This Row],[First Name & Last Name*\n(choose from list)]],'NLM Data Test 1'!$W$12:$W$136,0)),1)=\"\",\"\",(INDEX('NLM Data Test 1'!J$12:J$136,(MATCH(NLML.ChangeInScores.PrePostDataset[[#This Row],[First Name & Last Name*\n(choose from list)]],'NLM Data Test 1'!$W$12:$W$136,0)),1)))","v":{"$error":"#N/A"}},{"$f":"IFERROR(INDEX('NLM Data Test 1'!$M$12:$M$136,(MATCH(NLML.ChangeInScores.PrePostDataset[[#This Row],[First Name & Last Name*\n(choose from list)]],'NLM Data Test 1'!$W$12:$W$136,0)),1),\"\")","v":""},{"$f":"INDEX('NLM Data Test 2'!$I$12:$I$136,(MATCH(NLML.ChangeInScores.PrePostDataset[[#This Row],[First Name & Last Name*\n(choose from list)]],'NLM Data Test 2'!$D$12:$D$136,0)),1)","v":{"$error":"#N/A"}},{"$f":"IFERROR(INDEX('NLM Data Test 2'!$J$12:$J$136,(MATCH(NLML.ChangeInScores.PrePostDataset[[#This Row],[First Name & Last Name*\n(choose from list)]],'NLM Data Test 2'!$X$12:$X$136,0)),1),\"\")","v":""},{"$f":"IFERROR(INDEX('NLM Data Test 2'!$K$12:$K$136,(MATCH(NLML.ChangeInScores.PrePostDataset[[#This Row],[First Name & Last Name*\n(choose from list)]],'NLM Data Test 2'!$X$12:$X$136,0)),1),\"\")","v":""},{"$f":"IFERROR(INDEX('NLM Data Test 2'!$N$12:$N$136,(MATCH(NLML.ChangeInScores.PrePostDataset[[#This Row],[First Name & Last Name*\n(choose from list)]],'NLM Data Test 2'!$X$12:$X$136,0)),1),\"\")","v":""},{"$f":"(INDEX('NLM Data Test 2'!$O$12:$O$136,(MATCH(NLML.ChangeInScores.PrePostDataset[[#This Row],[First Name & Last Name*\n(choose from list)]],'NLM Data Test 2'!$X$12:$X$136,0)),1))-(INDEX('NLM Data Test 1'!$N$12:$N$136,(MATCH(NLML.ChangeInScores.PrePostDataset[[#This Row],[First Name & Last Name*\n(choose from list)]],'NLM Data Test 1'!$W$12:$W$136,0)),1))","v":{"$error":"#N/A"}},{"$f":"(INDEX('NLM Data Test 2'!$P$12:$P$136,(MATCH(NLML.ChangeInScores.PrePostDataset[[#This Row],[First Name & Last Name*\n(choose from list)]],'NLM Data Test 2'!$X$12:$X$136,0)),1))-(INDEX('NLM Data Test 1'!$O$12:$O$136,(MATCH(NLML.ChangeInScores.PrePostDataset[[#This Row],[First Name & Last Name*\n(choose from list)]],'NLM Data Test 1'!$W$12:$W$136,0)),1))","v":{"$error":"#N/A"}},{"$f":"(INDEX('NLM Data Test 2'!$Q$12:$Q$136,(MATCH(NLML.ChangeInScores.PrePostDataset[[#This Row],[First Name & Last Name*\n(choose from list)]],'NLM Data Test 2'!$X$12:$X$136,0)),1))-(INDEX('NLM Data Test 1'!$P$12:$P$136,(MATCH(NLML.ChangeInScores.PrePostDataset[[#This Row],[First Name & Last Name*\n(choose from list)]],'NLM Data Test 1'!$W$12:$W$136,0)),1))","v":{"$error":"#N/A"}},{"$f":"(INDEX('NLM Data Test 2'!$R$12:$R$136,(MATCH(NLML.ChangeInScores.PrePostDataset[[#This Row],[First Name & Last Name*\n(choose from list)]],'NLM Data Test 2'!$X$12:$X$136,0)),1))-(INDEX('NLM Data Test 1'!$Q$12:$Q$136,(MATCH(NLML.ChangeInScores.PrePostDataset[[#This Row],[First Name & Last Name*\n(choose from list)]],'NLM Data Test 1'!$W$12:$W$136,0)),1))","v":{"$error":"#N/A"}},{"$f":"(INDEX('NLM Data Test 2'!$S$12:$S$136,(MATCH(NLML.ChangeInScores.PrePostDataset[[#This Row],[First Name & Last Name*\n(choose from list)]],'NLM Data Test 2'!$X$12:$X$136,0)),1))-(INDEX('NLM Data Test 1'!$R$12:$R$136,(MATCH(NLML.ChangeInScores.PrePostDataset[[#This Row],[First Name & Last Name*\n(choose from list)]],'NLM Data Test 1'!$W$12:$W$136,0)),1))","v":{"$error":"#N/A"}},{"$f":"(INDEX('NLM Data Test 2'!$T$12:$T$136,(MATCH(NLML.ChangeInScores.PrePostDataset[[#This Row],[First Name & Last Name*\n(choose from list)]],'NLM Data Test 2'!$X$12:$X$136,0)),1))-(INDEX('NLM Data Test 1'!$S$12:$S$136,(MATCH(NLML.ChangeInScores.PrePostDataset[[#This Row],[First Name & Last Name*\n(choose from list)]],'NLM Data Test 1'!$W$12:$W$136,0)),1))","v":{"$error":"#N/A"}},{"$f":"IFERROR(INDEX('NLM Data Test 1'!$T$12:$T$136,(MATCH(NLML.ChangeInScores.PrePostDataset[[#This Row],[First Name & Last Name*\n(choose from list)]],'NLM Data Test 1'!$W$12:$W$136,0)),1),\"\")","v":""},{"$f":"IFERROR(INDEX('NLM Data Test 2'!$U$12:$U$136,(MATCH(NLML.ChangeInScores.PrePostDataset[[#This Row],[First Name & Last Name*\n(choose from list)]],'NLM Data Test 2'!$X$12:$X$136,0)),1),\"\")","v":""}]
[34,{"$f":"IFERROR(INDEX(NLML.Test1.PrePostDataset[*First Name],(MATCH(NLML.ChangeInScores.PrePostDataset[[#This Row],[First Name & Last Name*\n(choose from list)]],'NLM Data Test 1'!W45:W169,0)),1),\"\")","v":""},{"$f":"IFERROR(INDEX(NLML.Test1.PrePostDataset[*Last Name],(MATCH(NLML.ChangeInScores.PrePostDataset[[#This Row],[First Name & Last Name*\n(choose from list)]],'NLM Data Test 1'!W45:W169,0)),1),\"\")","v":""},{"$f":"'NLM Data Test 2'!D45","v":0},{"$f":"IF(IFERROR(MATCH($D49,'NLM Data Test 2'!$D$12:$D$136,0),\"Error\")=\"Error\",(INDEX('NLM Data Test 1'!$D$12:$D$136,(MATCH($D49,'NLM Data Test 1'!$W$12:$W$136,0)),1)),(INDEX('NLM Data Test 2'!$E$12:$E$136,(MATCH($D49,'NLM Data Test 2'!$D$12:$D$136,0)),1)))","v":{"$error":"#N/A"}},{"$f":"IF(IFERROR(MATCH($D49,'NLM Data Test 2'!$D$12:$D$136,0),\"Error\")=\"Error\",(INDEX('NLM Data Test 1'!$E$12:$E$136,(MATCH($D49,'NLM Data Test 1'!$W$12:$W$136,0)),1)),(INDEX('NLM Data Test 2'!$G$12:$G$136,(MATCH($D49,'NLM Data Test 2'!$D$12:$D$136,0)),1)))","v":{"$error":"#N/A"}},{"$f":"IF(IFERROR(MATCH($D49,'NLM Data Test 2'!$D$12:$D$136,0),\"Error\")=\"Error\",(INDEX('NLM Data Test 1'!$F$12:$F$136,(MATCH($D49,'NLM Data Test 1'!$W$12:$W$136,0)),1)),(INDEX('NLM Data Test 2'!$F$12:$F$136,(MATCH($D49,'NLM Data Test 2'!$D$12:$D$136,0)),1)))","v":{"$error":"#N/A"}},{"$f":"IF(INDEX('NLM Data Test 1'!$H$12:$H$136,(MATCH(NLML.ChangeInScores.PrePostDataset[[#This Row],[First Name & Last Name*\n(choose from list)]],'NLM Data Test 1'!$W$12:$W$136,0)),1)=\"\",\"\",(INDEX('NLM Data Test 1'!H$12:H$136,(MATCH(NLML.ChangeInScores.PrePostDataset[[#This Row],[First Name & Last Name*\n(choose from list)]],'NLM Data Test 1'!$W$12:$W$136,0)),1)))","v":{"$error":"#N/A"}},{"$f":"IF(INDEX('NLM Data Test 1'!$I$12:$I$136,(MATCH(NLML.ChangeInScores.PrePostDataset[[#This Row],[First Name & Last Name*\n(choose from list)]],'NLM Data Test 1'!$W$12:$W$136,0)),1)=\"\",\"\",(INDEX('NLM Data Test 1'!I$12:I$136,(MATCH(NLML.ChangeInScores.PrePostDataset[[#This Row],[First Name & Last Name*\n(choose from list)]],'NLM Data Test 1'!$W$12:$W$136,0)),1)))","v":{"$error":"#N/A"}},{"$f":"IF(INDEX('NLM Data Test 1'!$J$12:$J$136,(MATCH(NLML.ChangeInScores.PrePostDataset[[#This Row],[First Name & Last Name*\n(choose from list)]],'NLM Data Test 1'!$W$12:$W$136,0)),1)=\"\",\"\",(INDEX('NLM Data Test 1'!J$12:J$136,(MATCH(NLML.ChangeInScores.PrePostDataset[[#This Row],[First Name & Last Name*\n(choose from list)]],'NLM Data Test 1'!$W$12:$W$136,0)),1)))","v":{"$error":"#N/A"}},{"$f":"IFERROR(INDEX('NLM Data Test 1'!$M$12:$M$136,(MATCH(NLML.ChangeInScores.PrePostDataset[[#This Row],[First Name & Last Name*\n(choose from list)]],'NLM Data Test 1'!$W$12:$W$136,0)),1),\"\")","v":""},{"$f":"INDEX('NLM Data Test 2'!$I$12:$I$136,(MATCH(NLML.ChangeInScores.PrePostDataset[[#This Row],[First Name & Last Name*\n(choose from list)]],'NLM Data Test 2'!$D$12:$D$136,0)),1)","v":{"$error":"#N/A"}},{"$f":"IFERROR(INDEX('NLM Data Test 2'!$J$12:$J$136,(MATCH(NLML.ChangeInScores.PrePostDataset[[#This Row],[First Name & Last Name*\n(choose from list)]],'NLM Data Test 2'!$X$12:$X$136,0)),1),\"\")","v":""},{"$f":"IFERROR(INDEX('NLM Data Test 2'!$K$12:$K$136,(MATCH(NLML.ChangeInScores.PrePostDataset[[#This Row],[First Name & Last Name*\n(choose from list)]],'NLM Data Test 2'!$X$12:$X$136,0)),1),\"\")","v":""},{"$f":"IFERROR(INDEX('NLM Data Test 2'!$N$12:$N$136,(MATCH(NLML.ChangeInScores.PrePostDataset[[#This Row],[First Name & Last Name*\n(choose from list)]],'NLM Data Test 2'!$X$12:$X$136,0)),1),\"\")","v":""},{"$f":"(INDEX('NLM Data Test 2'!$O$12:$O$136,(MATCH(NLML.ChangeInScores.PrePostDataset[[#This Row],[First Name & Last Name*\n(choose from list)]],'NLM Data Test 2'!$X$12:$X$136,0)),1))-(INDEX('NLM Data Test 1'!$N$12:$N$136,(MATCH(NLML.ChangeInScores.PrePostDataset[[#This Row],[First Name & Last Name*\n(choose from list)]],'NLM Data Test 1'!$W$12:$W$136,0)),1))","v":{"$error":"#N/A"}},{"$f":"(INDEX('NLM Data Test 2'!$P$12:$P$136,(MATCH(NLML.ChangeInScores.PrePostDataset[[#This Row],[First Name & Last Name*\n(choose from list)]],'NLM Data Test 2'!$X$12:$X$136,0)),1))-(INDEX('NLM Data Test 1'!$O$12:$O$136,(MATCH(NLML.ChangeInScores.PrePostDataset[[#This Row],[First Name & Last Name*\n(choose from list)]],'NLM Data Test 1'!$W$12:$W$136,0)),1))","v":{"$error":"#N/A"}},{"$f":"(INDEX('NLM Data Test 2'!$Q$12:$Q$136,(MATCH(NLML.ChangeInScores.PrePostDataset[[#This Row],[First Name & Last Name*\n(choose from list)]],'NLM Data Test 2'!$X$12:$X$136,0)),1))-(INDEX('NLM Data Test 1'!$P$12:$P$136,(MATCH(NLML.ChangeInScores.PrePostDataset[[#This Row],[First Name & Last Name*\n(choose from list)]],'NLM Data Test 1'!$W$12:$W$136,0)),1))","v":{"$error":"#N/A"}},{"$f":"(INDEX('NLM Data Test 2'!$R$12:$R$136,(MATCH(NLML.ChangeInScores.PrePostDataset[[#This Row],[First Name & Last Name*\n(choose from list)]],'NLM Data Test 2'!$X$12:$X$136,0)),1))-(INDEX('NLM Data Test 1'!$Q$12:$Q$136,(MATCH(NLML.ChangeInScores.PrePostDataset[[#This Row],[First Name & Last Name*\n(choose from list)]],'NLM Data Test 1'!$W$12:$W$136,0)),1))","v":{"$error":"#N/A"}},{"$f":"(INDEX('NLM Data Test 2'!$S$12:$S$136,(MATCH(NLML.ChangeInScores.PrePostDataset[[#This Row],[First Name & Last Name*\n(choose from list)]],'NLM Data Test 2'!$X$12:$X$136,0)),1))-(INDEX('NLM Data Test 1'!$R$12:$R$136,(MATCH(NLML.ChangeInScores.PrePostDataset[[#This Row],[First Name & Last Name*\n(choose from list)]],'NLM Data Test 1'!$W$12:$W$136,0)),1))","v":{"$error":"#N/A"}},{"$f":"(INDEX('NLM Data Test 2'!$T$12:$T$136,(MATCH(NLML.ChangeInScores.PrePostDataset[[#This Row],[First Name & Last Name*\n(choose from list)]],'NLM Data Test 2'!$X$12:$X$136,0)),1))-(INDEX('NLM Data Test 1'!$S$12:$S$136,(MATCH(NLML.ChangeInScores.PrePostDataset[[#This Row],[First Name & Last Name*\n(choose from list)]],'NLM Data Test 1'!$W$12:$W$136,0)),1))","v":{"$error":"#N/A"}},{"$f":"IFERROR(INDEX('NLM Data Test 1'!$T$12:$T$136,(MATCH(NLML.ChangeInScores.PrePostDataset[[#This Row],[First Name & Last Name*\n(choose from list)]],'NLM Data Test 1'!$W$12:$W$136,0)),1),\"\")","v":""},{"$f":"IFERROR(INDEX('NLM Data Test 2'!$U$12:$U$136,(MATCH(NLML.ChangeInScores.PrePostDataset[[#This Row],[First Name & Last Name*\n(choose from list)]],'NLM Data Test 2'!$X$12:$X$136,0)),1),\"\")","v":""}]
[35,{"$f":"IFERROR(INDEX(NLML.Test1.PrePostDataset[*First Name],(MATCH(NLML.ChangeInScores.PrePostDataset[[#This Row],[First Name & Last Name*\n(choose from list)]],'NLM Data Test 1'!W46:W170,0)),1),\"\")","v":""},{"$f":"IFERROR(INDEX(NLML.Test1.PrePostDataset[*Last Name],(MATCH(NLML.ChangeInScores.PrePostDataset[[#This Row],[First Name & Last Name*\n(choose from list)]],'NLM Data Test 1'!W46:W170,0)),1),\"\")","v":""},{"$f":"'NLM Data Test 2'!D46","v":0},{"$f":"IF(IFERROR(MATCH($D50,'NLM Data Test 2'!$D$12:$D$136,0),\"Error\")=\"Error\",(INDEX('NLM Data Test 1'!$D$12:$D$136,(MATCH($D50,'NLM Data Test 1'!$W$12:$W$136,0)),1)),(INDEX('NLM Data Test 2'!$E$12:$E$136,(MATCH($D50,'NLM Data Test 2'!$D$12:$D$136,0)),1)))","v":{"$error":"#N/A"}},{"$f":"IF(IFERROR(MATCH($D50,'NLM Data Test 2'!$D$12:$D$136,0),\"Error\")=\"Error\",(INDEX('NLM Data Test 1'!$E$12:$E$136,(MATCH($D50,'NLM Data Test 1'!$W$12:$W$136,0)),1)),(INDEX('NLM Data Test 2'!$G$12:$G$136,(MATCH($D50,'NLM Data Test 2'!$D$12:$D$136,0)),1)))","v":{"$error":"#N/A"}},{"$f":"IF(IFERROR(MATCH($D50,'NLM Data Test 2'!$D$12:$D$136,0),\"Error\")=\"Error\",(INDEX('NLM Data Test 1'!$F$12:$F$136,(MATCH($D50,'NLM Data Test 1'!$W$12:$W$136,0)),1)),(INDEX('NLM Data Test 2'!$F$12:$F$136,(MATCH($D50,'NLM Data Test 2'!$D$12:$D$136,0)),1)))","v":{"$error":"#N/A"}},{"$f":"IF(INDEX('NLM Data Test 1'!$H$12:$H$136,(MATCH(NLML.ChangeInScores.PrePostDataset[[#This Row],[First Name & Last Name*\n(choose from list)]],'NLM Data Test 1'!$W$12:$W$136,0)),1)=\"\",\"\",(INDEX('NLM Data Test 1'!H$12:H$136,(MATCH(NLML.ChangeInScores.PrePostDataset[[#This Row],[First Name & Last Name*\n(choose from list)]],'NLM Data Test 1'!$W$12:$W$136,0)),1)))","v":{"$error":"#N/A"}},{"$f":"IF(INDEX('NLM Data Test 1'!$I$12:$I$136,(MATCH(NLML.ChangeInScores.PrePostDataset[[#This Row],[First Name & Last Name*\n(choose from list)]],'NLM Data Test 1'!$W$12:$W$136,0)),1)=\"\",\"\",(INDEX('NLM Data Test 1'!I$12:I$136,(MATCH(NLML.ChangeInScores.PrePostDataset[[#This Row],[First Name & Last Name*\n(choose from list)]],'NLM Data Test 1'!$W$12:$W$136,0)),1)))","v":{"$error":"#N/A"}},{"$f":"IF(INDEX('NLM Data Test 1'!$J$12:$J$136,(MATCH(NLML.ChangeInScores.PrePostDataset[[#This Row],[First Name & Last Name*\n(choose from list)]],'NLM Data Test 1'!$W$12:$W$136,0)),1)=\"\",\"\",(INDEX('NLM Data Test 1'!J$12:J$136,(MATCH(NLML.ChangeInScores.PrePostDataset[[#This Row],[First Name & Last Name*\n(choose from list)]],'NLM Data Test 1'!$W$12:$W$136,0)),1)))","v":{"$error":"#N/A"}},{"$f":"IFERROR(INDEX('NLM Data Test 1'!$M$12:$M$136,(MATCH(NLML.ChangeInScores.PrePostDataset[[#This Row],[First Name & Last Name*\n(choose from list)]],'NLM Data Test 1'!$W$12:$W$136,0)),1),\"\")","v":""},{"$f":"INDEX('NLM Data Test 2'!$I$12:$I$136,(MATCH(NLML.ChangeInScores.PrePostDataset[[#This Row],[First Name & Last Name*\n(choose from list)]],'NLM Data Test 2'!$D$12:$D$136,0)),1)","v":{"$error":"#N/A"}},{"$f":"IFERROR(INDEX('NLM Data Test 2'!$J$12:$J$136,(MATCH(NLML.ChangeInScores.PrePostDataset[[#This Row],[First Name & Last Name*\n(choose from list)]],'NLM Data Test 2'!$X$12:$X$136,0)),1),\"\")","v":""},{"$f":"IFERROR(INDEX('NLM Data Test 2'!$K$12:$K$136,(MATCH(NLML.ChangeInScores.PrePostDataset[[#This Row],[First Name & Last Name*\n(choose from list)]],'NLM Data Test 2'!$X$12:$X$136,0)),1),\"\")","v":""},{"$f":"IFERROR(INDEX('NLM Data Test 2'!$N$12:$N$136,(MATCH(NLML.ChangeInScores.PrePostDataset[[#This Row],[First Name & Last Name*\n(choose from list)]],'NLM Data Test 2'!$X$12:$X$136,0)),1),\"\")","v":""},{"$f":"(INDEX('NLM Data Test 2'!$O$12:$O$136,(MATCH(NLML.ChangeInScores.PrePostDataset[[#This Row],[First Name & Last Name*\n(choose from list)]],'NLM Data Test 2'!$X$12:$X$136,0)),1))-(INDEX('NLM Data Test 1'!$N$12:$N$136,(MATCH(NLML.ChangeInScores.PrePostDataset[[#This Row],[First Name & Last Name*\n(choose from list)]],'NLM Data Test 1'!$W$12:$W$136,0)),1))","v":{"$error":"#N/A"}},{"$f":"(INDEX('NLM Data Test 2'!$P$12:$P$136,(MATCH(NLML.ChangeInScores.PrePostDataset[[#This Row],[First Name & Last Name*\n(choose from list)]],'NLM Data Test 2'!$X$12:$X$136,0)),1))-(INDEX('NLM Data Test 1'!$O$12:$O$136,(MATCH(NLML.ChangeInScores.PrePostDataset[[#This Row],[First Name & Last Name*\n(choose from list)]],'NLM Data Test 1'!$W$12:$W$136,0)),1))","v":{"$error":"#N/A"}},{"$f":"(INDEX('NLM Data Test 2'!$Q$12:$Q$136,(MATCH(NLML.ChangeInScores.PrePostDataset[[#This Row],[First Name & Last Name*\n(choose from list)]],'NLM Data Test 2'!$X$12:$X$136,0)),1))-(INDEX('NLM Data Test 1'!$P$12:$P$136,(MATCH(NLML.ChangeInScores.PrePostDataset[[#This Row],[First Name & Last Name*\n(choose from list)]],'NLM Data Test 1'!$W$12:$W$136,0)),1))","v":{"$error":"#N/A"}},{"$f":"(INDEX('NLM Data Test 2'!$R$12:$R$136,(MATCH(NLML.ChangeInScores.PrePostDataset[[#This Row],[First Name & Last Name*\n(choose from list)]],'NLM Data Test 2'!$X$12:$X$136,0)),1))-(INDEX('NLM Data Test 1'!$Q$12:$Q$136,(MATCH(NLML.ChangeInScores.PrePostDataset[[#This Row],[First Name & Last Name*\n(choose from list)]],'NLM Data Test 1'!$W$12:$W$136,0)),1))","v":{"$error":"#N/A"}},{"$f":"(INDEX('NLM Data Test 2'!$S$12:$S$136,(MATCH(NLML.ChangeInScores.PrePostDataset[[#This Row],[First Name & Last Name*\n(choose from list)]],'NLM Data Test 2'!$X$12:$X$136,0)),1))-(INDEX('NLM Data Test 1'!$R$12:$R$136,(MATCH(NLML.ChangeInScores.PrePostDataset[[#This Row],[First Name & Last Name*\n(choose from list)]],'NLM Data Test 1'!$W$12:$W$136,0)),1))","v":{"$error":"#N/A"}},{"$f":"(INDEX('NLM Data Test 2'!$T$12:$T$136,(MATCH(NLML.ChangeInScores.PrePostDataset[[#This Row],[First Name & Last Name*\n(choose from list)]],'NLM Data Test 2'!$X$12:$X$136,0)),1))-(INDEX('NLM Data Test 1'!$S$12:$S$136,(MATCH(NLML.ChangeInScores.PrePostDataset[[#This Row],[First Name & Last Name*\n(choose from list)]],'NLM Data Test 1'!$W$12:$W$136,0)),1))","v":{"$error":"#N/A"}},{"$f":"IFERROR(INDEX('NLM Data Test 1'!$T$12:$T$136,(MATCH(NLML.ChangeInScores.PrePostDataset[[#This Row],[First Name & Last Name*\n(choose from list)]],'NLM Data Test 1'!$W$12:$W$136,0)),1),\"\")","v":""},{"$f":"IFERROR(INDEX('NLM Data Test 2'!$U$12:$U$136,(MATCH(NLML.ChangeInScores.PrePostDataset[[#This Row],[First Name & Last Name*\n(choose from list)]],'NLM Data Test 2'!$X$12:$X$136,0)),1),\"\")","v":""}]
[36,{"$f":"IFERROR(INDEX(NLML.Test1.PrePostDataset[*First Name],(MATCH(NLML.ChangeInScores.PrePostDataset[[#This Row],[First Name & Last Name*\n(choose from list)]],'NLM Data Test 1'!W47:W171,0)),1),\"\")","v":""},{"$f":"IFERROR(INDEX(NLML.Test1.PrePostDataset[*Last Name],(MATCH(NLML.ChangeInScores.PrePostDataset[[#This Row],[First Name & Last Name*\n(choose from list)]],'NLM Data Test 1'!W47:W171,0)),1),\"\")","v":""},{"$f":"'NLM Data Test 2'!D47","v":0},{"$f":"IF(IFERROR(MATCH($D51,'NLM Data Test 2'!$D$12:$D$136,0),\"Error\")=\"Error\",(INDEX('NLM Data Test 1'!$D$12:$D$136,(MATCH($D51,'NLM Data Test 1'!$W$12:$W$136,0)),1)),(INDEX('NLM Data Test 2'!$E$12:$E$136,(MATCH($D51,'NLM Data Test 2'!$D$12:$D$136,0)),1)))","v":{"$error":"#N/A"}},{"$f":"IF(IFERROR(MATCH($D51,'NLM Data Test 2'!$D$12:$D$136,0),\"Error\")=\"Error\",(INDEX('NLM Data Test 1'!$E$12:$E$136,(MATCH($D51,'NLM Data Test 1'!$W$12:$W$136,0)),1)),(INDEX('NLM Data Test 2'!$G$12:$G$136,(MATCH($D51,'NLM Data Test 2'!$D$12:$D$136,0)),1)))","v":{"$error":"#N/A"}},{"$f":"IF(IFERROR(MATCH($D51,'NLM Data Test 2'!$D$12:$D$136,0),\"Error\")=\"Error\",(INDEX('NLM Data Test 1'!$F$12:$F$136,(MATCH($D51,'NLM Data Test 1'!$W$12:$W$136,0)),1)),(INDEX('NLM Data Test 2'!$F$12:$F$136,(MATCH($D51,'NLM Data Test 2'!$D$12:$D$136,0)),1)))","v":{"$error":"#N/A"}},{"$f":"IF(INDEX('NLM Data Test 1'!$H$12:$H$136,(MATCH(NLML.ChangeInScores.PrePostDataset[[#This Row],[First Name & Last Name*\n(choose from list)]],'NLM Data Test 1'!$W$12:$W$136,0)),1)=\"\",\"\",(INDEX('NLM Data Test 1'!H$12:H$136,(MATCH(NLML.ChangeInScores.PrePostDataset[[#This Row],[First Name & Last Name*\n(choose from list)]],'NLM Data Test 1'!$W$12:$W$136,0)),1)))","v":{"$error":"#N/A"}},{"$f":"IF(INDEX('NLM Data Test 1'!$I$12:$I$136,(MATCH(NLML.ChangeInScores.PrePostDataset[[#This Row],[First Name & Last Name*\n(choose from list)]],'NLM Data Test 1'!$W$12:$W$136,0)),1)=\"\",\"\",(INDEX('NLM Data Test 1'!I$12:I$136,(MATCH(NLML.ChangeInScores.PrePostDataset[[#This Row],[First Name & Last Name*\n(choose from list)]],'NLM Data Test 1'!$W$12:$W$136,0)),1)))","v":{"$error":"#N/A"}},{"$f":"IF(INDEX('NLM Data Test 1'!$J$12:$J$136,(MATCH(NLML.ChangeInScores.PrePostDataset[[#This Row],[First Name & Last Name*\n(choose from list)]],'NLM Data Test 1'!$W$12:$W$136,0)),1)=\"\",\"\",(INDEX('NLM Data Test 1'!J$12:J$136,(MATCH(NLML.ChangeInScores.PrePostDataset[[#This Row],[First Name & Last Name*\n(choose from list)]],'NLM Data Test 1'!$W$12:$W$136,0)),1)))","v":{"$error":"#N/A"}},{"$f":"IFERROR(INDEX('NLM Data Test 1'!$M$12:$M$136,(MATCH(NLML.ChangeInScores.PrePostDataset[[#This Row],[First Name & Last Name*\n(choose from list)]],'NLM Data Test 1'!$W$12:$W$136,0)),1),\"\")","v":""},{"$f":"INDEX('NLM Data Test 2'!$I$12:$I$136,(MATCH(NLML.ChangeInScores.PrePostDataset[[#This Row],[First Name & Last Name*\n(choose from list)]],'NLM Data Test 2'!$D$12:$D$136,0)),1)","v":{"$error":"#N/A"}},{"$f":"IFERROR(INDEX('NLM Data Test 2'!$J$12:$J$136,(MATCH(NLML.ChangeInScores.PrePostDataset[[#This Row],[First Name & Last Name*\n(choose from list)]],'NLM Data Test 2'!$X$12:$X$136,0)),1),\"\")","v":""},{"$f":"IFERROR(INDEX('NLM Data Test 2'!$K$12:$K$136,(MATCH(NLML.ChangeInScores.PrePostDataset[[#This Row],[First Name & Last Name*\n(choose from list)]],'NLM Data Test 2'!$X$12:$X$136,0)),1),\"\")","v":""},{"$f":"IFERROR(INDEX('NLM Data Test 2'!$N$12:$N$136,(MATCH(NLML.ChangeInScores.PrePostDataset[[#This Row],[First Name & Last Name*\n(choose from list)]],'NLM Data Test 2'!$X$12:$X$136,0)),1),\"\")","v":""},{"$f":"(INDEX('NLM Data Test 2'!$O$12:$O$136,(MATCH(NLML.ChangeInScores.PrePostDataset[[#This Row],[First Name & Last Name*\n(choose from list)]],'NLM Data Test 2'!$X$12:$X$136,0)),1))-(INDEX('NLM Data Test 1'!$N$12:$N$136,(MATCH(NLML.ChangeInScores.PrePostDataset[[#This Row],[First Name & Last Name*\n(choose from list)]],'NLM Data Test 1'!$W$12:$W$136,0)),1))","v":{"$error":"#N/A"}},{"$f":"(INDEX('NLM Data Test 2'!$P$12:$P$136,(MATCH(NLML.ChangeInScores.PrePostDataset[[#This Row],[First Name & Last Name*\n(choose from list)]],'NLM Data Test 2'!$X$12:$X$136,0)),1))-(INDEX('NLM Data Test 1'!$O$12:$O$136,(MATCH(NLML.ChangeInScores.PrePostDataset[[#This Row],[First Name & Last Name*\n(choose from list)]],'NLM Data Test 1'!$W$12:$W$136,0)),1))","v":{"$error":"#N/A"}},{"$f":"(INDEX('NLM Data Test 2'!$Q$12:$Q$136,(MATCH(NLML.ChangeInScores.PrePostDataset[[#This Row],[First Name & Last Name*\n(choose from list)]],'NLM Data Test 2'!$X$12:$X$136,0)),1))-(INDEX('NLM Data Test 1'!$P$12:$P$136,(MATCH(NLML.ChangeInScores.PrePostDataset[[#This Row],[First Name & Last Name*\n(choose from list)]],'NLM Data Test 1'!$W$12:$W$136,0)),1))","v":{"$error":"#N/A"}},{"$f":"(INDEX('NLM Data Test 2'!$R$12:$R$136,(MATCH(NLML.ChangeInScores.PrePostDataset[[#This Row],[First Name & Last Name*\n(choose from list)]],'NLM Data Test 2'!$X$12:$X$136,0)),1))-(INDEX('NLM Data Test 1'!$Q$12:$Q$136,(MATCH(NLML.ChangeInScores.PrePostDataset[[#This Row],[First Name & Last Name*\n(choose from list)]],'NLM Data Test 1'!$W$12:$W$136,0)),1))","v":{"$error":"#N/A"}},{"$f":"(INDEX('NLM Data Test 2'!$S$12:$S$136,(MATCH(NLML.ChangeInScores.PrePostDataset[[#This Row],[First Name & Last Name*\n(choose from list)]],'NLM Data Test 2'!$X$12:$X$136,0)),1))-(INDEX('NLM Data Test 1'!$R$12:$R$136,(MATCH(NLML.ChangeInScores.PrePostDataset[[#This Row],[First Name & Last Name*\n(choose from list)]],'NLM Data Test 1'!$W$12:$W$136,0)),1))","v":{"$error":"#N/A"}},{"$f":"(INDEX('NLM Data Test 2'!$T$12:$T$136,(MATCH(NLML.ChangeInScores.PrePostDataset[[#This Row],[First Name & Last Name*\n(choose from list)]],'NLM Data Test 2'!$X$12:$X$136,0)),1))-(INDEX('NLM Data Test 1'!$S$12:$S$136,(MATCH(NLML.ChangeInScores.PrePostDataset[[#This Row],[First Name & Last Name*\n(choose from list)]],'NLM Data Test 1'!$W$12:$W$136,0)),1))","v":{"$error":"#N/A"}},{"$f":"IFERROR(INDEX('NLM Data Test 1'!$T$12:$T$136,(MATCH(NLML.ChangeInScores.PrePostDataset[[#This Row],[First Name & Last Name*\n(choose from list)]],'NLM Data Test 1'!$W$12:$W$136,0)),1),\"\")","v":""},{"$f":"IFERROR(INDEX('NLM Data Test 2'!$U$12:$U$136,(MATCH(NLML.ChangeInScores.PrePostDataset[[#This Row],[First Name & Last Name*\n(choose from list)]],'NLM Data Test 2'!$X$12:$X$136,0)),1),\"\")","v":""}]
[37,{"$f":"IFERROR(INDEX(NLML.Test1.PrePostDataset[*First Name],(MATCH(NLML.ChangeInScores.PrePostDataset[[#This Row],[First Name & Last Name*\n(choose from list)]],'NLM Data Test 1'!W48:W172,0)),1),\"\")","v":""},{"$f":"IFERROR(INDEX(NLML.Test1.PrePostDataset[*Last Name],(MATCH(NLML.ChangeInScores.PrePostDataset[[#This Row],[First Name & Last Name*\n(choose from list)]],'NLM Data Test 1'!W48:W172,0)),1),\"\")","v":""},{"$f":"'NLM Data Test 2'!D48","v":0},{"$f":"IF(IFERROR(MATCH($D52,'NLM Data Test 2'!$D$12:$D$136,0),\"Error\")=\"Error\",(INDEX('NLM Data Test 1'!$D$12:$D$136,(MATCH($D52,'NLM Data Test 1'!$W$12:$W$136,0)),1)),(INDEX('NLM Data Test 2'!$E$12:$E$136,(MATCH($D52,'NLM Data Test 2'!$D$12:$D$136,0)),1)))","v":{"$error":"#N/A"}},{"$f":"IF(IFERROR(MATCH($D52,'NLM Data Test 2'!$D$12:$D$136,0),\"Error\")=\"Error\",(INDEX('NLM Data Test 1'!$E$12:$E$136,(MATCH($D52,'NLM Data Test 1'!$W$12:$W$136,0)),1)),(INDEX('NLM Data Test 2'!$G$12:$G$136,(MATCH($D52,'NLM Data Test 2'!$D$12:$D$136,0)),1)))","v":{"$error":"#N/A"}},{"$f":"IF(IFERROR(MATCH($D52,'NLM Data Test 2'!$D$12:$D$136,0),\"Error\")=\"Error\",(INDEX('NLM Data Test 1'!$F$12:$F$136,(MATCH($D52,'NLM Data Test 1'!$W$12:$W$136,0)),1)),(INDEX('NLM Data Test 2'!$F$12:$F$136,(MATCH($D52,'NLM Data Test 2'!$D$12:$D$136,0)),1)))","v":{"$error":"#N/A"}},{"$f":"IF(INDEX('NLM Data Test 1'!$H$12:$H$136,(MATCH(NLML.ChangeInScores.PrePostDataset[[#This Row],[First Name & Last Name*\n(choose from list)]],'NLM Data Test 1'!$W$12:$W$136,0)),1)=\"\",\"\",(INDEX('NLM Data Test 1'!H$12:H$136,(MATCH(NLML.ChangeInScores.PrePostDataset[[#This Row],[First Name & Last Name*\n(choose from list)]],'NLM Data Test 1'!$W$12:$W$136,0)),1)))","v":{"$error":"#N/A"}},{"$f":"IF(INDEX('NLM Data Test 1'!$I$12:$I$136,(MATCH(NLML.ChangeInScores.PrePostDataset[[#This Row],[First Name & Last Name*\n(choose from list)]],'NLM Data Test 1'!$W$12:$W$136,0)),1)=\"\",\"\",(INDEX('NLM Data Test 1'!I$12:I$136,(MATCH(NLML.ChangeInScores.PrePostDataset[[#This Row],[First Name & Last Name*\n(choose from list)]],'NLM Data Test 1'!$W$12:$W$136,0)),1)))","v":{"$error":"#N/A"}},{"$f":"IF(INDEX('NLM Data Test 1'!$J$12:$J$136,(MATCH(NLML.ChangeInScores.PrePostDataset[[#This Row],[First Name & Last Name*\n(choose from list)]],'NLM Data Test 1'!$W$12:$W$136,0)),1)=\"\",\"\",(INDEX('NLM Data Test 1'!J$12:J$136,(MATCH(NLML.ChangeInScores.PrePostDataset[[#This Row],[First Name & Last Name*\n(choose from list)]],'NLM Data Test 1'!$W$12:$W$136,0)),1)))","v":{"$error":"#N/A"}},{"$f":"IFERROR(INDEX('NLM Data Test 1'!$M$12:$M$136,(MATCH(NLML.ChangeInScores.PrePostDataset[[#This Row],[First Name & Last Name*\n(choose from list)]],'NLM Data Test 1'!$W$12:$W$136,0)),1),\"\")","v":""},{"$f":"INDEX('NLM Data Test 2'!$I$12:$I$136,(MATCH(NLML.ChangeInScores.PrePostDataset[[#This Row],[First Name & Last Name*\n(choose from list)]],'NLM Data Test 2'!$D$12:$D$136,0)),1)","v":{"$error":"#N/A"}},{"$f":"IFERROR(INDEX('NLM Data Test 2'!$J$12:$J$136,(MATCH(NLML.ChangeInScores.PrePostDataset[[#This Row],[First Name & Last Name*\n(choose from list)]],'NLM Data Test 2'!$X$12:$X$136,0)),1),\"\")","v":""},{"$f":"IFERROR(INDEX('NLM Data Test 2'!$K$12:$K$136,(MATCH(NLML.ChangeInScores.PrePostDataset[[#This Row],[First Name & Last Name*\n(choose from list)]],'NLM Data Test 2'!$X$12:$X$136,0)),1),\"\")","v":""},{"$f":"IFERROR(INDEX('NLM Data Test 2'!$N$12:$N$136,(MATCH(NLML.ChangeInScores.PrePostDataset[[#This Row],[First Name & Last Name*\n(choose from list)]],'NLM Data Test 2'!$X$12:$X$136,0)),1),\"\")","v":""},{"$f":"(INDEX('NLM Data Test 2'!$O$12:$O$136,(MATCH(NLML.ChangeInScores.PrePostDataset[[#This Row],[First Name & Last Name*\n(choose from list)]],'NLM Data Test 2'!$X$12:$X$136,0)),1))-(INDEX('NLM Data Test 1'!$N$12:$N$136,(MATCH(NLML.ChangeInScores.PrePostDataset[[#This Row],[First Name & Last Name*\n(choose from list)]],'NLM Data Test 1'!$W$12:$W$136,0)),1))","v":{"$error":"#N/A"}},{"$f":"(INDEX('NLM Data Test 2'!$P$12:$P$136,(MATCH(NLML.ChangeInScores.PrePostDataset[[#This Row],[First Name & Last Name*\n(choose from list)]],'NLM Data Test 2'!$X$12:$X$136,0)),1))-(INDEX('NLM Data Test 1'!$O$12:$O$136,(MATCH(NLML.ChangeInScores.PrePostDataset[[#This Row],[First Name & Last Name*\n(choose from list)]],'NLM Data Test 1'!$W$12:$W$136,0)),1))","v":{"$error":"#N/A"}},{"$f":"(INDEX('NLM Data Test 2'!$Q$12:$Q$136,(MATCH(NLML.ChangeInScores.PrePostDataset[[#This Row],[First Name & Last Name*\n(choose from list)]],'NLM Data Test 2'!$X$12:$X$136,0)),1))-(INDEX('NLM Data Test 1'!$P$12:$P$136,(MATCH(NLML.ChangeInScores.PrePostDataset[[#This Row],[First Name & Last Name*\n(choose from list)]],'NLM Data Test 1'!$W$12:$W$136,0)),1))","v":{"$error":"#N/A"}},{"$f":"(INDEX('NLM Data Test 2'!$R$12:$R$136,(MATCH(NLML.ChangeInScores.PrePostDataset[[#This Row],[First Name & Last Name*\n(choose from list)]],'NLM Data Test 2'!$X$12:$X$136,0)),1))-(INDEX('NLM Data Test 1'!$Q$12:$Q$136,(MATCH(NLML.ChangeInScores.PrePostDataset[[#This Row],[First Name & Last Name*\n(choose from list)]],'NLM Data Test 1'!$W$12:$W$136,0)),1))","v":{"$error":"#N/A"}},{"$f":"(INDEX('NLM Data Test 2'!$S$12:$S$136,(MATCH(NLML.ChangeInScores.PrePostDataset[[#This Row],[First Name & Last Name*\n(choose from list)]],'NLM Data Test 2'!$X$12:$X$136,0)),1))-(INDEX('NLM Data Test 1'!$R$12:$R$136,(MATCH(NLML.ChangeInScores.PrePostDataset[[#This Row],[First Name & Last Name*\n(choose from list)]],'NLM Data Test 1'!$W$12:$W$136,0)),1))","v":{"$error":"#N/A"}},{"$f":"(INDEX('NLM Data Test 2'!$T$12:$T$136,(MATCH(NLML.ChangeInScores.PrePostDataset[[#This Row],[First Name & Last Name*\n(choose from list)]],'NLM Data Test 2'!$X$12:$X$136,0)),1))-(INDEX('NLM Data Test 1'!$S$12:$S$136,(MATCH(NLML.ChangeInScores.PrePostDataset[[#This Row],[First Name & Last Name*\n(choose from list)]],'NLM Data Test 1'!$W$12:$W$136,0)),1))","v":{"$error":"#N/A"}},{"$f":"IFERROR(INDEX('NLM Data Test 1'!$T$12:$T$136,(MATCH(NLML.ChangeInScores.PrePostDataset[[#This Row],[First Name & Last Name*\n(choose from list)]],'NLM Data Test 1'!$W$12:$W$136,0)),1),\"\")","v":""},{"$f":"IFERROR(INDEX('NLM Data Test 2'!$U$12:$U$136,(MATCH(NLML.ChangeInScores.PrePostDataset[[#This Row],[First Name & Last Name*\n(choose from list)]],'NLM Data Test 2'!$X$12:$X$136,0)),1),\"\")","v":""}]
[38,{"$f":"IFERROR(INDEX(NLML.Test1.PrePostDataset[*First Name],(MATCH(NLML.ChangeInScores.PrePostDataset[[#This Row],[First Name & Last Name*\n(choose from list)]],'NLM Data Test 1'!W49:W173,0)),1),\"\")","v":""},{"$f":"IFERROR(INDEX(NLML.Test1.PrePostDataset[*Last Name],(MATCH(NLML.ChangeInScores.PrePostDataset[[#This Row],[First Name & Last Name*\n(choose from list)]],'NLM Data Test 1'!W49:W173,0)),1),\"\")","v":""},{"$f":"'NLM Data Test 2'!D49","v":0},{"$f":"IF(IFERROR(MATCH($D53,'NLM Data Test 2'!$D$12:$D$136,0),\"Error\")=\"Error\",(INDEX('NLM Data Test 1'!$D$12:$D$136,(MATCH($D53,'NLM Data Test 1'!$W$12:$W$136,0)),1)),(INDEX('NLM Data Test 2'!$E$12:$E$136,(MATCH($D53,'NLM Data Test 2'!$D$12:$D$136,0)),1)))","v":{"$error":"#N/A"}},{"$f":"IF(IFERROR(MATCH($D53,'NLM Data Test 2'!$D$12:$D$136,0),\"Error\")=\"Error\",(INDEX('NLM Data Test 1'!$E$12:$E$136,(MATCH($D53,'NLM Data Test 1'!$W$12:$W$136,0)),1)),(INDEX('NLM Data Test 2'!$G$12:$G$136,(MATCH($D53,'NLM Data Test 2'!$D$12:$D$136,0)),1)))","v":{"$error":"#N/A"}},{"$f":"IF(IFERROR(MATCH($D53,'NLM Data Test 2'!$D$12:$D$136,0),\"Error\")=\"Error\",(INDEX('NLM Data Test 1'!$F$12:$F$136,(MATCH($D53,'NLM Data Test 1'!$W$12:$W$136,0)),1)),(INDEX('NLM Data Test 2'!$F$12:$F$136,(MATCH($D53,'NLM Data Test 2'!$D$12:$D$136,0)),1)))","v":{"$error":"#N/A"}},{"$f":"IF(INDEX('NLM Data Test 1'!$H$12:$H$136,(MATCH(NLML.ChangeInScores.PrePostDataset[[#This Row],[First Name & Last Name*\n(choose from list)]],'NLM Data Test 1'!$W$12:$W$136,0)),1)=\"\",\"\",(INDEX('NLM Data Test 1'!H$12:H$136,(MATCH(NLML.ChangeInScores.PrePostDataset[[#This Row],[First Name & Last Name*\n(choose from list)]],'NLM Data Test 1'!$W$12:$W$136,0)),1)))","v":{"$error":"#N/A"}},{"$f":"IF(INDEX('NLM Data Test 1'!$I$12:$I$136,(MATCH(NLML.ChangeInScores.PrePostDataset[[#This Row],[First Name & Last Name*\n(choose from list)]],'NLM Data Test 1'!$W$12:$W$136,0)),1)=\"\",\"\",(INDEX('NLM Data Test 1'!I$12:I$136,(MATCH(NLML.ChangeInScores.PrePostDataset[[#This Row],[First Name & Last Name*\n(choose from list)]],'NLM Data Test 1'!$W$12:$W$136,0)),1)))","v":{"$error":"#N/A"}},{"$f":"IF(INDEX('NLM Data Test 1'!$J$12:$J$136,(MATCH(NLML.ChangeInScores.PrePostDataset[[#This Row],[First Name & Last Name*\n(choose from list)]],'NLM Data Test 1'!$W$12:$W$136,0)),1)=\"\",\"\",(INDEX('NLM Data Test 1'!J$12:J$136,(MATCH(NLML.ChangeInScores.PrePostDataset[[#This Row],[First Name & Last Name*\n(choose from list)]],'NLM Data Test 1'!$W$12:$W$136,0)),1)))","v":{"$error":"#N/A"}},{"$f":"IFERROR(INDEX('NLM Data Test 1'!$M$12:$M$136,(MATCH(NLML.ChangeInScores.PrePostDataset[[#This Row],[First Name & Last Name*\n(choose from list)]],'NLM Data Test 1'!$W$12:$W$136,0)),1),\"\")","v":""},{"$f":"INDEX('NLM Data Test 2'!$I$12:$I$136,(MATCH(NLML.ChangeInScores.PrePostDataset[[#This Row],[First Name & Last Name*\n(choose from list)]],'NLM Data Test 2'!$D$12:$D$136,0)),1)","v":{"$error":"#N/A"}},{"$f":"IFERROR(INDEX('NLM Data Test 2'!$J$12:$J$136,(MATCH(NLML.ChangeInScores.PrePostDataset[[#This Row],[First Name & Last Name*\n(choose from list)]],'NLM Data Test 2'!$X$12:$X$136,0)),1),\"\")","v":""},{"$f":"IFERROR(INDEX('NLM Data Test 2'!$K$12:$K$136,(MATCH(NLML.ChangeInScores.PrePostDataset[[#This Row],[First Name & Last Name*\n(choose from list)]],'NLM Data Test 2'!$X$12:$X$136,0)),1),\"\")","v":""},{"$f":"IFERROR(INDEX('NLM Data Test 2'!$N$12:$N$136,(MATCH(NLML.ChangeInScores.PrePostDataset[[#This Row],[First Name & Last Name*\n(choose from list)]],'NLM Data Test 2'!$X$12:$X$136,0)),1),\"\")","v":""},{"$f":"(INDEX('NLM Data Test 2'!$O$12:$O$136,(MATCH(NLML.ChangeInScores.PrePostDataset[[#This Row],[First Name & Last Name*\n(choose from list)]],'NLM Data Test 2'!$X$12:$X$136,0)),1))-(INDEX('NLM Data Test 1'!$N$12:$N$136,(MATCH(NLML.ChangeInScores.PrePostDataset[[#This Row],[First Name & Last Name*\n(choose from list)]],'NLM Data Test 1'!$W$12:$W$136,0)),1))","v":{"$error":"#N/A"}},{"$f":"(INDEX('NLM Data Test 2'!$P$12:$P$136,(MATCH(NLML.ChangeInScores.PrePostDataset[[#This Row],[First Name & Last Name*\n(choose from list)]],'NLM Data Test 2'!$X$12:$X$136,0)),1))-(INDEX('NLM Data Test 1'!$O$12:$O$136,(MATCH(NLML.ChangeInScores.PrePostDataset[[#This Row],[First Name & Last Name*\n(choose from list)]],'NLM Data Test 1'!$W$12:$W$136,0)),1))","v":{"$error":"#N/A"}},{"$f":"(INDEX('NLM Data Test 2'!$Q$12:$Q$136,(MATCH(NLML.ChangeInScores.PrePostDataset[[#This Row],[First Name & Last Name*\n(choose from list)]],'NLM Data Test 2'!$X$12:$X$136,0)),1))-(INDEX('NLM Data Test 1'!$P$12:$P$136,(MATCH(NLML.ChangeInScores.PrePostDataset[[#This Row],[First Name & Last Name*\n(choose from list)]],'NLM Data Test 1'!$W$12:$W$136,0)),1))","v":{"$error":"#N/A"}},{"$f":"(INDEX('NLM Data Test 2'!$R$12:$R$136,(MATCH(NLML.ChangeInScores.PrePostDataset[[#This Row],[First Name & Last Name*\n(choose from list)]],'NLM Data Test 2'!$X$12:$X$136,0)),1))-(INDEX('NLM Data Test 1'!$Q$12:$Q$136,(MATCH(NLML.ChangeInScores.PrePostDataset[[#This Row],[First Name & Last Name*\n(choose from list)]],'NLM Data Test 1'!$W$12:$W$136,0)),1))","v":{"$error":"#N/A"}},{"$f":"(INDEX('NLM Data Test 2'!$S$12:$S$136,(MATCH(NLML.ChangeInScores.PrePostDataset[[#This Row],[First Name & Last Name*\n(choose from list)]],'NLM Data Test 2'!$X$12:$X$136,0)),1))-(INDEX('NLM Data Test 1'!$R$12:$R$136,(MATCH(NLML.ChangeInScores.PrePostDataset[[#This Row],[First Name & Last Name*\n(choose from list)]],'NLM Data Test 1'!$W$12:$W$136,0)),1))","v":{"$error":"#N/A"}},{"$f":"(INDEX('NLM Data Test 2'!$T$12:$T$136,(MATCH(NLML.ChangeInScores.PrePostDataset[[#This Row],[First Name & Last Name*\n(choose from list)]],'NLM Data Test 2'!$X$12:$X$136,0)),1))-(INDEX('NLM Data Test 1'!$S$12:$S$136,(MATCH(NLML.ChangeInScores.PrePostDataset[[#This Row],[First Name & Last Name*\n(choose from list)]],'NLM Data Test 1'!$W$12:$W$136,0)),1))","v":{"$error":"#N/A"}},{"$f":"IFERROR(INDEX('NLM Data Test 1'!$T$12:$T$136,(MATCH(NLML.ChangeInScores.PrePostDataset[[#This Row],[First Name & Last Name*\n(choose from list)]],'NLM Data Test 1'!$W$12:$W$136,0)),1),\"\")","v":""},{"$f":"IFERROR(INDEX('NLM Data Test 2'!$U$12:$U$136,(MATCH(NLML.ChangeInScores.PrePostDataset[[#This Row],[First Name & Last Name*\n(choose from list)]],'NLM Data Test 2'!$X$12:$X$136,0)),1),\"\")","v":""}]
[39,{"$f":"IFERROR(INDEX(NLML.Test1.PrePostDataset[*First Name],(MATCH(NLML.ChangeInScores.PrePostDataset[[#This Row],[First Name & Last Name*\n(choose from list)]],'NLM Data Test 1'!W50:W174,0)),1),\"\")","v":""},{"$f":"IFERROR(INDEX(NLML.Test1.PrePostDataset[*Last Name],(MATCH(NLML.ChangeInScores.PrePostDataset[[#This Row],[First Name & Last Name*\n(choose from list)]],'NLM Data Test 1'!W50:W174,0)),1),\"\")","v":""},{"$f":"'NLM Data Test 2'!D50","v":0},{"$f":"IF(IFERROR(MATCH($D54,'NLM Data Test 2'!$D$12:$D$136,0),\"Error\")=\"Error\",(INDEX('NLM Data Test 1'!$D$12:$D$136,(MATCH($D54,'NLM Data Test 1'!$W$12:$W$136,0)),1)),(INDEX('NLM Data Test 2'!$E$12:$E$136,(MATCH($D54,'NLM Data Test 2'!$D$12:$D$136,0)),1)))","v":{"$error":"#N/A"}},{"$f":"IF(IFERROR(MATCH($D54,'NLM Data Test 2'!$D$12:$D$136,0),\"Error\")=\"Error\",(INDEX('NLM Data Test 1'!$E$12:$E$136,(MATCH($D54,'NLM Data Test 1'!$W$12:$W$136,0)),1)),(INDEX('NLM Data Test 2'!$G$12:$G$136,(MATCH($D54,'NLM Data Test 2'!$D$12:$D$136,0)),1)))","v":{"$error":"#N/A"}},{"$f":"IF(IFERROR(MATCH($D54,'NLM Data Test 2'!$D$12:$D$136,0),\"Error\")=\"Error\",(INDEX('NLM Data Test 1'!$F$12:$F$136,(MATCH($D54,'NLM Data Test 1'!$W$12:$W$136,0)),1)),(INDEX('NLM Data Test 2'!$F$12:$F$136,(MATCH($D54,'NLM Data Test 2'!$D$12:$D$136,0)),1)))","v":{"$error":"#N/A"}},{"$f":"IF(INDEX('NLM Data Test 1'!$H$12:$H$136,(MATCH(NLML.ChangeInScores.PrePostDataset[[#This Row],[First Name & Last Name*\n(choose from list)]],'NLM Data Test 1'!$W$12:$W$136,0)),1)=\"\",\"\",(INDEX('NLM Data Test 1'!H$12:H$136,(MATCH(NLML.ChangeInScores.PrePostDataset[[#This Row],[First Name & Last Name*\n(choose from list)]],'NLM Data Test 1'!$W$12:$W$136,0)),1)))","v":{"$error":"#N/A"}},{"$f":"IF(INDEX('NLM Data Test 1'!$I$12:$I$136,(MATCH(NLML.ChangeInScores.PrePostDataset[[#This Row],[First Name & Last Name*\n(choose from list)]],'NLM Data Test 1'!$W$12:$W$136,0)),1)=\"\",\"\",(INDEX('NLM Data Test 1'!I$12:I$136,(MATCH(NLML.ChangeInScores.PrePostDataset[[#This Row],[First Name & Last Name*\n(choose from list)]],'NLM Data Test 1'!$W$12:$W$136,0)),1)))","v":{"$error":"#N/A"}},{"$f":"IF(INDEX('NLM Data Test 1'!$J$12:$J$136,(MATCH(NLML.ChangeInScores.PrePostDataset[[#This Row],[First Name & Last Name*\n(choose from list)]],'NLM Data Test 1'!$W$12:$W$136,0)),1)=\"\",\"\",(INDEX('NLM Data Test 1'!J$12:J$136,(MATCH(NLML.ChangeInScores.PrePostDataset[[#This Row],[First Name & Last Name*\n(choose from list)]],'NLM Data Test 1'!$W$12:$W$136,0)),1)))","v":{"$error":"#N/A"}},{"$f":"IFERROR(INDEX('NLM Data Test 1'!$M$12:$M$136,(MATCH(NLML.ChangeInScores.PrePostDataset[[#This Row],[First Name & Last Name*\n(choose from list)]],'NLM Data Test 1'!$W$12:$W$136,0)),1),\"\")","v":""},{"$f":"INDEX('NLM Data Test 2'!$I$12:$I$136,(MATCH(NLML.ChangeInScores.PrePostDataset[[#This Row],[First Name & Last Name*\n(choose from list)]],'NLM Data Test 2'!$D$12:$D$136,0)),1)","v":{"$error":"#N/A"}},{"$f":"IFERROR(INDEX('NLM Data Test 2'!$J$12:$J$136,(MATCH(NLML.ChangeInScores.PrePostDataset[[#This Row],[First Name & Last Name*\n(choose from list)]],'NLM Data Test 2'!$X$12:$X$136,0)),1),\"\")","v":""},{"$f":"IFERROR(INDEX('NLM Data Test 2'!$K$12:$K$136,(MATCH(NLML.ChangeInScores.PrePostDataset[[#This Row],[First Name & Last Name*\n(choose from list)]],'NLM Data Test 2'!$X$12:$X$136,0)),1),\"\")","v":""},{"$f":"IFERROR(INDEX('NLM Data Test 2'!$N$12:$N$136,(MATCH(NLML.ChangeInScores.PrePostDataset[[#This Row],[First Name & Last Name*\n(choose from list)]],'NLM Data Test 2'!$X$12:$X$136,0)),1),\"\")","v":""},{"$f":"(INDEX('NLM Data Test 2'!$O$12:$O$136,(MATCH(NLML.ChangeInScores.PrePostDataset[[#This Row],[First Name & Last Name*\n(choose from list)]],'NLM Data Test 2'!$X$12:$X$136,0)),1))-(INDEX('NLM Data Test 1'!$N$12:$N$136,(MATCH(NLML.ChangeInScores.PrePostDataset[[#This Row],[First Name & Last Name*\n(choose from list)]],'NLM Data Test 1'!$W$12:$W$136,0)),1))","v":{"$error":"#N/A"}},{"$f":"(INDEX('NLM Data Test 2'!$P$12:$P$136,(MATCH(NLML.ChangeInScores.PrePostDataset[[#This Row],[First Name & Last Name*\n(choose from list)]],'NLM Data Test 2'!$X$12:$X$136,0)),1))-(INDEX('NLM Data Test 1'!$O$12:$O$136,(MATCH(NLML.ChangeInScores.PrePostDataset[[#This Row],[First Name & Last Name*\n(choose from list)]],'NLM Data Test 1'!$W$12:$W$136,0)),1))","v":{"$error":"#N/A"}},{"$f":"(INDEX('NLM Data Test 2'!$Q$12:$Q$136,(MATCH(NLML.ChangeInScores.PrePostDataset[[#This Row],[First Name & Last Name*\n(choose from list)]],'NLM Data Test 2'!$X$12:$X$136,0)),1))-(INDEX('NLM Data Test 1'!$P$12:$P$136,(MATCH(NLML.ChangeInScores.PrePostDataset[[#This Row],[First Name & Last Name*\n(choose from list)]],'NLM Data Test 1'!$W$12:$W$136,0)),1))","v":{"$error":"#N/A"}},{"$f":"(INDEX('NLM Data Test 2'!$R$12:$R$136,(MATCH(NLML.ChangeInScores.PrePostDataset[[#This Row],[First Name & Last Name*\n(choose from list)]],'NLM Data Test 2'!$X$12:$X$136,0)),1))-(INDEX('NLM Data Test 1'!$Q$12:$Q$136,(MATCH(NLML.ChangeInScores.PrePostDataset[[#This Row],[First Name & Last Name*\n(choose from list)]],'NLM Data Test 1'!$W$12:$W$136,0)),1))","v":{"$error":"#N/A"}},{"$f":"(INDEX('NLM Data Test 2'!$S$12:$S$136,(MATCH(NLML.ChangeInScores.PrePostDataset[[#This Row],[First Name & Last Name*\n(choose from list)]],'NLM Data Test 2'!$X$12:$X$136,0)),1))-(INDEX('NLM Data Test 1'!$R$12:$R$136,(MATCH(NLML.ChangeInScores.PrePostDataset[[#This Row],[First Name & Last Name*\n(choose from list)]],'NLM Data Test 1'!$W$12:$W$136,0)),1))","v":{"$error":"#N/A"}},{"$f":"(INDEX('NLM Data Test 2'!$T$12:$T$136,(MATCH(NLML.ChangeInScores.PrePostDataset[[#This Row],[First Name & Last Name*\n(choose from list)]],'NLM Data Test 2'!$X$12:$X$136,0)),1))-(INDEX('NLM Data Test 1'!$S$12:$S$136,(MATCH(NLML.ChangeInScores.PrePostDataset[[#This Row],[First Name & Last Name*\n(choose from list)]],'NLM Data Test 1'!$W$12:$W$136,0)),1))","v":{"$error":"#N/A"}},{"$f":"IFERROR(INDEX('NLM Data Test 1'!$T$12:$T$136,(MATCH(NLML.ChangeInScores.PrePostDataset[[#This Row],[First Name & Last Name*\n(choose from list)]],'NLM Data Test 1'!$W$12:$W$136,0)),1),\"\")","v":""},{"$f":"IFERROR(INDEX('NLM Data Test 2'!$U$12:$U$136,(MATCH(NLML.ChangeInScores.PrePostDataset[[#This Row],[First Name & Last Name*\n(choose from list)]],'NLM Data Test 2'!$X$12:$X$136,0)),1),\"\")","v":""}]
[40,{"$f":"IFERROR(INDEX(NLML.Test1.PrePostDataset[*First Name],(MATCH(NLML.ChangeInScores.PrePostDataset[[#This Row],[First Name & Last Name*\n(choose from list)]],'NLM Data Test 1'!W51:W175,0)),1),\"\")","v":""},{"$f":"IFERROR(INDEX(NLML.Test1.PrePostDataset[*Last Name],(MATCH(NLML.ChangeInScores.PrePostDataset[[#This Row],[First Name & Last Name*\n(choose from list)]],'NLM Data Test 1'!W51:W175,0)),1),\"\")","v":""},{"$f":"'NLM Data Test 2'!D51","v":0},{"$f":"IF(IFERROR(MATCH($D55,'NLM Data Test 2'!$D$12:$D$136,0),\"Error\")=\"Error\",(INDEX('NLM Data Test 1'!$D$12:$D$136,(MATCH($D55,'NLM Data Test 1'!$W$12:$W$136,0)),1)),(INDEX('NLM Data Test 2'!$E$12:$E$136,(MATCH($D55,'NLM Data Test 2'!$D$12:$D$136,0)),1)))","v":{"$error":"#N/A"}},{"$f":"IF(IFERROR(MATCH($D55,'NLM Data Test 2'!$D$12:$D$136,0),\"Error\")=\"Error\",(INDEX('NLM Data Test 1'!$E$12:$E$136,(MATCH($D55,'NLM Data Test 1'!$W$12:$W$136,0)),1)),(INDEX('NLM Data Test 2'!$G$12:$G$136,(MATCH($D55,'NLM Data Test 2'!$D$12:$D$136,0)),1)))","v":{"$error":"#N/A"}},{"$f":"IF(IFERROR(MATCH($D55,'NLM Data Test 2'!$D$12:$D$136,0),\"Error\")=\"Error\",(INDEX('NLM Data Test 1'!$F$12:$F$136,(MATCH($D55,'NLM Data Test 1'!$W$12:$W$136,0)),1)),(INDEX('NLM Data Test 2'!$F$12:$F$136,(MATCH($D55,'NLM Data Test 2'!$D$12:$D$136,0)),1)))","v":{"$error":"#N/A"}},{"$f":"IF(INDEX('NLM Data Test 1'!$H$12:$H$136,(MATCH(NLML.ChangeInScores.PrePostDataset[[#This Row],[First Name & Last Name*\n(choose from list)]],'NLM Data Test 1'!$W$12:$W$136,0)),1)=\"\",\"\",(INDEX('NLM Data Test 1'!H$12:H$136,(MATCH(NLML.ChangeInScores.PrePostDataset[[#This Row],[First Name & Last Name*\n(choose from list)]],'NLM Data Test 1'!$W$12:$W$136,0)),1)))","v":{"$error":"#N/A"}},{"$f":"IF(INDEX('NLM Data Test 1'!$I$12:$I$136,(MATCH(NLML.ChangeInScores.PrePostDataset[[#This Row],[First Name & Last Name*\n(choose from list)]],'NLM Data Test 1'!$W$12:$W$136,0)),1)=\"\",\"\",(INDEX('NLM Data Test 1'!I$12:I$136,(MATCH(NLML.ChangeInScores.PrePostDataset[[#This Row],[First Name & Last Name*\n(choose from list)]],'NLM Data Test 1'!$W$12:$W$136,0)),1)))","v":{"$error":"#N/A"}},{"$f":"IF(INDEX('NLM Data Test 1'!$J$12:$J$136,(MATCH(NLML.ChangeInScores.PrePostDataset[[#This Row],[First Name & Last Name*\n(choose from list)]],'NLM Data Test 1'!$W$12:$W$136,0)),1)=\"\",\"\",(INDEX('NLM Data Test 1'!J$12:J$136,(MATCH(NLML.ChangeInScores.PrePostDataset[[#This Row],[First Name & Last Name*\n(choose from list)]],'NLM Data Test 1'!$W$12:$W$136,0)),1)))","v":{"$error":"#N/A"}},{"$f":"IFERROR(INDEX('NLM Data Test 1'!$M$12:$M$136,(MATCH(NLML.ChangeInScores.PrePostDataset[[#This Row],[First Name & Last Name*\n(choose from list)]],'NLM Data Test 1'!$W$12:$W$136,0)),1),\"\")","v":""},{"$f":"INDEX('NLM Data Test 2'!$I$12:$I$136,(MATCH(NLML.ChangeInScores.PrePostDataset[[#This Row],[First Name & Last Name*\n(choose from list)]],'NLM Data Test 2'!$D$12:$D$136,0)),1)","v":{"$error":"#N/A"}},{"$f":"IFERROR(INDEX('NLM Data Test 2'!$J$12:$J$136,(MATCH(NLML.ChangeInScores.PrePostDataset[[#This Row],[First Name & Last Name*\n(choose from list)]],'NLM Data Test 2'!$X$12:$X$136,0)),1),\"\")","v":""},{"$f":"IFERROR(INDEX('NLM Data Test 2'!$K$12:$K$136,(MATCH(NLML.ChangeInScores.PrePostDataset[[#This Row],[First Name & Last Name*\n(choose from list)]],'NLM Data Test 2'!$X$12:$X$136,0)),1),\"\")","v":""},{"$f":"IFERROR(INDEX('NLM Data Test 2'!$N$12:$N$136,(MATCH(NLML.ChangeInScores.PrePostDataset[[#This Row],[First Name & Last Name*\n(choose from list)]],'NLM Data Test 2'!$X$12:$X$136,0)),1),\"\")","v":""},{"$f":"(INDEX('NLM Data Test 2'!$O$12:$O$136,(MATCH(NLML.ChangeInScores.PrePostDataset[[#This Row],[First Name & Last Name*\n(choose from list)]],'NLM Data Test 2'!$X$12:$X$136,0)),1))-(INDEX('NLM Data Test 1'!$N$12:$N$136,(MATCH(NLML.ChangeInScores.PrePostDataset[[#This Row],[First Name & Last Name*\n(choose from list)]],'NLM Data Test 1'!$W$12:$W$136,0)),1))","v":{"$error":"#N/A"}},{"$f":"(INDEX('NLM Data Test 2'!$P$12:$P$136,(MATCH(NLML.ChangeInScores.PrePostDataset[[#This Row],[First Name & Last Name*\n(choose from list)]],'NLM Data Test 2'!$X$12:$X$136,0)),1))-(INDEX('NLM Data Test 1'!$O$12:$O$136,(MATCH(NLML.ChangeInScores.PrePostDataset[[#This Row],[First Name & Last Name*\n(choose from list)]],'NLM Data Test 1'!$W$12:$W$136,0)),1))","v":{"$error":"#N/A"}},{"$f":"(INDEX('NLM Data Test 2'!$Q$12:$Q$136,(MATCH(NLML.ChangeInScores.PrePostDataset[[#This Row],[First Name & Last Name*\n(choose from list)]],'NLM Data Test 2'!$X$12:$X$136,0)),1))-(INDEX('NLM Data Test 1'!$P$12:$P$136,(MATCH(NLML.ChangeInScores.PrePostDataset[[#This Row],[First Name & Last Name*\n(choose from list)]],'NLM Data Test 1'!$W$12:$W$136,0)),1))","v":{"$error":"#N/A"}},{"$f":"(INDEX('NLM Data Test 2'!$R$12:$R$136,(MATCH(NLML.ChangeInScores.PrePostDataset[[#This Row],[First Name & Last Name*\n(choose from list)]],'NLM Data Test 2'!$X$12:$X$136,0)),1))-(INDEX('NLM Data Test 1'!$Q$12:$Q$136,(MATCH(NLML.ChangeInScores.PrePostDataset[[#This Row],[First Name & Last Name*\n(choose from list)]],'NLM Data Test 1'!$W$12:$W$136,0)),1))","v":{"$error":"#N/A"}},{"$f":"(INDEX('NLM Data Test 2'!$S$12:$S$136,(MATCH(NLML.ChangeInScores.PrePostDataset[[#This Row],[First Name & Last Name*\n(choose from list)]],'NLM Data Test 2'!$X$12:$X$136,0)),1))-(INDEX('NLM Data Test 1'!$R$12:$R$136,(MATCH(NLML.ChangeInScores.PrePostDataset[[#This Row],[First Name & Last Name*\n(choose from list)]],'NLM Data Test 1'!$W$12:$W$136,0)),1))","v":{"$error":"#N/A"}},{"$f":"(INDEX('NLM Data Test 2'!$T$12:$T$136,(MATCH(NLML.ChangeInScores.PrePostDataset[[#This Row],[First Name & Last Name*\n(choose from list)]],'NLM Data Test 2'!$X$12:$X$136,0)),1))-(INDEX('NLM Data Test 1'!$S$12:$S$136,(MATCH(NLML.ChangeInScores.PrePostDataset[[#This Row],[First Name & Last Name*\n(choose from list)]],'NLM Data Test 1'!$W$12:$W$136,0)),1))","v":{"$error":"#N/A"}},{"$f":"IFERROR(INDEX('NLM Data Test 1'!$T$12:$T$136,(MATCH(NLML.ChangeInScores.PrePostDataset[[#This Row],[First Name & Last Name*\n(choose from list)]],'NLM Data Test 1'!$W$12:$W$136,0)),1),\"\")","v":""},{"$f":"IFERROR(INDEX('NLM Data Test 2'!$U$12:$U$136,(MATCH(NLML.ChangeInScores.PrePostDataset[[#This Row],[First Name & Last Name*\n(choose from list)]],'NLM Data Test 2'!$X$12:$X$136,0)),1),\"\")","v":""}]
[41,{"$f":"IFERROR(INDEX(NLML.Test1.PrePostDataset[*First Name],(MATCH(NLML.ChangeInScores.PrePostDataset[[#This Row],[First Name & Last Name*\n(choose from list)]],'NLM Data Test 1'!W52:W176,0)),1),\"\")","v":""},{"$f":"IFERROR(INDEX(NLML.Test1.PrePostDataset[*Last Name],(MATCH(NLML.ChangeInScores.PrePostDataset[[#This Row],[First Name & Last Name*\n(choose from list)]],'NLM Data Test 1'!W52:W176,0)),1),\"\")","v":""},{"$f":"'NLM Data Test 2'!D52","v":0},{"$f":"IF(IFERROR(MATCH($D56,'NLM Data Test 2'!$D$12:$D$136,0),\"Error\")=\"Error\",(INDEX('NLM Data Test 1'!$D$12:$D$136,(MATCH($D56,'NLM Data Test 1'!$W$12:$W$136,0)),1)),(INDEX('NLM Data Test 2'!$E$12:$E$136,(MATCH($D56,'NLM Data Test 2'!$D$12:$D$136,0)),1)))","v":{"$error":"#N/A"}},{"$f":"IF(IFERROR(MATCH($D56,'NLM Data Test 2'!$D$12:$D$136,0),\"Error\")=\"Error\",(INDEX('NLM Data Test 1'!$E$12:$E$136,(MATCH($D56,'NLM Data Test 1'!$W$12:$W$136,0)),1)),(INDEX('NLM Data Test 2'!$G$12:$G$136,(MATCH($D56,'NLM Data Test 2'!$D$12:$D$136,0)),1)))","v":{"$error":"#N/A"}},{"$f":"IF(IFERROR(MATCH($D56,'NLM Data Test 2'!$D$12:$D$136,0),\"Error\")=\"Error\",(INDEX('NLM Data Test 1'!$F$12:$F$136,(MATCH($D56,'NLM Data Test 1'!$W$12:$W$136,0)),1)),(INDEX('NLM Data Test 2'!$F$12:$F$136,(MATCH($D56,'NLM Data Test 2'!$D$12:$D$136,0)),1)))","v":{"$error":"#N/A"}},{"$f":"IF(INDEX('NLM Data Test 1'!$H$12:$H$136,(MATCH(NLML.ChangeInScores.PrePostDataset[[#This Row],[First Name & Last Name*\n(choose from list)]],'NLM Data Test 1'!$W$12:$W$136,0)),1)=\"\",\"\",(INDEX('NLM Data Test 1'!H$12:H$136,(MATCH(NLML.ChangeInScores.PrePostDataset[[#This Row],[First Name & Last Name*\n(choose from list)]],'NLM Data Test 1'!$W$12:$W$136,0)),1)))","v":{"$error":"#N/A"}},{"$f":"IF(INDEX('NLM Data Test 1'!$I$12:$I$136,(MATCH(NLML.ChangeInScores.PrePostDataset[[#This Row],[First Name & Last Name*\n(choose from list)]],'NLM Data Test 1'!$W$12:$W$136,0)),1)=\"\",\"\",(INDEX('NLM Data Test 1'!I$12:I$136,(MATCH(NLML.ChangeInScores.PrePostDataset[[#This Row],[First Name & Last Name*\n(choose from list)]],'NLM Data Test 1'!$W$12:$W$136,0)),1)))","v":{"$error":"#N/A"}},{"$f":"IF(INDEX('NLM Data Test 1'!$J$12:$J$136,(MATCH(NLML.ChangeInScores.PrePostDataset[[#This Row],[First Name & Last Name*\n(choose from list)]],'NLM Data Test 1'!$W$12:$W$136,0)),1)=\"\",\"\",(INDEX('NLM Data Test 1'!J$12:J$136,(MATCH(NLML.ChangeInScores.PrePostDataset[[#This Row],[First Name & Last Name*\n(choose from list)]],'NLM Data Test 1'!$W$12:$W$136,0)),1)))","v":{"$error":"#N/A"}},{"$f":"IFERROR(INDEX('NLM Data Test 1'!$M$12:$M$136,(MATCH(NLML.ChangeInScores.PrePostDataset[[#This Row],[First Name & Last Name*\n(choose from list)]],'NLM Data Test 1'!$W$12:$W$136,0)),1),\"\")","v":""},{"$f":"INDEX('NLM Data Test 2'!$I$12:$I$136,(MATCH(NLML.ChangeInScores.PrePostDataset[[#This Row],[First Name & Last Name*\n(choose from list)]],'NLM Data Test 2'!$D$12:$D$136,0)),1)","v":{"$error":"#N/A"}},{"$f":"IFERROR(INDEX('NLM Data Test 2'!$J$12:$J$136,(MATCH(NLML.ChangeInScores.PrePostDataset[[#This Row],[First Name & Last Name*\n(choose from list)]],'NLM Data Test 2'!$X$12:$X$136,0)),1),\"\")","v":""},{"$f":"IFERROR(INDEX('NLM Data Test 2'!$K$12:$K$136,(MATCH(NLML.ChangeInScores.PrePostDataset[[#This Row],[First Name & Last Name*\n(choose from list)]],'NLM Data Test 2'!$X$12:$X$136,0)),1),\"\")","v":""},{"$f":"IFERROR(INDEX('NLM Data Test 2'!$N$12:$N$136,(MATCH(NLML.ChangeInScores.PrePostDataset[[#This Row],[First Name & Last Name*\n(choose from list)]],'NLM Data Test 2'!$X$12:$X$136,0)),1),\"\")","v":""},{"$f":"(INDEX('NLM Data Test 2'!$O$12:$O$136,(MATCH(NLML.ChangeInScores.PrePostDataset[[#This Row],[First Name & Last Name*\n(choose from list)]],'NLM Data Test 2'!$X$12:$X$136,0)),1))-(INDEX('NLM Data Test 1'!$N$12:$N$136,(MATCH(NLML.ChangeInScores.PrePostDataset[[#This Row],[First Name & Last Name*\n(choose from list)]],'NLM Data Test 1'!$W$12:$W$136,0)),1))","v":{"$error":"#N/A"}},{"$f":"(INDEX('NLM Data Test 2'!$P$12:$P$136,(MATCH(NLML.ChangeInScores.PrePostDataset[[#This Row],[First Name & Last Name*\n(choose from list)]],'NLM Data Test 2'!$X$12:$X$136,0)),1))-(INDEX('NLM Data Test 1'!$O$12:$O$136,(MATCH(NLML.ChangeInScores.PrePostDataset[[#This Row],[First Name & Last Name*\n(choose from list)]],'NLM Data Test 1'!$W$12:$W$136,0)),1))","v":{"$error":"#N/A"}},{"$f":"(INDEX('NLM Data Test 2'!$Q$12:$Q$136,(MATCH(NLML.ChangeInScores.PrePostDataset[[#This Row],[First Name & Last Name*\n(choose from list)]],'NLM Data Test 2'!$X$12:$X$136,0)),1))-(INDEX('NLM Data Test 1'!$P$12:$P$136,(MATCH(NLML.ChangeInScores.PrePostDataset[[#This Row],[First Name & Last Name*\n(choose from list)]],'NLM Data Test 1'!$W$12:$W$136,0)),1))","v":{"$error":"#N/A"}},{"$f":"(INDEX('NLM Data Test 2'!$R$12:$R$136,(MATCH(NLML.ChangeInScores.PrePostDataset[[#This Row],[First Name & Last Name*\n(choose from list)]],'NLM Data Test 2'!$X$12:$X$136,0)),1))-(INDEX('NLM Data Test 1'!$Q$12:$Q$136,(MATCH(NLML.ChangeInScores.PrePostDataset[[#This Row],[First Name & Last Name*\n(choose from list)]],'NLM Data Test 1'!$W$12:$W$136,0)),1))","v":{"$error":"#N/A"}},{"$f":"(INDEX('NLM Data Test 2'!$S$12:$S$136,(MATCH(NLML.ChangeInScores.PrePostDataset[[#This Row],[First Name & Last Name*\n(choose from list)]],'NLM Data Test 2'!$X$12:$X$136,0)),1))-(INDEX('NLM Data Test 1'!$R$12:$R$136,(MATCH(NLML.ChangeInScores.PrePostDataset[[#This Row],[First Name & Last Name*\n(choose from list)]],'NLM Data Test 1'!$W$12:$W$136,0)),1))","v":{"$error":"#N/A"}},{"$f":"(INDEX('NLM Data Test 2'!$T$12:$T$136,(MATCH(NLML.ChangeInScores.PrePostDataset[[#This Row],[First Name & Last Name*\n(choose from list)]],'NLM Data Test 2'!$X$12:$X$136,0)),1))-(INDEX('NLM Data Test 1'!$S$12:$S$136,(MATCH(NLML.ChangeInScores.PrePostDataset[[#This Row],[First Name & Last Name*\n(choose from list)]],'NLM Data Test 1'!$W$12:$W$136,0)),1))","v":{"$error":"#N/A"}},{"$f":"IFERROR(INDEX('NLM Data Test 1'!$T$12:$T$136,(MATCH(NLML.ChangeInScores.PrePostDataset[[#This Row],[First Name & Last Name*\n(choose from list)]],'NLM Data Test 1'!$W$12:$W$136,0)),1),\"\")","v":""},{"$f":"IFERROR(INDEX('NLM Data Test 2'!$U$12:$U$136,(MATCH(NLML.ChangeInScores.PrePostDataset[[#This Row],[First Name & Last Name*\n(choose from list)]],'NLM Data Test 2'!$X$12:$X$136,0)),1),\"\")","v":""}]
[42,{"$f":"IFERROR(INDEX(NLML.Test1.PrePostDataset[*First Name],(MATCH(NLML.ChangeInScores.PrePostDataset[[#This Row],[First Name & Last Name*\n(choose from list)]],'NLM Data Test 1'!W53:W177,0)),1),\"\")","v":""},{"$f":"IFERROR(INDEX(NLML.Test1.PrePostDataset[*Last Name],(MATCH(NLML.ChangeInScores.PrePostDataset[[#This Row],[First Name & Last Name*\n(choose from list)]],'NLM Data Test 1'!W53:W177,0)),1),\"\")","v":""},{"$f":"'NLM Data Test 2'!D53","v":0},{"$f":"IF(IFERROR(MATCH($D57,'NLM Data Test 2'!$D$12:$D$136,0),\"Error\")=\"Error\",(INDEX('NLM Data Test 1'!$D$12:$D$136,(MATCH($D57,'NLM Data Test 1'!$W$12:$W$136,0)),1)),(INDEX('NLM Data Test 2'!$E$12:$E$136,(MATCH($D57,'NLM Data Test 2'!$D$12:$D$136,0)),1)))","v":{"$error":"#N/A"}},{"$f":"IF(IFERROR(MATCH($D57,'NLM Data Test 2'!$D$12:$D$136,0),\"Error\")=\"Error\",(INDEX('NLM Data Test 1'!$E$12:$E$136,(MATCH($D57,'NLM Data Test 1'!$W$12:$W$136,0)),1)),(INDEX('NLM Data Test 2'!$G$12:$G$136,(MATCH($D57,'NLM Data Test 2'!$D$12:$D$136,0)),1)))","v":{"$error":"#N/A"}},{"$f":"IF(IFERROR(MATCH($D57,'NLM Data Test 2'!$D$12:$D$136,0),\"Error\")=\"Error\",(INDEX('NLM Data Test 1'!$F$12:$F$136,(MATCH($D57,'NLM Data Test 1'!$W$12:$W$136,0)),1)),(INDEX('NLM Data Test 2'!$F$12:$F$136,(MATCH($D57,'NLM Data Test 2'!$D$12:$D$136,0)),1)))","v":{"$error":"#N/A"}},{"$f":"IF(INDEX('NLM Data Test 1'!$H$12:$H$136,(MATCH(NLML.ChangeInScores.PrePostDataset[[#This Row],[First Name & Last Name*\n(choose from list)]],'NLM Data Test 1'!$W$12:$W$136,0)),1)=\"\",\"\",(INDEX('NLM Data Test 1'!H$12:H$136,(MATCH(NLML.ChangeInScores.PrePostDataset[[#This Row],[First Name & Last Name*\n(choose from list)]],'NLM Data Test 1'!$W$12:$W$136,0)),1)))","v":{"$error":"#N/A"}},{"$f":"IF(INDEX('NLM Data Test 1'!$I$12:$I$136,(MATCH(NLML.ChangeInScores.PrePostDataset[[#This Row],[First Name & Last Name*\n(choose from list)]],'NLM Data Test 1'!$W$12:$W$136,0)),1)=\"\",\"\",(INDEX('NLM Data Test 1'!I$12:I$136,(MATCH(NLML.ChangeInScores.PrePostDataset[[#This Row],[First Name & Last Name*\n(choose from list)]],'NLM Data Test 1'!$W$12:$W$136,0)),1)))","v":{"$error":"#N/A"}},{"$f":"IF(INDEX('NLM Data Test 1'!$J$12:$J$136,(MATCH(NLML.ChangeInScores.PrePostDataset[[#This Row],[First Name & Last Name*\n(choose from list)]],'NLM Data Test 1'!$W$12:$W$136,0)),1)=\"\",\"\",(INDEX('NLM Data Test 1'!J$12:J$136,(MATCH(NLML.ChangeInScores.PrePostDataset[[#This Row],[First Name & Last Name*\n(choose from list)]],'NLM Data Test 1'!$W$12:$W$136,0)),1)))","v":{"$error":"#N/A"}},{"$f":"IFERROR(INDEX('NLM Data Test 1'!$M$12:$M$136,(MATCH(NLML.ChangeInScores.PrePostDataset[[#This Row],[First Name & Last Name*\n(choose from list)]],'NLM Data Test 1'!$W$12:$W$136,0)),1),\"\")","v":""},{"$f":"INDEX('NLM Data Test 2'!$I$12:$I$136,(MATCH(NLML.ChangeInScores.PrePostDataset[[#This Row],[First Name & Last Name*\n(choose from list)]],'NLM Data Test 2'!$D$12:$D$136,0)),1)","v":{"$error":"#N/A"}},{"$f":"IFERROR(INDEX('NLM Data Test 2'!$J$12:$J$136,(MATCH(NLML.ChangeInScores.PrePostDataset[[#This Row],[First Name & Last Name*\n(choose from list)]],'NLM Data Test 2'!$X$12:$X$136,0)),1),\"\")","v":""},{"$f":"IFERROR(INDEX('NLM Data Test 2'!$K$12:$K$136,(MATCH(NLML.ChangeInScores.PrePostDataset[[#This Row],[First Name & Last Name*\n(choose from list)]],'NLM Data Test 2'!$X$12:$X$136,0)),1),\"\")","v":""},{"$f":"IFERROR(INDEX('NLM Data Test 2'!$N$12:$N$136,(MATCH(NLML.ChangeInScores.PrePostDataset[[#This Row],[First Name & Last Name*\n(choose from list)]],'NLM Data Test 2'!$X$12:$X$136,0)),1),\"\")","v":""},{"$f":"(INDEX('NLM Data Test 2'!$O$12:$O$136,(MATCH(NLML.ChangeInScores.PrePostDataset[[#This Row],[First Name & Last Name*\n(choose from list)]],'NLM Data Test 2'!$X$12:$X$136,0)),1))-(INDEX('NLM Data Test 1'!$N$12:$N$136,(MATCH(NLML.ChangeInScores.PrePostDataset[[#This Row],[First Name & Last Name*\n(choose from list)]],'NLM Data Test 1'!$W$12:$W$136,0)),1))","v":{"$error":"#N/A"}},{"$f":"(INDEX('NLM Data Test 2'!$P$12:$P$136,(MATCH(NLML.ChangeInScores.PrePostDataset[[#This Row],[First Name & Last Name*\n(choose from list)]],'NLM Data Test 2'!$X$12:$X$136,0)),1))-(INDEX('NLM Data Test 1'!$O$12:$O$136,(MATCH(NLML.ChangeInScores.PrePostDataset[[#This Row],[First Name & Last Name*\n(choose from list)]],'NLM Data Test 1'!$W$12:$W$136,0)),1))","v":{"$error":"#N/A"}},{"$f":"(INDEX('NLM Data Test 2'!$Q$12:$Q$136,(MATCH(NLML.ChangeInScores.PrePostDataset[[#This Row],[First Name & Last Name*\n(choose from list)]],'NLM Data Test 2'!$X$12:$X$136,0)),1))-(INDEX('NLM Data Test 1'!$P$12:$P$136,(MATCH(NLML.ChangeInScores.PrePostDataset[[#This Row],[First Name & Last Name*\n(choose from list)]],'NLM Data Test 1'!$W$12:$W$136,0)),1))","v":{"$error":"#N/A"}},{"$f":"(INDEX('NLM Data Test 2'!$R$12:$R$136,(MATCH(NLML.ChangeInScores.PrePostDataset[[#This Row],[First Name & Last Name*\n(choose from list)]],'NLM Data Test 2'!$X$12:$X$136,0)),1))-(INDEX('NLM Data Test 1'!$Q$12:$Q$136,(MATCH(NLML.ChangeInScores.PrePostDataset[[#This Row],[First Name & Last Name*\n(choose from list)]],'NLM Data Test 1'!$W$12:$W$136,0)),1))","v":{"$error":"#N/A"}},{"$f":"(INDEX('NLM Data Test 2'!$S$12:$S$136,(MATCH(NLML.ChangeInScores.PrePostDataset[[#This Row],[First Name & Last Name*\n(choose from list)]],'NLM Data Test 2'!$X$12:$X$136,0)),1))-(INDEX('NLM Data Test 1'!$R$12:$R$136,(MATCH(NLML.ChangeInScores.PrePostDataset[[#This Row],[First Name & Last Name*\n(choose from list)]],'NLM Data Test 1'!$W$12:$W$136,0)),1))","v":{"$error":"#N/A"}},{"$f":"(INDEX('NLM Data Test 2'!$T$12:$T$136,(MATCH(NLML.ChangeInScores.PrePostDataset[[#This Row],[First Name & Last Name*\n(choose from list)]],'NLM Data Test 2'!$X$12:$X$136,0)),1))-(INDEX('NLM Data Test 1'!$S$12:$S$136,(MATCH(NLML.ChangeInScores.PrePostDataset[[#This Row],[First Name & Last Name*\n(choose from list)]],'NLM Data Test 1'!$W$12:$W$136,0)),1))","v":{"$error":"#N/A"}},{"$f":"IFERROR(INDEX('NLM Data Test 1'!$T$12:$T$136,(MATCH(NLML.ChangeInScores.PrePostDataset[[#This Row],[First Name & Last Name*\n(choose from list)]],'NLM Data Test 1'!$W$12:$W$136,0)),1),\"\")","v":""},{"$f":"IFERROR(INDEX('NLM Data Test 2'!$U$12:$U$136,(MATCH(NLML.ChangeInScores.PrePostDataset[[#This Row],[First Name & Last Name*\n(choose from list)]],'NLM Data Test 2'!$X$12:$X$136,0)),1),\"\")","v":""}]
[43,{"$f":"IFERROR(INDEX(NLML.Test1.PrePostDataset[*First Name],(MATCH(NLML.ChangeInScores.PrePostDataset[[#This Row],[First Name & Last Name*\n(choose from list)]],'NLM Data Test 1'!W54:W178,0)),1),\"\")","v":""},{"$f":"IFERROR(INDEX(NLML.Test1.PrePostDataset[*Last Name],(MATCH(NLML.ChangeInScores.PrePostDataset[[#This Row],[First Name & Last Name*\n(choose from list)]],'NLM Data Test 1'!W54:W178,0)),1),\"\")","v":""},{"$f":"'NLM Data Test 2'!D54","v":0},{"$f":"IF(IFERROR(MATCH($D58,'NLM Data Test 2'!$D$12:$D$136,0),\"Error\")=\"Error\",(INDEX('NLM Data Test 1'!$D$12:$D$136,(MATCH($D58,'NLM Data Test 1'!$W$12:$W$136,0)),1)),(INDEX('NLM Data Test 2'!$E$12:$E$136,(MATCH($D58,'NLM Data Test 2'!$D$12:$D$136,0)),1)))","v":{"$error":"#N/A"}},{"$f":"IF(IFERROR(MATCH($D58,'NLM Data Test 2'!$D$12:$D$136,0),\"Error\")=\"Error\",(INDEX('NLM Data Test 1'!$E$12:$E$136,(MATCH($D58,'NLM Data Test 1'!$W$12:$W$136,0)),1)),(INDEX('NLM Data Test 2'!$G$12:$G$136,(MATCH($D58,'NLM Data Test 2'!$D$12:$D$136,0)),1)))","v":{"$error":"#N/A"}},{"$f":"IF(IFERROR(MATCH($D58,'NLM Data Test 2'!$D$12:$D$136,0),\"Error\")=\"Error\",(INDEX('NLM Data Test 1'!$F$12:$F$136,(MATCH($D58,'NLM Data Test 1'!$W$12:$W$136,0)),1)),(INDEX('NLM Data Test 2'!$F$12:$F$136,(MATCH($D58,'NLM Data Test 2'!$D$12:$D$136,0)),1)))","v":{"$error":"#N/A"}},{"$f":"IF(INDEX('NLM Data Test 1'!$H$12:$H$136,(MATCH(NLML.ChangeInScores.PrePostDataset[[#This Row],[First Name & Last Name*\n(choose from list)]],'NLM Data Test 1'!$W$12:$W$136,0)),1)=\"\",\"\",(INDEX('NLM Data Test 1'!H$12:H$136,(MATCH(NLML.ChangeInScores.PrePostDataset[[#This Row],[First Name & Last Name*\n(choose from list)]],'NLM Data Test 1'!$W$12:$W$136,0)),1)))","v":{"$error":"#N/A"}},{"$f":"IF(INDEX('NLM Data Test 1'!$I$12:$I$136,(MATCH(NLML.ChangeInScores.PrePostDataset[[#This Row],[First Name & Last Name*\n(choose from list)]],'NLM Data Test 1'!$W$12:$W$136,0)),1)=\"\",\"\",(INDEX('NLM Data Test 1'!I$12:I$136,(MATCH(NLML.ChangeInScores.PrePostDataset[[#This Row],[First Name & Last Name*\n(choose from list)]],'NLM Data Test 1'!$W$12:$W$136,0)),1)))","v":{"$error":"#N/A"}},{"$f":"IF(INDEX('NLM Data Test 1'!$J$12:$J$136,(MATCH(NLML.ChangeInScores.PrePostDataset[[#This Row],[First Name & Last Name*\n(choose from list)]],'NLM Data Test 1'!$W$12:$W$136,0)),1)=\"\",\"\",(INDEX('NLM Data Test 1'!J$12:J$136,(MATCH(NLML.ChangeInScores.PrePostDataset[[#This Row],[First Name & Last Name*\n(choose from list)]],'NLM Data Test 1'!$W$12:$W$136,0)),1)))","v":{"$error":"#N/A"}},{"$f":"IFERROR(INDEX('NLM Data Test 1'!$M$12:$M$136,(MATCH(NLML.ChangeInScores.PrePostDataset[[#This Row],[First Name & Last Name*\n(choose from list)]],'NLM Data Test 1'!$W$12:$W$136,0)),1),\"\")","v":""},{"$f":"INDEX('NLM Data Test 2'!$I$12:$I$136,(MATCH(NLML.ChangeInScores.PrePostDataset[[#This Row],[First Name & Last Name*\n(choose from list)]],'NLM Data Test 2'!$D$12:$D$136,0)),1)","v":{"$error":"#N/A"}},{"$f":"IFERROR(INDEX('NLM Data Test 2'!$J$12:$J$136,(MATCH(NLML.ChangeInScores.PrePostDataset[[#This Row],[First Name & Last Name*\n(choose from list)]],'NLM Data Test 2'!$X$12:$X$136,0)),1),\"\")","v":""},{"$f":"IFERROR(INDEX('NLM Data Test 2'!$K$12:$K$136,(MATCH(NLML.ChangeInScores.PrePostDataset[[#This Row],[First Name & Last Name*\n(choose from list)]],'NLM Data Test 2'!$X$12:$X$136,0)),1),\"\")","v":""},{"$f":"IFERROR(INDEX('NLM Data Test 2'!$N$12:$N$136,(MATCH(NLML.ChangeInScores.PrePostDataset[[#This Row],[First Name & Last Name*\n(choose from list)]],'NLM Data Test 2'!$X$12:$X$136,0)),1),\"\")","v":""},{"$f":"(INDEX('NLM Data Test 2'!$O$12:$O$136,(MATCH(NLML.ChangeInScores.PrePostDataset[[#This Row],[First Name & Last Name*\n(choose from list)]],'NLM Data Test 2'!$X$12:$X$136,0)),1))-(INDEX('NLM Data Test 1'!$N$12:$N$136,(MATCH(NLML.ChangeInScores.PrePostDataset[[#This Row],[First Name & Last Name*\n(choose from list)]],'NLM Data Test 1'!$W$12:$W$136,0)),1))","v":{"$error":"#N/A"}},{"$f":"(INDEX('NLM Data Test 2'!$P$12:$P$136,(MATCH(NLML.ChangeInScores.PrePostDataset[[#This Row],[First Name & Last Name*\n(choose from list)]],'NLM Data Test 2'!$X$12:$X$136,0)),1))-(INDEX('NLM Data Test 1'!$O$12:$O$136,(MATCH(NLML.ChangeInScores.PrePostDataset[[#This Row],[First Name & Last Name*\n(choose from list)]],'NLM Data Test 1'!$W$12:$W$136,0)),1))","v":{"$error":"#N/A"}},{"$f":"(INDEX('NLM Data Test 2'!$Q$12:$Q$136,(MATCH(NLML.ChangeInScores.PrePostDataset[[#This Row],[First Name & Last Name*\n(choose from list)]],'NLM Data Test 2'!$X$12:$X$136,0)),1))-(INDEX('NLM Data Test 1'!$P$12:$P$136,(MATCH(NLML.ChangeInScores.PrePostDataset[[#This Row],[First Name & Last Name*\n(choose from list)]],'NLM Data Test 1'!$W$12:$W$136,0)),1))","v":{"$error":"#N/A"}},{"$f":"(INDEX('NLM Data Test 2'!$R$12:$R$136,(MATCH(NLML.ChangeInScores.PrePostDataset[[#This Row],[First Name & Last Name*\n(choose from list)]],'NLM Data Test 2'!$X$12:$X$136,0)),1))-(INDEX('NLM Data Test 1'!$Q$12:$Q$136,(MATCH(NLML.ChangeInScores.PrePostDataset[[#This Row],[First Name & Last Name*\n(choose from list)]],'NLM Data Test 1'!$W$12:$W$136,0)),1))","v":{"$error":"#N/A"}},{"$f":"(INDEX('NLM Data Test 2'!$S$12:$S$136,(MATCH(NLML.ChangeInScores.PrePostDataset[[#This Row],[First Name & Last Name*\n(choose from list)]],'NLM Data Test 2'!$X$12:$X$136,0)),1))-(INDEX('NLM Data Test 1'!$R$12:$R$136,(MATCH(NLML.ChangeInScores.PrePostDataset[[#This Row],[First Name & Last Name*\n(choose from list)]],'NLM Data Test 1'!$W$12:$W$136,0)),1))","v":{"$error":"#N/A"}},{"$f":"(INDEX('NLM Data Test 2'!$T$12:$T$136,(MATCH(NLML.ChangeInScores.PrePostDataset[[#This Row],[First Name & Last Name*\n(choose from list)]],'NLM Data Test 2'!$X$12:$X$136,0)),1))-(INDEX('NLM Data Test 1'!$S$12:$S$136,(MATCH(NLML.ChangeInScores.PrePostDataset[[#This Row],[First Name & Last Name*\n(choose from list)]],'NLM Data Test 1'!$W$12:$W$136,0)),1))","v":{"$error":"#N/A"}},{"$f":"IFERROR(INDEX('NLM Data Test 1'!$T$12:$T$136,(MATCH(NLML.ChangeInScores.PrePostDataset[[#This Row],[First Name & Last Name*\n(choose from list)]],'NLM Data Test 1'!$W$12:$W$136,0)),1),\"\")","v":""},{"$f":"IFERROR(INDEX('NLM Data Test 2'!$U$12:$U$136,(MATCH(NLML.ChangeInScores.PrePostDataset[[#This Row],[First Name & Last Name*\n(choose from list)]],'NLM Data Test 2'!$X$12:$X$136,0)),1),\"\")","v":""}]
[44,{"$f":"IFERROR(INDEX(NLML.Test1.PrePostDataset[*First Name],(MATCH(NLML.ChangeInScores.PrePostDataset[[#This Row],[First Name & Last Name*\n(choose from list)]],'NLM Data Test 1'!W55:W179,0)),1),\"\")","v":""},{"$f":"IFERROR(INDEX(NLML.Test1.PrePostDataset[*Last Name],(MATCH(NLML.ChangeInScores.PrePostDataset[[#This Row],[First Name & Last Name*\n(choose from list)]],'NLM Data Test 1'!W55:W179,0)),1),\"\")","v":""},{"$f":"'NLM Data Test 2'!D55","v":0},{"$f":"IF(IFERROR(MATCH($D59,'NLM Data Test 2'!$D$12:$D$136,0),\"Error\")=\"Error\",(INDEX('NLM Data Test 1'!$D$12:$D$136,(MATCH($D59,'NLM Data Test 1'!$W$12:$W$136,0)),1)),(INDEX('NLM Data Test 2'!$E$12:$E$136,(MATCH($D59,'NLM Data Test 2'!$D$12:$D$136,0)),1)))","v":{"$error":"#N/A"}},{"$f":"IF(IFERROR(MATCH($D59,'NLM Data Test 2'!$D$12:$D$136,0),\"Error\")=\"Error\",(INDEX('NLM Data Test 1'!$E$12:$E$136,(MATCH($D59,'NLM Data Test 1'!$W$12:$W$136,0)),1)),(INDEX('NLM Data Test 2'!$G$12:$G$136,(MATCH($D59,'NLM Data Test 2'!$D$12:$D$136,0)),1)))","v":{"$error":"#N/A"}},{"$f":"IF(IFERROR(MATCH($D59,'NLM Data Test 2'!$D$12:$D$136,0),\"Error\")=\"Error\",(INDEX('NLM Data Test 1'!$F$12:$F$136,(MATCH($D59,'NLM Data Test 1'!$W$12:$W$136,0)),1)),(INDEX('NLM Data Test 2'!$F$12:$F$136,(MATCH($D59,'NLM Data Test 2'!$D$12:$D$136,0)),1)))","v":{"$error":"#N/A"}},{"$f":"IF(INDEX('NLM Data Test 1'!$H$12:$H$136,(MATCH(NLML.ChangeInScores.PrePostDataset[[#This Row],[First Name & Last Name*\n(choose from list)]],'NLM Data Test 1'!$W$12:$W$136,0)),1)=\"\",\"\",(INDEX('NLM Data Test 1'!H$12:H$136,(MATCH(NLML.ChangeInScores.PrePostDataset[[#This Row],[First Name & Last Name*\n(choose from list)]],'NLM Data Test 1'!$W$12:$W$136,0)),1)))","v":{"$error":"#N/A"}},{"$f":"IF(INDEX('NLM Data Test 1'!$I$12:$I$136,(MATCH(NLML.ChangeInScores.PrePostDataset[[#This Row],[First Name & Last Name*\n(choose from list)]],'NLM Data Test 1'!$W$12:$W$136,0)),1)=\"\",\"\",(INDEX('NLM Data Test 1'!I$12:I$136,(MATCH(NLML.ChangeInScores.PrePostDataset[[#This Row],[First Name & Last Name*\n(choose from list)]],'NLM Data Test 1'!$W$12:$W$136,0)),1)))","v":{"$error":"#N/A"}},{"$f":"IF(INDEX('NLM Data Test 1'!$J$12:$J$136,(MATCH(NLML.ChangeInScores.PrePostDataset[[#This Row],[First Name & Last Name*\n(choose from list)]],'NLM Data Test 1'!$W$12:$W$136,0)),1)=\"\",\"\",(INDEX('NLM Data Test 1'!J$12:J$136,(MATCH(NLML.ChangeInScores.PrePostDataset[[#This Row],[First Name & Last Name*\n(choose from list)]],'NLM Data Test 1'!$W$12:$W$136,0)),1)))","v":{"$error":"#N/A"}},{"$f":"IFERROR(INDEX('NLM Data Test 1'!$M$12:$M$136,(MATCH(NLML.ChangeInScores.PrePostDataset[[#This Row],[First Name & Last Name*\n(choose from list)]],'NLM Data Test 1'!$W$12:$W$136,0)),1),\"\")","v":""},{"$f":"INDEX('NLM Data Test 2'!$I$12:$I$136,(MATCH(NLML.ChangeInScores.PrePostDataset[[#This Row],[First Name & Last Name*\n(choose from list)]],'NLM Data Test 2'!$D$12:$D$136,0)),1)","v":{"$error":"#N/A"}},{"$f":"IFERROR(INDEX('NLM Data Test 2'!$J$12:$J$136,(MATCH(NLML.ChangeInScores.PrePostDataset[[#This Row],[First Name & Last Name*\n(choose from list)]],'NLM Data Test 2'!$X$12:$X$136,0)),1),\"\")","v":""},{"$f":"IFERROR(INDEX('NLM Data Test 2'!$K$12:$K$136,(MATCH(NLML.ChangeInScores.PrePostDataset[[#This Row],[First Name & Last Name*\n(choose from list)]],'NLM Data Test 2'!$X$12:$X$136,0)),1),\"\")","v":""},{"$f":"IFERROR(INDEX('NLM Data Test 2'!$N$12:$N$136,(MATCH(NLML.ChangeInScores.PrePostDataset[[#This Row],[First Name & Last Name*\n(choose from list)]],'NLM Data Test 2'!$X$12:$X$136,0)),1),\"\")","v":""},{"$f":"(INDEX('NLM Data Test 2'!$O$12:$O$136,(MATCH(NLML.ChangeInScores.PrePostDataset[[#This Row],[First Name & Last Name*\n(choose from list)]],'NLM Data Test 2'!$X$12:$X$136,0)),1))-(INDEX('NLM Data Test 1'!$N$12:$N$136,(MATCH(NLML.ChangeInScores.PrePostDataset[[#This Row],[First Name & Last Name*\n(choose from list)]],'NLM Data Test 1'!$W$12:$W$136,0)),1))","v":{"$error":"#N/A"}},{"$f":"(INDEX('NLM Data Test 2'!$P$12:$P$136,(MATCH(NLML.ChangeInScores.PrePostDataset[[#This Row],[First Name & Last Name*\n(choose from list)]],'NLM Data Test 2'!$X$12:$X$136,0)),1))-(INDEX('NLM Data Test 1'!$O$12:$O$136,(MATCH(NLML.ChangeInScores.PrePostDataset[[#This Row],[First Name & Last Name*\n(choose from list)]],'NLM Data Test 1'!$W$12:$W$136,0)),1))","v":{"$error":"#N/A"}},{"$f":"(INDEX('NLM Data Test 2'!$Q$12:$Q$136,(MATCH(NLML.ChangeInScores.PrePostDataset[[#This Row],[First Name & Last Name*\n(choose from list)]],'NLM Data Test 2'!$X$12:$X$136,0)),1))-(INDEX('NLM Data Test 1'!$P$12:$P$136,(MATCH(NLML.ChangeInScores.PrePostDataset[[#This Row],[First Name & Last Name*\n(choose from list)]],'NLM Data Test 1'!$W$12:$W$136,0)),1))","v":{"$error":"#N/A"}},{"$f":"(INDEX('NLM Data Test 2'!$R$12:$R$136,(MATCH(NLML.ChangeInScores.PrePostDataset[[#This Row],[First Name & Last Name*\n(choose from list)]],'NLM Data Test 2'!$X$12:$X$136,0)),1))-(INDEX('NLM Data Test 1'!$Q$12:$Q$136,(MATCH(NLML.ChangeInScores.PrePostDataset[[#This Row],[First Name & Last Name*\n(choose from list)]],'NLM Data Test 1'!$W$12:$W$136,0)),1))","v":{"$error":"#N/A"}},{"$f":"(INDEX('NLM Data Test 2'!$S$12:$S$136,(MATCH(NLML.ChangeInScores.PrePostDataset[[#This Row],[First Name & Last Name*\n(choose from list)]],'NLM Data Test 2'!$X$12:$X$136,0)),1))-(INDEX('NLM Data Test 1'!$R$12:$R$136,(MATCH(NLML.ChangeInScores.PrePostDataset[[#This Row],[First Name & Last Name*\n(choose from list)]],'NLM Data Test 1'!$W$12:$W$136,0)),1))","v":{"$error":"#N/A"}},{"$f":"(INDEX('NLM Data Test 2'!$T$12:$T$136,(MATCH(NLML.ChangeInScores.PrePostDataset[[#This Row],[First Name & Last Name*\n(choose from list)]],'NLM Data Test 2'!$X$12:$X$136,0)),1))-(INDEX('NLM Data Test 1'!$S$12:$S$136,(MATCH(NLML.ChangeInScores.PrePostDataset[[#This Row],[First Name & Last Name*\n(choose from list)]],'NLM Data Test 1'!$W$12:$W$136,0)),1))","v":{"$error":"#N/A"}},{"$f":"IFERROR(INDEX('NLM Data Test 1'!$T$12:$T$136,(MATCH(NLML.ChangeInScores.PrePostDataset[[#This Row],[First Name & Last Name*\n(choose from list)]],'NLM Data Test 1'!$W$12:$W$136,0)),1),\"\")","v":""},{"$f":"IFERROR(INDEX('NLM Data Test 2'!$U$12:$U$136,(MATCH(NLML.ChangeInScores.PrePostDataset[[#This Row],[First Name & Last Name*\n(choose from list)]],'NLM Data Test 2'!$X$12:$X$136,0)),1),\"\")","v":""}]
[45,{"$f":"IFERROR(INDEX(NLML.Test1.PrePostDataset[*First Name],(MATCH(NLML.ChangeInScores.PrePostDataset[[#This Row],[First Name & Last Name*\n(choose from list)]],'NLM Data Test 1'!W56:W180,0)),1),\"\")","v":""},{"$f":"IFERROR(INDEX(NLML.Test1.PrePostDataset[*Last Name],(MATCH(NLML.ChangeInScores.PrePostDataset[[#This Row],[First Name & Last Name*\n(choose from list)]],'NLM Data Test 1'!W56:W180,0)),1),\"\")","v":""},{"$f":"'NLM Data Test 2'!D56","v":0},{"$f":"IF(IFERROR(MATCH($D60,'NLM Data Test 2'!$D$12:$D$136,0),\"Error\")=\"Error\",(INDEX('NLM Data Test 1'!$D$12:$D$136,(MATCH($D60,'NLM Data Test 1'!$W$12:$W$136,0)),1)),(INDEX('NLM Data Test 2'!$E$12:$E$136,(MATCH($D60,'NLM Data Test 2'!$D$12:$D$136,0)),1)))","v":{"$error":"#N/A"}},{"$f":"IF(IFERROR(MATCH($D60,'NLM Data Test 2'!$D$12:$D$136,0),\"Error\")=\"Error\",(INDEX('NLM Data Test 1'!$E$12:$E$136,(MATCH($D60,'NLM Data Test 1'!$W$12:$W$136,0)),1)),(INDEX('NLM Data Test 2'!$G$12:$G$136,(MATCH($D60,'NLM Data Test 2'!$D$12:$D$136,0)),1)))","v":{"$error":"#N/A"}},{"$f":"IF(IFERROR(MATCH($D60,'NLM Data Test 2'!$D$12:$D$136,0),\"Error\")=\"Error\",(INDEX('NLM Data Test 1'!$F$12:$F$136,(MATCH($D60,'NLM Data Test 1'!$W$12:$W$136,0)),1)),(INDEX('NLM Data Test 2'!$F$12:$F$136,(MATCH($D60,'NLM Data Test 2'!$D$12:$D$136,0)),1)))","v":{"$error":"#N/A"}},{"$f":"IF(INDEX('NLM Data Test 1'!$H$12:$H$136,(MATCH(NLML.ChangeInScores.PrePostDataset[[#This Row],[First Name & Last Name*\n(choose from list)]],'NLM Data Test 1'!$W$12:$W$136,0)),1)=\"\",\"\",(INDEX('NLM Data Test 1'!H$12:H$136,(MATCH(NLML.ChangeInScores.PrePostDataset[[#This Row],[First Name & Last Name*\n(choose from list)]],'NLM Data Test 1'!$W$12:$W$136,0)),1)))","v":{"$error":"#N/A"}},{"$f":"IF(INDEX('NLM Data Test 1'!$I$12:$I$136,(MATCH(NLML.ChangeInScores.PrePostDataset[[#This Row],[First Name & Last Name*\n(choose from list)]],'NLM Data Test 1'!$W$12:$W$136,0)),1)=\"\",\"\",(INDEX('NLM Data Test 1'!I$12:I$136,(MATCH(NLML.ChangeInScores.PrePostDataset[[#This Row],[First Name & Last Name*\n(choose from list)]],'NLM Data Test 1'!$W$12:$W$136,0)),1)))","v":{"$error":"#N/A"}},{"$f":"IF(INDEX('NLM Data Test 1'!$J$12:$J$136,(MATCH(NLML.ChangeInScores.PrePostDataset[[#This Row],[First Name & Last Name*\n(choose from list)]],'NLM Data Test 1'!$W$12:$W$136,0)),1)=\"\",\"\",(INDEX('NLM Data Test 1'!J$12:J$136,(MATCH(NLML.ChangeInScores.PrePostDataset[[#This Row],[First Name & Last Name*\n(choose from list)]],'NLM Data Test 1'!$W$12:$W$136,0)),1)))","v":{"$error":"#N/A"}},{"$f":"IFERROR(INDEX('NLM Data Test 1'!$M$12:$M$136,(MATCH(NLML.ChangeInScores.PrePostDataset[[#This Row],[First Name & Last Name*\n(choose from list)]],'NLM Data Test 1'!$W$12:$W$136,0)),1),\"\")","v":""},{"$f":"INDEX('NLM Data Test 2'!$I$12:$I$136,(MATCH(NLML.ChangeInScores.PrePostDataset[[#This Row],[First Name & Last Name*\n(choose from list)]],'NLM Data Test 2'!$D$12:$D$136,0)),1)","v":{"$error":"#N/A"}},{"$f":"IFERROR(INDEX('NLM Data Test 2'!$J$12:$J$136,(MATCH(NLML.ChangeInScores.PrePostDataset[[#This Row],[First Name & Last Name*\n(choose from list)]],'NLM Data Test 2'!$X$12:$X$136,0)),1),\"\")","v":""},{"$f":"IFERROR(INDEX('NLM Data Test 2'!$K$12:$K$136,(MATCH(NLML.ChangeInScores.PrePostDataset[[#This Row],[First Name & Last Name*\n(choose from list)]],'NLM Data Test 2'!$X$12:$X$136,0)),1),\"\")","v":""},{"$f":"IFERROR(INDEX('NLM Data Test 2'!$N$12:$N$136,(MATCH(NLML.ChangeInScores.PrePostDataset[[#This Row],[First Name & Last Name*\n(choose from list)]],'NLM Data Test 2'!$X$12:$X$136,0)),1),\"\")","v":""},{"$f":"(INDEX('NLM Data Test 2'!$O$12:$O$136,(MATCH(NLML.ChangeInScores.PrePostDataset[[#This Row],[First Name & Last Name*\n(choose from list)]],'NLM Data Test 2'!$X$12:$X$136,0)),1))-(INDEX('NLM Data Test 1'!$N$12:$N$136,(MATCH(NLML.ChangeInScores.PrePostDataset[[#This Row],[First Name & Last Name*\n(choose from list)]],'NLM Data Test 1'!$W$12:$W$136,0)),1))","v":{"$error":"#N/A"}},{"$f":"(INDEX('NLM Data Test 2'!$P$12:$P$136,(MATCH(NLML.ChangeInScores.PrePostDataset[[#This Row],[First Name & Last Name*\n(choose from list)]],'NLM Data Test 2'!$X$12:$X$136,0)),1))-(INDEX('NLM Data Test 1'!$O$12:$O$136,(MATCH(NLML.ChangeInScores.PrePostDataset[[#This Row],[First Name & Last Name*\n(choose from list)]],'NLM Data Test 1'!$W$12:$W$136,0)),1))","v":{"$error":"#N/A"}},{"$f":"(INDEX('NLM Data Test 2'!$Q$12:$Q$136,(MATCH(NLML.ChangeInScores.PrePostDataset[[#This Row],[First Name & Last Name*\n(choose from list)]],'NLM Data Test 2'!$X$12:$X$136,0)),1))-(INDEX('NLM Data Test 1'!$P$12:$P$136,(MATCH(NLML.ChangeInScores.PrePostDataset[[#This Row],[First Name & Last Name*\n(choose from list)]],'NLM Data Test 1'!$W$12:$W$136,0)),1))","v":{"$error":"#N/A"}},{"$f":"(INDEX('NLM Data Test 2'!$R$12:$R$136,(MATCH(NLML.ChangeInScores.PrePostDataset[[#This Row],[First Name & Last Name*\n(choose from list)]],'NLM Data Test 2'!$X$12:$X$136,0)),1))-(INDEX('NLM Data Test 1'!$Q$12:$Q$136,(MATCH(NLML.ChangeInScores.PrePostDataset[[#This Row],[First Name & Last Name*\n(choose from list)]],'NLM Data Test 1'!$W$12:$W$136,0)),1))","v":{"$error":"#N/A"}},{"$f":"(INDEX('NLM Data Test 2'!$S$12:$S$136,(MATCH(NLML.ChangeInScores.PrePostDataset[[#This Row],[First Name & Last Name*\n(choose from list)]],'NLM Data Test 2'!$X$12:$X$136,0)),1))-(INDEX('NLM Data Test 1'!$R$12:$R$136,(MATCH(NLML.ChangeInScores.PrePostDataset[[#This Row],[First Name & Last Name*\n(choose from list)]],'NLM Data Test 1'!$W$12:$W$136,0)),1))","v":{"$error":"#N/A"}},{"$f":"(INDEX('NLM Data Test 2'!$T$12:$T$136,(MATCH(NLML.ChangeInScores.PrePostDataset[[#This Row],[First Name & Last Name*\n(choose from list)]],'NLM Data Test 2'!$X$12:$X$136,0)),1))-(INDEX('NLM Data Test 1'!$S$12:$S$136,(MATCH(NLML.ChangeInScores.PrePostDataset[[#This Row],[First Name & Last Name*\n(choose from list)]],'NLM Data Test 1'!$W$12:$W$136,0)),1))","v":{"$error":"#N/A"}},{"$f":"IFERROR(INDEX('NLM Data Test 1'!$T$12:$T$136,(MATCH(NLML.ChangeInScores.PrePostDataset[[#This Row],[First Name & Last Name*\n(choose from list)]],'NLM Data Test 1'!$W$12:$W$136,0)),1),\"\")","v":""},{"$f":"IFERROR(INDEX('NLM Data Test 2'!$U$12:$U$136,(MATCH(NLML.ChangeInScores.PrePostDataset[[#This Row],[First Name & Last Name*\n(choose from list)]],'NLM Data Test 2'!$X$12:$X$136,0)),1),\"\")","v":""}]
[46,{"$f":"IFERROR(INDEX(NLML.Test1.PrePostDataset[*First Name],(MATCH(NLML.ChangeInScores.PrePostDataset[[#This Row],[First Name & Last Name*\n(choose from list)]],'NLM Data Test 1'!W57:W181,0)),1),\"\")","v":""},{"$f":"IFERROR(INDEX(NLML.Test1.PrePostDataset[*Last Name],(MATCH(NLML.ChangeInScores.PrePostDataset[[#This Row],[First Name & Last Name*\n(choose from list)]],'NLM Data Test 1'!W57:W181,0)),1),\"\")","v":""},{"$f":"'NLM Data Test 2'!D57","v":0},{"$f":"IF(IFERROR(MATCH($D61,'NLM Data Test 2'!$D$12:$D$136,0),\"Error\")=\"Error\",(INDEX('NLM Data Test 1'!$D$12:$D$136,(MATCH($D61,'NLM Data Test 1'!$W$12:$W$136,0)),1)),(INDEX('NLM Data Test 2'!$E$12:$E$136,(MATCH($D61,'NLM Data Test 2'!$D$12:$D$136,0)),1)))","v":{"$error":"#N/A"}},{"$f":"IF(IFERROR(MATCH($D61,'NLM Data Test 2'!$D$12:$D$136,0),\"Error\")=\"Error\",(INDEX('NLM Data Test 1'!$E$12:$E$136,(MATCH($D61,'NLM Data Test 1'!$W$12:$W$136,0)),1)),(INDEX('NLM Data Test 2'!$G$12:$G$136,(MATCH($D61,'NLM Data Test 2'!$D$12:$D$136,0)),1)))","v":{"$error":"#N/A"}},{"$f":"IF(IFERROR(MATCH($D61,'NLM Data Test 2'!$D$12:$D$136,0),\"Error\")=\"Error\",(INDEX('NLM Data Test 1'!$F$12:$F$136,(MATCH($D61,'NLM Data Test 1'!$W$12:$W$136,0)),1)),(INDEX('NLM Data Test 2'!$F$12:$F$136,(MATCH($D61,'NLM Data Test 2'!$D$12:$D$136,0)),1)))","v":{"$error":"#N/A"}},{"$f":"IF(INDEX('NLM Data Test 1'!$H$12:$H$136,(MATCH(NLML.ChangeInScores.PrePostDataset[[#This Row],[First Name & Last Name*\n(choose from list)]],'NLM Data Test 1'!$W$12:$W$136,0)),1)=\"\",\"\",(INDEX('NLM Data Test 1'!H$12:H$136,(MATCH(NLML.ChangeInScores.PrePostDataset[[#This Row],[First Name & Last Name*\n(choose from list)]],'NLM Data Test 1'!$W$12:$W$136,0)),1)))","v":{"$error":"#N/A"}},{"$f":"IF(INDEX('NLM Data Test 1'!$I$12:$I$136,(MATCH(NLML.ChangeInScores.PrePostDataset[[#This Row],[First Name & Last Name*\n(choose from list)]],'NLM Data Test 1'!$W$12:$W$136,0)),1)=\"\",\"\",(INDEX('NLM Data Test 1'!I$12:I$136,(MATCH(NLML.ChangeInScores.PrePostDataset[[#This Row],[First Name & Last Name*\n(choose from list)]],'NLM Data Test 1'!$W$12:$W$136,0)),1)))","v":{"$error":"#N/A"}},{"$f":"IF(INDEX('NLM Data Test 1'!$J$12:$J$136,(MATCH(NLML.ChangeInScores.PrePostDataset[[#This Row],[First Name & Last Name*\n(choose from list)]],'NLM Data Test 1'!$W$12:$W$136,0)),1)=\"\",\"\",(INDEX('NLM Data Test 1'!J$12:J$136,(MATCH(NLML.ChangeInScores.PrePostDataset[[#This Row],[First Name & Last Name*\n(choose from list)]],'NLM Data Test 1'!$W$12:$W$136,0)),1)))","v":{"$error":"#N/A"}},{"$f":"IFERROR(INDEX('NLM Data Test 1'!$M$12:$M$136,(MATCH(NLML.ChangeInScores.PrePostDataset[[#This Row],[First Name & Last Name*\n(choose from list)]],'NLM Data Test 1'!$W$12:$W$136,0)),1),\"\")","v":""},{"$f":"INDEX('NLM Data Test 2'!$I$12:$I$136,(MATCH(NLML.ChangeInScores.PrePostDataset[[#This Row],[First Name & Last Name*\n(choose from list)]],'NLM Data Test 2'!$D$12:$D$136,0)),1)","v":{"$error":"#N/A"}},{"$f":"IFERROR(INDEX('NLM Data Test 2'!$J$12:$J$136,(MATCH(NLML.ChangeInScores.PrePostDataset[[#This Row],[First Name & Last Name*\n(choose from list)]],'NLM Data Test 2'!$X$12:$X$136,0)),1),\"\")","v":""},{"$f":"IFERROR(INDEX('NLM Data Test 2'!$K$12:$K$136,(MATCH(NLML.ChangeInScores.PrePostDataset[[#This Row],[First Name & Last Name*\n(choose from list)]],'NLM Data Test 2'!$X$12:$X$136,0)),1),\"\")","v":""},{"$f":"IFERROR(INDEX('NLM Data Test 2'!$N$12:$N$136,(MATCH(NLML.ChangeInScores.PrePostDataset[[#This Row],[First Name & Last Name*\n(choose from list)]],'NLM Data Test 2'!$X$12:$X$136,0)),1),\"\")","v":""},{"$f":"(INDEX('NLM Data Test 2'!$O$12:$O$136,(MATCH(NLML.ChangeInScores.PrePostDataset[[#This Row],[First Name & Last Name*\n(choose from list)]],'NLM Data Test 2'!$X$12:$X$136,0)),1))-(INDEX('NLM Data Test 1'!$N$12:$N$136,(MATCH(NLML.ChangeInScores.PrePostDataset[[#This Row],[First Name & Last Name*\n(choose from list)]],'NLM Data Test 1'!$W$12:$W$136,0)),1))","v":{"$error":"#N/A"}},{"$f":"(INDEX('NLM Data Test 2'!$P$12:$P$136,(MATCH(NLML.ChangeInScores.PrePostDataset[[#This Row],[First Name & Last Name*\n(choose from list)]],'NLM Data Test 2'!$X$12:$X$136,0)),1))-(INDEX('NLM Data Test 1'!$O$12:$O$136,(MATCH(NLML.ChangeInScores.PrePostDataset[[#This Row],[First Name & Last Name*\n(choose from list)]],'NLM Data Test 1'!$W$12:$W$136,0)),1))","v":{"$error":"#N/A"}},{"$f":"(INDEX('NLM Data Test 2'!$Q$12:$Q$136,(MATCH(NLML.ChangeInScores.PrePostDataset[[#This Row],[First Name & Last Name*\n(choose from list)]],'NLM Data Test 2'!$X$12:$X$136,0)),1))-(INDEX('NLM Data Test 1'!$P$12:$P$136,(MATCH(NLML.ChangeInScores.PrePostDataset[[#This Row],[First Name & Last Name*\n(choose from list)]],'NLM Data Test 1'!$W$12:$W$136,0)),1))","v":{"$error":"#N/A"}},{"$f":"(INDEX('NLM Data Test 2'!$R$12:$R$136,(MATCH(NLML.ChangeInScores.PrePostDataset[[#This Row],[First Name & Last Name*\n(choose from list)]],'NLM Data Test 2'!$X$12:$X$136,0)),1))-(INDEX('NLM Data Test 1'!$Q$12:$Q$136,(MATCH(NLML.ChangeInScores.PrePostDataset[[#This Row],[First Name & Last Name*\n(choose from list)]],'NLM Data Test 1'!$W$12:$W$136,0)),1))","v":{"$error":"#N/A"}},{"$f":"(INDEX('NLM Data Test 2'!$S$12:$S$136,(MATCH(NLML.ChangeInScores.PrePostDataset[[#This Row],[First Name & Last Name*\n(choose from list)]],'NLM Data Test 2'!$X$12:$X$136,0)),1))-(INDEX('NLM Data Test 1'!$R$12:$R$136,(MATCH(NLML.ChangeInScores.PrePostDataset[[#This Row],[First Name & Last Name*\n(choose from list)]],'NLM Data Test 1'!$W$12:$W$136,0)),1))","v":{"$error":"#N/A"}},{"$f":"(INDEX('NLM Data Test 2'!$T$12:$T$136,(MATCH(NLML.ChangeInScores.PrePostDataset[[#This Row],[First Name & Last Name*\n(choose from list)]],'NLM Data Test 2'!$X$12:$X$136,0)),1))-(INDEX('NLM Data Test 1'!$S$12:$S$136,(MATCH(NLML.ChangeInScores.PrePostDataset[[#This Row],[First Name & Last Name*\n(choose from list)]],'NLM Data Test 1'!$W$12:$W$136,0)),1))","v":{"$error":"#N/A"}},{"$f":"IFERROR(INDEX('NLM Data Test 1'!$T$12:$T$136,(MATCH(NLML.ChangeInScores.PrePostDataset[[#This Row],[First Name & Last Name*\n(choose from list)]],'NLM Data Test 1'!$W$12:$W$136,0)),1),\"\")","v":""},{"$f":"IFERROR(INDEX('NLM Data Test 2'!$U$12:$U$136,(MATCH(NLML.ChangeInScores.PrePostDataset[[#This Row],[First Name & Last Name*\n(choose from list)]],'NLM Data Test 2'!$X$12:$X$136,0)),1),\"\")","v":""}]
[47,{"$f":"IFERROR(INDEX(NLML.Test1.PrePostDataset[*First Name],(MATCH(NLML.ChangeInScores.PrePostDataset[[#This Row],[First Name & Last Name*\n(choose from list)]],'NLM Data Test 1'!W58:W182,0)),1),\"\")","v":""},{"$f":"IFERROR(INDEX(NLML.Test1.PrePostDataset[*Last Name],(MATCH(NLML.ChangeInScores.PrePostDataset[[#This Row],[First Name & Last Name*\n(choose from list)]],'NLM Data Test 1'!W58:W182,0)),1),\"\")","v":""},{"$f":"'NLM Data Test 2'!D58","v":0},{"$f":"IF(IFERROR(MATCH($D62,'NLM Data Test 2'!$D$12:$D$136,0),\"Error\")=\"Error\",(INDEX('NLM Data Test 1'!$D$12:$D$136,(MATCH($D62,'NLM Data Test 1'!$W$12:$W$136,0)),1)),(INDEX('NLM Data Test 2'!$E$12:$E$136,(MATCH($D62,'NLM Data Test 2'!$D$12:$D$136,0)),1)))","v":{"$error":"#N/A"}},{"$f":"IF(IFERROR(MATCH($D62,'NLM Data Test 2'!$D$12:$D$136,0),\"Error\")=\"Error\",(INDEX('NLM Data Test 1'!$E$12:$E$136,(MATCH($D62,'NLM Data Test 1'!$W$12:$W$136,0)),1)),(INDEX('NLM Data Test 2'!$G$12:$G$136,(MATCH($D62,'NLM Data Test 2'!$D$12:$D$136,0)),1)))","v":{"$error":"#N/A"}},{"$f":"IF(IFERROR(MATCH($D62,'NLM Data Test 2'!$D$12:$D$136,0),\"Error\")=\"Error\",(INDEX('NLM Data Test 1'!$F$12:$F$136,(MATCH($D62,'NLM Data Test 1'!$W$12:$W$136,0)),1)),(INDEX('NLM Data Test 2'!$F$12:$F$136,(MATCH($D62,'NLM Data Test 2'!$D$12:$D$136,0)),1)))","v":{"$error":"#N/A"}},{"$f":"IF(INDEX('NLM Data Test 1'!$H$12:$H$136,(MATCH(NLML.ChangeInScores.PrePostDataset[[#This Row],[First Name & Last Name*\n(choose from list)]],'NLM Data Test 1'!$W$12:$W$136,0)),1)=\"\",\"\",(INDEX('NLM Data Test 1'!H$12:H$136,(MATCH(NLML.ChangeInScores.PrePostDataset[[#This Row],[First Name & Last Name*\n(choose from list)]],'NLM Data Test 1'!$W$12:$W$136,0)),1)))","v":{"$error":"#N/A"}},{"$f":"IF(INDEX('NLM Data Test 1'!$I$12:$I$136,(MATCH(NLML.ChangeInScores.PrePostDataset[[#This Row],[First Name & Last Name*\n(choose from list)]],'NLM Data Test 1'!$W$12:$W$136,0)),1)=\"\",\"\",(INDEX('NLM Data Test 1'!I$12:I$136,(MATCH(NLML.ChangeInScores.PrePostDataset[[#This Row],[First Name & Last Name*\n(choose from list)]],'NLM Data Test 1'!$W$12:$W$136,0)),1)))","v":{"$error":"#N/A"}},{"$f":"IF(INDEX('NLM Data Test 1'!$J$12:$J$136,(MATCH(NLML.ChangeInScores.PrePostDataset[[#This Row],[First Name & Last Name*\n(choose from list)]],'NLM Data Test 1'!$W$12:$W$136,0)),1)=\"\",\"\",(INDEX('NLM Data Test 1'!J$12:J$136,(MATCH(NLML.ChangeInScores.PrePostDataset[[#This Row],[First Name & Last Name*\n(choose from list)]],'NLM Data Test 1'!$W$12:$W$136,0)),1)))","v":{"$error":"#N/A"}},{"$f":"IFERROR(INDEX('NLM Data Test 1'!$M$12:$M$136,(MATCH(NLML.ChangeInScores.PrePostDataset[[#This Row],[First Name & Last Name*\n(choose from list)]],'NLM Data Test 1'!$W$12:$W$136,0)),1),\"\")","v":""},{"$f":"INDEX('NLM Data Test 2'!$I$12:$I$136,(MATCH(NLML.ChangeInScores.PrePostDataset[[#This Row],[First Name & Last Name*\n(choose from list)]],'NLM Data Test 2'!$D$12:$D$136,0)),1)","v":{"$error":"#N/A"}},{"$f":"IFERROR(INDEX('NLM Data Test 2'!$J$12:$J$136,(MATCH(NLML.ChangeInScores.PrePostDataset[[#This Row],[First Name & Last Name*\n(choose from list)]],'NLM Data Test 2'!$X$12:$X$136,0)),1),\"\")","v":""},{"$f":"IFERROR(INDEX('NLM Data Test 2'!$K$12:$K$136,(MATCH(NLML.ChangeInScores.PrePostDataset[[#This Row],[First Name & Last Name*\n(choose from list)]],'NLM Data Test 2'!$X$12:$X$136,0)),1),\"\")","v":""},{"$f":"IFERROR(INDEX('NLM Data Test 2'!$N$12:$N$136,(MATCH(NLML.ChangeInScores.PrePostDataset[[#This Row],[First Name & Last Name*\n(choose from list)]],'NLM Data Test 2'!$X$12:$X$136,0)),1),\"\")","v":""},{"$f":"(INDEX('NLM Data Test 2'!$O$12:$O$136,(MATCH(NLML.ChangeInScores.PrePostDataset[[#This Row],[First Name & Last Name*\n(choose from list)]],'NLM Data Test 2'!$X$12:$X$136,0)),1))-(INDEX('NLM Data Test 1'!$N$12:$N$136,(MATCH(NLML.ChangeInScores.PrePostDataset[[#This Row],[First Name & Last Name*\n(choose from list)]],'NLM Data Test 1'!$W$12:$W$136,0)),1))","v":{"$error":"#N/A"}},{"$f":"(INDEX('NLM Data Test 2'!$P$12:$P$136,(MATCH(NLML.ChangeInScores.PrePostDataset[[#This Row],[First Name & Last Name*\n(choose from list)]],'NLM Data Test 2'!$X$12:$X$136,0)),1))-(INDEX('NLM Data Test 1'!$O$12:$O$136,(MATCH(NLML.ChangeInScores.PrePostDataset[[#This Row],[First Name & Last Name*\n(choose from list)]],'NLM Data Test 1'!$W$12:$W$136,0)),1))","v":{"$error":"#N/A"}},{"$f":"(INDEX('NLM Data Test 2'!$Q$12:$Q$136,(MATCH(NLML.ChangeInScores.PrePostDataset[[#This Row],[First Name & Last Name*\n(choose from list)]],'NLM Data Test 2'!$X$12:$X$136,0)),1))-(INDEX('NLM Data Test 1'!$P$12:$P$136,(MATCH(NLML.ChangeInScores.PrePostDataset[[#This Row],[First Name & Last Name*\n(choose from list)]],'NLM Data Test 1'!$W$12:$W$136,0)),1))","v":{"$error":"#N/A"}},{"$f":"(INDEX('NLM Data Test 2'!$R$12:$R$136,(MATCH(NLML.ChangeInScores.PrePostDataset[[#This Row],[First Name & Last Name*\n(choose from list)]],'NLM Data Test 2'!$X$12:$X$136,0)),1))-(INDEX('NLM Data Test 1'!$Q$12:$Q$136,(MATCH(NLML.ChangeInScores.PrePostDataset[[#This Row],[First Name & Last Name*\n(choose from list)]],'NLM Data Test 1'!$W$12:$W$136,0)),1))","v":{"$error":"#N/A"}},{"$f":"(INDEX('NLM Data Test 2'!$S$12:$S$136,(MATCH(NLML.ChangeInScores.PrePostDataset[[#This Row],[First Name & Last Name*\n(choose from list)]],'NLM Data Test 2'!$X$12:$X$136,0)),1))-(INDEX('NLM Data Test 1'!$R$12:$R$136,(MATCH(NLML.ChangeInScores.PrePostDataset[[#This Row],[First Name & Last Name*\n(choose from list)]],'NLM Data Test 1'!$W$12:$W$136,0)),1))","v":{"$error":"#N/A"}},{"$f":"(INDEX('NLM Data Test 2'!$T$12:$T$136,(MATCH(NLML.ChangeInScores.PrePostDataset[[#This Row],[First Name & Last Name*\n(choose from list)]],'NLM Data Test 2'!$X$12:$X$136,0)),1))-(INDEX('NLM Data Test 1'!$S$12:$S$136,(MATCH(NLML.ChangeInScores.PrePostDataset[[#This Row],[First Name & Last Name*\n(choose from list)]],'NLM Data Test 1'!$W$12:$W$136,0)),1))","v":{"$error":"#N/A"}},{"$f":"IFERROR(INDEX('NLM Data Test 1'!$T$12:$T$136,(MATCH(NLML.ChangeInScores.PrePostDataset[[#This Row],[First Name & Last Name*\n(choose from list)]],'NLM Data Test 1'!$W$12:$W$136,0)),1),\"\")","v":""},{"$f":"IFERROR(INDEX('NLM Data Test 2'!$U$12:$U$136,(MATCH(NLML.ChangeInScores.PrePostDataset[[#This Row],[First Name & Last Name*\n(choose from list)]],'NLM Data Test 2'!$X$12:$X$136,0)),1),\"\")","v":""}]
[48,{"$f":"IFERROR(INDEX(NLML.Test1.PrePostDataset[*First Name],(MATCH(NLML.ChangeInScores.PrePostDataset[[#This Row],[First Name & Last Name*\n(choose from list)]],'NLM Data Test 1'!W59:W183,0)),1),\"\")","v":""},{"$f":"IFERROR(INDEX(NLML.Test1.PrePostDataset[*Last Name],(MATCH(NLML.ChangeInScores.PrePostDataset[[#This Row],[First Name & Last Name*\n(choose from list)]],'NLM Data Test 1'!W59:W183,0)),1),\"\")","v":""},{"$f":"'NLM Data Test 2'!D59","v":0},{"$f":"IF(IFERROR(MATCH($D63,'NLM Data Test 2'!$D$12:$D$136,0),\"Error\")=\"Error\",(INDEX('NLM Data Test 1'!$D$12:$D$136,(MATCH($D63,'NLM Data Test 1'!$W$12:$W$136,0)),1)),(INDEX('NLM Data Test 2'!$E$12:$E$136,(MATCH($D63,'NLM Data Test 2'!$D$12:$D$136,0)),1)))","v":{"$error":"#N/A"}},{"$f":"IF(IFERROR(MATCH($D63,'NLM Data Test 2'!$D$12:$D$136,0),\"Error\")=\"Error\",(INDEX('NLM Data Test 1'!$E$12:$E$136,(MATCH($D63,'NLM Data Test 1'!$W$12:$W$136,0)),1)),(INDEX('NLM Data Test 2'!$G$12:$G$136,(MATCH($D63,'NLM Data Test 2'!$D$12:$D$136,0)),1)))","v":{"$error":"#N/A"}},{"$f":"IF(IFERROR(MATCH($D63,'NLM Data Test 2'!$D$12:$D$136,0),\"Error\")=\"Error\",(INDEX('NLM Data Test 1'!$F$12:$F$136,(MATCH($D63,'NLM Data Test 1'!$W$12:$W$136,0)),1)),(INDEX('NLM Data Test 2'!$F$12:$F$136,(MATCH($D63,'NLM Data Test 2'!$D$12:$D$136,0)),1)))","v":{"$error":"#N/A"}},{"$f":"IF(INDEX('NLM Data Test 1'!$H$12:$H$136,(MATCH(NLML.ChangeInScores.PrePostDataset[[#This Row],[First Name & Last Name*\n(choose from list)]],'NLM Data Test 1'!$W$12:$W$136,0)),1)=\"\",\"\",(INDEX('NLM Data Test 1'!H$12:H$136,(MATCH(NLML.ChangeInScores.PrePostDataset[[#This Row],[First Name & Last Name*\n(choose from list)]],'NLM Data Test 1'!$W$12:$W$136,0)),1)))","v":{"$error":"#N/A"}},{"$f":"IF(INDEX('NLM Data Test 1'!$I$12:$I$136,(MATCH(NLML.ChangeInScores.PrePostDataset[[#This Row],[First Name & Last Name*\n(choose from list)]],'NLM Data Test 1'!$W$12:$W$136,0)),1)=\"\",\"\",(INDEX('NLM Data Test 1'!I$12:I$136,(MATCH(NLML.ChangeInScores.PrePostDataset[[#This Row],[First Name & Last Name*\n(choose from list)]],'NLM Data Test 1'!$W$12:$W$136,0)),1)))","v":{"$error":"#N/A"}},{"$f":"IF(INDEX('NLM Data Test 1'!$J$12:$J$136,(MATCH(NLML.ChangeInScores.PrePostDataset[[#This Row],[First Name & Last Name*\n(choose from list)]],'NLM Data Test 1'!$W$12:$W$136,0)),1)=\"\",\"\",(INDEX('NLM Data Test 1'!J$12:J$136,(MATCH(NLML.ChangeInScores.PrePostDataset[[#This Row],[First Name & Last Name*\n(choose from list)]],'NLM Data Test 1'!$W$12:$W$136,0)),1)))","v":{"$error":"#N/A"}},{"$f":"IFERROR(INDEX('NLM Data Test 1'!$M$12:$M$136,(MATCH(NLML.ChangeInScores.PrePostDataset[[#This Row],[First Name & Last Name*\n(choose from list)]],'NLM Data Test 1'!$W$12:$W$136,0)),1),\"\")","v":""},{"$f":"INDEX('NLM Data Test 2'!$I$12:$I$136,(MATCH(NLML.ChangeInScores.PrePostDataset[[#This Row],[First Name & Last Name*\n(choose from list)]],'NLM Data Test 2'!$D$12:$D$136,0)),1)","v":{"$error":"#N/A"}},{"$f":"IFERROR(INDEX('NLM Data Test 2'!$J$12:$J$136,(MATCH(NLML.ChangeInScores.PrePostDataset[[#This Row],[First Name & Last Name*\n(choose from list)]],'NLM Data Test 2'!$X$12:$X$136,0)),1),\"\")","v":""},{"$f":"IFERROR(INDEX('NLM Data Test 2'!$K$12:$K$136,(MATCH(NLML.ChangeInScores.PrePostDataset[[#This Row],[First Name & Last Name*\n(choose from list)]],'NLM Data Test 2'!$X$12:$X$136,0)),1),\"\")","v":""},{"$f":"IFERROR(INDEX('NLM Data Test 2'!$N$12:$N$136,(MATCH(NLML.ChangeInScores.PrePostDataset[[#This Row],[First Name & Last Name*\n(choose from list)]],'NLM Data Test 2'!$X$12:$X$136,0)),1),\"\")","v":""},{"$f":"(INDEX('NLM Data Test 2'!$O$12:$O$136,(MATCH(NLML.ChangeInScores.PrePostDataset[[#This Row],[First Name & Last Name*\n(choose from list)]],'NLM Data Test 2'!$X$12:$X$136,0)),1))-(INDEX('NLM Data Test 1'!$N$12:$N$136,(MATCH(NLML.ChangeInScores.PrePostDataset[[#This Row],[First Name & Last Name*\n(choose from list)]],'NLM Data Test 1'!$W$12:$W$136,0)),1))","v":{"$error":"#N/A"}},{"$f":"(INDEX('NLM Data Test 2'!$P$12:$P$136,(MATCH(NLML.ChangeInScores.PrePostDataset[[#This Row],[First Name & Last Name*\n(choose from list)]],'NLM Data Test 2'!$X$12:$X$136,0)),1))-(INDEX('NLM Data Test 1'!$O$12:$O$136,(MATCH(NLML.ChangeInScores.PrePostDataset[[#This Row],[First Name & Last Name*\n(choose from list)]],'NLM Data Test 1'!$W$12:$W$136,0)),1))","v":{"$error":"#N/A"}},{"$f":"(INDEX('NLM Data Test 2'!$Q$12:$Q$136,(MATCH(NLML.ChangeInScores.PrePostDataset[[#This Row],[First Name & Last Name*\n(choose from list)]],'NLM Data Test 2'!$X$12:$X$136,0)),1))-(INDEX('NLM Data Test 1'!$P$12:$P$136,(MATCH(NLML.ChangeInScores.PrePostDataset[[#This Row],[First Name & Last Name*\n(choose from list)]],'NLM Data Test 1'!$W$12:$W$136,0)),1))","v":{"$error":"#N/A"}},{"$f":"(INDEX('NLM Data Test 2'!$R$12:$R$136,(MATCH(NLML.ChangeInScores.PrePostDataset[[#This Row],[First Name & Last Name*\n(choose from list)]],'NLM Data Test 2'!$X$12:$X$136,0)),1))-(INDEX('NLM Data Test 1'!$Q$12:$Q$136,(MATCH(NLML.ChangeInScores.PrePostDataset[[#This Row],[First Name & Last Name*\n(choose from list)]],'NLM Data Test 1'!$W$12:$W$136,0)),1))","v":{"$error":"#N/A"}},{"$f":"(INDEX('NLM Data Test 2'!$S$12:$S$136,(MATCH(NLML.ChangeInScores.PrePostDataset[[#This Row],[First Name & Last Name*\n(choose from list)]],'NLM Data Test 2'!$X$12:$X$136,0)),1))-(INDEX('NLM Data Test 1'!$R$12:$R$136,(MATCH(NLML.ChangeInScores.PrePostDataset[[#This Row],[First Name & Last Name*\n(choose from list)]],'NLM Data Test 1'!$W$12:$W$136,0)),1))","v":{"$error":"#N/A"}},{"$f":"(INDEX('NLM Data Test 2'!$T$12:$T$136,(MATCH(NLML.ChangeInScores.PrePostDataset[[#This Row],[First Name & Last Name*\n(choose from list)]],'NLM Data Test 2'!$X$12:$X$136,0)),1))-(INDEX('NLM Data Test 1'!$S$12:$S$136,(MATCH(NLML.ChangeInScores.PrePostDataset[[#This Row],[First Name & Last Name*\n(choose from list)]],'NLM Data Test 1'!$W$12:$W$136,0)),1))","v":{"$error":"#N/A"}},{"$f":"IFERROR(INDEX('NLM Data Test 1'!$T$12:$T$136,(MATCH(NLML.ChangeInScores.PrePostDataset[[#This Row],[First Name & Last Name*\n(choose from list)]],'NLM Data Test 1'!$W$12:$W$136,0)),1),\"\")","v":""},{"$f":"IFERROR(INDEX('NLM Data Test 2'!$U$12:$U$136,(MATCH(NLML.ChangeInScores.PrePostDataset[[#This Row],[First Name & Last Name*\n(choose from list)]],'NLM Data Test 2'!$X$12:$X$136,0)),1),\"\")","v":""}]
[49,{"$f":"IFERROR(INDEX(NLML.Test1.PrePostDataset[*First Name],(MATCH(NLML.ChangeInScores.PrePostDataset[[#This Row],[First Name & Last Name*\n(choose from list)]],'NLM Data Test 1'!W60:W184,0)),1),\"\")","v":""},{"$f":"IFERROR(INDEX(NLML.Test1.PrePostDataset[*Last Name],(MATCH(NLML.ChangeInScores.PrePostDataset[[#This Row],[First Name & Last Name*\n(choose from list)]],'NLM Data Test 1'!W60:W184,0)),1),\"\")","v":""},{"$f":"'NLM Data Test 2'!D60","v":0},{"$f":"IF(IFERROR(MATCH($D64,'NLM Data Test 2'!$D$12:$D$136,0),\"Error\")=\"Error\",(INDEX('NLM Data Test 1'!$D$12:$D$136,(MATCH($D64,'NLM Data Test 1'!$W$12:$W$136,0)),1)),(INDEX('NLM Data Test 2'!$E$12:$E$136,(MATCH($D64,'NLM Data Test 2'!$D$12:$D$136,0)),1)))","v":{"$error":"#N/A"}},{"$f":"IF(IFERROR(MATCH($D64,'NLM Data Test 2'!$D$12:$D$136,0),\"Error\")=\"Error\",(INDEX('NLM Data Test 1'!$E$12:$E$136,(MATCH($D64,'NLM Data Test 1'!$W$12:$W$136,0)),1)),(INDEX('NLM Data Test 2'!$G$12:$G$136,(MATCH($D64,'NLM Data Test 2'!$D$12:$D$136,0)),1)))","v":{"$error":"#N/A"}},{"$f":"IF(IFERROR(MATCH($D64,'NLM Data Test 2'!$D$12:$D$136,0),\"Error\")=\"Error\",(INDEX('NLM Data Test 1'!$F$12:$F$136,(MATCH($D64,'NLM Data Test 1'!$W$12:$W$136,0)),1)),(INDEX('NLM Data Test 2'!$F$12:$F$136,(MATCH($D64,'NLM Data Test 2'!$D$12:$D$136,0)),1)))","v":{"$error":"#N/A"}},{"$f":"IF(INDEX('NLM Data Test 1'!$H$12:$H$136,(MATCH(NLML.ChangeInScores.PrePostDataset[[#This Row],[First Name & Last Name*\n(choose from list)]],'NLM Data Test 1'!$W$12:$W$136,0)),1)=\"\",\"\",(INDEX('NLM Data Test 1'!H$12:H$136,(MATCH(NLML.ChangeInScores.PrePostDataset[[#This Row],[First Name & Last Name*\n(choose from list)]],'NLM Data Test 1'!$W$12:$W$136,0)),1)))","v":{"$error":"#N/A"}},{"$f":"IF(INDEX('NLM Data Test 1'!$I$12:$I$136,(MATCH(NLML.ChangeInScores.PrePostDataset[[#This Row],[First Name & Last Name*\n(choose from list)]],'NLM Data Test 1'!$W$12:$W$136,0)),1)=\"\",\"\",(INDEX('NLM Data Test 1'!I$12:I$136,(MATCH(NLML.ChangeInScores.PrePostDataset[[#This Row],[First Name & Last Name*\n(choose from list)]],'NLM Data Test 1'!$W$12:$W$136,0)),1)))","v":{"$error":"#N/A"}},{"$f":"IF(INDEX('NLM Data Test 1'!$J$12:$J$136,(MATCH(NLML.ChangeInScores.PrePostDataset[[#This Row],[First Name & Last Name*\n(choose from list)]],'NLM Data Test 1'!$W$12:$W$136,0)),1)=\"\",\"\",(INDEX('NLM Data Test 1'!J$12:J$136,(MATCH(NLML.ChangeInScores.PrePostDataset[[#This Row],[First Name & Last Name*\n(choose from list)]],'NLM Data Test 1'!$W$12:$W$136,0)),1)))","v":{"$error":"#N/A"}},{"$f":"IFERROR(INDEX('NLM Data Test 1'!$M$12:$M$136,(MATCH(NLML.ChangeInScores.PrePostDataset[[#This Row],[First Name & Last Name*\n(choose from list)]],'NLM Data Test 1'!$W$12:$W$136,0)),1),\"\")","v":""},{"$f":"INDEX('NLM Data Test 2'!$I$12:$I$136,(MATCH(NLML.ChangeInScores.PrePostDataset[[#This Row],[First Name & Last Name*\n(choose from list)]],'NLM Data Test 2'!$D$12:$D$136,0)),1)","v":{"$error":"#N/A"}},{"$f":"IFERROR(INDEX('NLM Data Test 2'!$J$12:$J$136,(MATCH(NLML.ChangeInScores.PrePostDataset[[#This Row],[First Name & Last Name*\n(choose from list)]],'NLM Data Test 2'!$X$12:$X$136,0)),1),\"\")","v":""},{"$f":"IFERROR(INDEX('NLM Data Test 2'!$K$12:$K$136,(MATCH(NLML.ChangeInScores.PrePostDataset[[#This Row],[First Name & Last Name*\n(choose from list)]],'NLM Data Test 2'!$X$12:$X$136,0)),1),\"\")","v":""},{"$f":"IFERROR(INDEX('NLM Data Test 2'!$N$12:$N$136,(MATCH(NLML.ChangeInScores.PrePostDataset[[#This Row],[First Name & Last Name*\n(choose from list)]],'NLM Data Test 2'!$X$12:$X$136,0)),1),\"\")","v":""},{"$f":"(INDEX('NLM Data Test 2'!$O$12:$O$136,(MATCH(NLML.ChangeInScores.PrePostDataset[[#This Row],[First Name & Last Name*\n(choose from list)]],'NLM Data Test 2'!$X$12:$X$136,0)),1))-(INDEX('NLM Data Test 1'!$N$12:$N$136,(MATCH(NLML.ChangeInScores.PrePostDataset[[#This Row],[First Name & Last Name*\n(choose from list)]],'NLM Data Test 1'!$W$12:$W$136,0)),1))","v":{"$error":"#N/A"}},{"$f":"(INDEX('NLM Data Test 2'!$P$12:$P$136,(MATCH(NLML.ChangeInScores.PrePostDataset[[#This Row],[First Name & Last Name*\n(choose from list)]],'NLM Data Test 2'!$X$12:$X$136,0)),1))-(INDEX('NLM Data Test 1'!$O$12:$O$136,(MATCH(NLML.ChangeInScores.PrePostDataset[[#This Row],[First Name & Last Name*\n(choose from list)]],'NLM Data Test 1'!$W$12:$W$136,0)),1))","v":{"$error":"#N/A"}},{"$f":"(INDEX('NLM Data Test 2'!$Q$12:$Q$136,(MATCH(NLML.ChangeInScores.PrePostDataset[[#This Row],[First Name & Last Name*\n(choose from list)]],'NLM Data Test 2'!$X$12:$X$136,0)),1))-(INDEX('NLM Data Test 1'!$P$12:$P$136,(MATCH(NLML.ChangeInScores.PrePostDataset[[#This Row],[First Name & Last Name*\n(choose from list)]],'NLM Data Test 1'!$W$12:$W$136,0)),1))","v":{"$error":"#N/A"}},{"$f":"(INDEX('NLM Data Test 2'!$R$12:$R$136,(MATCH(NLML.ChangeInScores.PrePostDataset[[#This Row],[First Name & Last Name*\n(choose from list)]],'NLM Data Test 2'!$X$12:$X$136,0)),1))-(INDEX('NLM Data Test 1'!$Q$12:$Q$136,(MATCH(NLML.ChangeInScores.PrePostDataset[[#This Row],[First Name & Last Name*\n(choose from list)]],'NLM Data Test 1'!$W$12:$W$136,0)),1))","v":{"$error":"#N/A"}},{"$f":"(INDEX('NLM Data Test 2'!$S$12:$S$136,(MATCH(NLML.ChangeInScores.PrePostDataset[[#This Row],[First Name & Last Name*\n(choose from list)]],'NLM Data Test 2'!$X$12:$X$136,0)),1))-(INDEX('NLM Data Test 1'!$R$12:$R$136,(MATCH(NLML.ChangeInScores.PrePostDataset[[#This Row],[First Name & Last Name*\n(choose from list)]],'NLM Data Test 1'!$W$12:$W$136,0)),1))","v":{"$error":"#N/A"}},{"$f":"(INDEX('NLM Data Test 2'!$T$12:$T$136,(MATCH(NLML.ChangeInScores.PrePostDataset[[#This Row],[First Name & Last Name*\n(choose from list)]],'NLM Data Test 2'!$X$12:$X$136,0)),1))-(INDEX('NLM Data Test 1'!$S$12:$S$136,(MATCH(NLML.ChangeInScores.PrePostDataset[[#This Row],[First Name & Last Name*\n(choose from list)]],'NLM Data Test 1'!$W$12:$W$136,0)),1))","v":{"$error":"#N/A"}},{"$f":"IFERROR(INDEX('NLM Data Test 1'!$T$12:$T$136,(MATCH(NLML.ChangeInScores.PrePostDataset[[#This Row],[First Name & Last Name*\n(choose from list)]],'NLM Data Test 1'!$W$12:$W$136,0)),1),\"\")","v":""},{"$f":"IFERROR(INDEX('NLM Data Test 2'!$U$12:$U$136,(MATCH(NLML.ChangeInScores.PrePostDataset[[#This Row],[First Name & Last Name*\n(choose from list)]],'NLM Data Test 2'!$X$12:$X$136,0)),1),\"\")","v":""}]
[50,{"$f":"IFERROR(INDEX(NLML.Test1.PrePostDataset[*First Name],(MATCH(NLML.ChangeInScores.PrePostDataset[[#This Row],[First Name & Last Name*\n(choose from list)]],'NLM Data Test 1'!W61:W185,0)),1),\"\")","v":""},{"$f":"IFERROR(INDEX(NLML.Test1.PrePostDataset[*Last Name],(MATCH(NLML.ChangeInScores.PrePostDataset[[#This Row],[First Name & Last Name*\n(choose from list)]],'NLM Data Test 1'!W61:W185,0)),1),\"\")","v":""},{"$f":"'NLM Data Test 2'!D61","v":0},{"$f":"IF(IFERROR(MATCH($D65,'NLM Data Test 2'!$D$12:$D$136,0),\"Error\")=\"Error\",(INDEX('NLM Data Test 1'!$D$12:$D$136,(MATCH($D65,'NLM Data Test 1'!$W$12:$W$136,0)),1)),(INDEX('NLM Data Test 2'!$E$12:$E$136,(MATCH($D65,'NLM Data Test 2'!$D$12:$D$136,0)),1)))","v":{"$error":"#N/A"}},{"$f":"IF(IFERROR(MATCH($D65,'NLM Data Test 2'!$D$12:$D$136,0),\"Error\")=\"Error\",(INDEX('NLM Data Test 1'!$E$12:$E$136,(MATCH($D65,'NLM Data Test 1'!$W$12:$W$136,0)),1)),(INDEX('NLM Data Test 2'!$G$12:$G$136,(MATCH($D65,'NLM Data Test 2'!$D$12:$D$136,0)),1)))","v":{"$error":"#N/A"}},{"$f":"IF(IFERROR(MATCH($D65,'NLM Data Test 2'!$D$12:$D$136,0),\"Error\")=\"Error\",(INDEX('NLM Data Test 1'!$F$12:$F$136,(MATCH($D65,'NLM Data Test 1'!$W$12:$W$136,0)),1)),(INDEX('NLM Data Test 2'!$F$12:$F$136,(MATCH($D65,'NLM Data Test 2'!$D$12:$D$136,0)),1)))","v":{"$error":"#N/A"}},{"$f":"IF(INDEX('NLM Data Test 1'!$H$12:$H$136,(MATCH(NLML.ChangeInScores.PrePostDataset[[#This Row],[First Name & Last Name*\n(choose from list)]],'NLM Data Test 1'!$W$12:$W$136,0)),1)=\"\",\"\",(INDEX('NLM Data Test 1'!H$12:H$136,(MATCH(NLML.ChangeInScores.PrePostDataset[[#This Row],[First Name & Last Name*\n(choose from list)]],'NLM Data Test 1'!$W$12:$W$136,0)),1)))","v":{"$error":"#N/A"}},{"$f":"IF(INDEX('NLM Data Test 1'!$I$12:$I$136,(MATCH(NLML.ChangeInScores.PrePostDataset[[#This Row],[First Name & Last Name*\n(choose from list)]],'NLM Data Test 1'!$W$12:$W$136,0)),1)=\"\",\"\",(INDEX('NLM Data Test 1'!I$12:I$136,(MATCH(NLML.ChangeInScores.PrePostDataset[[#This Row],[First Name & Last Name*\n(choose from list)]],'NLM Data Test 1'!$W$12:$W$136,0)),1)))","v":{"$error":"#N/A"}},{"$f":"IF(INDEX('NLM Data Test 1'!$J$12:$J$136,(MATCH(NLML.ChangeInScores.PrePostDataset[[#This Row],[First Name & Last Name*\n(choose from list)]],'NLM Data Test 1'!$W$12:$W$136,0)),1)=\"\",\"\",(INDEX('NLM Data Test 1'!J$12:J$136,(MATCH(NLML.ChangeInScores.PrePostDataset[[#This Row],[First Name & Last Name*\n(choose from list)]],'NLM Data Test 1'!$W$12:$W$136,0)),1)))","v":{"$error":"#N/A"}},{"$f":"IFERROR(INDEX('NLM Data Test 1'!$M$12:$M$136,(MATCH(NLML.ChangeInScores.PrePostDataset[[#This Row],[First Name & Last Name*\n(choose from list)]],'NLM Data Test 1'!$W$12:$W$136,0)),1),\"\")","v":""},{"$f":"INDEX('NLM Data Test 2'!$I$12:$I$136,(MATCH(NLML.ChangeInScores.PrePostDataset[[#This Row],[First Name & Last Name*\n(choose from list)]],'NLM Data Test 2'!$D$12:$D$136,0)),1)","v":{"$error":"#N/A"}},{"$f":"IFERROR(INDEX('NLM Data Test 2'!$J$12:$J$136,(MATCH(NLML.ChangeInScores.PrePostDataset[[#This Row],[First Name & Last Name*\n(choose from list)]],'NLM Data Test 2'!$X$12:$X$136,0)),1),\"\")","v":""},{"$f":"IFERROR(INDEX('NLM Data Test 2'!$K$12:$K$136,(MATCH(NLML.ChangeInScores.PrePostDataset[[#This Row],[First Name & Last Name*\n(choose from list)]],'NLM Data Test 2'!$X$12:$X$136,0)),1),\"\")","v":""},{"$f":"IFERROR(INDEX('NLM Data Test 2'!$N$12:$N$136,(MATCH(NLML.ChangeInScores.PrePostDataset[[#This Row],[First Name & Last Name*\n(choose from list)]],'NLM Data Test 2'!$X$12:$X$136,0)),1),\"\")","v":""},{"$f":"(INDEX('NLM Data Test 2'!$O$12:$O$136,(MATCH(NLML.ChangeInScores.PrePostDataset[[#This Row],[First Name & Last Name*\n(choose from list)]],'NLM Data Test 2'!$X$12:$X$136,0)),1))-(INDEX('NLM Data Test 1'!$N$12:$N$136,(MATCH(NLML.ChangeInScores.PrePostDataset[[#This Row],[First Name & Last Name*\n(choose from list)]],'NLM Data Test 1'!$W$12:$W$136,0)),1))","v":{"$error":"#N/A"}},{"$f":"(INDEX('NLM Data Test 2'!$P$12:$P$136,(MATCH(NLML.ChangeInScores.PrePostDataset[[#This Row],[First Name & Last Name*\n(choose from list)]],'NLM Data Test 2'!$X$12:$X$136,0)),1))-(INDEX('NLM Data Test 1'!$O$12:$O$136,(MATCH(NLML.ChangeInScores.PrePostDataset[[#This Row],[First Name & Last Name*\n(choose from list)]],'NLM Data Test 1'!$W$12:$W$136,0)),1))","v":{"$error":"#N/A"}},{"$f":"(INDEX('NLM Data Test 2'!$Q$12:$Q$136,(MATCH(NLML.ChangeInScores.PrePostDataset[[#This Row],[First Name & Last Name*\n(choose from list)]],'NLM Data Test 2'!$X$12:$X$136,0)),1))-(INDEX('NLM Data Test 1'!$P$12:$P$136,(MATCH(NLML.ChangeInScores.PrePostDataset[[#This Row],[First Name & Last Name*\n(choose from list)]],'NLM Data Test 1'!$W$12:$W$136,0)),1))","v":{"$error":"#N/A"}},{"$f":"(INDEX('NLM Data Test 2'!$R$12:$R$136,(MATCH(NLML.ChangeInScores.PrePostDataset[[#This Row],[First Name & Last Name*\n(choose from list)]],'NLM Data Test 2'!$X$12:$X$136,0)),1))-(INDEX('NLM Data Test 1'!$Q$12:$Q$136,(MATCH(NLML.ChangeInScores.PrePostDataset[[#This Row],[First Name & Last Name*\n(choose from list)]],'NLM Data Test 1'!$W$12:$W$136,0)),1))","v":{"$error":"#N/A"}},{"$f":"(INDEX('NLM Data Test 2'!$S$12:$S$136,(MATCH(NLML.ChangeInScores.PrePostDataset[[#This Row],[First Name & Last Name*\n(choose from list)]],'NLM Data Test 2'!$X$12:$X$136,0)),1))-(INDEX('NLM Data Test 1'!$R$12:$R$136,(MATCH(NLML.ChangeInScores.PrePostDataset[[#This Row],[First Name & Last Name*\n(choose from list)]],'NLM Data Test 1'!$W$12:$W$136,0)),1))","v":{"$error":"#N/A"}},{"$f":"(INDEX('NLM Data Test 2'!$T$12:$T$136,(MATCH(NLML.ChangeInScores.PrePostDataset[[#This Row],[First Name & Last Name*\n(choose from list)]],'NLM Data Test 2'!$X$12:$X$136,0)),1))-(INDEX('NLM Data Test 1'!$S$12:$S$136,(MATCH(NLML.ChangeInScores.PrePostDataset[[#This Row],[First Name & Last Name*\n(choose from list)]],'NLM Data Test 1'!$W$12:$W$136,0)),1))","v":{"$error":"#N/A"}},{"$f":"IFERROR(INDEX('NLM Data Test 1'!$T$12:$T$136,(MATCH(NLML.ChangeInScores.PrePostDataset[[#This Row],[First Name & Last Name*\n(choose from list)]],'NLM Data Test 1'!$W$12:$W$136,0)),1),\"\")","v":""},{"$f":"IFERROR(INDEX('NLM Data Test 2'!$U$12:$U$136,(MATCH(NLML.ChangeInScores.PrePostDataset[[#This Row],[First Name & Last Name*\n(choose from list)]],'NLM Data Test 2'!$X$12:$X$136,0)),1),\"\")","v":""}]
[51,{"$f":"IFERROR(INDEX(NLML.Test1.PrePostDataset[*First Name],(MATCH(NLML.ChangeInScores.PrePostDataset[[#This Row],[First Name & Last Name*\n(choose from list)]],'NLM Data Test 1'!W62:W186,0)),1),\"\")","v":""},{"$f":"IFERROR(INDEX(NLML.Test1.PrePostDataset[*Last Name],(MATCH(NLML.ChangeInScores.PrePostDataset[[#This Row],[First Name & Last Name*\n(choose from list)]],'NLM Data Test 1'!W62:W186,0)),1),\"\")","v":""},{"$f":"'NLM Data Test 2'!D62","v":0},{"$f":"IF(IFERROR(MATCH($D66,'NLM Data Test 2'!$D$12:$D$136,0),\"Error\")=\"Error\",(INDEX('NLM Data Test 1'!$D$12:$D$136,(MATCH($D66,'NLM Data Test 1'!$W$12:$W$136,0)),1)),(INDEX('NLM Data Test 2'!$E$12:$E$136,(MATCH($D66,'NLM Data Test 2'!$D$12:$D$136,0)),1)))","v":{"$error":"#N/A"}},{"$f":"IF(IFERROR(MATCH($D66,'NLM Data Test 2'!$D$12:$D$136,0),\"Error\")=\"Error\",(INDEX('NLM Data Test 1'!$E$12:$E$136,(MATCH($D66,'NLM Data Test 1'!$W$12:$W$136,0)),1)),(INDEX('NLM Data Test 2'!$G$12:$G$136,(MATCH($D66,'NLM Data Test 2'!$D$12:$D$136,0)),1)))","v":{"$error":"#N/A"}},{"$f":"IF(IFERROR(MATCH($D66,'NLM Data Test 2'!$D$12:$D$136,0),\"Error\")=\"Error\",(INDEX('NLM Data Test 1'!$F$12:$F$136,(MATCH($D66,'NLM Data Test 1'!$W$12:$W$136,0)),1)),(INDEX('NLM Data Test 2'!$F$12:$F$136,(MATCH($D66,'NLM Data Test 2'!$D$12:$D$136,0)),1)))","v":{"$error":"#N/A"}},{"$f":"IF(INDEX('NLM Data Test 1'!$H$12:$H$136,(MATCH(NLML.ChangeInScores.PrePostDataset[[#This Row],[First Name & Last Name*\n(choose from list)]],'NLM Data Test 1'!$W$12:$W$136,0)),1)=\"\",\"\",(INDEX('NLM Data Test 1'!H$12:H$136,(MATCH(NLML.ChangeInScores.PrePostDataset[[#This Row],[First Name & Last Name*\n(choose from list)]],'NLM Data Test 1'!$W$12:$W$136,0)),1)))","v":{"$error":"#N/A"}},{"$f":"IF(INDEX('NLM Data Test 1'!$I$12:$I$136,(MATCH(NLML.ChangeInScores.PrePostDataset[[#This Row],[First Name & Last Name*\n(choose from list)]],'NLM Data Test 1'!$W$12:$W$136,0)),1)=\"\",\"\",(INDEX('NLM Data Test 1'!I$12:I$136,(MATCH(NLML.ChangeInScores.PrePostDataset[[#This Row],[First Name & Last Name*\n(choose from list)]],'NLM Data Test 1'!$W$12:$W$136,0)),1)))","v":{"$error":"#N/A"}},{"$f":"IF(INDEX('NLM Data Test 1'!$J$12:$J$136,(MATCH(NLML.ChangeInScores.PrePostDataset[[#This Row],[First Name & Last Name*\n(choose from list)]],'NLM Data Test 1'!$W$12:$W$136,0)),1)=\"\",\"\",(INDEX('NLM Data Test 1'!J$12:J$136,(MATCH(NLML.ChangeInScores.PrePostDataset[[#This Row],[First Name & Last Name*\n(choose from list)]],'NLM Data Test 1'!$W$12:$W$136,0)),1)))","v":{"$error":"#N/A"}},{"$f":"IFERROR(INDEX('NLM Data Test 1'!$M$12:$M$136,(MATCH(NLML.ChangeInScores.PrePostDataset[[#This Row],[First Name & Last Name*\n(choose from list)]],'NLM Data Test 1'!$W$12:$W$136,0)),1),\"\")","v":""},{"$f":"INDEX('NLM Data Test 2'!$I$12:$I$136,(MATCH(NLML.ChangeInScores.PrePostDataset[[#This Row],[First Name & Last Name*\n(choose from list)]],'NLM Data Test 2'!$D$12:$D$136,0)),1)","v":{"$error":"#N/A"}},{"$f":"IFERROR(INDEX('NLM Data Test 2'!$J$12:$J$136,(MATCH(NLML.ChangeInScores.PrePostDataset[[#This Row],[First Name & Last Name*\n(choose from list)]],'NLM Data Test 2'!$X$12:$X$136,0)),1),\"\")","v":""},{"$f":"IFERROR(INDEX('NLM Data Test 2'!$K$12:$K$136,(MATCH(NLML.ChangeInScores.PrePostDataset[[#This Row],[First Name & Last Name*\n(choose from list)]],'NLM Data Test 2'!$X$12:$X$136,0)),1),\"\")","v":""},{"$f":"IFERROR(INDEX('NLM Data Test 2'!$N$12:$N$136,(MATCH(NLML.ChangeInScores.PrePostDataset[[#This Row],[First Name & Last Name*\n(choose from list)]],'NLM Data Test 2'!$X$12:$X$136,0)),1),\"\")","v":""},{"$f":"(INDEX('NLM Data Test 2'!$O$12:$O$136,(MATCH(NLML.ChangeInScores.PrePostDataset[[#This Row],[First Name & Last Name*\n(choose from list)]],'NLM Data Test 2'!$X$12:$X$136,0)),1))-(INDEX('NLM Data Test 1'!$N$12:$N$136,(MATCH(NLML.ChangeInScores.PrePostDataset[[#This Row],[First Name & Last Name*\n(choose from list)]],'NLM Data Test 1'!$W$12:$W$136,0)),1))","v":{"$error":"#N/A"}},{"$f":"(INDEX('NLM Data Test 2'!$P$12:$P$136,(MATCH(NLML.ChangeInScores.PrePostDataset[[#This Row],[First Name & Last Name*\n(choose from list)]],'NLM Data Test 2'!$X$12:$X$136,0)),1))-(INDEX('NLM Data Test 1'!$O$12:$O$136,(MATCH(NLML.ChangeInScores.PrePostDataset[[#This Row],[First Name & Last Name*\n(choose from list)]],'NLM Data Test 1'!$W$12:$W$136,0)),1))","v":{"$error":"#N/A"}},{"$f":"(INDEX('NLM Data Test 2'!$Q$12:$Q$136,(MATCH(NLML.ChangeInScores.PrePostDataset[[#This Row],[First Name & Last Name*\n(choose from list)]],'NLM Data Test 2'!$X$12:$X$136,0)),1))-(INDEX('NLM Data Test 1'!$P$12:$P$136,(MATCH(NLML.ChangeInScores.PrePostDataset[[#This Row],[First Name & Last Name*\n(choose from list)]],'NLM Data Test 1'!$W$12:$W$136,0)),1))","v":{"$error":"#N/A"}},{"$f":"(INDEX('NLM Data Test 2'!$R$12:$R$136,(MATCH(NLML.ChangeInScores.PrePostDataset[[#This Row],[First Name & Last Name*\n(choose from list)]],'NLM Data Test 2'!$X$12:$X$136,0)),1))-(INDEX('NLM Data Test 1'!$Q$12:$Q$136,(MATCH(NLML.ChangeInScores.PrePostDataset[[#This Row],[First Name & Last Name*\n(choose from list)]],'NLM Data Test 1'!$W$12:$W$136,0)),1))","v":{"$error":"#N/A"}},{"$f":"(INDEX('NLM Data Test 2'!$S$12:$S$136,(MATCH(NLML.ChangeInScores.PrePostDataset[[#This Row],[First Name & Last Name*\n(choose from list)]],'NLM Data Test 2'!$X$12:$X$136,0)),1))-(INDEX('NLM Data Test 1'!$R$12:$R$136,(MATCH(NLML.ChangeInScores.PrePostDataset[[#This Row],[First Name & Last Name*\n(choose from list)]],'NLM Data Test 1'!$W$12:$W$136,0)),1))","v":{"$error":"#N/A"}},{"$f":"(INDEX('NLM Data Test 2'!$T$12:$T$136,(MATCH(NLML.ChangeInScores.PrePostDataset[[#This Row],[First Name & Last Name*\n(choose from list)]],'NLM Data Test 2'!$X$12:$X$136,0)),1))-(INDEX('NLM Data Test 1'!$S$12:$S$136,(MATCH(NLML.ChangeInScores.PrePostDataset[[#This Row],[First Name & Last Name*\n(choose from list)]],'NLM Data Test 1'!$W$12:$W$136,0)),1))","v":{"$error":"#N/A"}},{"$f":"IFERROR(INDEX('NLM Data Test 1'!$T$12:$T$136,(MATCH(NLML.ChangeInScores.PrePostDataset[[#This Row],[First Name & Last Name*\n(choose from list)]],'NLM Data Test 1'!$W$12:$W$136,0)),1),\"\")","v":""},{"$f":"IFERROR(INDEX('NLM Data Test 2'!$U$12:$U$136,(MATCH(NLML.ChangeInScores.PrePostDataset[[#This Row],[First Name & Last Name*\n(choose from list)]],'NLM Data Test 2'!$X$12:$X$136,0)),1),\"\")","v":""}]
[52,{"$f":"IFERROR(INDEX(NLML.Test1.PrePostDataset[*First Name],(MATCH(NLML.ChangeInScores.PrePostDataset[[#This Row],[First Name & Last Name*\n(choose from list)]],'NLM Data Test 1'!W63:W187,0)),1),\"\")","v":""},{"$f":"IFERROR(INDEX(NLML.Test1.PrePostDataset[*Last Name],(MATCH(NLML.ChangeInScores.PrePostDataset[[#This Row],[First Name & Last Name*\n(choose from list)]],'NLM Data Test 1'!W63:W187,0)),1),\"\")","v":""},{"$f":"'NLM Data Test 2'!D63","v":0},{"$f":"IF(IFERROR(MATCH($D67,'NLM Data Test 2'!$D$12:$D$136,0),\"Error\")=\"Error\",(INDEX('NLM Data Test 1'!$D$12:$D$136,(MATCH($D67,'NLM Data Test 1'!$W$12:$W$136,0)),1)),(INDEX('NLM Data Test 2'!$E$12:$E$136,(MATCH($D67,'NLM Data Test 2'!$D$12:$D$136,0)),1)))","v":{"$error":"#N/A"}},{"$f":"IF(IFERROR(MATCH($D67,'NLM Data Test 2'!$D$12:$D$136,0),\"Error\")=\"Error\",(INDEX('NLM Data Test 1'!$E$12:$E$136,(MATCH($D67,'NLM Data Test 1'!$W$12:$W$136,0)),1)),(INDEX('NLM Data Test 2'!$G$12:$G$136,(MATCH($D67,'NLM Data Test 2'!$D$12:$D$136,0)),1)))","v":{"$error":"#N/A"}},{"$f":"IF(IFERROR(MATCH($D67,'NLM Data Test 2'!$D$12:$D$136,0),\"Error\")=\"Error\",(INDEX('NLM Data Test 1'!$F$12:$F$136,(MATCH($D67,'NLM Data Test 1'!$W$12:$W$136,0)),1)),(INDEX('NLM Data Test 2'!$F$12:$F$136,(MATCH($D67,'NLM Data Test 2'!$D$12:$D$136,0)),1)))","v":{"$error":"#N/A"}},{"$f":"IF(INDEX('NLM Data Test 1'!$H$12:$H$136,(MATCH(NLML.ChangeInScores.PrePostDataset[[#This Row],[First Name & Last Name*\n(choose from list)]],'NLM Data Test 1'!$W$12:$W$136,0)),1)=\"\",\"\",(INDEX('NLM Data Test 1'!H$12:H$136,(MATCH(NLML.ChangeInScores.PrePostDataset[[#This Row],[First Name & Last Name*\n(choose from list)]],'NLM Data Test 1'!$W$12:$W$136,0)),1)))","v":{"$error":"#N/A"}},{"$f":"IF(INDEX('NLM Data Test 1'!$I$12:$I$136,(MATCH(NLML.ChangeInScores.PrePostDataset[[#This Row],[First Name & Last Name*\n(choose from list)]],'NLM Data Test 1'!$W$12:$W$136,0)),1)=\"\",\"\",(INDEX('NLM Data Test 1'!I$12:I$136,(MATCH(NLML.ChangeInScores.PrePostDataset[[#This Row],[First Name & Last Name*\n(choose from list)]],'NLM Data Test 1'!$W$12:$W$136,0)),1)))","v":{"$error":"#N/A"}},{"$f":"IF(INDEX('NLM Data Test 1'!$J$12:$J$136,(MATCH(NLML.ChangeInScores.PrePostDataset[[#This Row],[First Name & Last Name*\n(choose from list)]],'NLM Data Test 1'!$W$12:$W$136,0)),1)=\"\",\"\",(INDEX('NLM Data Test 1'!J$12:J$136,(MATCH(NLML.ChangeInScores.PrePostDataset[[#This Row],[First Name & Last Name*\n(choose from list)]],'NLM Data Test 1'!$W$12:$W$136,0)),1)))","v":{"$error":"#N/A"}},{"$f":"IFERROR(INDEX('NLM Data Test 1'!$M$12:$M$136,(MATCH(NLML.ChangeInScores.PrePostDataset[[#This Row],[First Name & Last Name*\n(choose from list)]],'NLM Data Test 1'!$W$12:$W$136,0)),1),\"\")","v":""},{"$f":"INDEX('NLM Data Test 2'!$I$12:$I$136,(MATCH(NLML.ChangeInScores.PrePostDataset[[#This Row],[First Name & Last Name*\n(choose from list)]],'NLM Data Test 2'!$D$12:$D$136,0)),1)","v":{"$error":"#N/A"}},{"$f":"IFERROR(INDEX('NLM Data Test 2'!$J$12:$J$136,(MATCH(NLML.ChangeInScores.PrePostDataset[[#This Row],[First Name & Last Name*\n(choose from list)]],'NLM Data Test 2'!$X$12:$X$136,0)),1),\"\")","v":""},{"$f":"IFERROR(INDEX('NLM Data Test 2'!$K$12:$K$136,(MATCH(NLML.ChangeInScores.PrePostDataset[[#This Row],[First Name & Last Name*\n(choose from list)]],'NLM Data Test 2'!$X$12:$X$136,0)),1),\"\")","v":""},{"$f":"IFERROR(INDEX('NLM Data Test 2'!$N$12:$N$136,(MATCH(NLML.ChangeInScores.PrePostDataset[[#This Row],[First Name & Last Name*\n(choose from list)]],'NLM Data Test 2'!$X$12:$X$136,0)),1),\"\")","v":""},{"$f":"(INDEX('NLM Data Test 2'!$O$12:$O$136,(MATCH(NLML.ChangeInScores.PrePostDataset[[#This Row],[First Name & Last Name*\n(choose from list)]],'NLM Data Test 2'!$X$12:$X$136,0)),1))-(INDEX('NLM Data Test 1'!$N$12:$N$136,(MATCH(NLML.ChangeInScores.PrePostDataset[[#This Row],[First Name & Last Name*\n(choose from list)]],'NLM Data Test 1'!$W$12:$W$136,0)),1))","v":{"$error":"#N/A"}},{"$f":"(INDEX('NLM Data Test 2'!$P$12:$P$136,(MATCH(NLML.ChangeInScores.PrePostDataset[[#This Row],[First Name & Last Name*\n(choose from list)]],'NLM Data Test 2'!$X$12:$X$136,0)),1))-(INDEX('NLM Data Test 1'!$O$12:$O$136,(MATCH(NLML.ChangeInScores.PrePostDataset[[#This Row],[First Name & Last Name*\n(choose from list)]],'NLM Data Test 1'!$W$12:$W$136,0)),1))","v":{"$error":"#N/A"}},{"$f":"(INDEX('NLM Data Test 2'!$Q$12:$Q$136,(MATCH(NLML.ChangeInScores.PrePostDataset[[#This Row],[First Name & Last Name*\n(choose from list)]],'NLM Data Test 2'!$X$12:$X$136,0)),1))-(INDEX('NLM Data Test 1'!$P$12:$P$136,(MATCH(NLML.ChangeInScores.PrePostDataset[[#This Row],[First Name & Last Name*\n(choose from list)]],'NLM Data Test 1'!$W$12:$W$136,0)),1))","v":{"$error":"#N/A"}},{"$f":"(INDEX('NLM Data Test 2'!$R$12:$R$136,(MATCH(NLML.ChangeInScores.PrePostDataset[[#This Row],[First Name & Last Name*\n(choose from list)]],'NLM Data Test 2'!$X$12:$X$136,0)),1))-(INDEX('NLM Data Test 1'!$Q$12:$Q$136,(MATCH(NLML.ChangeInScores.PrePostDataset[[#This Row],[First Name & Last Name*\n(choose from list)]],'NLM Data Test 1'!$W$12:$W$136,0)),1))","v":{"$error":"#N/A"}},{"$f":"(INDEX('NLM Data Test 2'!$S$12:$S$136,(MATCH(NLML.ChangeInScores.PrePostDataset[[#This Row],[First Name & Last Name*\n(choose from list)]],'NLM Data Test 2'!$X$12:$X$136,0)),1))-(INDEX('NLM Data Test 1'!$R$12:$R$136,(MATCH(NLML.ChangeInScores.PrePostDataset[[#This Row],[First Name & Last Name*\n(choose from list)]],'NLM Data Test 1'!$W$12:$W$136,0)),1))","v":{"$error":"#N/A"}},{"$f":"(INDEX('NLM Data Test 2'!$T$12:$T$136,(MATCH(NLML.ChangeInScores.PrePostDataset[[#This Row],[First Name & Last Name*\n(choose from list)]],'NLM Data Test 2'!$X$12:$X$136,0)),1))-(INDEX('NLM Data Test 1'!$S$12:$S$136,(MATCH(NLML.ChangeInScores.PrePostDataset[[#This Row],[First Name & Last Name*\n(choose from list)]],'NLM Data Test 1'!$W$12:$W$136,0)),1))","v":{"$error":"#N/A"}},{"$f":"IFERROR(INDEX('NLM Data Test 1'!$T$12:$T$136,(MATCH(NLML.ChangeInScores.PrePostDataset[[#This Row],[First Name & Last Name*\n(choose from list)]],'NLM Data Test 1'!$W$12:$W$136,0)),1),\"\")","v":""},{"$f":"IFERROR(INDEX('NLM Data Test 2'!$U$12:$U$136,(MATCH(NLML.ChangeInScores.PrePostDataset[[#This Row],[First Name & Last Name*\n(choose from list)]],'NLM Data Test 2'!$X$12:$X$136,0)),1),\"\")","v":""}]
[53,{"$f":"IFERROR(INDEX(NLML.Test1.PrePostDataset[*First Name],(MATCH(NLML.ChangeInScores.PrePostDataset[[#This Row],[First Name & Last Name*\n(choose from list)]],'NLM Data Test 1'!W64:W188,0)),1),\"\")","v":""},{"$f":"IFERROR(INDEX(NLML.Test1.PrePostDataset[*Last Name],(MATCH(NLML.ChangeInScores.PrePostDataset[[#This Row],[First Name & Last Name*\n(choose from list)]],'NLM Data Test 1'!W64:W188,0)),1),\"\")","v":""},{"$f":"'NLM Data Test 2'!D64","v":0},{"$f":"IF(IFERROR(MATCH($D68,'NLM Data Test 2'!$D$12:$D$136,0),\"Error\")=\"Error\",(INDEX('NLM Data Test 1'!$D$12:$D$136,(MATCH($D68,'NLM Data Test 1'!$W$12:$W$136,0)),1)),(INDEX('NLM Data Test 2'!$E$12:$E$136,(MATCH($D68,'NLM Data Test 2'!$D$12:$D$136,0)),1)))","v":{"$error":"#N/A"}},{"$f":"IF(IFERROR(MATCH($D68,'NLM Data Test 2'!$D$12:$D$136,0),\"Error\")=\"Error\",(INDEX('NLM Data Test 1'!$E$12:$E$136,(MATCH($D68,'NLM Data Test 1'!$W$12:$W$136,0)),1)),(INDEX('NLM Data Test 2'!$G$12:$G$136,(MATCH($D68,'NLM Data Test 2'!$D$12:$D$136,0)),1)))","v":{"$error":"#N/A"}},{"$f":"IF(IFERROR(MATCH($D68,'NLM Data Test 2'!$D$12:$D$136,0),\"Error\")=\"Error\",(INDEX('NLM Data Test 1'!$F$12:$F$136,(MATCH($D68,'NLM Data Test 1'!$W$12:$W$136,0)),1)),(INDEX('NLM Data Test 2'!$F$12:$F$136,(MATCH($D68,'NLM Data Test 2'!$D$12:$D$136,0)),1)))","v":{"$error":"#N/A"}},{"$f":"IF(INDEX('NLM Data Test 1'!$H$12:$H$136,(MATCH(NLML.ChangeInScores.PrePostDataset[[#This Row],[First Name & Last Name*\n(choose from list)]],'NLM Data Test 1'!$W$12:$W$136,0)),1)=\"\",\"\",(INDEX('NLM Data Test 1'!H$12:H$136,(MATCH(NLML.ChangeInScores.PrePostDataset[[#This Row],[First Name & Last Name*\n(choose from list)]],'NLM Data Test 1'!$W$12:$W$136,0)),1)))","v":{"$error":"#N/A"}},{"$f":"IF(INDEX('NLM Data Test 1'!$I$12:$I$136,(MATCH(NLML.ChangeInScores.PrePostDataset[[#This Row],[First Name & Last Name*\n(choose from list)]],'NLM Data Test 1'!$W$12:$W$136,0)),1)=\"\",\"\",(INDEX('NLM Data Test 1'!I$12:I$136,(MATCH(NLML.ChangeInScores.PrePostDataset[[#This Row],[First Name & Last Name*\n(choose from list)]],'NLM Data Test 1'!$W$12:$W$136,0)),1)))","v":{"$error":"#N/A"}},{"$f":"IF(INDEX('NLM Data Test 1'!$J$12:$J$136,(MATCH(NLML.ChangeInScores.PrePostDataset[[#This Row],[First Name & Last Name*\n(choose from list)]],'NLM Data Test 1'!$W$12:$W$136,0)),1)=\"\",\"\",(INDEX('NLM Data Test 1'!J$12:J$136,(MATCH(NLML.ChangeInScores.PrePostDataset[[#This Row],[First Name & Last Name*\n(choose from list)]],'NLM Data Test 1'!$W$12:$W$136,0)),1)))","v":{"$error":"#N/A"}},{"$f":"IFERROR(INDEX('NLM Data Test 1'!$M$12:$M$136,(MATCH(NLML.ChangeInScores.PrePostDataset[[#This Row],[First Name & Last Name*\n(choose from list)]],'NLM Data Test 1'!$W$12:$W$136,0)),1),\"\")","v":""},{"$f":"INDEX('NLM Data Test 2'!$I$12:$I$136,(MATCH(NLML.ChangeInScores.PrePostDataset[[#This Row],[First Name & Last Name*\n(choose from list)]],'NLM Data Test 2'!$D$12:$D$136,0)),1)","v":{"$error":"#N/A"}},{"$f":"IFERROR(INDEX('NLM Data Test 2'!$J$12:$J$136,(MATCH(NLML.ChangeInScores.PrePostDataset[[#This Row],[First Name & Last Name*\n(choose from list)]],'NLM Data Test 2'!$X$12:$X$136,0)),1),\"\")","v":""},{"$f":"IFERROR(INDEX('NLM Data Test 2'!$K$12:$K$136,(MATCH(NLML.ChangeInScores.PrePostDataset[[#This Row],[First Name & Last Name*\n(choose from list)]],'NLM Data Test 2'!$X$12:$X$136,0)),1),\"\")","v":""},{"$f":"IFERROR(INDEX('NLM Data Test 2'!$N$12:$N$136,(MATCH(NLML.ChangeInScores.PrePostDataset[[#This Row],[First Name & Last Name*\n(choose from list)]],'NLM Data Test 2'!$X$12:$X$136,0)),1),\"\")","v":""},{"$f":"(INDEX('NLM Data Test 2'!$O$12:$O$136,(MATCH(NLML.ChangeInScores.PrePostDataset[[#This Row],[First Name & Last Name*\n(choose from list)]],'NLM Data Test 2'!$X$12:$X$136,0)),1))-(INDEX('NLM Data Test 1'!$N$12:$N$136,(MATCH(NLML.ChangeInScores.PrePostDataset[[#This Row],[First Name & Last Name*\n(choose from list)]],'NLM Data Test 1'!$W$12:$W$136,0)),1))","v":{"$error":"#N/A"}},{"$f":"(INDEX('NLM Data Test 2'!$P$12:$P$136,(MATCH(NLML.ChangeInScores.PrePostDataset[[#This Row],[First Name & Last Name*\n(choose from list)]],'NLM Data Test 2'!$X$12:$X$136,0)),1))-(INDEX('NLM Data Test 1'!$O$12:$O$136,(MATCH(NLML.ChangeInScores.PrePostDataset[[#This Row],[First Name & Last Name*\n(choose from list)]],'NLM Data Test 1'!$W$12:$W$136,0)),1))","v":{"$error":"#N/A"}},{"$f":"(INDEX('NLM Data Test 2'!$Q$12:$Q$136,(MATCH(NLML.ChangeInScores.PrePostDataset[[#This Row],[First Name & Last Name*\n(choose from list)]],'NLM Data Test 2'!$X$12:$X$136,0)),1))-(INDEX('NLM Data Test 1'!$P$12:$P$136,(MATCH(NLML.ChangeInScores.PrePostDataset[[#This Row],[First Name & Last Name*\n(choose from list)]],'NLM Data Test 1'!$W$12:$W$136,0)),1))","v":{"$error":"#N/A"}},{"$f":"(INDEX('NLM Data Test 2'!$R$12:$R$136,(MATCH(NLML.ChangeInScores.PrePostDataset[[#This Row],[First Name & Last Name*\n(choose from list)]],'NLM Data Test 2'!$X$12:$X$136,0)),1))-(INDEX('NLM Data Test 1'!$Q$12:$Q$136,(MATCH(NLML.ChangeInScores.PrePostDataset[[#This Row],[First Name & Last Name*\n(choose from list)]],'NLM Data Test 1'!$W$12:$W$136,0)),1))","v":{"$error":"#N/A"}},{"$f":"(INDEX('NLM Data Test 2'!$S$12:$S$136,(MATCH(NLML.ChangeInScores.PrePostDataset[[#This Row],[First Name & Last Name*\n(choose from list)]],'NLM Data Test 2'!$X$12:$X$136,0)),1))-(INDEX('NLM Data Test 1'!$R$12:$R$136,(MATCH(NLML.ChangeInScores.PrePostDataset[[#This Row],[First Name & Last Name*\n(choose from list)]],'NLM Data Test 1'!$W$12:$W$136,0)),1))","v":{"$error":"#N/A"}},{"$f":"(INDEX('NLM Data Test 2'!$T$12:$T$136,(MATCH(NLML.ChangeInScores.PrePostDataset[[#This Row],[First Name & Last Name*\n(choose from list)]],'NLM Data Test 2'!$X$12:$X$136,0)),1))-(INDEX('NLM Data Test 1'!$S$12:$S$136,(MATCH(NLML.ChangeInScores.PrePostDataset[[#This Row],[First Name & Last Name*\n(choose from list)]],'NLM Data Test 1'!$W$12:$W$136,0)),1))","v":{"$error":"#N/A"}},{"$f":"IFERROR(INDEX('NLM Data Test 1'!$T$12:$T$136,(MATCH(NLML.ChangeInScores.PrePostDataset[[#This Row],[First Name & Last Name*\n(choose from list)]],'NLM Data Test 1'!$W$12:$W$136,0)),1),\"\")","v":""},{"$f":"IFERROR(INDEX('NLM Data Test 2'!$U$12:$U$136,(MATCH(NLML.ChangeInScores.PrePostDataset[[#This Row],[First Name & Last Name*\n(choose from list)]],'NLM Data Test 2'!$X$12:$X$136,0)),1),\"\")","v":""}]
[54,{"$f":"IFERROR(INDEX(NLML.Test1.PrePostDataset[*First Name],(MATCH(NLML.ChangeInScores.PrePostDataset[[#This Row],[First Name & Last Name*\n(choose from list)]],'NLM Data Test 1'!W65:W189,0)),1),\"\")","v":""},{"$f":"IFERROR(INDEX(NLML.Test1.PrePostDataset[*Last Name],(MATCH(NLML.ChangeInScores.PrePostDataset[[#This Row],[First Name & Last Name*\n(choose from list)]],'NLM Data Test 1'!W65:W189,0)),1),\"\")","v":""},{"$f":"'NLM Data Test 2'!D65","v":0},{"$f":"IF(IFERROR(MATCH($D69,'NLM Data Test 2'!$D$12:$D$136,0),\"Error\")=\"Error\",(INDEX('NLM Data Test 1'!$D$12:$D$136,(MATCH($D69,'NLM Data Test 1'!$W$12:$W$136,0)),1)),(INDEX('NLM Data Test 2'!$E$12:$E$136,(MATCH($D69,'NLM Data Test 2'!$D$12:$D$136,0)),1)))","v":{"$error":"#N/A"}},{"$f":"IF(IFERROR(MATCH($D69,'NLM Data Test 2'!$D$12:$D$136,0),\"Error\")=\"Error\",(INDEX('NLM Data Test 1'!$E$12:$E$136,(MATCH($D69,'NLM Data Test 1'!$W$12:$W$136,0)),1)),(INDEX('NLM Data Test 2'!$G$12:$G$136,(MATCH($D69,'NLM Data Test 2'!$D$12:$D$136,0)),1)))","v":{"$error":"#N/A"}},{"$f":"IF(IFERROR(MATCH($D69,'NLM Data Test 2'!$D$12:$D$136,0),\"Error\")=\"Error\",(INDEX('NLM Data Test 1'!$F$12:$F$136,(MATCH($D69,'NLM Data Test 1'!$W$12:$W$136,0)),1)),(INDEX('NLM Data Test 2'!$F$12:$F$136,(MATCH($D69,'NLM Data Test 2'!$D$12:$D$136,0)),1)))","v":{"$error":"#N/A"}},{"$f":"IF(INDEX('NLM Data Test 1'!$H$12:$H$136,(MATCH(NLML.ChangeInScores.PrePostDataset[[#This Row],[First Name & Last Name*\n(choose from list)]],'NLM Data Test 1'!$W$12:$W$136,0)),1)=\"\",\"\",(INDEX('NLM Data Test 1'!H$12:H$136,(MATCH(NLML.ChangeInScores.PrePostDataset[[#This Row],[First Name & Last Name*\n(choose from list)]],'NLM Data Test 1'!$W$12:$W$136,0)),1)))","v":{"$error":"#N/A"}},{"$f":"IF(INDEX('NLM Data Test 1'!$I$12:$I$136,(MATCH(NLML.ChangeInScores.PrePostDataset[[#This Row],[First Name & Last Name*\n(choose from list)]],'NLM Data Test 1'!$W$12:$W$136,0)),1)=\"\",\"\",(INDEX('NLM Data Test 1'!I$12:I$136,(MATCH(NLML.ChangeInScores.PrePostDataset[[#This Row],[First Name & Last Name*\n(choose from list)]],'NLM Data Test 1'!$W$12:$W$136,0)),1)))","v":{"$error":"#N/A"}},{"$f":"IF(INDEX('NLM Data Test 1'!$J$12:$J$136,(MATCH(NLML.ChangeInScores.PrePostDataset[[#This Row],[First Name & Last Name*\n(choose from list)]],'NLM Data Test 1'!$W$12:$W$136,0)),1)=\"\",\"\",(INDEX('NLM Data Test 1'!J$12:J$136,(MATCH(NLML.ChangeInScores.PrePostDataset[[#This Row],[First Name & Last Name*\n(choose from list)]],'NLM Data Test 1'!$W$12:$W$136,0)),1)))","v":{"$error":"#N/A"}},{"$f":"IFERROR(INDEX('NLM Data Test 1'!$M$12:$M$136,(MATCH(NLML.ChangeInScores.PrePostDataset[[#This Row],[First Name & Last Name*\n(choose from list)]],'NLM Data Test 1'!$W$12:$W$136,0)),1),\"\")","v":""},{"$f":"INDEX('NLM Data Test 2'!$I$12:$I$136,(MATCH(NLML.ChangeInScores.PrePostDataset[[#This Row],[First Name & Last Name*\n(choose from list)]],'NLM Data Test 2'!$D$12:$D$136,0)),1)","v":{"$error":"#N/A"}},{"$f":"IFERROR(INDEX('NLM Data Test 2'!$J$12:$J$136,(MATCH(NLML.ChangeInScores.PrePostDataset[[#This Row],[First Name & Last Name*\n(choose from list)]],'NLM Data Test 2'!$X$12:$X$136,0)),1),\"\")","v":""},{"$f":"IFERROR(INDEX('NLM Data Test 2'!$K$12:$K$136,(MATCH(NLML.ChangeInScores.PrePostDataset[[#This Row],[First Name & Last Name*\n(choose from list)]],'NLM Data Test 2'!$X$12:$X$136,0)),1),\"\")","v":""},{"$f":"IFERROR(INDEX('NLM Data Test 2'!$N$12:$N$136,(MATCH(NLML.ChangeInScores.PrePostDataset[[#This Row],[First Name & Last Name*\n(choose from list)]],'NLM Data Test 2'!$X$12:$X$136,0)),1),\"\")","v":""},{"$f":"(INDEX('NLM Data Test 2'!$O$12:$O$136,(MATCH(NLML.ChangeInScores.PrePostDataset[[#This Row],[First Name & Last Name*\n(choose from list)]],'NLM Data Test 2'!$X$12:$X$136,0)),1))-(INDEX('NLM Data Test 1'!$N$12:$N$136,(MATCH(NLML.ChangeInScores.PrePostDataset[[#This Row],[First Name & Last Name*\n(choose from list)]],'NLM Data Test 1'!$W$12:$W$136,0)),1))","v":{"$error":"#N/A"}},{"$f":"(INDEX('NLM Data Test 2'!$P$12:$P$136,(MATCH(NLML.ChangeInScores.PrePostDataset[[#This Row],[First Name & Last Name*\n(choose from list)]],'NLM Data Test 2'!$X$12:$X$136,0)),1))-(INDEX('NLM Data Test 1'!$O$12:$O$136,(MATCH(NLML.ChangeInScores.PrePostDataset[[#This Row],[First Name & Last Name*\n(choose from list)]],'NLM Data Test 1'!$W$12:$W$136,0)),1))","v":{"$error":"#N/A"}},{"$f":"(INDEX('NLM Data Test 2'!$Q$12:$Q$136,(MATCH(NLML.ChangeInScores.PrePostDataset[[#This Row],[First Name & Last Name*\n(choose from list)]],'NLM Data Test 2'!$X$12:$X$136,0)),1))-(INDEX('NLM Data Test 1'!$P$12:$P$136,(MATCH(NLML.ChangeInScores.PrePostDataset[[#This Row],[First Name & Last Name*\n(choose from list)]],'NLM Data Test 1'!$W$12:$W$136,0)),1))","v":{"$error":"#N/A"}},{"$f":"(INDEX('NLM Data Test 2'!$R$12:$R$136,(MATCH(NLML.ChangeInScores.PrePostDataset[[#This Row],[First Name & Last Name*\n(choose from list)]],'NLM Data Test 2'!$X$12:$X$136,0)),1))-(INDEX('NLM Data Test 1'!$Q$12:$Q$136,(MATCH(NLML.ChangeInScores.PrePostDataset[[#This Row],[First Name & Last Name*\n(choose from list)]],'NLM Data Test 1'!$W$12:$W$136,0)),1))","v":{"$error":"#N/A"}},{"$f":"(INDEX('NLM Data Test 2'!$S$12:$S$136,(MATCH(NLML.ChangeInScores.PrePostDataset[[#This Row],[First Name & Last Name*\n(choose from list)]],'NLM Data Test 2'!$X$12:$X$136,0)),1))-(INDEX('NLM Data Test 1'!$R$12:$R$136,(MATCH(NLML.ChangeInScores.PrePostDataset[[#This Row],[First Name & Last Name*\n(choose from list)]],'NLM Data Test 1'!$W$12:$W$136,0)),1))","v":{"$error":"#N/A"}},{"$f":"(INDEX('NLM Data Test 2'!$T$12:$T$136,(MATCH(NLML.ChangeInScores.PrePostDataset[[#This Row],[First Name & Last Name*\n(choose from list)]],'NLM Data Test 2'!$X$12:$X$136,0)),1))-(INDEX('NLM Data Test 1'!$S$12:$S$136,(MATCH(NLML.ChangeInScores.PrePostDataset[[#This Row],[First Name & Last Name*\n(choose from list)]],'NLM Data Test 1'!$W$12:$W$136,0)),1))","v":{"$error":"#N/A"}},{"$f":"IFERROR(INDEX('NLM Data Test 1'!$T$12:$T$136,(MATCH(NLML.ChangeInScores.PrePostDataset[[#This Row],[First Name & Last Name*\n(choose from list)]],'NLM Data Test 1'!$W$12:$W$136,0)),1),\"\")","v":""},{"$f":"IFERROR(INDEX('NLM Data Test 2'!$U$12:$U$136,(MATCH(NLML.ChangeInScores.PrePostDataset[[#This Row],[First Name & Last Name*\n(choose from list)]],'NLM Data Test 2'!$X$12:$X$136,0)),1),\"\")","v":""}]
[55,{"$f":"IFERROR(INDEX(NLML.Test1.PrePostDataset[*First Name],(MATCH(NLML.ChangeInScores.PrePostDataset[[#This Row],[First Name & Last Name*\n(choose from list)]],'NLM Data Test 1'!W66:W190,0)),1),\"\")","v":""},{"$f":"IFERROR(INDEX(NLML.Test1.PrePostDataset[*Last Name],(MATCH(NLML.ChangeInScores.PrePostDataset[[#This Row],[First Name & Last Name*\n(choose from list)]],'NLM Data Test 1'!W66:W190,0)),1),\"\")","v":""},{"$f":"'NLM Data Test 2'!D66","v":0},{"$f":"IF(IFERROR(MATCH($D70,'NLM Data Test 2'!$D$12:$D$136,0),\"Error\")=\"Error\",(INDEX('NLM Data Test 1'!$D$12:$D$136,(MATCH($D70,'NLM Data Test 1'!$W$12:$W$136,0)),1)),(INDEX('NLM Data Test 2'!$E$12:$E$136,(MATCH($D70,'NLM Data Test 2'!$D$12:$D$136,0)),1)))","v":{"$error":"#N/A"}},{"$f":"IF(IFERROR(MATCH($D70,'NLM Data Test 2'!$D$12:$D$136,0),\"Error\")=\"Error\",(INDEX('NLM Data Test 1'!$E$12:$E$136,(MATCH($D70,'NLM Data Test 1'!$W$12:$W$136,0)),1)),(INDEX('NLM Data Test 2'!$G$12:$G$136,(MATCH($D70,'NLM Data Test 2'!$D$12:$D$136,0)),1)))","v":{"$error":"#N/A"}},{"$f":"IF(IFERROR(MATCH($D70,'NLM Data Test 2'!$D$12:$D$136,0),\"Error\")=\"Error\",(INDEX('NLM Data Test 1'!$F$12:$F$136,(MATCH($D70,'NLM Data Test 1'!$W$12:$W$136,0)),1)),(INDEX('NLM Data Test 2'!$F$12:$F$136,(MATCH($D70,'NLM Data Test 2'!$D$12:$D$136,0)),1)))","v":{"$error":"#N/A"}},{"$f":"IF(INDEX('NLM Data Test 1'!$H$12:$H$136,(MATCH(NLML.ChangeInScores.PrePostDataset[[#This Row],[First Name & Last Name*\n(choose from list)]],'NLM Data Test 1'!$W$12:$W$136,0)),1)=\"\",\"\",(INDEX('NLM Data Test 1'!H$12:H$136,(MATCH(NLML.ChangeInScores.PrePostDataset[[#This Row],[First Name & Last Name*\n(choose from list)]],'NLM Data Test 1'!$W$12:$W$136,0)),1)))","v":{"$error":"#N/A"}},{"$f":"IF(INDEX('NLM Data Test 1'!$I$12:$I$136,(MATCH(NLML.ChangeInScores.PrePostDataset[[#This Row],[First Name & Last Name*\n(choose from list)]],'NLM Data Test 1'!$W$12:$W$136,0)),1)=\"\",\"\",(INDEX('NLM Data Test 1'!I$12:I$136,(MATCH(NLML.ChangeInScores.PrePostDataset[[#This Row],[First Name & Last Name*\n(choose from list)]],'NLM Data Test 1'!$W$12:$W$136,0)),1)))","v":{"$error":"#N/A"}},{"$f":"IF(INDEX('NLM Data Test 1'!$J$12:$J$136,(MATCH(NLML.ChangeInScores.PrePostDataset[[#This Row],[First Name & Last Name*\n(choose from list)]],'NLM Data Test 1'!$W$12:$W$136,0)),1)=\"\",\"\",(INDEX('NLM Data Test 1'!J$12:J$136,(MATCH(NLML.ChangeInScores.PrePostDataset[[#This Row],[First Name & Last Name*\n(choose from list)]],'NLM Data Test 1'!$W$12:$W$136,0)),1)))","v":{"$error":"#N/A"}},{"$f":"IFERROR(INDEX('NLM Data Test 1'!$M$12:$M$136,(MATCH(NLML.ChangeInScores.PrePostDataset[[#This Row],[First Name & Last Name*\n(choose from list)]],'NLM Data Test 1'!$W$12:$W$136,0)),1),\"\")","v":""},{"$f":"INDEX('NLM Data Test 2'!$I$12:$I$136,(MATCH(NLML.ChangeInScores.PrePostDataset[[#This Row],[First Name & Last Name*\n(choose from list)]],'NLM Data Test 2'!$D$12:$D$136,0)),1)","v":{"$error":"#N/A"}},{"$f":"IFERROR(INDEX('NLM Data Test 2'!$J$12:$J$136,(MATCH(NLML.ChangeInScores.PrePostDataset[[#This Row],[First Name & Last Name*\n(choose from list)]],'NLM Data Test 2'!$X$12:$X$136,0)),1),\"\")","v":""},{"$f":"IFERROR(INDEX('NLM Data Test 2'!$K$12:$K$136,(MATCH(NLML.ChangeInScores.PrePostDataset[[#This Row],[First Name & Last Name*\n(choose from list)]],'NLM Data Test 2'!$X$12:$X$136,0)),1),\"\")","v":""},{"$f":"IFERROR(INDEX('NLM Data Test 2'!$N$12:$N$136,(MATCH(NLML.ChangeInScores.PrePostDataset[[#This Row],[First Name & Last Name*\n(choose from list)]],'NLM Data Test 2'!$X$12:$X$136,0)),1),\"\")","v":""},{"$f":"(INDEX('NLM Data Test 2'!$O$12:$O$136,(MATCH(NLML.ChangeInScores.PrePostDataset[[#This Row],[First Name & Last Name*\n(choose from list)]],'NLM Data Test 2'!$X$12:$X$136,0)),1))-(INDEX('NLM Data Test 1'!$N$12:$N$136,(MATCH(NLML.ChangeInScores.PrePostDataset[[#This Row],[First Name & Last Name*\n(choose from list)]],'NLM Data Test 1'!$W$12:$W$136,0)),1))","v":{"$error":"#N/A"}},{"$f":"(INDEX('NLM Data Test 2'!$P$12:$P$136,(MATCH(NLML.ChangeInScores.PrePostDataset[[#This Row],[First Name & Last Name*\n(choose from list)]],'NLM Data Test 2'!$X$12:$X$136,0)),1))-(INDEX('NLM Data Test 1'!$O$12:$O$136,(MATCH(NLML.ChangeInScores.PrePostDataset[[#This Row],[First Name & Last Name*\n(choose from list)]],'NLM Data Test 1'!$W$12:$W$136,0)),1))","v":{"$error":"#N/A"}},{"$f":"(INDEX('NLM Data Test 2'!$Q$12:$Q$136,(MATCH(NLML.ChangeInScores.PrePostDataset[[#This Row],[First Name & Last Name*\n(choose from list)]],'NLM Data Test 2'!$X$12:$X$136,0)),1))-(INDEX('NLM Data Test 1'!$P$12:$P$136,(MATCH(NLML.ChangeInScores.PrePostDataset[[#This Row],[First Name & Last Name*\n(choose from list)]],'NLM Data Test 1'!$W$12:$W$136,0)),1))","v":{"$error":"#N/A"}},{"$f":"(INDEX('NLM Data Test 2'!$R$12:$R$136,(MATCH(NLML.ChangeInScores.PrePostDataset[[#This Row],[First Name & Last Name*\n(choose from list)]],'NLM Data Test 2'!$X$12:$X$136,0)),1))-(INDEX('NLM Data Test 1'!$Q$12:$Q$136,(MATCH(NLML.ChangeInScores.PrePostDataset[[#This Row],[First Name & Last Name*\n(choose from list)]],'NLM Data Test 1'!$W$12:$W$136,0)),1))","v":{"$error":"#N/A"}},{"$f":"(INDEX('NLM Data Test 2'!$S$12:$S$136,(MATCH(NLML.ChangeInScores.PrePostDataset[[#This Row],[First Name & Last Name*\n(choose from list)]],'NLM Data Test 2'!$X$12:$X$136,0)),1))-(INDEX('NLM Data Test 1'!$R$12:$R$136,(MATCH(NLML.ChangeInScores.PrePostDataset[[#This Row],[First Name & Last Name*\n(choose from list)]],'NLM Data Test 1'!$W$12:$W$136,0)),1))","v":{"$error":"#N/A"}},{"$f":"(INDEX('NLM Data Test 2'!$T$12:$T$136,(MATCH(NLML.ChangeInScores.PrePostDataset[[#This Row],[First Name & Last Name*\n(choose from list)]],'NLM Data Test 2'!$X$12:$X$136,0)),1))-(INDEX('NLM Data Test 1'!$S$12:$S$136,(MATCH(NLML.ChangeInScores.PrePostDataset[[#This Row],[First Name & Last Name*\n(choose from list)]],'NLM Data Test 1'!$W$12:$W$136,0)),1))","v":{"$error":"#N/A"}},{"$f":"IFERROR(INDEX('NLM Data Test 1'!$T$12:$T$136,(MATCH(NLML.ChangeInScores.PrePostDataset[[#This Row],[First Name & Last Name*\n(choose from list)]],'NLM Data Test 1'!$W$12:$W$136,0)),1),\"\")","v":""},{"$f":"IFERROR(INDEX('NLM Data Test 2'!$U$12:$U$136,(MATCH(NLML.ChangeInScores.PrePostDataset[[#This Row],[First Name & Last Name*\n(choose from list)]],'NLM Data Test 2'!$X$12:$X$136,0)),1),\"\")","v":""}]
[56,{"$f":"IFERROR(INDEX(NLML.Test1.PrePostDataset[*First Name],(MATCH(NLML.ChangeInScores.PrePostDataset[[#This Row],[First Name & Last Name*\n(choose from list)]],'NLM Data Test 1'!W67:W191,0)),1),\"\")","v":""},{"$f":"IFERROR(INDEX(NLML.Test1.PrePostDataset[*Last Name],(MATCH(NLML.ChangeInScores.PrePostDataset[[#This Row],[First Name & Last Name*\n(choose from list)]],'NLM Data Test 1'!W67:W191,0)),1),\"\")","v":""},{"$f":"'NLM Data Test 2'!D67","v":0},{"$f":"IF(IFERROR(MATCH($D71,'NLM Data Test 2'!$D$12:$D$136,0),\"Error\")=\"Error\",(INDEX('NLM Data Test 1'!$D$12:$D$136,(MATCH($D71,'NLM Data Test 1'!$W$12:$W$136,0)),1)),(INDEX('NLM Data Test 2'!$E$12:$E$136,(MATCH($D71,'NLM Data Test 2'!$D$12:$D$136,0)),1)))","v":{"$error":"#N/A"}},{"$f":"IF(IFERROR(MATCH($D71,'NLM Data Test 2'!$D$12:$D$136,0),\"Error\")=\"Error\",(INDEX('NLM Data Test 1'!$E$12:$E$136,(MATCH($D71,'NLM Data Test 1'!$W$12:$W$136,0)),1)),(INDEX('NLM Data Test 2'!$G$12:$G$136,(MATCH($D71,'NLM Data Test 2'!$D$12:$D$136,0)),1)))","v":{"$error":"#N/A"}},{"$f":"IF(IFERROR(MATCH($D71,'NLM Data Test 2'!$D$12:$D$136,0),\"Error\")=\"Error\",(INDEX('NLM Data Test 1'!$F$12:$F$136,(MATCH($D71,'NLM Data Test 1'!$W$12:$W$136,0)),1)),(INDEX('NLM Data Test 2'!$F$12:$F$136,(MATCH($D71,'NLM Data Test 2'!$D$12:$D$136,0)),1)))","v":{"$error":"#N/A"}},{"$f":"IF(INDEX('NLM Data Test 1'!$H$12:$H$136,(MATCH(NLML.ChangeInScores.PrePostDataset[[#This Row],[First Name & Last Name*\n(choose from list)]],'NLM Data Test 1'!$W$12:$W$136,0)),1)=\"\",\"\",(INDEX('NLM Data Test 1'!H$12:H$136,(MATCH(NLML.ChangeInScores.PrePostDataset[[#This Row],[First Name & Last Name*\n(choose from list)]],'NLM Data Test 1'!$W$12:$W$136,0)),1)))","v":{"$error":"#N/A"}},{"$f":"IF(INDEX('NLM Data Test 1'!$I$12:$I$136,(MATCH(NLML.ChangeInScores.PrePostDataset[[#This Row],[First Name & Last Name*\n(choose from list)]],'NLM Data Test 1'!$W$12:$W$136,0)),1)=\"\",\"\",(INDEX('NLM Data Test 1'!I$12:I$136,(MATCH(NLML.ChangeInScores.PrePostDataset[[#This Row],[First Name & Last Name*\n(choose from list)]],'NLM Data Test 1'!$W$12:$W$136,0)),1)))","v":{"$error":"#N/A"}},{"$f":"IF(INDEX('NLM Data Test 1'!$J$12:$J$136,(MATCH(NLML.ChangeInScores.PrePostDataset[[#This Row],[First Name & Last Name*\n(choose from list)]],'NLM Data Test 1'!$W$12:$W$136,0)),1)=\"\",\"\",(INDEX('NLM Data Test 1'!J$12:J$136,(MATCH(NLML.ChangeInScores.PrePostDataset[[#This Row],[First Name & Last Name*\n(choose from list)]],'NLM Data Test 1'!$W$12:$W$136,0)),1)))","v":{"$error":"#N/A"}},{"$f":"IFERROR(INDEX('NLM Data Test 1'!$M$12:$M$136,(MATCH(NLML.ChangeInScores.PrePostDataset[[#This Row],[First Name & Last Name*\n(choose from list)]],'NLM Data Test 1'!$W$12:$W$136,0)),1),\"\")","v":""},{"$f":"INDEX('NLM Data Test 2'!$I$12:$I$136,(MATCH(NLML.ChangeInScores.PrePostDataset[[#This Row],[First Name & Last Name*\n(choose from list)]],'NLM Data Test 2'!$D$12:$D$136,0)),1)","v":{"$error":"#N/A"}},{"$f":"IFERROR(INDEX('NLM Data Test 2'!$J$12:$J$136,(MATCH(NLML.ChangeInScores.PrePostDataset[[#This Row],[First Name & Last Name*\n(choose from list)]],'NLM Data Test 2'!$X$12:$X$136,0)),1),\"\")","v":""},{"$f":"IFERROR(INDEX('NLM Data Test 2'!$K$12:$K$136,(MATCH(NLML.ChangeInScores.PrePostDataset[[#This Row],[First Name & Last Name*\n(choose from list)]],'NLM Data Test 2'!$X$12:$X$136,0)),1),\"\")","v":""},{"$f":"IFERROR(INDEX('NLM Data Test 2'!$N$12:$N$136,(MATCH(NLML.ChangeInScores.PrePostDataset[[#This Row],[First Name & Last Name*\n(choose from list)]],'NLM Data Test 2'!$X$12:$X$136,0)),1),\"\")","v":""},{"$f":"(INDEX('NLM Data Test 2'!$O$12:$O$136,(MATCH(NLML.ChangeInScores.PrePostDataset[[#This Row],[First Name & Last Name*\n(choose from list)]],'NLM Data Test 2'!$X$12:$X$136,0)),1))-(INDEX('NLM Data Test 1'!$N$12:$N$136,(MATCH(NLML.ChangeInScores.PrePostDataset[[#This Row],[First Name & Last Name*\n(choose from list)]],'NLM Data Test 1'!$W$12:$W$136,0)),1))","v":{"$error":"#N/A"}},{"$f":"(INDEX('NLM Data Test 2'!$P$12:$P$136,(MATCH(NLML.ChangeInScores.PrePostDataset[[#This Row],[First Name & Last Name*\n(choose from list)]],'NLM Data Test 2'!$X$12:$X$136,0)),1))-(INDEX('NLM Data Test 1'!$O$12:$O$136,(MATCH(NLML.ChangeInScores.PrePostDataset[[#This Row],[First Name & Last Name*\n(choose from list)]],'NLM Data Test 1'!$W$12:$W$136,0)),1))","v":{"$error":"#N/A"}},{"$f":"(INDEX('NLM Data Test 2'!$Q$12:$Q$136,(MATCH(NLML.ChangeInScores.PrePostDataset[[#This Row],[First Name & Last Name*\n(choose from list)]],'NLM Data Test 2'!$X$12:$X$136,0)),1))-(INDEX('NLM Data Test 1'!$P$12:$P$136,(MATCH(NLML.ChangeInScores.PrePostDataset[[#This Row],[First Name & Last Name*\n(choose from list)]],'NLM Data Test 1'!$W$12:$W$136,0)),1))","v":{"$error":"#N/A"}},{"$f":"(INDEX('NLM Data Test 2'!$R$12:$R$136,(MATCH(NLML.ChangeInScores.PrePostDataset[[#This Row],[First Name & Last Name*\n(choose from list)]],'NLM Data Test 2'!$X$12:$X$136,0)),1))-(INDEX('NLM Data Test 1'!$Q$12:$Q$136,(MATCH(NLML.ChangeInScores.PrePostDataset[[#This Row],[First Name & Last Name*\n(choose from list)]],'NLM Data Test 1'!$W$12:$W$136,0)),1))","v":{"$error":"#N/A"}},{"$f":"(INDEX('NLM Data Test 2'!$S$12:$S$136,(MATCH(NLML.ChangeInScores.PrePostDataset[[#This Row],[First Name & Last Name*\n(choose from list)]],'NLM Data Test 2'!$X$12:$X$136,0)),1))-(INDEX('NLM Data Test 1'!$R$12:$R$136,(MATCH(NLML.ChangeInScores.PrePostDataset[[#This Row],[First Name & Last Name*\n(choose from list)]],'NLM Data Test 1'!$W$12:$W$136,0)),1))","v":{"$error":"#N/A"}},{"$f":"(INDEX('NLM Data Test 2'!$T$12:$T$136,(MATCH(NLML.ChangeInScores.PrePostDataset[[#This Row],[First Name & Last Name*\n(choose from list)]],'NLM Data Test 2'!$X$12:$X$136,0)),1))-(INDEX('NLM Data Test 1'!$S$12:$S$136,(MATCH(NLML.ChangeInScores.PrePostDataset[[#This Row],[First Name & Last Name*\n(choose from list)]],'NLM Data Test 1'!$W$12:$W$136,0)),1))","v":{"$error":"#N/A"}},{"$f":"IFERROR(INDEX('NLM Data Test 1'!$T$12:$T$136,(MATCH(NLML.ChangeInScores.PrePostDataset[[#This Row],[First Name & Last Name*\n(choose from list)]],'NLM Data Test 1'!$W$12:$W$136,0)),1),\"\")","v":""},{"$f":"IFERROR(INDEX('NLM Data Test 2'!$U$12:$U$136,(MATCH(NLML.ChangeInScores.PrePostDataset[[#This Row],[First Name & Last Name*\n(choose from list)]],'NLM Data Test 2'!$X$12:$X$136,0)),1),\"\")","v":""}]
[57,{"$f":"IFERROR(INDEX(NLML.Test1.PrePostDataset[*First Name],(MATCH(NLML.ChangeInScores.PrePostDataset[[#This Row],[First Name & Last Name*\n(choose from list)]],'NLM Data Test 1'!W68:W192,0)),1),\"\")","v":""},{"$f":"IFERROR(INDEX(NLML.Test1.PrePostDataset[*Last Name],(MATCH(NLML.ChangeInScores.PrePostDataset[[#This Row],[First Name & Last Name*\n(choose from list)]],'NLM Data Test 1'!W68:W192,0)),1),\"\")","v":""},{"$f":"'NLM Data Test 2'!D68","v":0},{"$f":"IF(IFERROR(MATCH($D72,'NLM Data Test 2'!$D$12:$D$136,0),\"Error\")=\"Error\",(INDEX('NLM Data Test 1'!$D$12:$D$136,(MATCH($D72,'NLM Data Test 1'!$W$12:$W$136,0)),1)),(INDEX('NLM Data Test 2'!$E$12:$E$136,(MATCH($D72,'NLM Data Test 2'!$D$12:$D$136,0)),1)))","v":{"$error":"#N/A"}},{"$f":"IF(IFERROR(MATCH($D72,'NLM Data Test 2'!$D$12:$D$136,0),\"Error\")=\"Error\",(INDEX('NLM Data Test 1'!$E$12:$E$136,(MATCH($D72,'NLM Data Test 1'!$W$12:$W$136,0)),1)),(INDEX('NLM Data Test 2'!$G$12:$G$136,(MATCH($D72,'NLM Data Test 2'!$D$12:$D$136,0)),1)))","v":{"$error":"#N/A"}},{"$f":"IF(IFERROR(MATCH($D72,'NLM Data Test 2'!$D$12:$D$136,0),\"Error\")=\"Error\",(INDEX('NLM Data Test 1'!$F$12:$F$136,(MATCH($D72,'NLM Data Test 1'!$W$12:$W$136,0)),1)),(INDEX('NLM Data Test 2'!$F$12:$F$136,(MATCH($D72,'NLM Data Test 2'!$D$12:$D$136,0)),1)))","v":{"$error":"#N/A"}},{"$f":"IF(INDEX('NLM Data Test 1'!$H$12:$H$136,(MATCH(NLML.ChangeInScores.PrePostDataset[[#This Row],[First Name & Last Name*\n(choose from list)]],'NLM Data Test 1'!$W$12:$W$136,0)),1)=\"\",\"\",(INDEX('NLM Data Test 1'!H$12:H$136,(MATCH(NLML.ChangeInScores.PrePostDataset[[#This Row],[First Name & Last Name*\n(choose from list)]],'NLM Data Test 1'!$W$12:$W$136,0)),1)))","v":{"$error":"#N/A"}},{"$f":"IF(INDEX('NLM Data Test 1'!$I$12:$I$136,(MATCH(NLML.ChangeInScores.PrePostDataset[[#This Row],[First Name & Last Name*\n(choose from list)]],'NLM Data Test 1'!$W$12:$W$136,0)),1)=\"\",\"\",(INDEX('NLM Data Test 1'!I$12:I$136,(MATCH(NLML.ChangeInScores.PrePostDataset[[#This Row],[First Name & Last Name*\n(choose from list)]],'NLM Data Test 1'!$W$12:$W$136,0)),1)))","v":{"$error":"#N/A"}},{"$f":"IF(INDEX('NLM Data Test 1'!$J$12:$J$136,(MATCH(NLML.ChangeInScores.PrePostDataset[[#This Row],[First Name & Last Name*\n(choose from list)]],'NLM Data Test 1'!$W$12:$W$136,0)),1)=\"\",\"\",(INDEX('NLM Data Test 1'!J$12:J$136,(MATCH(NLML.ChangeInScores.PrePostDataset[[#This Row],[First Name & Last Name*\n(choose from list)]],'NLM Data Test 1'!$W$12:$W$136,0)),1)))","v":{"$error":"#N/A"}},{"$f":"IFERROR(INDEX('NLM Data Test 1'!$M$12:$M$136,(MATCH(NLML.ChangeInScores.PrePostDataset[[#This Row],[First Name & Last Name*\n(choose from list)]],'NLM Data Test 1'!$W$12:$W$136,0)),1),\"\")","v":""},{"$f":"INDEX('NLM Data Test 2'!$I$12:$I$136,(MATCH(NLML.ChangeInScores.PrePostDataset[[#This Row],[First Name & Last Name*\n(choose from list)]],'NLM Data Test 2'!$D$12:$D$136,0)),1)","v":{"$error":"#N/A"}},{"$f":"IFERROR(INDEX('NLM Data Test 2'!$J$12:$J$136,(MATCH(NLML.ChangeInScores.PrePostDataset[[#This Row],[First Name & Last Name*\n(choose from list)]],'NLM Data Test 2'!$X$12:$X$136,0)),1),\"\")","v":""},{"$f":"IFERROR(INDEX('NLM Data Test 2'!$K$12:$K$136,(MATCH(NLML.ChangeInScores.PrePostDataset[[#This Row],[First Name & Last Name*\n(choose from list)]],'NLM Data Test 2'!$X$12:$X$136,0)),1),\"\")","v":""},{"$f":"IFERROR(INDEX('NLM Data Test 2'!$N$12:$N$136,(MATCH(NLML.ChangeInScores.PrePostDataset[[#This Row],[First Name & Last Name*\n(choose from list)]],'NLM Data Test 2'!$X$12:$X$136,0)),1),\"\")","v":""},{"$f":"(INDEX('NLM Data Test 2'!$O$12:$O$136,(MATCH(NLML.ChangeInScores.PrePostDataset[[#This Row],[First Name & Last Name*\n(choose from list)]],'NLM Data Test 2'!$X$12:$X$136,0)),1))-(INDEX('NLM Data Test 1'!$N$12:$N$136,(MATCH(NLML.ChangeInScores.PrePostDataset[[#This Row],[First Name & Last Name*\n(choose from list)]],'NLM Data Test 1'!$W$12:$W$136,0)),1))","v":{"$error":"#N/A"}},{"$f":"(INDEX('NLM Data Test 2'!$P$12:$P$136,(MATCH(NLML.ChangeInScores.PrePostDataset[[#This Row],[First Name & Last Name*\n(choose from list)]],'NLM Data Test 2'!$X$12:$X$136,0)),1))-(INDEX('NLM Data Test 1'!$O$12:$O$136,(MATCH(NLML.ChangeInScores.PrePostDataset[[#This Row],[First Name & Last Name*\n(choose from list)]],'NLM Data Test 1'!$W$12:$W$136,0)),1))","v":{"$error":"#N/A"}},{"$f":"(INDEX('NLM Data Test 2'!$Q$12:$Q$136,(MATCH(NLML.ChangeInScores.PrePostDataset[[#This Row],[First Name & Last Name*\n(choose from list)]],'NLM Data Test 2'!$X$12:$X$136,0)),1))-(INDEX('NLM Data Test 1'!$P$12:$P$136,(MATCH(NLML.ChangeInScores.PrePostDataset[[#This Row],[First Name & Last Name*\n(choose from list)]],'NLM Data Test 1'!$W$12:$W$136,0)),1))","v":{"$error":"#N/A"}},{"$f":"(INDEX('NLM Data Test 2'!$R$12:$R$136,(MATCH(NLML.ChangeInScores.PrePostDataset[[#This Row],[First Name & Last Name*\n(choose from list)]],'NLM Data Test 2'!$X$12:$X$136,0)),1))-(INDEX('NLM Data Test 1'!$Q$12:$Q$136,(MATCH(NLML.ChangeInScores.PrePostDataset[[#This Row],[First Name & Last Name*\n(choose from list)]],'NLM Data Test 1'!$W$12:$W$136,0)),1))","v":{"$error":"#N/A"}},{"$f":"(INDEX('NLM Data Test 2'!$S$12:$S$136,(MATCH(NLML.ChangeInScores.PrePostDataset[[#This Row],[First Name & Last Name*\n(choose from list)]],'NLM Data Test 2'!$X$12:$X$136,0)),1))-(INDEX('NLM Data Test 1'!$R$12:$R$136,(MATCH(NLML.ChangeInScores.PrePostDataset[[#This Row],[First Name & Last Name*\n(choose from list)]],'NLM Data Test 1'!$W$12:$W$136,0)),1))","v":{"$error":"#N/A"}},{"$f":"(INDEX('NLM Data Test 2'!$T$12:$T$136,(MATCH(NLML.ChangeInScores.PrePostDataset[[#This Row],[First Name & Last Name*\n(choose from list)]],'NLM Data Test 2'!$X$12:$X$136,0)),1))-(INDEX('NLM Data Test 1'!$S$12:$S$136,(MATCH(NLML.ChangeInScores.PrePostDataset[[#This Row],[First Name & Last Name*\n(choose from list)]],'NLM Data Test 1'!$W$12:$W$136,0)),1))","v":{"$error":"#N/A"}},{"$f":"IFERROR(INDEX('NLM Data Test 1'!$T$12:$T$136,(MATCH(NLML.ChangeInScores.PrePostDataset[[#This Row],[First Name & Last Name*\n(choose from list)]],'NLM Data Test 1'!$W$12:$W$136,0)),1),\"\")","v":""},{"$f":"IFERROR(INDEX('NLM Data Test 2'!$U$12:$U$136,(MATCH(NLML.ChangeInScores.PrePostDataset[[#This Row],[First Name & Last Name*\n(choose from list)]],'NLM Data Test 2'!$X$12:$X$136,0)),1),\"\")","v":""}]
[58,{"$f":"IFERROR(INDEX(NLML.Test1.PrePostDataset[*First Name],(MATCH(NLML.ChangeInScores.PrePostDataset[[#This Row],[First Name & Last Name*\n(choose from list)]],'NLM Data Test 1'!W69:W193,0)),1),\"\")","v":""},{"$f":"IFERROR(INDEX(NLML.Test1.PrePostDataset[*Last Name],(MATCH(NLML.ChangeInScores.PrePostDataset[[#This Row],[First Name & Last Name*\n(choose from list)]],'NLM Data Test 1'!W69:W193,0)),1),\"\")","v":""},{"$f":"'NLM Data Test 2'!D69","v":0},{"$f":"IF(IFERROR(MATCH($D73,'NLM Data Test 2'!$D$12:$D$136,0),\"Error\")=\"Error\",(INDEX('NLM Data Test 1'!$D$12:$D$136,(MATCH($D73,'NLM Data Test 1'!$W$12:$W$136,0)),1)),(INDEX('NLM Data Test 2'!$E$12:$E$136,(MATCH($D73,'NLM Data Test 2'!$D$12:$D$136,0)),1)))","v":{"$error":"#N/A"}},{"$f":"IF(IFERROR(MATCH($D73,'NLM Data Test 2'!$D$12:$D$136,0),\"Error\")=\"Error\",(INDEX('NLM Data Test 1'!$E$12:$E$136,(MATCH($D73,'NLM Data Test 1'!$W$12:$W$136,0)),1)),(INDEX('NLM Data Test 2'!$G$12:$G$136,(MATCH($D73,'NLM Data Test 2'!$D$12:$D$136,0)),1)))","v":{"$error":"#N/A"}},{"$f":"IF(IFERROR(MATCH($D73,'NLM Data Test 2'!$D$12:$D$136,0),\"Error\")=\"Error\",(INDEX('NLM Data Test 1'!$F$12:$F$136,(MATCH($D73,'NLM Data Test 1'!$W$12:$W$136,0)),1)),(INDEX('NLM Data Test 2'!$F$12:$F$136,(MATCH($D73,'NLM Data Test 2'!$D$12:$D$136,0)),1)))","v":{"$error":"#N/A"}},{"$f":"IF(INDEX('NLM Data Test 1'!$H$12:$H$136,(MATCH(NLML.ChangeInScores.PrePostDataset[[#This Row],[First Name & Last Name*\n(choose from list)]],'NLM Data Test 1'!$W$12:$W$136,0)),1)=\"\",\"\",(INDEX('NLM Data Test 1'!H$12:H$136,(MATCH(NLML.ChangeInScores.PrePostDataset[[#This Row],[First Name & Last Name*\n(choose from list)]],'NLM Data Test 1'!$W$12:$W$136,0)),1)))","v":{"$error":"#N/A"}},{"$f":"IF(INDEX('NLM Data Test 1'!$I$12:$I$136,(MATCH(NLML.ChangeInScores.PrePostDataset[[#This Row],[First Name & Last Name*\n(choose from list)]],'NLM Data Test 1'!$W$12:$W$136,0)),1)=\"\",\"\",(INDEX('NLM Data Test 1'!I$12:I$136,(MATCH(NLML.ChangeInScores.PrePostDataset[[#This Row],[First Name & Last Name*\n(choose from list)]],'NLM Data Test 1'!$W$12:$W$136,0)),1)))","v":{"$error":"#N/A"}},{"$f":"IF(INDEX('NLM Data Test 1'!$J$12:$J$136,(MATCH(NLML.ChangeInScores.PrePostDataset[[#This Row],[First Name & Last Name*\n(choose from list)]],'NLM Data Test 1'!$W$12:$W$136,0)),1)=\"\",\"\",(INDEX('NLM Data Test 1'!J$12:J$136,(MATCH(NLML.ChangeInScores.PrePostDataset[[#This Row],[First Name & Last Name*\n(choose from list)]],'NLM Data Test 1'!$W$12:$W$136,0)),1)))","v":{"$error":"#N/A"}},{"$f":"IFERROR(INDEX('NLM Data Test 1'!$M$12:$M$136,(MATCH(NLML.ChangeInScores.PrePostDataset[[#This Row],[First Name & Last Name*\n(choose from list)]],'NLM Data Test 1'!$W$12:$W$136,0)),1),\"\")","v":""},{"$f":"INDEX('NLM Data Test 2'!$I$12:$I$136,(MATCH(NLML.ChangeInScores.PrePostDataset[[#This Row],[First Name & Last Name*\n(choose from list)]],'NLM Data Test 2'!$D$12:$D$136,0)),1)","v":{"$error":"#N/A"}},{"$f":"IFERROR(INDEX('NLM Data Test 2'!$J$12:$J$136,(MATCH(NLML.ChangeInScores.PrePostDataset[[#This Row],[First Name & Last Name*\n(choose from list)]],'NLM Data Test 2'!$X$12:$X$136,0)),1),\"\")","v":""},{"$f":"IFERROR(INDEX('NLM Data Test 2'!$K$12:$K$136,(MATCH(NLML.ChangeInScores.PrePostDataset[[#This Row],[First Name & Last Name*\n(choose from list)]],'NLM Data Test 2'!$X$12:$X$136,0)),1),\"\")","v":""},{"$f":"IFERROR(INDEX('NLM Data Test 2'!$N$12:$N$136,(MATCH(NLML.ChangeInScores.PrePostDataset[[#This Row],[First Name & Last Name*\n(choose from list)]],'NLM Data Test 2'!$X$12:$X$136,0)),1),\"\")","v":""},{"$f":"(INDEX('NLM Data Test 2'!$O$12:$O$136,(MATCH(NLML.ChangeInScores.PrePostDataset[[#This Row],[First Name & Last Name*\n(choose from list)]],'NLM Data Test 2'!$X$12:$X$136,0)),1))-(INDEX('NLM Data Test 1'!$N$12:$N$136,(MATCH(NLML.ChangeInScores.PrePostDataset[[#This Row],[First Name & Last Name*\n(choose from list)]],'NLM Data Test 1'!$W$12:$W$136,0)),1))","v":{"$error":"#N/A"}},{"$f":"(INDEX('NLM Data Test 2'!$P$12:$P$136,(MATCH(NLML.ChangeInScores.PrePostDataset[[#This Row],[First Name & Last Name*\n(choose from list)]],'NLM Data Test 2'!$X$12:$X$136,0)),1))-(INDEX('NLM Data Test 1'!$O$12:$O$136,(MATCH(NLML.ChangeInScores.PrePostDataset[[#This Row],[First Name & Last Name*\n(choose from list)]],'NLM Data Test 1'!$W$12:$W$136,0)),1))","v":{"$error":"#N/A"}},{"$f":"(INDEX('NLM Data Test 2'!$Q$12:$Q$136,(MATCH(NLML.ChangeInScores.PrePostDataset[[#This Row],[First Name & Last Name*\n(choose from list)]],'NLM Data Test 2'!$X$12:$X$136,0)),1))-(INDEX('NLM Data Test 1'!$P$12:$P$136,(MATCH(NLML.ChangeInScores.PrePostDataset[[#This Row],[First Name & Last Name*\n(choose from list)]],'NLM Data Test 1'!$W$12:$W$136,0)),1))","v":{"$error":"#N/A"}},{"$f":"(INDEX('NLM Data Test 2'!$R$12:$R$136,(MATCH(NLML.ChangeInScores.PrePostDataset[[#This Row],[First Name & Last Name*\n(choose from list)]],'NLM Data Test 2'!$X$12:$X$136,0)),1))-(INDEX('NLM Data Test 1'!$Q$12:$Q$136,(MATCH(NLML.ChangeInScores.PrePostDataset[[#This Row],[First Name & Last Name*\n(choose from list)]],'NLM Data Test 1'!$W$12:$W$136,0)),1))","v":{"$error":"#N/A"}},{"$f":"(INDEX('NLM Data Test 2'!$S$12:$S$136,(MATCH(NLML.ChangeInScores.PrePostDataset[[#This Row],[First Name & Last Name*\n(choose from list)]],'NLM Data Test 2'!$X$12:$X$136,0)),1))-(INDEX('NLM Data Test 1'!$R$12:$R$136,(MATCH(NLML.ChangeInScores.PrePostDataset[[#This Row],[First Name & Last Name*\n(choose from list)]],'NLM Data Test 1'!$W$12:$W$136,0)),1))","v":{"$error":"#N/A"}},{"$f":"(INDEX('NLM Data Test 2'!$T$12:$T$136,(MATCH(NLML.ChangeInScores.PrePostDataset[[#This Row],[First Name & Last Name*\n(choose from list)]],'NLM Data Test 2'!$X$12:$X$136,0)),1))-(INDEX('NLM Data Test 1'!$S$12:$S$136,(MATCH(NLML.ChangeInScores.PrePostDataset[[#This Row],[First Name & Last Name*\n(choose from list)]],'NLM Data Test 1'!$W$12:$W$136,0)),1))","v":{"$error":"#N/A"}},{"$f":"IFERROR(INDEX('NLM Data Test 1'!$T$12:$T$136,(MATCH(NLML.ChangeInScores.PrePostDataset[[#This Row],[First Name & Last Name*\n(choose from list)]],'NLM Data Test 1'!$W$12:$W$136,0)),1),\"\")","v":""},{"$f":"IFERROR(INDEX('NLM Data Test 2'!$U$12:$U$136,(MATCH(NLML.ChangeInScores.PrePostDataset[[#This Row],[First Name & Last Name*\n(choose from list)]],'NLM Data Test 2'!$X$12:$X$136,0)),1),\"\")","v":""}]
[59,{"$f":"IFERROR(INDEX(NLML.Test1.PrePostDataset[*First Name],(MATCH(NLML.ChangeInScores.PrePostDataset[[#This Row],[First Name & Last Name*\n(choose from list)]],'NLM Data Test 1'!W70:W194,0)),1),\"\")","v":""},{"$f":"IFERROR(INDEX(NLML.Test1.PrePostDataset[*Last Name],(MATCH(NLML.ChangeInScores.PrePostDataset[[#This Row],[First Name & Last Name*\n(choose from list)]],'NLM Data Test 1'!W70:W194,0)),1),\"\")","v":""},{"$f":"'NLM Data Test 2'!D70","v":0},{"$f":"IF(IFERROR(MATCH($D74,'NLM Data Test 2'!$D$12:$D$136,0),\"Error\")=\"Error\",(INDEX('NLM Data Test 1'!$D$12:$D$136,(MATCH($D74,'NLM Data Test 1'!$W$12:$W$136,0)),1)),(INDEX('NLM Data Test 2'!$E$12:$E$136,(MATCH($D74,'NLM Data Test 2'!$D$12:$D$136,0)),1)))","v":{"$error":"#N/A"}},{"$f":"IF(IFERROR(MATCH($D74,'NLM Data Test 2'!$D$12:$D$136,0),\"Error\")=\"Error\",(INDEX('NLM Data Test 1'!$E$12:$E$136,(MATCH($D74,'NLM Data Test 1'!$W$12:$W$136,0)),1)),(INDEX('NLM Data Test 2'!$G$12:$G$136,(MATCH($D74,'NLM Data Test 2'!$D$12:$D$136,0)),1)))","v":{"$error":"#N/A"}},{"$f":"IF(IFERROR(MATCH($D74,'NLM Data Test 2'!$D$12:$D$136,0),\"Error\")=\"Error\",(INDEX('NLM Data Test 1'!$F$12:$F$136,(MATCH($D74,'NLM Data Test 1'!$W$12:$W$136,0)),1)),(INDEX('NLM Data Test 2'!$F$12:$F$136,(MATCH($D74,'NLM Data Test 2'!$D$12:$D$136,0)),1)))","v":{"$error":"#N/A"}},{"$f":"IF(INDEX('NLM Data Test 1'!$H$12:$H$136,(MATCH(NLML.ChangeInScores.PrePostDataset[[#This Row],[First Name & Last Name*\n(choose from list)]],'NLM Data Test 1'!$W$12:$W$136,0)),1)=\"\",\"\",(INDEX('NLM Data Test 1'!H$12:H$136,(MATCH(NLML.ChangeInScores.PrePostDataset[[#This Row],[First Name & Last Name*\n(choose from list)]],'NLM Data Test 1'!$W$12:$W$136,0)),1)))","v":{"$error":"#N/A"}},{"$f":"IF(INDEX('NLM Data Test 1'!$I$12:$I$136,(MATCH(NLML.ChangeInScores.PrePostDataset[[#This Row],[First Name & Last Name*\n(choose from list)]],'NLM Data Test 1'!$W$12:$W$136,0)),1)=\"\",\"\",(INDEX('NLM Data Test 1'!I$12:I$136,(MATCH(NLML.ChangeInScores.PrePostDataset[[#This Row],[First Name & Last Name*\n(choose from list)]],'NLM Data Test 1'!$W$12:$W$136,0)),1)))","v":{"$error":"#N/A"}},{"$f":"IF(INDEX('NLM Data Test 1'!$J$12:$J$136,(MATCH(NLML.ChangeInScores.PrePostDataset[[#This Row],[First Name & Last Name*\n(choose from list)]],'NLM Data Test 1'!$W$12:$W$136,0)),1)=\"\",\"\",(INDEX('NLM Data Test 1'!J$12:J$136,(MATCH(NLML.ChangeInScores.PrePostDataset[[#This Row],[First Name & Last Name*\n(choose from list)]],'NLM Data Test 1'!$W$12:$W$136,0)),1)))","v":{"$error":"#N/A"}},{"$f":"IFERROR(INDEX('NLM Data Test 1'!$M$12:$M$136,(MATCH(NLML.ChangeInScores.PrePostDataset[[#This Row],[First Name & Last Name*\n(choose from list)]],'NLM Data Test 1'!$W$12:$W$136,0)),1),\"\")","v":""},{"$f":"INDEX('NLM Data Test 2'!$I$12:$I$136,(MATCH(NLML.ChangeInScores.PrePostDataset[[#This Row],[First Name & Last Name*\n(choose from list)]],'NLM Data Test 2'!$D$12:$D$136,0)),1)","v":{"$error":"#N/A"}},{"$f":"IFERROR(INDEX('NLM Data Test 2'!$J$12:$J$136,(MATCH(NLML.ChangeInScores.PrePostDataset[[#This Row],[First Name & Last Name*\n(choose from list)]],'NLM Data Test 2'!$X$12:$X$136,0)),1),\"\")","v":""},{"$f":"IFERROR(INDEX('NLM Data Test 2'!$K$12:$K$136,(MATCH(NLML.ChangeInScores.PrePostDataset[[#This Row],[First Name & Last Name*\n(choose from list)]],'NLM Data Test 2'!$X$12:$X$136,0)),1),\"\")","v":""},{"$f":"IFERROR(INDEX('NLM Data Test 2'!$N$12:$N$136,(MATCH(NLML.ChangeInScores.PrePostDataset[[#This Row],[First Name & Last Name*\n(choose from list)]],'NLM Data Test 2'!$X$12:$X$136,0)),1),\"\")","v":""},{"$f":"(INDEX('NLM Data Test 2'!$O$12:$O$136,(MATCH(NLML.ChangeInScores.PrePostDataset[[#This Row],[First Name & Last Name*\n(choose from list)]],'NLM Data Test 2'!$X$12:$X$136,0)),1))-(INDEX('NLM Data Test 1'!$N$12:$N$136,(MATCH(NLML.ChangeInScores.PrePostDataset[[#This Row],[First Name & Last Name*\n(choose from list)]],'NLM Data Test 1'!$W$12:$W$136,0)),1))","v":{"$error":"#N/A"}},{"$f":"(INDEX('NLM Data Test 2'!$P$12:$P$136,(MATCH(NLML.ChangeInScores.PrePostDataset[[#This Row],[First Name & Last Name*\n(choose from list)]],'NLM Data Test 2'!$X$12:$X$136,0)),1))-(INDEX('NLM Data Test 1'!$O$12:$O$136,(MATCH(NLML.ChangeInScores.PrePostDataset[[#This Row],[First Name & Last Name*\n(choose from list)]],'NLM Data Test 1'!$W$12:$W$136,0)),1))","v":{"$error":"#N/A"}},{"$f":"(INDEX('NLM Data Test 2'!$Q$12:$Q$136,(MATCH(NLML.ChangeInScores.PrePostDataset[[#This Row],[First Name & Last Name*\n(choose from list)]],'NLM Data Test 2'!$X$12:$X$136,0)),1))-(INDEX('NLM Data Test 1'!$P$12:$P$136,(MATCH(NLML.ChangeInScores.PrePostDataset[[#This Row],[First Name & Last Name*\n(choose from list)]],'NLM Data Test 1'!$W$12:$W$136,0)),1))","v":{"$error":"#N/A"}},{"$f":"(INDEX('NLM Data Test 2'!$R$12:$R$136,(MATCH(NLML.ChangeInScores.PrePostDataset[[#This Row],[First Name & Last Name*\n(choose from list)]],'NLM Data Test 2'!$X$12:$X$136,0)),1))-(INDEX('NLM Data Test 1'!$Q$12:$Q$136,(MATCH(NLML.ChangeInScores.PrePostDataset[[#This Row],[First Name & Last Name*\n(choose from list)]],'NLM Data Test 1'!$W$12:$W$136,0)),1))","v":{"$error":"#N/A"}},{"$f":"(INDEX('NLM Data Test 2'!$S$12:$S$136,(MATCH(NLML.ChangeInScores.PrePostDataset[[#This Row],[First Name & Last Name*\n(choose from list)]],'NLM Data Test 2'!$X$12:$X$136,0)),1))-(INDEX('NLM Data Test 1'!$R$12:$R$136,(MATCH(NLML.ChangeInScores.PrePostDataset[[#This Row],[First Name & Last Name*\n(choose from list)]],'NLM Data Test 1'!$W$12:$W$136,0)),1))","v":{"$error":"#N/A"}},{"$f":"(INDEX('NLM Data Test 2'!$T$12:$T$136,(MATCH(NLML.ChangeInScores.PrePostDataset[[#This Row],[First Name & Last Name*\n(choose from list)]],'NLM Data Test 2'!$X$12:$X$136,0)),1))-(INDEX('NLM Data Test 1'!$S$12:$S$136,(MATCH(NLML.ChangeInScores.PrePostDataset[[#This Row],[First Name & Last Name*\n(choose from list)]],'NLM Data Test 1'!$W$12:$W$136,0)),1))","v":{"$error":"#N/A"}},{"$f":"IFERROR(INDEX('NLM Data Test 1'!$T$12:$T$136,(MATCH(NLML.ChangeInScores.PrePostDataset[[#This Row],[First Name & Last Name*\n(choose from list)]],'NLM Data Test 1'!$W$12:$W$136,0)),1),\"\")","v":""},{"$f":"IFERROR(INDEX('NLM Data Test 2'!$U$12:$U$136,(MATCH(NLML.ChangeInScores.PrePostDataset[[#This Row],[First Name & Last Name*\n(choose from list)]],'NLM Data Test 2'!$X$12:$X$136,0)),1),\"\")","v":""}]
[60,{"$f":"IFERROR(INDEX(NLML.Test1.PrePostDataset[*First Name],(MATCH(NLML.ChangeInScores.PrePostDataset[[#This Row],[First Name & Last Name*\n(choose from list)]],'NLM Data Test 1'!W71:W195,0)),1),\"\")","v":""},{"$f":"IFERROR(INDEX(NLML.Test1.PrePostDataset[*Last Name],(MATCH(NLML.ChangeInScores.PrePostDataset[[#This Row],[First Name & Last Name*\n(choose from list)]],'NLM Data Test 1'!W71:W195,0)),1),\"\")","v":""},{"$f":"'NLM Data Test 2'!D71","v":0},{"$f":"IF(IFERROR(MATCH($D75,'NLM Data Test 2'!$D$12:$D$136,0),\"Error\")=\"Error\",(INDEX('NLM Data Test 1'!$D$12:$D$136,(MATCH($D75,'NLM Data Test 1'!$W$12:$W$136,0)),1)),(INDEX('NLM Data Test 2'!$E$12:$E$136,(MATCH($D75,'NLM Data Test 2'!$D$12:$D$136,0)),1)))","v":{"$error":"#N/A"}},{"$f":"IF(IFERROR(MATCH($D75,'NLM Data Test 2'!$D$12:$D$136,0),\"Error\")=\"Error\",(INDEX('NLM Data Test 1'!$E$12:$E$136,(MATCH($D75,'NLM Data Test 1'!$W$12:$W$136,0)),1)),(INDEX('NLM Data Test 2'!$G$12:$G$136,(MATCH($D75,'NLM Data Test 2'!$D$12:$D$136,0)),1)))","v":{"$error":"#N/A"}},{"$f":"IF(IFERROR(MATCH($D75,'NLM Data Test 2'!$D$12:$D$136,0),\"Error\")=\"Error\",(INDEX('NLM Data Test 1'!$F$12:$F$136,(MATCH($D75,'NLM Data Test 1'!$W$12:$W$136,0)),1)),(INDEX('NLM Data Test 2'!$F$12:$F$136,(MATCH($D75,'NLM Data Test 2'!$D$12:$D$136,0)),1)))","v":{"$error":"#N/A"}},{"$f":"IF(INDEX('NLM Data Test 1'!$H$12:$H$136,(MATCH(NLML.ChangeInScores.PrePostDataset[[#This Row],[First Name & Last Name*\n(choose from list)]],'NLM Data Test 1'!$W$12:$W$136,0)),1)=\"\",\"\",(INDEX('NLM Data Test 1'!H$12:H$136,(MATCH(NLML.ChangeInScores.PrePostDataset[[#This Row],[First Name & Last Name*\n(choose from list)]],'NLM Data Test 1'!$W$12:$W$136,0)),1)))","v":{"$error":"#N/A"}},{"$f":"IF(INDEX('NLM Data Test 1'!$I$12:$I$136,(MATCH(NLML.ChangeInScores.PrePostDataset[[#This Row],[First Name & Last Name*\n(choose from list)]],'NLM Data Test 1'!$W$12:$W$136,0)),1)=\"\",\"\",(INDEX('NLM Data Test 1'!I$12:I$136,(MATCH(NLML.ChangeInScores.PrePostDataset[[#This Row],[First Name & Last Name*\n(choose from list)]],'NLM Data Test 1'!$W$12:$W$136,0)),1)))","v":{"$error":"#N/A"}},{"$f":"IF(INDEX('NLM Data Test 1'!$J$12:$J$136,(MATCH(NLML.ChangeInScores.PrePostDataset[[#This Row],[First Name & Last Name*\n(choose from list)]],'NLM Data Test 1'!$W$12:$W$136,0)),1)=\"\",\"\",(INDEX('NLM Data Test 1'!J$12:J$136,(MATCH(NLML.ChangeInScores.PrePostDataset[[#This Row],[First Name & Last Name*\n(choose from list)]],'NLM Data Test 1'!$W$12:$W$136,0)),1)))","v":{"$error":"#N/A"}},{"$f":"IFERROR(INDEX('NLM Data Test 1'!$M$12:$M$136,(MATCH(NLML.ChangeInScores.PrePostDataset[[#This Row],[First Name & Last Name*\n(choose from list)]],'NLM Data Test 1'!$W$12:$W$136,0)),1),\"\")","v":""},{"$f":"INDEX('NLM Data Test 2'!$I$12:$I$136,(MATCH(NLML.ChangeInScores.PrePostDataset[[#This Row],[First Name & Last Name*\n(choose from list)]],'NLM Data Test 2'!$D$12:$D$136,0)),1)","v":{"$error":"#N/A"}},{"$f":"IFERROR(INDEX('NLM Data Test 2'!$J$12:$J$136,(MATCH(NLML.ChangeInScores.PrePostDataset[[#This Row],[First Name & Last Name*\n(choose from list)]],'NLM Data Test 2'!$X$12:$X$136,0)),1),\"\")","v":""},{"$f":"IFERROR(INDEX('NLM Data Test 2'!$K$12:$K$136,(MATCH(NLML.ChangeInScores.PrePostDataset[[#This Row],[First Name & Last Name*\n(choose from list)]],'NLM Data Test 2'!$X$12:$X$136,0)),1),\"\")","v":""},{"$f":"IFERROR(INDEX('NLM Data Test 2'!$N$12:$N$136,(MATCH(NLML.ChangeInScores.PrePostDataset[[#This Row],[First Name & Last Name*\n(choose from list)]],'NLM Data Test 2'!$X$12:$X$136,0)),1),\"\")","v":""},{"$f":"(INDEX('NLM Data Test 2'!$O$12:$O$136,(MATCH(NLML.ChangeInScores.PrePostDataset[[#This Row],[First Name & Last Name*\n(choose from list)]],'NLM Data Test 2'!$X$12:$X$136,0)),1))-(INDEX('NLM Data Test 1'!$N$12:$N$136,(MATCH(NLML.ChangeInScores.PrePostDataset[[#This Row],[First Name & Last Name*\n(choose from list)]],'NLM Data Test 1'!$W$12:$W$136,0)),1))","v":{"$error":"#N/A"}},{"$f":"(INDEX('NLM Data Test 2'!$P$12:$P$136,(MATCH(NLML.ChangeInScores.PrePostDataset[[#This Row],[First Name & Last Name*\n(choose from list)]],'NLM Data Test 2'!$X$12:$X$136,0)),1))-(INDEX('NLM Data Test 1'!$O$12:$O$136,(MATCH(NLML.ChangeInScores.PrePostDataset[[#This Row],[First Name & Last Name*\n(choose from list)]],'NLM Data Test 1'!$W$12:$W$136,0)),1))","v":{"$error":"#N/A"}},{"$f":"(INDEX('NLM Data Test 2'!$Q$12:$Q$136,(MATCH(NLML.ChangeInScores.PrePostDataset[[#This Row],[First Name & Last Name*\n(choose from list)]],'NLM Data Test 2'!$X$12:$X$136,0)),1))-(INDEX('NLM Data Test 1'!$P$12:$P$136,(MATCH(NLML.ChangeInScores.PrePostDataset[[#This Row],[First Name & Last Name*\n(choose from list)]],'NLM Data Test 1'!$W$12:$W$136,0)),1))","v":{"$error":"#N/A"}},{"$f":"(INDEX('NLM Data Test 2'!$R$12:$R$136,(MATCH(NLML.ChangeInScores.PrePostDataset[[#This Row],[First Name & Last Name*\n(choose from list)]],'NLM Data Test 2'!$X$12:$X$136,0)),1))-(INDEX('NLM Data Test 1'!$Q$12:$Q$136,(MATCH(NLML.ChangeInScores.PrePostDataset[[#This Row],[First Name & Last Name*\n(choose from list)]],'NLM Data Test 1'!$W$12:$W$136,0)),1))","v":{"$error":"#N/A"}},{"$f":"(INDEX('NLM Data Test 2'!$S$12:$S$136,(MATCH(NLML.ChangeInScores.PrePostDataset[[#This Row],[First Name & Last Name*\n(choose from list)]],'NLM Data Test 2'!$X$12:$X$136,0)),1))-(INDEX('NLM Data Test 1'!$R$12:$R$136,(MATCH(NLML.ChangeInScores.PrePostDataset[[#This Row],[First Name & Last Name*\n(choose from list)]],'NLM Data Test 1'!$W$12:$W$136,0)),1))","v":{"$error":"#N/A"}},{"$f":"(INDEX('NLM Data Test 2'!$T$12:$T$136,(MATCH(NLML.ChangeInScores.PrePostDataset[[#This Row],[First Name & Last Name*\n(choose from list)]],'NLM Data Test 2'!$X$12:$X$136,0)),1))-(INDEX('NLM Data Test 1'!$S$12:$S$136,(MATCH(NLML.ChangeInScores.PrePostDataset[[#This Row],[First Name & Last Name*\n(choose from list)]],'NLM Data Test 1'!$W$12:$W$136,0)),1))","v":{"$error":"#N/A"}},{"$f":"IFERROR(INDEX('NLM Data Test 1'!$T$12:$T$136,(MATCH(NLML.ChangeInScores.PrePostDataset[[#This Row],[First Name & Last Name*\n(choose from list)]],'NLM Data Test 1'!$W$12:$W$136,0)),1),\"\")","v":""},{"$f":"IFERROR(INDEX('NLM Data Test 2'!$U$12:$U$136,(MATCH(NLML.ChangeInScores.PrePostDataset[[#This Row],[First Name & Last Name*\n(choose from list)]],'NLM Data Test 2'!$X$12:$X$136,0)),1),\"\")","v":""}]
[61,{"$f":"IFERROR(INDEX(NLML.Test1.PrePostDataset[*First Name],(MATCH(NLML.ChangeInScores.PrePostDataset[[#This Row],[First Name & Last Name*\n(choose from list)]],'NLM Data Test 1'!W72:W196,0)),1),\"\")","v":""},{"$f":"IFERROR(INDEX(NLML.Test1.PrePostDataset[*Last Name],(MATCH(NLML.ChangeInScores.PrePostDataset[[#This Row],[First Name & Last Name*\n(choose from list)]],'NLM Data Test 1'!W72:W196,0)),1),\"\")","v":""},{"$f":"'NLM Data Test 2'!D72","v":0},{"$f":"IF(IFERROR(MATCH($D76,'NLM Data Test 2'!$D$12:$D$136,0),\"Error\")=\"Error\",(INDEX('NLM Data Test 1'!$D$12:$D$136,(MATCH($D76,'NLM Data Test 1'!$W$12:$W$136,0)),1)),(INDEX('NLM Data Test 2'!$E$12:$E$136,(MATCH($D76,'NLM Data Test 2'!$D$12:$D$136,0)),1)))","v":{"$error":"#N/A"}},{"$f":"IF(IFERROR(MATCH($D76,'NLM Data Test 2'!$D$12:$D$136,0),\"Error\")=\"Error\",(INDEX('NLM Data Test 1'!$E$12:$E$136,(MATCH($D76,'NLM Data Test 1'!$W$12:$W$136,0)),1)),(INDEX('NLM Data Test 2'!$G$12:$G$136,(MATCH($D76,'NLM Data Test 2'!$D$12:$D$136,0)),1)))","v":{"$error":"#N/A"}},{"$f":"IF(IFERROR(MATCH($D76,'NLM Data Test 2'!$D$12:$D$136,0),\"Error\")=\"Error\",(INDEX('NLM Data Test 1'!$F$12:$F$136,(MATCH($D76,'NLM Data Test 1'!$W$12:$W$136,0)),1)),(INDEX('NLM Data Test 2'!$F$12:$F$136,(MATCH($D76,'NLM Data Test 2'!$D$12:$D$136,0)),1)))","v":{"$error":"#N/A"}},{"$f":"IF(INDEX('NLM Data Test 1'!$H$12:$H$136,(MATCH(NLML.ChangeInScores.PrePostDataset[[#This Row],[First Name & Last Name*\n(choose from list)]],'NLM Data Test 1'!$W$12:$W$136,0)),1)=\"\",\"\",(INDEX('NLM Data Test 1'!H$12:H$136,(MATCH(NLML.ChangeInScores.PrePostDataset[[#This Row],[First Name & Last Name*\n(choose from list)]],'NLM Data Test 1'!$W$12:$W$136,0)),1)))","v":{"$error":"#N/A"}},{"$f":"IF(INDEX('NLM Data Test 1'!$I$12:$I$136,(MATCH(NLML.ChangeInScores.PrePostDataset[[#This Row],[First Name & Last Name*\n(choose from list)]],'NLM Data Test 1'!$W$12:$W$136,0)),1)=\"\",\"\",(INDEX('NLM Data Test 1'!I$12:I$136,(MATCH(NLML.ChangeInScores.PrePostDataset[[#This Row],[First Name & Last Name*\n(choose from list)]],'NLM Data Test 1'!$W$12:$W$136,0)),1)))","v":{"$error":"#N/A"}},{"$f":"IF(INDEX('NLM Data Test 1'!$J$12:$J$136,(MATCH(NLML.ChangeInScores.PrePostDataset[[#This Row],[First Name & Last Name*\n(choose from list)]],'NLM Data Test 1'!$W$12:$W$136,0)),1)=\"\",\"\",(INDEX('NLM Data Test 1'!J$12:J$136,(MATCH(NLML.ChangeInScores.PrePostDataset[[#This Row],[First Name & Last Name*\n(choose from list)]],'NLM Data Test 1'!$W$12:$W$136,0)),1)))","v":{"$error":"#N/A"}},{"$f":"IFERROR(INDEX('NLM Data Test 1'!$M$12:$M$136,(MATCH(NLML.ChangeInScores.PrePostDataset[[#This Row],[First Name & Last Name*\n(choose from list)]],'NLM Data Test 1'!$W$12:$W$136,0)),1),\"\")","v":""},{"$f":"INDEX('NLM Data Test 2'!$I$12:$I$136,(MATCH(NLML.ChangeInScores.PrePostDataset[[#This Row],[First Name & Last Name*\n(choose from list)]],'NLM Data Test 2'!$D$12:$D$136,0)),1)","v":{"$error":"#N/A"}},{"$f":"IFERROR(INDEX('NLM Data Test 2'!$J$12:$J$136,(MATCH(NLML.ChangeInScores.PrePostDataset[[#This Row],[First Name & Last Name*\n(choose from list)]],'NLM Data Test 2'!$X$12:$X$136,0)),1),\"\")","v":""},{"$f":"IFERROR(INDEX('NLM Data Test 2'!$K$12:$K$136,(MATCH(NLML.ChangeInScores.PrePostDataset[[#This Row],[First Name & Last Name*\n(choose from list)]],'NLM Data Test 2'!$X$12:$X$136,0)),1),\"\")","v":""},{"$f":"IFERROR(INDEX('NLM Data Test 2'!$N$12:$N$136,(MATCH(NLML.ChangeInScores.PrePostDataset[[#This Row],[First Name & Last Name*\n(choose from list)]],'NLM Data Test 2'!$X$12:$X$136,0)),1),\"\")","v":""},{"$f":"(INDEX('NLM Data Test 2'!$O$12:$O$136,(MATCH(NLML.ChangeInScores.PrePostDataset[[#This Row],[First Name & Last Name*\n(choose from list)]],'NLM Data Test 2'!$X$12:$X$136,0)),1))-(INDEX('NLM Data Test 1'!$N$12:$N$136,(MATCH(NLML.ChangeInScores.PrePostDataset[[#This Row],[First Name & Last Name*\n(choose from list)]],'NLM Data Test 1'!$W$12:$W$136,0)),1))","v":{"$error":"#N/A"}},{"$f":"(INDEX('NLM Data Test 2'!$P$12:$P$136,(MATCH(NLML.ChangeInScores.PrePostDataset[[#This Row],[First Name & Last Name*\n(choose from list)]],'NLM Data Test 2'!$X$12:$X$136,0)),1))-(INDEX('NLM Data Test 1'!$O$12:$O$136,(MATCH(NLML.ChangeInScores.PrePostDataset[[#This Row],[First Name & Last Name*\n(choose from list)]],'NLM Data Test 1'!$W$12:$W$136,0)),1))","v":{"$error":"#N/A"}},{"$f":"(INDEX('NLM Data Test 2'!$Q$12:$Q$136,(MATCH(NLML.ChangeInScores.PrePostDataset[[#This Row],[First Name & Last Name*\n(choose from list)]],'NLM Data Test 2'!$X$12:$X$136,0)),1))-(INDEX('NLM Data Test 1'!$P$12:$P$136,(MATCH(NLML.ChangeInScores.PrePostDataset[[#This Row],[First Name & Last Name*\n(choose from list)]],'NLM Data Test 1'!$W$12:$W$136,0)),1))","v":{"$error":"#N/A"}},{"$f":"(INDEX('NLM Data Test 2'!$R$12:$R$136,(MATCH(NLML.ChangeInScores.PrePostDataset[[#This Row],[First Name & Last Name*\n(choose from list)]],'NLM Data Test 2'!$X$12:$X$136,0)),1))-(INDEX('NLM Data Test 1'!$Q$12:$Q$136,(MATCH(NLML.ChangeInScores.PrePostDataset[[#This Row],[First Name & Last Name*\n(choose from list)]],'NLM Data Test 1'!$W$12:$W$136,0)),1))","v":{"$error":"#N/A"}},{"$f":"(INDEX('NLM Data Test 2'!$S$12:$S$136,(MATCH(NLML.ChangeInScores.PrePostDataset[[#This Row],[First Name & Last Name*\n(choose from list)]],'NLM Data Test 2'!$X$12:$X$136,0)),1))-(INDEX('NLM Data Test 1'!$R$12:$R$136,(MATCH(NLML.ChangeInScores.PrePostDataset[[#This Row],[First Name & Last Name*\n(choose from list)]],'NLM Data Test 1'!$W$12:$W$136,0)),1))","v":{"$error":"#N/A"}},{"$f":"(INDEX('NLM Data Test 2'!$T$12:$T$136,(MATCH(NLML.ChangeInScores.PrePostDataset[[#This Row],[First Name & Last Name*\n(choose from list)]],'NLM Data Test 2'!$X$12:$X$136,0)),1))-(INDEX('NLM Data Test 1'!$S$12:$S$136,(MATCH(NLML.ChangeInScores.PrePostDataset[[#This Row],[First Name & Last Name*\n(choose from list)]],'NLM Data Test 1'!$W$12:$W$136,0)),1))","v":{"$error":"#N/A"}},{"$f":"IFERROR(INDEX('NLM Data Test 1'!$T$12:$T$136,(MATCH(NLML.ChangeInScores.PrePostDataset[[#This Row],[First Name & Last Name*\n(choose from list)]],'NLM Data Test 1'!$W$12:$W$136,0)),1),\"\")","v":""},{"$f":"IFERROR(INDEX('NLM Data Test 2'!$U$12:$U$136,(MATCH(NLML.ChangeInScores.PrePostDataset[[#This Row],[First Name & Last Name*\n(choose from list)]],'NLM Data Test 2'!$X$12:$X$136,0)),1),\"\")","v":""}]
[62,{"$f":"IFERROR(INDEX(NLML.Test1.PrePostDataset[*First Name],(MATCH(NLML.ChangeInScores.PrePostDataset[[#This Row],[First Name & Last Name*\n(choose from list)]],'NLM Data Test 1'!W73:W197,0)),1),\"\")","v":""},{"$f":"IFERROR(INDEX(NLML.Test1.PrePostDataset[*Last Name],(MATCH(NLML.ChangeInScores.PrePostDataset[[#This Row],[First Name & Last Name*\n(choose from list)]],'NLM Data Test 1'!W73:W197,0)),1),\"\")","v":""},{"$f":"'NLM Data Test 2'!D73","v":0},{"$f":"IF(IFERROR(MATCH($D77,'NLM Data Test 2'!$D$12:$D$136,0),\"Error\")=\"Error\",(INDEX('NLM Data Test 1'!$D$12:$D$136,(MATCH($D77,'NLM Data Test 1'!$W$12:$W$136,0)),1)),(INDEX('NLM Data Test 2'!$E$12:$E$136,(MATCH($D77,'NLM Data Test 2'!$D$12:$D$136,0)),1)))","v":{"$error":"#N/A"}},{"$f":"IF(IFERROR(MATCH($D77,'NLM Data Test 2'!$D$12:$D$136,0),\"Error\")=\"Error\",(INDEX('NLM Data Test 1'!$E$12:$E$136,(MATCH($D77,'NLM Data Test 1'!$W$12:$W$136,0)),1)),(INDEX('NLM Data Test 2'!$G$12:$G$136,(MATCH($D77,'NLM Data Test 2'!$D$12:$D$136,0)),1)))","v":{"$error":"#N/A"}},{"$f":"IF(IFERROR(MATCH($D77,'NLM Data Test 2'!$D$12:$D$136,0),\"Error\")=\"Error\",(INDEX('NLM Data Test 1'!$F$12:$F$136,(MATCH($D77,'NLM Data Test 1'!$W$12:$W$136,0)),1)),(INDEX('NLM Data Test 2'!$F$12:$F$136,(MATCH($D77,'NLM Data Test 2'!$D$12:$D$136,0)),1)))","v":{"$error":"#N/A"}},{"$f":"IF(INDEX('NLM Data Test 1'!$H$12:$H$136,(MATCH(NLML.ChangeInScores.PrePostDataset[[#This Row],[First Name & Last Name*\n(choose from list)]],'NLM Data Test 1'!$W$12:$W$136,0)),1)=\"\",\"\",(INDEX('NLM Data Test 1'!H$12:H$136,(MATCH(NLML.ChangeInScores.PrePostDataset[[#This Row],[First Name & Last Name*\n(choose from list)]],'NLM Data Test 1'!$W$12:$W$136,0)),1)))","v":{"$error":"#N/A"}},{"$f":"IF(INDEX('NLM Data Test 1'!$I$12:$I$136,(MATCH(NLML.ChangeInScores.PrePostDataset[[#This Row],[First Name & Last Name*\n(choose from list)]],'NLM Data Test 1'!$W$12:$W$136,0)),1)=\"\",\"\",(INDEX('NLM Data Test 1'!I$12:I$136,(MATCH(NLML.ChangeInScores.PrePostDataset[[#This Row],[First Name & Last Name*\n(choose from list)]],'NLM Data Test 1'!$W$12:$W$136,0)),1)))","v":{"$error":"#N/A"}},{"$f":"IF(INDEX('NLM Data Test 1'!$J$12:$J$136,(MATCH(NLML.ChangeInScores.PrePostDataset[[#This Row],[First Name & Last Name*\n(choose from list)]],'NLM Data Test 1'!$W$12:$W$136,0)),1)=\"\",\"\",(INDEX('NLM Data Test 1'!J$12:J$136,(MATCH(NLML.ChangeInScores.PrePostDataset[[#This Row],[First Name & Last Name*\n(choose from list)]],'NLM Data Test 1'!$W$12:$W$136,0)),1)))","v":{"$error":"#N/A"}},{"$f":"IFERROR(INDEX('NLM Data Test 1'!$M$12:$M$136,(MATCH(NLML.ChangeInScores.PrePostDataset[[#This Row],[First Name & Last Name*\n(choose from list)]],'NLM Data Test 1'!$W$12:$W$136,0)),1),\"\")","v":""},{"$f":"INDEX('NLM Data Test 2'!$I$12:$I$136,(MATCH(NLML.ChangeInScores.PrePostDataset[[#This Row],[First Name & Last Name*\n(choose from list)]],'NLM Data Test 2'!$D$12:$D$136,0)),1)","v":{"$error":"#N/A"}},{"$f":"IFERROR(INDEX('NLM Data Test 2'!$J$12:$J$136,(MATCH(NLML.ChangeInScores.PrePostDataset[[#This Row],[First Name & Last Name*\n(choose from list)]],'NLM Data Test 2'!$X$12:$X$136,0)),1),\"\")","v":""},{"$f":"IFERROR(INDEX('NLM Data Test 2'!$K$12:$K$136,(MATCH(NLML.ChangeInScores.PrePostDataset[[#This Row],[First Name & Last Name*\n(choose from list)]],'NLM Data Test 2'!$X$12:$X$136,0)),1),\"\")","v":""},{"$f":"IFERROR(INDEX('NLM Data Test 2'!$N$12:$N$136,(MATCH(NLML.ChangeInScores.PrePostDataset[[#This Row],[First Name & Last Name*\n(choose from list)]],'NLM Data Test 2'!$X$12:$X$136,0)),1),\"\")","v":""},{"$f":"(INDEX('NLM Data Test 2'!$O$12:$O$136,(MATCH(NLML.ChangeInScores.PrePostDataset[[#This Row],[First Name & Last Name*\n(choose from list)]],'NLM Data Test 2'!$X$12:$X$136,0)),1))-(INDEX('NLM Data Test 1'!$N$12:$N$136,(MATCH(NLML.ChangeInScores.PrePostDataset[[#This Row],[First Name & Last Name*\n(choose from list)]],'NLM Data Test 1'!$W$12:$W$136,0)),1))","v":{"$error":"#N/A"}},{"$f":"(INDEX('NLM Data Test 2'!$P$12:$P$136,(MATCH(NLML.ChangeInScores.PrePostDataset[[#This Row],[First Name & Last Name*\n(choose from list)]],'NLM Data Test 2'!$X$12:$X$136,0)),1))-(INDEX('NLM Data Test 1'!$O$12:$O$136,(MATCH(NLML.ChangeInScores.PrePostDataset[[#This Row],[First Name & Last Name*\n(choose from list)]],'NLM Data Test 1'!$W$12:$W$136,0)),1))","v":{"$error":"#N/A"}},{"$f":"(INDEX('NLM Data Test 2'!$Q$12:$Q$136,(MATCH(NLML.ChangeInScores.PrePostDataset[[#This Row],[First Name & Last Name*\n(choose from list)]],'NLM Data Test 2'!$X$12:$X$136,0)),1))-(INDEX('NLM Data Test 1'!$P$12:$P$136,(MATCH(NLML.ChangeInScores.PrePostDataset[[#This Row],[First Name & Last Name*\n(choose from list)]],'NLM Data Test 1'!$W$12:$W$136,0)),1))","v":{"$error":"#N/A"}},{"$f":"(INDEX('NLM Data Test 2'!$R$12:$R$136,(MATCH(NLML.ChangeInScores.PrePostDataset[[#This Row],[First Name & Last Name*\n(choose from list)]],'NLM Data Test 2'!$X$12:$X$136,0)),1))-(INDEX('NLM Data Test 1'!$Q$12:$Q$136,(MATCH(NLML.ChangeInScores.PrePostDataset[[#This Row],[First Name & Last Name*\n(choose from list)]],'NLM Data Test 1'!$W$12:$W$136,0)),1))","v":{"$error":"#N/A"}},{"$f":"(INDEX('NLM Data Test 2'!$S$12:$S$136,(MATCH(NLML.ChangeInScores.PrePostDataset[[#This Row],[First Name & Last Name*\n(choose from list)]],'NLM Data Test 2'!$X$12:$X$136,0)),1))-(INDEX('NLM Data Test 1'!$R$12:$R$136,(MATCH(NLML.ChangeInScores.PrePostDataset[[#This Row],[First Name & Last Name*\n(choose from list)]],'NLM Data Test 1'!$W$12:$W$136,0)),1))","v":{"$error":"#N/A"}},{"$f":"(INDEX('NLM Data Test 2'!$T$12:$T$136,(MATCH(NLML.ChangeInScores.PrePostDataset[[#This Row],[First Name & Last Name*\n(choose from list)]],'NLM Data Test 2'!$X$12:$X$136,0)),1))-(INDEX('NLM Data Test 1'!$S$12:$S$136,(MATCH(NLML.ChangeInScores.PrePostDataset[[#This Row],[First Name & Last Name*\n(choose from list)]],'NLM Data Test 1'!$W$12:$W$136,0)),1))","v":{"$error":"#N/A"}},{"$f":"IFERROR(INDEX('NLM Data Test 1'!$T$12:$T$136,(MATCH(NLML.ChangeInScores.PrePostDataset[[#This Row],[First Name & Last Name*\n(choose from list)]],'NLM Data Test 1'!$W$12:$W$136,0)),1),\"\")","v":""},{"$f":"IFERROR(INDEX('NLM Data Test 2'!$U$12:$U$136,(MATCH(NLML.ChangeInScores.PrePostDataset[[#This Row],[First Name & Last Name*\n(choose from list)]],'NLM Data Test 2'!$X$12:$X$136,0)),1),\"\")","v":""}]
[63,{"$f":"IFERROR(INDEX(NLML.Test1.PrePostDataset[*First Name],(MATCH(NLML.ChangeInScores.PrePostDataset[[#This Row],[First Name & Last Name*\n(choose from list)]],'NLM Data Test 1'!W74:W198,0)),1),\"\")","v":""},{"$f":"IFERROR(INDEX(NLML.Test1.PrePostDataset[*Last Name],(MATCH(NLML.ChangeInScores.PrePostDataset[[#This Row],[First Name & Last Name*\n(choose from list)]],'NLM Data Test 1'!W74:W198,0)),1),\"\")","v":""},{"$f":"'NLM Data Test 2'!D74","v":0},{"$f":"IF(IFERROR(MATCH($D78,'NLM Data Test 2'!$D$12:$D$136,0),\"Error\")=\"Error\",(INDEX('NLM Data Test 1'!$D$12:$D$136,(MATCH($D78,'NLM Data Test 1'!$W$12:$W$136,0)),1)),(INDEX('NLM Data Test 2'!$E$12:$E$136,(MATCH($D78,'NLM Data Test 2'!$D$12:$D$136,0)),1)))","v":{"$error":"#N/A"}},{"$f":"IF(IFERROR(MATCH($D78,'NLM Data Test 2'!$D$12:$D$136,0),\"Error\")=\"Error\",(INDEX('NLM Data Test 1'!$E$12:$E$136,(MATCH($D78,'NLM Data Test 1'!$W$12:$W$136,0)),1)),(INDEX('NLM Data Test 2'!$G$12:$G$136,(MATCH($D78,'NLM Data Test 2'!$D$12:$D$136,0)),1)))","v":{"$error":"#N/A"}},{"$f":"IF(IFERROR(MATCH($D78,'NLM Data Test 2'!$D$12:$D$136,0),\"Error\")=\"Error\",(INDEX('NLM Data Test 1'!$F$12:$F$136,(MATCH($D78,'NLM Data Test 1'!$W$12:$W$136,0)),1)),(INDEX('NLM Data Test 2'!$F$12:$F$136,(MATCH($D78,'NLM Data Test 2'!$D$12:$D$136,0)),1)))","v":{"$error":"#N/A"}},{"$f":"IF(INDEX('NLM Data Test 1'!$H$12:$H$136,(MATCH(NLML.ChangeInScores.PrePostDataset[[#This Row],[First Name & Last Name*\n(choose from list)]],'NLM Data Test 1'!$W$12:$W$136,0)),1)=\"\",\"\",(INDEX('NLM Data Test 1'!H$12:H$136,(MATCH(NLML.ChangeInScores.PrePostDataset[[#This Row],[First Name & Last Name*\n(choose from list)]],'NLM Data Test 1'!$W$12:$W$136,0)),1)))","v":{"$error":"#N/A"}},{"$f":"IF(INDEX('NLM Data Test 1'!$I$12:$I$136,(MATCH(NLML.ChangeInScores.PrePostDataset[[#This Row],[First Name & Last Name*\n(choose from list)]],'NLM Data Test 1'!$W$12:$W$136,0)),1)=\"\",\"\",(INDEX('NLM Data Test 1'!I$12:I$136,(MATCH(NLML.ChangeInScores.PrePostDataset[[#This Row],[First Name & Last Name*\n(choose from list)]],'NLM Data Test 1'!$W$12:$W$136,0)),1)))","v":{"$error":"#N/A"}},{"$f":"IF(INDEX('NLM Data Test 1'!$J$12:$J$136,(MATCH(NLML.ChangeInScores.PrePostDataset[[#This Row],[First Name & Last Name*\n(choose from list)]],'NLM Data Test 1'!$W$12:$W$136,0)),1)=\"\",\"\",(INDEX('NLM Data Test 1'!J$12:J$136,(MATCH(NLML.ChangeInScores.PrePostDataset[[#This Row],[First Name & Last Name*\n(choose from list)]],'NLM Data Test 1'!$W$12:$W$136,0)),1)))","v":{"$error":"#N/A"}},{"$f":"IFERROR(INDEX('NLM Data Test 1'!$M$12:$M$136,(MATCH(NLML.ChangeInScores.PrePostDataset[[#This Row],[First Name & Last Name*\n(choose from list)]],'NLM Data Test 1'!$W$12:$W$136,0)),1),\"\")","v":""},{"$f":"INDEX('NLM Data Test 2'!$I$12:$I$136,(MATCH(NLML.ChangeInScores.PrePostDataset[[#This Row],[First Name & Last Name*\n(choose from list)]],'NLM Data Test 2'!$D$12:$D$136,0)),1)","v":{"$error":"#N/A"}},{"$f":"IFERROR(INDEX('NLM Data Test 2'!$J$12:$J$136,(MATCH(NLML.ChangeInScores.PrePostDataset[[#This Row],[First Name & Last Name*\n(choose from list)]],'NLM Data Test 2'!$X$12:$X$136,0)),1),\"\")","v":""},{"$f":"IFERROR(INDEX('NLM Data Test 2'!$K$12:$K$136,(MATCH(NLML.ChangeInScores.PrePostDataset[[#This Row],[First Name & Last Name*\n(choose from list)]],'NLM Data Test 2'!$X$12:$X$136,0)),1),\"\")","v":""},{"$f":"IFERROR(INDEX('NLM Data Test 2'!$N$12:$N$136,(MATCH(NLML.ChangeInScores.PrePostDataset[[#This Row],[First Name & Last Name*\n(choose from list)]],'NLM Data Test 2'!$X$12:$X$136,0)),1),\"\")","v":""},{"$f":"(INDEX('NLM Data Test 2'!$O$12:$O$136,(MATCH(NLML.ChangeInScores.PrePostDataset[[#This Row],[First Name & Last Name*\n(choose from list)]],'NLM Data Test 2'!$X$12:$X$136,0)),1))-(INDEX('NLM Data Test 1'!$N$12:$N$136,(MATCH(NLML.ChangeInScores.PrePostDataset[[#This Row],[First Name & Last Name*\n(choose from list)]],'NLM Data Test 1'!$W$12:$W$136,0)),1))","v":{"$error":"#N/A"}},{"$f":"(INDEX('NLM Data Test 2'!$P$12:$P$136,(MATCH(NLML.ChangeInScores.PrePostDataset[[#This Row],[First Name & Last Name*\n(choose from list)]],'NLM Data Test 2'!$X$12:$X$136,0)),1))-(INDEX('NLM Data Test 1'!$O$12:$O$136,(MATCH(NLML.ChangeInScores.PrePostDataset[[#This Row],[First Name & Last Name*\n(choose from list)]],'NLM Data Test 1'!$W$12:$W$136,0)),1))","v":{"$error":"#N/A"}},{"$f":"(INDEX('NLM Data Test 2'!$Q$12:$Q$136,(MATCH(NLML.ChangeInScores.PrePostDataset[[#This Row],[First Name & Last Name*\n(choose from list)]],'NLM Data Test 2'!$X$12:$X$136,0)),1))-(INDEX('NLM Data Test 1'!$P$12:$P$136,(MATCH(NLML.ChangeInScores.PrePostDataset[[#This Row],[First Name & Last Name*\n(choose from list)]],'NLM Data Test 1'!$W$12:$W$136,0)),1))","v":{"$error":"#N/A"}},{"$f":"(INDEX('NLM Data Test 2'!$R$12:$R$136,(MATCH(NLML.ChangeInScores.PrePostDataset[[#This Row],[First Name & Last Name*\n(choose from list)]],'NLM Data Test 2'!$X$12:$X$136,0)),1))-(INDEX('NLM Data Test 1'!$Q$12:$Q$136,(MATCH(NLML.ChangeInScores.PrePostDataset[[#This Row],[First Name & Last Name*\n(choose from list)]],'NLM Data Test 1'!$W$12:$W$136,0)),1))","v":{"$error":"#N/A"}},{"$f":"(INDEX('NLM Data Test 2'!$S$12:$S$136,(MATCH(NLML.ChangeInScores.PrePostDataset[[#This Row],[First Name & Last Name*\n(choose from list)]],'NLM Data Test 2'!$X$12:$X$136,0)),1))-(INDEX('NLM Data Test 1'!$R$12:$R$136,(MATCH(NLML.ChangeInScores.PrePostDataset[[#This Row],[First Name & Last Name*\n(choose from list)]],'NLM Data Test 1'!$W$12:$W$136,0)),1))","v":{"$error":"#N/A"}},{"$f":"(INDEX('NLM Data Test 2'!$T$12:$T$136,(MATCH(NLML.ChangeInScores.PrePostDataset[[#This Row],[First Name & Last Name*\n(choose from list)]],'NLM Data Test 2'!$X$12:$X$136,0)),1))-(INDEX('NLM Data Test 1'!$S$12:$S$136,(MATCH(NLML.ChangeInScores.PrePostDataset[[#This Row],[First Name & Last Name*\n(choose from list)]],'NLM Data Test 1'!$W$12:$W$136,0)),1))","v":{"$error":"#N/A"}},{"$f":"IFERROR(INDEX('NLM Data Test 1'!$T$12:$T$136,(MATCH(NLML.ChangeInScores.PrePostDataset[[#This Row],[First Name & Last Name*\n(choose from list)]],'NLM Data Test 1'!$W$12:$W$136,0)),1),\"\")","v":""},{"$f":"IFERROR(INDEX('NLM Data Test 2'!$U$12:$U$136,(MATCH(NLML.ChangeInScores.PrePostDataset[[#This Row],[First Name & Last Name*\n(choose from list)]],'NLM Data Test 2'!$X$12:$X$136,0)),1),\"\")","v":""}]
[64,{"$f":"IFERROR(INDEX(NLML.Test1.PrePostDataset[*First Name],(MATCH(NLML.ChangeInScores.PrePostDataset[[#This Row],[First Name & Last Name*\n(choose from list)]],'NLM Data Test 1'!W75:W199,0)),1),\"\")","v":""},{"$f":"IFERROR(INDEX(NLML.Test1.PrePostDataset[*Last Name],(MATCH(NLML.ChangeInScores.PrePostDataset[[#This Row],[First Name & Last Name*\n(choose from list)]],'NLM Data Test 1'!W75:W199,0)),1),\"\")","v":""},{"$f":"'NLM Data Test 2'!D75","v":0},{"$f":"IF(IFERROR(MATCH($D79,'NLM Data Test 2'!$D$12:$D$136,0),\"Error\")=\"Error\",(INDEX('NLM Data Test 1'!$D$12:$D$136,(MATCH($D79,'NLM Data Test 1'!$W$12:$W$136,0)),1)),(INDEX('NLM Data Test 2'!$E$12:$E$136,(MATCH($D79,'NLM Data Test 2'!$D$12:$D$136,0)),1)))","v":{"$error":"#N/A"}},{"$f":"IF(IFERROR(MATCH($D79,'NLM Data Test 2'!$D$12:$D$136,0),\"Error\")=\"Error\",(INDEX('NLM Data Test 1'!$E$12:$E$136,(MATCH($D79,'NLM Data Test 1'!$W$12:$W$136,0)),1)),(INDEX('NLM Data Test 2'!$G$12:$G$136,(MATCH($D79,'NLM Data Test 2'!$D$12:$D$136,0)),1)))","v":{"$error":"#N/A"}},{"$f":"IF(IFERROR(MATCH($D79,'NLM Data Test 2'!$D$12:$D$136,0),\"Error\")=\"Error\",(INDEX('NLM Data Test 1'!$F$12:$F$136,(MATCH($D79,'NLM Data Test 1'!$W$12:$W$136,0)),1)),(INDEX('NLM Data Test 2'!$F$12:$F$136,(MATCH($D79,'NLM Data Test 2'!$D$12:$D$136,0)),1)))","v":{"$error":"#N/A"}},{"$f":"IF(INDEX('NLM Data Test 1'!$H$12:$H$136,(MATCH(NLML.ChangeInScores.PrePostDataset[[#This Row],[First Name & Last Name*\n(choose from list)]],'NLM Data Test 1'!$W$12:$W$136,0)),1)=\"\",\"\",(INDEX('NLM Data Test 1'!H$12:H$136,(MATCH(NLML.ChangeInScores.PrePostDataset[[#This Row],[First Name & Last Name*\n(choose from list)]],'NLM Data Test 1'!$W$12:$W$136,0)),1)))","v":{"$error":"#N/A"}},{"$f":"IF(INDEX('NLM Data Test 1'!$I$12:$I$136,(MATCH(NLML.ChangeInScores.PrePostDataset[[#This Row],[First Name & Last Name*\n(choose from list)]],'NLM Data Test 1'!$W$12:$W$136,0)),1)=\"\",\"\",(INDEX('NLM Data Test 1'!I$12:I$136,(MATCH(NLML.ChangeInScores.PrePostDataset[[#This Row],[First Name & Last Name*\n(choose from list)]],'NLM Data Test 1'!$W$12:$W$136,0)),1)))","v":{"$error":"#N/A"}},{"$f":"IF(INDEX('NLM Data Test 1'!$J$12:$J$136,(MATCH(NLML.ChangeInScores.PrePostDataset[[#This Row],[First Name & Last Name*\n(choose from list)]],'NLM Data Test 1'!$W$12:$W$136,0)),1)=\"\",\"\",(INDEX('NLM Data Test 1'!J$12:J$136,(MATCH(NLML.ChangeInScores.PrePostDataset[[#This Row],[First Name & Last Name*\n(choose from list)]],'NLM Data Test 1'!$W$12:$W$136,0)),1)))","v":{"$error":"#N/A"}},{"$f":"IFERROR(INDEX('NLM Data Test 1'!$M$12:$M$136,(MATCH(NLML.ChangeInScores.PrePostDataset[[#This Row],[First Name & Last Name*\n(choose from list)]],'NLM Data Test 1'!$W$12:$W$136,0)),1),\"\")","v":""},{"$f":"INDEX('NLM Data Test 2'!$I$12:$I$136,(MATCH(NLML.ChangeInScores.PrePostDataset[[#This Row],[First Name & Last Name*\n(choose from list)]],'NLM Data Test 2'!$D$12:$D$136,0)),1)","v":{"$error":"#N/A"}},{"$f":"IFERROR(INDEX('NLM Data Test 2'!$J$12:$J$136,(MATCH(NLML.ChangeInScores.PrePostDataset[[#This Row],[First Name & Last Name*\n(choose from list)]],'NLM Data Test 2'!$X$12:$X$136,0)),1),\"\")","v":""},{"$f":"IFERROR(INDEX('NLM Data Test 2'!$K$12:$K$136,(MATCH(NLML.ChangeInScores.PrePostDataset[[#This Row],[First Name & Last Name*\n(choose from list)]],'NLM Data Test 2'!$X$12:$X$136,0)),1),\"\")","v":""},{"$f":"IFERROR(INDEX('NLM Data Test 2'!$N$12:$N$136,(MATCH(NLML.ChangeInScores.PrePostDataset[[#This Row],[First Name & Last Name*\n(choose from list)]],'NLM Data Test 2'!$X$12:$X$136,0)),1),\"\")","v":""},{"$f":"(INDEX('NLM Data Test 2'!$O$12:$O$136,(MATCH(NLML.ChangeInScores.PrePostDataset[[#This Row],[First Name & Last Name*\n(choose from list)]],'NLM Data Test 2'!$X$12:$X$136,0)),1))-(INDEX('NLM Data Test 1'!$N$12:$N$136,(MATCH(NLML.ChangeInScores.PrePostDataset[[#This Row],[First Name & Last Name*\n(choose from list)]],'NLM Data Test 1'!$W$12:$W$136,0)),1))","v":{"$error":"#N/A"}},{"$f":"(INDEX('NLM Data Test 2'!$P$12:$P$136,(MATCH(NLML.ChangeInScores.PrePostDataset[[#This Row],[First Name & Last Name*\n(choose from list)]],'NLM Data Test 2'!$X$12:$X$136,0)),1))-(INDEX('NLM Data Test 1'!$O$12:$O$136,(MATCH(NLML.ChangeInScores.PrePostDataset[[#This Row],[First Name & Last Name*\n(choose from list)]],'NLM Data Test 1'!$W$12:$W$136,0)),1))","v":{"$error":"#N/A"}},{"$f":"(INDEX('NLM Data Test 2'!$Q$12:$Q$136,(MATCH(NLML.ChangeInScores.PrePostDataset[[#This Row],[First Name & Last Name*\n(choose from list)]],'NLM Data Test 2'!$X$12:$X$136,0)),1))-(INDEX('NLM Data Test 1'!$P$12:$P$136,(MATCH(NLML.ChangeInScores.PrePostDataset[[#This Row],[First Name & Last Name*\n(choose from list)]],'NLM Data Test 1'!$W$12:$W$136,0)),1))","v":{"$error":"#N/A"}},{"$f":"(INDEX('NLM Data Test 2'!$R$12:$R$136,(MATCH(NLML.ChangeInScores.PrePostDataset[[#This Row],[First Name & Last Name*\n(choose from list)]],'NLM Data Test 2'!$X$12:$X$136,0)),1))-(INDEX('NLM Data Test 1'!$Q$12:$Q$136,(MATCH(NLML.ChangeInScores.PrePostDataset[[#This Row],[First Name & Last Name*\n(choose from list)]],'NLM Data Test 1'!$W$12:$W$136,0)),1))","v":{"$error":"#N/A"}},{"$f":"(INDEX('NLM Data Test 2'!$S$12:$S$136,(MATCH(NLML.ChangeInScores.PrePostDataset[[#This Row],[First Name & Last Name*\n(choose from list)]],'NLM Data Test 2'!$X$12:$X$136,0)),1))-(INDEX('NLM Data Test 1'!$R$12:$R$136,(MATCH(NLML.ChangeInScores.PrePostDataset[[#This Row],[First Name & Last Name*\n(choose from list)]],'NLM Data Test 1'!$W$12:$W$136,0)),1))","v":{"$error":"#N/A"}},{"$f":"(INDEX('NLM Data Test 2'!$T$12:$T$136,(MATCH(NLML.ChangeInScores.PrePostDataset[[#This Row],[First Name & Last Name*\n(choose from list)]],'NLM Data Test 2'!$X$12:$X$136,0)),1))-(INDEX('NLM Data Test 1'!$S$12:$S$136,(MATCH(NLML.ChangeInScores.PrePostDataset[[#This Row],[First Name & Last Name*\n(choose from list)]],'NLM Data Test 1'!$W$12:$W$136,0)),1))","v":{"$error":"#N/A"}},{"$f":"IFERROR(INDEX('NLM Data Test 1'!$T$12:$T$136,(MATCH(NLML.ChangeInScores.PrePostDataset[[#This Row],[First Name & Last Name*\n(choose from list)]],'NLM Data Test 1'!$W$12:$W$136,0)),1),\"\")","v":""},{"$f":"IFERROR(INDEX('NLM Data Test 2'!$U$12:$U$136,(MATCH(NLML.ChangeInScores.PrePostDataset[[#This Row],[First Name & Last Name*\n(choose from list)]],'NLM Data Test 2'!$X$12:$X$136,0)),1),\"\")","v":""}]
[65,{"$f":"IFERROR(INDEX(NLML.Test1.PrePostDataset[*First Name],(MATCH(NLML.ChangeInScores.PrePostDataset[[#This Row],[First Name & Last Name*\n(choose from list)]],'NLM Data Test 1'!W76:W200,0)),1),\"\")","v":""},{"$f":"IFERROR(INDEX(NLML.Test1.PrePostDataset[*Last Name],(MATCH(NLML.ChangeInScores.PrePostDataset[[#This Row],[First Name & Last Name*\n(choose from list)]],'NLM Data Test 1'!W76:W200,0)),1),\"\")","v":""},{"$f":"'NLM Data Test 2'!D76","v":0},{"$f":"IF(IFERROR(MATCH($D80,'NLM Data Test 2'!$D$12:$D$136,0),\"Error\")=\"Error\",(INDEX('NLM Data Test 1'!$D$12:$D$136,(MATCH($D80,'NLM Data Test 1'!$W$12:$W$136,0)),1)),(INDEX('NLM Data Test 2'!$E$12:$E$136,(MATCH($D80,'NLM Data Test 2'!$D$12:$D$136,0)),1)))","v":{"$error":"#N/A"}},{"$f":"IF(IFERROR(MATCH($D80,'NLM Data Test 2'!$D$12:$D$136,0),\"Error\")=\"Error\",(INDEX('NLM Data Test 1'!$E$12:$E$136,(MATCH($D80,'NLM Data Test 1'!$W$12:$W$136,0)),1)),(INDEX('NLM Data Test 2'!$G$12:$G$136,(MATCH($D80,'NLM Data Test 2'!$D$12:$D$136,0)),1)))","v":{"$error":"#N/A"}},{"$f":"IF(IFERROR(MATCH($D80,'NLM Data Test 2'!$D$12:$D$136,0),\"Error\")=\"Error\",(INDEX('NLM Data Test 1'!$F$12:$F$136,(MATCH($D80,'NLM Data Test 1'!$W$12:$W$136,0)),1)),(INDEX('NLM Data Test 2'!$F$12:$F$136,(MATCH($D80,'NLM Data Test 2'!$D$12:$D$136,0)),1)))","v":{"$error":"#N/A"}},{"$f":"IF(INDEX('NLM Data Test 1'!$H$12:$H$136,(MATCH(NLML.ChangeInScores.PrePostDataset[[#This Row],[First Name & Last Name*\n(choose from list)]],'NLM Data Test 1'!$W$12:$W$136,0)),1)=\"\",\"\",(INDEX('NLM Data Test 1'!H$12:H$136,(MATCH(NLML.ChangeInScores.PrePostDataset[[#This Row],[First Name & Last Name*\n(choose from list)]],'NLM Data Test 1'!$W$12:$W$136,0)),1)))","v":{"$error":"#N/A"}},{"$f":"IF(INDEX('NLM Data Test 1'!$I$12:$I$136,(MATCH(NLML.ChangeInScores.PrePostDataset[[#This Row],[First Name & Last Name*\n(choose from list)]],'NLM Data Test 1'!$W$12:$W$136,0)),1)=\"\",\"\",(INDEX('NLM Data Test 1'!I$12:I$136,(MATCH(NLML.ChangeInScores.PrePostDataset[[#This Row],[First Name & Last Name*\n(choose from list)]],'NLM Data Test 1'!$W$12:$W$136,0)),1)))","v":{"$error":"#N/A"}},{"$f":"IF(INDEX('NLM Data Test 1'!$J$12:$J$136,(MATCH(NLML.ChangeInScores.PrePostDataset[[#This Row],[First Name & Last Name*\n(choose from list)]],'NLM Data Test 1'!$W$12:$W$136,0)),1)=\"\",\"\",(INDEX('NLM Data Test 1'!J$12:J$136,(MATCH(NLML.ChangeInScores.PrePostDataset[[#This Row],[First Name & Last Name*\n(choose from list)]],'NLM Data Test 1'!$W$12:$W$136,0)),1)))","v":{"$error":"#N/A"}},{"$f":"IFERROR(INDEX('NLM Data Test 1'!$M$12:$M$136,(MATCH(NLML.ChangeInScores.PrePostDataset[[#This Row],[First Name & Last Name*\n(choose from list)]],'NLM Data Test 1'!$W$12:$W$136,0)),1),\"\")","v":""},{"$f":"INDEX('NLM Data Test 2'!$I$12:$I$136,(MATCH(NLML.ChangeInScores.PrePostDataset[[#This Row],[First Name & Last Name*\n(choose from list)]],'NLM Data Test 2'!$D$12:$D$136,0)),1)","v":{"$error":"#N/A"}},{"$f":"IFERROR(INDEX('NLM Data Test 2'!$J$12:$J$136,(MATCH(NLML.ChangeInScores.PrePostDataset[[#This Row],[First Name & Last Name*\n(choose from list)]],'NLM Data Test 2'!$X$12:$X$136,0)),1),\"\")","v":""},{"$f":"IFERROR(INDEX('NLM Data Test 2'!$K$12:$K$136,(MATCH(NLML.ChangeInScores.PrePostDataset[[#This Row],[First Name & Last Name*\n(choose from list)]],'NLM Data Test 2'!$X$12:$X$136,0)),1),\"\")","v":""},{"$f":"IFERROR(INDEX('NLM Data Test 2'!$N$12:$N$136,(MATCH(NLML.ChangeInScores.PrePostDataset[[#This Row],[First Name & Last Name*\n(choose from list)]],'NLM Data Test 2'!$X$12:$X$136,0)),1),\"\")","v":""},{"$f":"(INDEX('NLM Data Test 2'!$O$12:$O$136,(MATCH(NLML.ChangeInScores.PrePostDataset[[#This Row],[First Name & Last Name*\n(choose from list)]],'NLM Data Test 2'!$X$12:$X$136,0)),1))-(INDEX('NLM Data Test 1'!$N$12:$N$136,(MATCH(NLML.ChangeInScores.PrePostDataset[[#This Row],[First Name & Last Name*\n(choose from list)]],'NLM Data Test 1'!$W$12:$W$136,0)),1))","v":{"$error":"#N/A"}},{"$f":"(INDEX('NLM Data Test 2'!$P$12:$P$136,(MATCH(NLML.ChangeInScores.PrePostDataset[[#This Row],[First Name & Last Name*\n(choose from list)]],'NLM Data Test 2'!$X$12:$X$136,0)),1))-(INDEX('NLM Data Test 1'!$O$12:$O$136,(MATCH(NLML.ChangeInScores.PrePostDataset[[#This Row],[First Name & Last Name*\n(choose from list)]],'NLM Data Test 1'!$W$12:$W$136,0)),1))","v":{"$error":"#N/A"}},{"$f":"(INDEX('NLM Data Test 2'!$Q$12:$Q$136,(MATCH(NLML.ChangeInScores.PrePostDataset[[#This Row],[First Name & Last Name*\n(choose from list)]],'NLM Data Test 2'!$X$12:$X$136,0)),1))-(INDEX('NLM Data Test 1'!$P$12:$P$136,(MATCH(NLML.ChangeInScores.PrePostDataset[[#This Row],[First Name & Last Name*\n(choose from list)]],'NLM Data Test 1'!$W$12:$W$136,0)),1))","v":{"$error":"#N/A"}},{"$f":"(INDEX('NLM Data Test 2'!$R$12:$R$136,(MATCH(NLML.ChangeInScores.PrePostDataset[[#This Row],[First Name & Last Name*\n(choose from list)]],'NLM Data Test 2'!$X$12:$X$136,0)),1))-(INDEX('NLM Data Test 1'!$Q$12:$Q$136,(MATCH(NLML.ChangeInScores.PrePostDataset[[#This Row],[First Name & Last Name*\n(choose from list)]],'NLM Data Test 1'!$W$12:$W$136,0)),1))","v":{"$error":"#N/A"}},{"$f":"(INDEX('NLM Data Test 2'!$S$12:$S$136,(MATCH(NLML.ChangeInScores.PrePostDataset[[#This Row],[First Name & Last Name*\n(choose from list)]],'NLM Data Test 2'!$X$12:$X$136,0)),1))-(INDEX('NLM Data Test 1'!$R$12:$R$136,(MATCH(NLML.ChangeInScores.PrePostDataset[[#This Row],[First Name & Last Name*\n(choose from list)]],'NLM Data Test 1'!$W$12:$W$136,0)),1))","v":{"$error":"#N/A"}},{"$f":"(INDEX('NLM Data Test 2'!$T$12:$T$136,(MATCH(NLML.ChangeInScores.PrePostDataset[[#This Row],[First Name & Last Name*\n(choose from list)]],'NLM Data Test 2'!$X$12:$X$136,0)),1))-(INDEX('NLM Data Test 1'!$S$12:$S$136,(MATCH(NLML.ChangeInScores.PrePostDataset[[#This Row],[First Name & Last Name*\n(choose from list)]],'NLM Data Test 1'!$W$12:$W$136,0)),1))","v":{"$error":"#N/A"}},{"$f":"IFERROR(INDEX('NLM Data Test 1'!$T$12:$T$136,(MATCH(NLML.ChangeInScores.PrePostDataset[[#This Row],[First Name & Last Name*\n(choose from list)]],'NLM Data Test 1'!$W$12:$W$136,0)),1),\"\")","v":""},{"$f":"IFERROR(INDEX('NLM Data Test 2'!$U$12:$U$136,(MATCH(NLML.ChangeInScores.PrePostDataset[[#This Row],[First Name & Last Name*\n(choose from list)]],'NLM Data Test 2'!$X$12:$X$136,0)),1),\"\")","v":""}]
[66,{"$f":"IFERROR(INDEX(NLML.Test1.PrePostDataset[*First Name],(MATCH(NLML.ChangeInScores.PrePostDataset[[#This Row],[First Name & Last Name*\n(choose from list)]],'NLM Data Test 1'!W77:W201,0)),1),\"\")","v":""},{"$f":"IFERROR(INDEX(NLML.Test1.PrePostDataset[*Last Name],(MATCH(NLML.ChangeInScores.PrePostDataset[[#This Row],[First Name & Last Name*\n(choose from list)]],'NLM Data Test 1'!W77:W201,0)),1),\"\")","v":""},{"$f":"'NLM Data Test 2'!D77","v":0},{"$f":"IF(IFERROR(MATCH($D81,'NLM Data Test 2'!$D$12:$D$136,0),\"Error\")=\"Error\",(INDEX('NLM Data Test 1'!$D$12:$D$136,(MATCH($D81,'NLM Data Test 1'!$W$12:$W$136,0)),1)),(INDEX('NLM Data Test 2'!$E$12:$E$136,(MATCH($D81,'NLM Data Test 2'!$D$12:$D$136,0)),1)))","v":{"$error":"#N/A"}},{"$f":"IF(IFERROR(MATCH($D81,'NLM Data Test 2'!$D$12:$D$136,0),\"Error\")=\"Error\",(INDEX('NLM Data Test 1'!$E$12:$E$136,(MATCH($D81,'NLM Data Test 1'!$W$12:$W$136,0)),1)),(INDEX('NLM Data Test 2'!$G$12:$G$136,(MATCH($D81,'NLM Data Test 2'!$D$12:$D$136,0)),1)))","v":{"$error":"#N/A"}},{"$f":"IF(IFERROR(MATCH($D81,'NLM Data Test 2'!$D$12:$D$136,0),\"Error\")=\"Error\",(INDEX('NLM Data Test 1'!$F$12:$F$136,(MATCH($D81,'NLM Data Test 1'!$W$12:$W$136,0)),1)),(INDEX('NLM Data Test 2'!$F$12:$F$136,(MATCH($D81,'NLM Data Test 2'!$D$12:$D$136,0)),1)))","v":{"$error":"#N/A"}},{"$f":"IF(INDEX('NLM Data Test 1'!$H$12:$H$136,(MATCH(NLML.ChangeInScores.PrePostDataset[[#This Row],[First Name & Last Name*\n(choose from list)]],'NLM Data Test 1'!$W$12:$W$136,0)),1)=\"\",\"\",(INDEX('NLM Data Test 1'!H$12:H$136,(MATCH(NLML.ChangeInScores.PrePostDataset[[#This Row],[First Name & Last Name*\n(choose from list)]],'NLM Data Test 1'!$W$12:$W$136,0)),1)))","v":{"$error":"#N/A"}},{"$f":"IF(INDEX('NLM Data Test 1'!$I$12:$I$136,(MATCH(NLML.ChangeInScores.PrePostDataset[[#This Row],[First Name & Last Name*\n(choose from list)]],'NLM Data Test 1'!$W$12:$W$136,0)),1)=\"\",\"\",(INDEX('NLM Data Test 1'!I$12:I$136,(MATCH(NLML.ChangeInScores.PrePostDataset[[#This Row],[First Name & Last Name*\n(choose from list)]],'NLM Data Test 1'!$W$12:$W$136,0)),1)))","v":{"$error":"#N/A"}},{"$f":"IF(INDEX('NLM Data Test 1'!$J$12:$J$136,(MATCH(NLML.ChangeInScores.PrePostDataset[[#This Row],[First Name & Last Name*\n(choose from list)]],'NLM Data Test 1'!$W$12:$W$136,0)),1)=\"\",\"\",(INDEX('NLM Data Test 1'!J$12:J$136,(MATCH(NLML.ChangeInScores.PrePostDataset[[#This Row],[First Name & Last Name*\n(choose from list)]],'NLM Data Test 1'!$W$12:$W$136,0)),1)))","v":{"$error":"#N/A"}},{"$f":"IFERROR(INDEX('NLM Data Test 1'!$M$12:$M$136,(MATCH(NLML.ChangeInScores.PrePostDataset[[#This Row],[First Name & Last Name*\n(choose from list)]],'NLM Data Test 1'!$W$12:$W$136,0)),1),\"\")","v":""},{"$f":"INDEX('NLM Data Test 2'!$I$12:$I$136,(MATCH(NLML.ChangeInScores.PrePostDataset[[#This Row],[First Name & Last Name*\n(choose from list)]],'NLM Data Test 2'!$D$12:$D$136,0)),1)","v":{"$error":"#N/A"}},{"$f":"IFERROR(INDEX('NLM Data Test 2'!$J$12:$J$136,(MATCH(NLML.ChangeInScores.PrePostDataset[[#This Row],[First Name & Last Name*\n(choose from list)]],'NLM Data Test 2'!$X$12:$X$136,0)),1),\"\")","v":""},{"$f":"IFERROR(INDEX('NLM Data Test 2'!$K$12:$K$136,(MATCH(NLML.ChangeInScores.PrePostDataset[[#This Row],[First Name & Last Name*\n(choose from list)]],'NLM Data Test 2'!$X$12:$X$136,0)),1),\"\")","v":""},{"$f":"IFERROR(INDEX('NLM Data Test 2'!$N$12:$N$136,(MATCH(NLML.ChangeInScores.PrePostDataset[[#This Row],[First Name & Last Name*\n(choose from list)]],'NLM Data Test 2'!$X$12:$X$136,0)),1),\"\")","v":""},{"$f":"(INDEX('NLM Data Test 2'!$O$12:$O$136,(MATCH(NLML.ChangeInScores.PrePostDataset[[#This Row],[First Name & Last Name*\n(choose from list)]],'NLM Data Test 2'!$X$12:$X$136,0)),1))-(INDEX('NLM Data Test 1'!$N$12:$N$136,(MATCH(NLML.ChangeInScores.PrePostDataset[[#This Row],[First Name & Last Name*\n(choose from list)]],'NLM Data Test 1'!$W$12:$W$136,0)),1))","v":{"$error":"#N/A"}},{"$f":"(INDEX('NLM Data Test 2'!$P$12:$P$136,(MATCH(NLML.ChangeInScores.PrePostDataset[[#This Row],[First Name & Last Name*\n(choose from list)]],'NLM Data Test 2'!$X$12:$X$136,0)),1))-(INDEX('NLM Data Test 1'!$O$12:$O$136,(MATCH(NLML.ChangeInScores.PrePostDataset[[#This Row],[First Name & Last Name*\n(choose from list)]],'NLM Data Test 1'!$W$12:$W$136,0)),1))","v":{"$error":"#N/A"}},{"$f":"(INDEX('NLM Data Test 2'!$Q$12:$Q$136,(MATCH(NLML.ChangeInScores.PrePostDataset[[#This Row],[First Name & Last Name*\n(choose from list)]],'NLM Data Test 2'!$X$12:$X$136,0)),1))-(INDEX('NLM Data Test 1'!$P$12:$P$136,(MATCH(NLML.ChangeInScores.PrePostDataset[[#This Row],[First Name & Last Name*\n(choose from list)]],'NLM Data Test 1'!$W$12:$W$136,0)),1))","v":{"$error":"#N/A"}},{"$f":"(INDEX('NLM Data Test 2'!$R$12:$R$136,(MATCH(NLML.ChangeInScores.PrePostDataset[[#This Row],[First Name & Last Name*\n(choose from list)]],'NLM Data Test 2'!$X$12:$X$136,0)),1))-(INDEX('NLM Data Test 1'!$Q$12:$Q$136,(MATCH(NLML.ChangeInScores.PrePostDataset[[#This Row],[First Name & Last Name*\n(choose from list)]],'NLM Data Test 1'!$W$12:$W$136,0)),1))","v":{"$error":"#N/A"}},{"$f":"(INDEX('NLM Data Test 2'!$S$12:$S$136,(MATCH(NLML.ChangeInScores.PrePostDataset[[#This Row],[First Name & Last Name*\n(choose from list)]],'NLM Data Test 2'!$X$12:$X$136,0)),1))-(INDEX('NLM Data Test 1'!$R$12:$R$136,(MATCH(NLML.ChangeInScores.PrePostDataset[[#This Row],[First Name & Last Name*\n(choose from list)]],'NLM Data Test 1'!$W$12:$W$136,0)),1))","v":{"$error":"#N/A"}},{"$f":"(INDEX('NLM Data Test 2'!$T$12:$T$136,(MATCH(NLML.ChangeInScores.PrePostDataset[[#This Row],[First Name & Last Name*\n(choose from list)]],'NLM Data Test 2'!$X$12:$X$136,0)),1))-(INDEX('NLM Data Test 1'!$S$12:$S$136,(MATCH(NLML.ChangeInScores.PrePostDataset[[#This Row],[First Name & Last Name*\n(choose from list)]],'NLM Data Test 1'!$W$12:$W$136,0)),1))","v":{"$error":"#N/A"}},{"$f":"IFERROR(INDEX('NLM Data Test 1'!$T$12:$T$136,(MATCH(NLML.ChangeInScores.PrePostDataset[[#This Row],[First Name & Last Name*\n(choose from list)]],'NLM Data Test 1'!$W$12:$W$136,0)),1),\"\")","v":""},{"$f":"IFERROR(INDEX('NLM Data Test 2'!$U$12:$U$136,(MATCH(NLML.ChangeInScores.PrePostDataset[[#This Row],[First Name & Last Name*\n(choose from list)]],'NLM Data Test 2'!$X$12:$X$136,0)),1),\"\")","v":""}]
[67,{"$f":"IFERROR(INDEX(NLML.Test1.PrePostDataset[*First Name],(MATCH(NLML.ChangeInScores.PrePostDataset[[#This Row],[First Name & Last Name*\n(choose from list)]],'NLM Data Test 1'!W78:W202,0)),1),\"\")","v":""},{"$f":"IFERROR(INDEX(NLML.Test1.PrePostDataset[*Last Name],(MATCH(NLML.ChangeInScores.PrePostDataset[[#This Row],[First Name & Last Name*\n(choose from list)]],'NLM Data Test 1'!W78:W202,0)),1),\"\")","v":""},{"$f":"'NLM Data Test 2'!D78","v":0},{"$f":"IF(IFERROR(MATCH($D82,'NLM Data Test 2'!$D$12:$D$136,0),\"Error\")=\"Error\",(INDEX('NLM Data Test 1'!$D$12:$D$136,(MATCH($D82,'NLM Data Test 1'!$W$12:$W$136,0)),1)),(INDEX('NLM Data Test 2'!$E$12:$E$136,(MATCH($D82,'NLM Data Test 2'!$D$12:$D$136,0)),1)))","v":{"$error":"#N/A"}},{"$f":"IF(IFERROR(MATCH($D82,'NLM Data Test 2'!$D$12:$D$136,0),\"Error\")=\"Error\",(INDEX('NLM Data Test 1'!$E$12:$E$136,(MATCH($D82,'NLM Data Test 1'!$W$12:$W$136,0)),1)),(INDEX('NLM Data Test 2'!$G$12:$G$136,(MATCH($D82,'NLM Data Test 2'!$D$12:$D$136,0)),1)))","v":{"$error":"#N/A"}},{"$f":"IF(IFERROR(MATCH($D82,'NLM Data Test 2'!$D$12:$D$136,0),\"Error\")=\"Error\",(INDEX('NLM Data Test 1'!$F$12:$F$136,(MATCH($D82,'NLM Data Test 1'!$W$12:$W$136,0)),1)),(INDEX('NLM Data Test 2'!$F$12:$F$136,(MATCH($D82,'NLM Data Test 2'!$D$12:$D$136,0)),1)))","v":{"$error":"#N/A"}},{"$f":"IF(INDEX('NLM Data Test 1'!$H$12:$H$136,(MATCH(NLML.ChangeInScores.PrePostDataset[[#This Row],[First Name & Last Name*\n(choose from list)]],'NLM Data Test 1'!$W$12:$W$136,0)),1)=\"\",\"\",(INDEX('NLM Data Test 1'!H$12:H$136,(MATCH(NLML.ChangeInScores.PrePostDataset[[#This Row],[First Name & Last Name*\n(choose from list)]],'NLM Data Test 1'!$W$12:$W$136,0)),1)))","v":{"$error":"#N/A"}},{"$f":"IF(INDEX('NLM Data Test 1'!$I$12:$I$136,(MATCH(NLML.ChangeInScores.PrePostDataset[[#This Row],[First Name & Last Name*\n(choose from list)]],'NLM Data Test 1'!$W$12:$W$136,0)),1)=\"\",\"\",(INDEX('NLM Data Test 1'!I$12:I$136,(MATCH(NLML.ChangeInScores.PrePostDataset[[#This Row],[First Name & Last Name*\n(choose from list)]],'NLM Data Test 1'!$W$12:$W$136,0)),1)))","v":{"$error":"#N/A"}},{"$f":"IF(INDEX('NLM Data Test 1'!$J$12:$J$136,(MATCH(NLML.ChangeInScores.PrePostDataset[[#This Row],[First Name & Last Name*\n(choose from list)]],'NLM Data Test 1'!$W$12:$W$136,0)),1)=\"\",\"\",(INDEX('NLM Data Test 1'!J$12:J$136,(MATCH(NLML.ChangeInScores.PrePostDataset[[#This Row],[First Name & Last Name*\n(choose from list)]],'NLM Data Test 1'!$W$12:$W$136,0)),1)))","v":{"$error":"#N/A"}},{"$f":"IFERROR(INDEX('NLM Data Test 1'!$M$12:$M$136,(MATCH(NLML.ChangeInScores.PrePostDataset[[#This Row],[First Name & Last Name*\n(choose from list)]],'NLM Data Test 1'!$W$12:$W$136,0)),1),\"\")","v":""},{"$f":"INDEX('NLM Data Test 2'!$I$12:$I$136,(MATCH(NLML.ChangeInScores.PrePostDataset[[#This Row],[First Name & Last Name*\n(choose from list)]],'NLM Data Test 2'!$D$12:$D$136,0)),1)","v":{"$error":"#N/A"}},{"$f":"IFERROR(INDEX('NLM Data Test 2'!$J$12:$J$136,(MATCH(NLML.ChangeInScores.PrePostDataset[[#This Row],[First Name & Last Name*\n(choose from list)]],'NLM Data Test 2'!$X$12:$X$136,0)),1),\"\")","v":""},{"$f":"IFERROR(INDEX('NLM Data Test 2'!$K$12:$K$136,(MATCH(NLML.ChangeInScores.PrePostDataset[[#This Row],[First Name & Last Name*\n(choose from list)]],'NLM Data Test 2'!$X$12:$X$136,0)),1),\"\")","v":""},{"$f":"IFERROR(INDEX('NLM Data Test 2'!$N$12:$N$136,(MATCH(NLML.ChangeInScores.PrePostDataset[[#This Row],[First Name & Last Name*\n(choose from list)]],'NLM Data Test 2'!$X$12:$X$136,0)),1),\"\")","v":""},{"$f":"(INDEX('NLM Data Test 2'!$O$12:$O$136,(MATCH(NLML.ChangeInScores.PrePostDataset[[#This Row],[First Name & Last Name*\n(choose from list)]],'NLM Data Test 2'!$X$12:$X$136,0)),1))-(INDEX('NLM Data Test 1'!$N$12:$N$136,(MATCH(NLML.ChangeInScores.PrePostDataset[[#This Row],[First Name & Last Name*\n(choose from list)]],'NLM Data Test 1'!$W$12:$W$136,0)),1))","v":{"$error":"#N/A"}},{"$f":"(INDEX('NLM Data Test 2'!$P$12:$P$136,(MATCH(NLML.ChangeInScores.PrePostDataset[[#This Row],[First Name & Last Name*\n(choose from list)]],'NLM Data Test 2'!$X$12:$X$136,0)),1))-(INDEX('NLM Data Test 1'!$O$12:$O$136,(MATCH(NLML.ChangeInScores.PrePostDataset[[#This Row],[First Name & Last Name*\n(choose from list)]],'NLM Data Test 1'!$W$12:$W$136,0)),1))","v":{"$error":"#N/A"}},{"$f":"(INDEX('NLM Data Test 2'!$Q$12:$Q$136,(MATCH(NLML.ChangeInScores.PrePostDataset[[#This Row],[First Name & Last Name*\n(choose from list)]],'NLM Data Test 2'!$X$12:$X$136,0)),1))-(INDEX('NLM Data Test 1'!$P$12:$P$136,(MATCH(NLML.ChangeInScores.PrePostDataset[[#This Row],[First Name & Last Name*\n(choose from list)]],'NLM Data Test 1'!$W$12:$W$136,0)),1))","v":{"$error":"#N/A"}},{"$f":"(INDEX('NLM Data Test 2'!$R$12:$R$136,(MATCH(NLML.ChangeInScores.PrePostDataset[[#This Row],[First Name & Last Name*\n(choose from list)]],'NLM Data Test 2'!$X$12:$X$136,0)),1))-(INDEX('NLM Data Test 1'!$Q$12:$Q$136,(MATCH(NLML.ChangeInScores.PrePostDataset[[#This Row],[First Name & Last Name*\n(choose from list)]],'NLM Data Test 1'!$W$12:$W$136,0)),1))","v":{"$error":"#N/A"}},{"$f":"(INDEX('NLM Data Test 2'!$S$12:$S$136,(MATCH(NLML.ChangeInScores.PrePostDataset[[#This Row],[First Name & Last Name*\n(choose from list)]],'NLM Data Test 2'!$X$12:$X$136,0)),1))-(INDEX('NLM Data Test 1'!$R$12:$R$136,(MATCH(NLML.ChangeInScores.PrePostDataset[[#This Row],[First Name & Last Name*\n(choose from list)]],'NLM Data Test 1'!$W$12:$W$136,0)),1))","v":{"$error":"#N/A"}},{"$f":"(INDEX('NLM Data Test 2'!$T$12:$T$136,(MATCH(NLML.ChangeInScores.PrePostDataset[[#This Row],[First Name & Last Name*\n(choose from list)]],'NLM Data Test 2'!$X$12:$X$136,0)),1))-(INDEX('NLM Data Test 1'!$S$12:$S$136,(MATCH(NLML.ChangeInScores.PrePostDataset[[#This Row],[First Name & Last Name*\n(choose from list)]],'NLM Data Test 1'!$W$12:$W$136,0)),1))","v":{"$error":"#N/A"}},{"$f":"IFERROR(INDEX('NLM Data Test 1'!$T$12:$T$136,(MATCH(NLML.ChangeInScores.PrePostDataset[[#This Row],[First Name & Last Name*\n(choose from list)]],'NLM Data Test 1'!$W$12:$W$136,0)),1),\"\")","v":""},{"$f":"IFERROR(INDEX('NLM Data Test 2'!$U$12:$U$136,(MATCH(NLML.ChangeInScores.PrePostDataset[[#This Row],[First Name & Last Name*\n(choose from list)]],'NLM Data Test 2'!$X$12:$X$136,0)),1),\"\")","v":""}]
[68,{"$f":"IFERROR(INDEX(NLML.Test1.PrePostDataset[*First Name],(MATCH(NLML.ChangeInScores.PrePostDataset[[#This Row],[First Name & Last Name*\n(choose from list)]],'NLM Data Test 1'!W79:W203,0)),1),\"\")","v":""},{"$f":"IFERROR(INDEX(NLML.Test1.PrePostDataset[*Last Name],(MATCH(NLML.ChangeInScores.PrePostDataset[[#This Row],[First Name & Last Name*\n(choose from list)]],'NLM Data Test 1'!W79:W203,0)),1),\"\")","v":""},{"$f":"'NLM Data Test 2'!D79","v":0},{"$f":"IF(IFERROR(MATCH($D83,'NLM Data Test 2'!$D$12:$D$136,0),\"Error\")=\"Error\",(INDEX('NLM Data Test 1'!$D$12:$D$136,(MATCH($D83,'NLM Data Test 1'!$W$12:$W$136,0)),1)),(INDEX('NLM Data Test 2'!$E$12:$E$136,(MATCH($D83,'NLM Data Test 2'!$D$12:$D$136,0)),1)))","v":{"$error":"#N/A"}},{"$f":"IF(IFERROR(MATCH($D83,'NLM Data Test 2'!$D$12:$D$136,0),\"Error\")=\"Error\",(INDEX('NLM Data Test 1'!$E$12:$E$136,(MATCH($D83,'NLM Data Test 1'!$W$12:$W$136,0)),1)),(INDEX('NLM Data Test 2'!$G$12:$G$136,(MATCH($D83,'NLM Data Test 2'!$D$12:$D$136,0)),1)))","v":{"$error":"#N/A"}},{"$f":"IF(IFERROR(MATCH($D83,'NLM Data Test 2'!$D$12:$D$136,0),\"Error\")=\"Error\",(INDEX('NLM Data Test 1'!$F$12:$F$136,(MATCH($D83,'NLM Data Test 1'!$W$12:$W$136,0)),1)),(INDEX('NLM Data Test 2'!$F$12:$F$136,(MATCH($D83,'NLM Data Test 2'!$D$12:$D$136,0)),1)))","v":{"$error":"#N/A"}},{"$f":"IF(INDEX('NLM Data Test 1'!$H$12:$H$136,(MATCH(NLML.ChangeInScores.PrePostDataset[[#This Row],[First Name & Last Name*\n(choose from list)]],'NLM Data Test 1'!$W$12:$W$136,0)),1)=\"\",\"\",(INDEX('NLM Data Test 1'!H$12:H$136,(MATCH(NLML.ChangeInScores.PrePostDataset[[#This Row],[First Name & Last Name*\n(choose from list)]],'NLM Data Test 1'!$W$12:$W$136,0)),1)))","v":{"$error":"#N/A"}},{"$f":"IF(INDEX('NLM Data Test 1'!$I$12:$I$136,(MATCH(NLML.ChangeInScores.PrePostDataset[[#This Row],[First Name & Last Name*\n(choose from list)]],'NLM Data Test 1'!$W$12:$W$136,0)),1)=\"\",\"\",(INDEX('NLM Data Test 1'!I$12:I$136,(MATCH(NLML.ChangeInScores.PrePostDataset[[#This Row],[First Name & Last Name*\n(choose from list)]],'NLM Data Test 1'!$W$12:$W$136,0)),1)))","v":{"$error":"#N/A"}},{"$f":"IF(INDEX('NLM Data Test 1'!$J$12:$J$136,(MATCH(NLML.ChangeInScores.PrePostDataset[[#This Row],[First Name & Last Name*\n(choose from list)]],'NLM Data Test 1'!$W$12:$W$136,0)),1)=\"\",\"\",(INDEX('NLM Data Test 1'!J$12:J$136,(MATCH(NLML.ChangeInScores.PrePostDataset[[#This Row],[First Name & Last Name*\n(choose from list)]],'NLM Data Test 1'!$W$12:$W$136,0)),1)))","v":{"$error":"#N/A"}},{"$f":"IFERROR(INDEX('NLM Data Test 1'!$M$12:$M$136,(MATCH(NLML.ChangeInScores.PrePostDataset[[#This Row],[First Name & Last Name*\n(choose from list)]],'NLM Data Test 1'!$W$12:$W$136,0)),1),\"\")","v":""},{"$f":"INDEX('NLM Data Test 2'!$I$12:$I$136,(MATCH(NLML.ChangeInScores.PrePostDataset[[#This Row],[First Name & Last Name*\n(choose from list)]],'NLM Data Test 2'!$D$12:$D$136,0)),1)","v":{"$error":"#N/A"}},{"$f":"IFERROR(INDEX('NLM Data Test 2'!$J$12:$J$136,(MATCH(NLML.ChangeInScores.PrePostDataset[[#This Row],[First Name & Last Name*\n(choose from list)]],'NLM Data Test 2'!$X$12:$X$136,0)),1),\"\")","v":""},{"$f":"IFERROR(INDEX('NLM Data Test 2'!$K$12:$K$136,(MATCH(NLML.ChangeInScores.PrePostDataset[[#This Row],[First Name & Last Name*\n(choose from list)]],'NLM Data Test 2'!$X$12:$X$136,0)),1),\"\")","v":""},{"$f":"IFERROR(INDEX('NLM Data Test 2'!$N$12:$N$136,(MATCH(NLML.ChangeInScores.PrePostDataset[[#This Row],[First Name & Last Name*\n(choose from list)]],'NLM Data Test 2'!$X$12:$X$136,0)),1),\"\")","v":""},{"$f":"(INDEX('NLM Data Test 2'!$O$12:$O$136,(MATCH(NLML.ChangeInScores.PrePostDataset[[#This Row],[First Name & Last Name*\n(choose from list)]],'NLM Data Test 2'!$X$12:$X$136,0)),1))-(INDEX('NLM Data Test 1'!$N$12:$N$136,(MATCH(NLML.ChangeInScores.PrePostDataset[[#This Row],[First Name & Last Name*\n(choose from list)]],'NLM Data Test 1'!$W$12:$W$136,0)),1))","v":{"$error":"#N/A"}},{"$f":"(INDEX('NLM Data Test 2'!$P$12:$P$136,(MATCH(NLML.ChangeInScores.PrePostDataset[[#This Row],[First Name & Last Name*\n(choose from list)]],'NLM Data Test 2'!$X$12:$X$136,0)),1))-(INDEX('NLM Data Test 1'!$O$12:$O$136,(MATCH(NLML.ChangeInScores.PrePostDataset[[#This Row],[First Name & Last Name*\n(choose from list)]],'NLM Data Test 1'!$W$12:$W$136,0)),1))","v":{"$error":"#N/A"}},{"$f":"(INDEX('NLM Data Test 2'!$Q$12:$Q$136,(MATCH(NLML.ChangeInScores.PrePostDataset[[#This Row],[First Name & Last Name*\n(choose from list)]],'NLM Data Test 2'!$X$12:$X$136,0)),1))-(INDEX('NLM Data Test 1'!$P$12:$P$136,(MATCH(NLML.ChangeInScores.PrePostDataset[[#This Row],[First Name & Last Name*\n(choose from list)]],'NLM Data Test 1'!$W$12:$W$136,0)),1))","v":{"$error":"#N/A"}},{"$f":"(INDEX('NLM Data Test 2'!$R$12:$R$136,(MATCH(NLML.ChangeInScores.PrePostDataset[[#This Row],[First Name & Last Name*\n(choose from list)]],'NLM Data Test 2'!$X$12:$X$136,0)),1))-(INDEX('NLM Data Test 1'!$Q$12:$Q$136,(MATCH(NLML.ChangeInScores.PrePostDataset[[#This Row],[First Name & Last Name*\n(choose from list)]],'NLM Data Test 1'!$W$12:$W$136,0)),1))","v":{"$error":"#N/A"}},{"$f":"(INDEX('NLM Data Test 2'!$S$12:$S$136,(MATCH(NLML.ChangeInScores.PrePostDataset[[#This Row],[First Name & Last Name*\n(choose from list)]],'NLM Data Test 2'!$X$12:$X$136,0)),1))-(INDEX('NLM Data Test 1'!$R$12:$R$136,(MATCH(NLML.ChangeInScores.PrePostDataset[[#This Row],[First Name & Last Name*\n(choose from list)]],'NLM Data Test 1'!$W$12:$W$136,0)),1))","v":{"$error":"#N/A"}},{"$f":"(INDEX('NLM Data Test 2'!$T$12:$T$136,(MATCH(NLML.ChangeInScores.PrePostDataset[[#This Row],[First Name & Last Name*\n(choose from list)]],'NLM Data Test 2'!$X$12:$X$136,0)),1))-(INDEX('NLM Data Test 1'!$S$12:$S$136,(MATCH(NLML.ChangeInScores.PrePostDataset[[#This Row],[First Name & Last Name*\n(choose from list)]],'NLM Data Test 1'!$W$12:$W$136,0)),1))","v":{"$error":"#N/A"}},{"$f":"IFERROR(INDEX('NLM Data Test 1'!$T$12:$T$136,(MATCH(NLML.ChangeInScores.PrePostDataset[[#This Row],[First Name & Last Name*\n(choose from list)]],'NLM Data Test 1'!$W$12:$W$136,0)),1),\"\")","v":""},{"$f":"IFERROR(INDEX('NLM Data Test 2'!$U$12:$U$136,(MATCH(NLML.ChangeInScores.PrePostDataset[[#This Row],[First Name & Last Name*\n(choose from list)]],'NLM Data Test 2'!$X$12:$X$136,0)),1),\"\")","v":""}]
[69,{"$f":"IFERROR(INDEX(NLML.Test1.PrePostDataset[*First Name],(MATCH(NLML.ChangeInScores.PrePostDataset[[#This Row],[First Name & Last Name*\n(choose from list)]],'NLM Data Test 1'!W80:W204,0)),1),\"\")","v":""},{"$f":"IFERROR(INDEX(NLML.Test1.PrePostDataset[*Last Name],(MATCH(NLML.ChangeInScores.PrePostDataset[[#This Row],[First Name & Last Name*\n(choose from list)]],'NLM Data Test 1'!W80:W204,0)),1),\"\")","v":""},{"$f":"'NLM Data Test 2'!D80","v":0},{"$f":"IF(IFERROR(MATCH($D84,'NLM Data Test 2'!$D$12:$D$136,0),\"Error\")=\"Error\",(INDEX('NLM Data Test 1'!$D$12:$D$136,(MATCH($D84,'NLM Data Test 1'!$W$12:$W$136,0)),1)),(INDEX('NLM Data Test 2'!$E$12:$E$136,(MATCH($D84,'NLM Data Test 2'!$D$12:$D$136,0)),1)))","v":{"$error":"#N/A"}},{"$f":"IF(IFERROR(MATCH($D84,'NLM Data Test 2'!$D$12:$D$136,0),\"Error\")=\"Error\",(INDEX('NLM Data Test 1'!$E$12:$E$136,(MATCH($D84,'NLM Data Test 1'!$W$12:$W$136,0)),1)),(INDEX('NLM Data Test 2'!$G$12:$G$136,(MATCH($D84,'NLM Data Test 2'!$D$12:$D$136,0)),1)))","v":{"$error":"#N/A"}},{"$f":"IF(IFERROR(MATCH($D84,'NLM Data Test 2'!$D$12:$D$136,0),\"Error\")=\"Error\",(INDEX('NLM Data Test 1'!$F$12:$F$136,(MATCH($D84,'NLM Data Test 1'!$W$12:$W$136,0)),1)),(INDEX('NLM Data Test 2'!$F$12:$F$136,(MATCH($D84,'NLM Data Test 2'!$D$12:$D$136,0)),1)))","v":{"$error":"#N/A"}},{"$f":"IF(INDEX('NLM Data Test 1'!$H$12:$H$136,(MATCH(NLML.ChangeInScores.PrePostDataset[[#This Row],[First Name & Last Name*\n(choose from list)]],'NLM Data Test 1'!$W$12:$W$136,0)),1)=\"\",\"\",(INDEX('NLM Data Test 1'!H$12:H$136,(MATCH(NLML.ChangeInScores.PrePostDataset[[#This Row],[First Name & Last Name*\n(choose from list)]],'NLM Data Test 1'!$W$12:$W$136,0)),1)))","v":{"$error":"#N/A"}},{"$f":"IF(INDEX('NLM Data Test 1'!$I$12:$I$136,(MATCH(NLML.ChangeInScores.PrePostDataset[[#This Row],[First Name & Last Name*\n(choose from list)]],'NLM Data Test 1'!$W$12:$W$136,0)),1)=\"\",\"\",(INDEX('NLM Data Test 1'!I$12:I$136,(MATCH(NLML.ChangeInScores.PrePostDataset[[#This Row],[First Name & Last Name*\n(choose from list)]],'NLM Data Test 1'!$W$12:$W$136,0)),1)))","v":{"$error":"#N/A"}},{"$f":"IF(INDEX('NLM Data Test 1'!$J$12:$J$136,(MATCH(NLML.ChangeInScores.PrePostDataset[[#This Row],[First Name & Last Name*\n(choose from list)]],'NLM Data Test 1'!$W$12:$W$136,0)),1)=\"\",\"\",(INDEX('NLM Data Test 1'!J$12:J$136,(MATCH(NLML.ChangeInScores.PrePostDataset[[#This Row],[First Name & Last Name*\n(choose from list)]],'NLM Data Test 1'!$W$12:$W$136,0)),1)))","v":{"$error":"#N/A"}},{"$f":"IFERROR(INDEX('NLM Data Test 1'!$M$12:$M$136,(MATCH(NLML.ChangeInScores.PrePostDataset[[#This Row],[First Name & Last Name*\n(choose from list)]],'NLM Data Test 1'!$W$12:$W$136,0)),1),\"\")","v":""},{"$f":"INDEX('NLM Data Test 2'!$I$12:$I$136,(MATCH(NLML.ChangeInScores.PrePostDataset[[#This Row],[First Name & Last Name*\n(choose from list)]],'NLM Data Test 2'!$D$12:$D$136,0)),1)","v":{"$error":"#N/A"}},{"$f":"IFERROR(INDEX('NLM Data Test 2'!$J$12:$J$136,(MATCH(NLML.ChangeInScores.PrePostDataset[[#This Row],[First Name & Last Name*\n(choose from list)]],'NLM Data Test 2'!$X$12:$X$136,0)),1),\"\")","v":""},{"$f":"IFERROR(INDEX('NLM Data Test 2'!$K$12:$K$136,(MATCH(NLML.ChangeInScores.PrePostDataset[[#This Row],[First Name & Last Name*\n(choose from list)]],'NLM Data Test 2'!$X$12:$X$136,0)),1),\"\")","v":""},{"$f":"IFERROR(INDEX('NLM Data Test 2'!$N$12:$N$136,(MATCH(NLML.ChangeInScores.PrePostDataset[[#This Row],[First Name & Last Name*\n(choose from list)]],'NLM Data Test 2'!$X$12:$X$136,0)),1),\"\")","v":""},{"$f":"(INDEX('NLM Data Test 2'!$O$12:$O$136,(MATCH(NLML.ChangeInScores.PrePostDataset[[#This Row],[First Name & Last Name*\n(choose from list)]],'NLM Data Test 2'!$X$12:$X$136,0)),1))-(INDEX('NLM Data Test 1'!$N$12:$N$136,(MATCH(NLML.ChangeInScores.PrePostDataset[[#This Row],[First Name & Last Name*\n(choose from list)]],'NLM Data Test 1'!$W$12:$W$136,0)),1))","v":{"$error":"#N/A"}},{"$f":"(INDEX('NLM Data Test 2'!$P$12:$P$136,(MATCH(NLML.ChangeInScores.PrePostDataset[[#This Row],[First Name & Last Name*\n(choose from list)]],'NLM Data Test 2'!$X$12:$X$136,0)),1))-(INDEX('NLM Data Test 1'!$O$12:$O$136,(MATCH(NLML.ChangeInScores.PrePostDataset[[#This Row],[First Name & Last Name*\n(choose from list)]],'NLM Data Test 1'!$W$12:$W$136,0)),1))","v":{"$error":"#N/A"}},{"$f":"(INDEX('NLM Data Test 2'!$Q$12:$Q$136,(MATCH(NLML.ChangeInScores.PrePostDataset[[#This Row],[First Name & Last Name*\n(choose from list)]],'NLM Data Test 2'!$X$12:$X$136,0)),1))-(INDEX('NLM Data Test 1'!$P$12:$P$136,(MATCH(NLML.ChangeInScores.PrePostDataset[[#This Row],[First Name & Last Name*\n(choose from list)]],'NLM Data Test 1'!$W$12:$W$136,0)),1))","v":{"$error":"#N/A"}},{"$f":"(INDEX('NLM Data Test 2'!$R$12:$R$136,(MATCH(NLML.ChangeInScores.PrePostDataset[[#This Row],[First Name & Last Name*\n(choose from list)]],'NLM Data Test 2'!$X$12:$X$136,0)),1))-(INDEX('NLM Data Test 1'!$Q$12:$Q$136,(MATCH(NLML.ChangeInScores.PrePostDataset[[#This Row],[First Name & Last Name*\n(choose from list)]],'NLM Data Test 1'!$W$12:$W$136,0)),1))","v":{"$error":"#N/A"}},{"$f":"(INDEX('NLM Data Test 2'!$S$12:$S$136,(MATCH(NLML.ChangeInScores.PrePostDataset[[#This Row],[First Name & Last Name*\n(choose from list)]],'NLM Data Test 2'!$X$12:$X$136,0)),1))-(INDEX('NLM Data Test 1'!$R$12:$R$136,(MATCH(NLML.ChangeInScores.PrePostDataset[[#This Row],[First Name & Last Name*\n(choose from list)]],'NLM Data Test 1'!$W$12:$W$136,0)),1))","v":{"$error":"#N/A"}},{"$f":"(INDEX('NLM Data Test 2'!$T$12:$T$136,(MATCH(NLML.ChangeInScores.PrePostDataset[[#This Row],[First Name & Last Name*\n(choose from list)]],'NLM Data Test 2'!$X$12:$X$136,0)),1))-(INDEX('NLM Data Test 1'!$S$12:$S$136,(MATCH(NLML.ChangeInScores.PrePostDataset[[#This Row],[First Name & Last Name*\n(choose from list)]],'NLM Data Test 1'!$W$12:$W$136,0)),1))","v":{"$error":"#N/A"}},{"$f":"IFERROR(INDEX('NLM Data Test 1'!$T$12:$T$136,(MATCH(NLML.ChangeInScores.PrePostDataset[[#This Row],[First Name & Last Name*\n(choose from list)]],'NLM Data Test 1'!$W$12:$W$136,0)),1),\"\")","v":""},{"$f":"IFERROR(INDEX('NLM Data Test 2'!$U$12:$U$136,(MATCH(NLML.ChangeInScores.PrePostDataset[[#This Row],[First Name & Last Name*\n(choose from list)]],'NLM Data Test 2'!$X$12:$X$136,0)),1),\"\")","v":""}]
[70,{"$f":"IFERROR(INDEX(NLML.Test1.PrePostDataset[*First Name],(MATCH(NLML.ChangeInScores.PrePostDataset[[#This Row],[First Name & Last Name*\n(choose from list)]],'NLM Data Test 1'!W81:W205,0)),1),\"\")","v":""},{"$f":"IFERROR(INDEX(NLML.Test1.PrePostDataset[*Last Name],(MATCH(NLML.ChangeInScores.PrePostDataset[[#This Row],[First Name & Last Name*\n(choose from list)]],'NLM Data Test 1'!W81:W205,0)),1),\"\")","v":""},{"$f":"'NLM Data Test 2'!D81","v":0},{"$f":"IF(IFERROR(MATCH($D85,'NLM Data Test 2'!$D$12:$D$136,0),\"Error\")=\"Error\",(INDEX('NLM Data Test 1'!$D$12:$D$136,(MATCH($D85,'NLM Data Test 1'!$W$12:$W$136,0)),1)),(INDEX('NLM Data Test 2'!$E$12:$E$136,(MATCH($D85,'NLM Data Test 2'!$D$12:$D$136,0)),1)))","v":{"$error":"#N/A"}},{"$f":"IF(IFERROR(MATCH($D85,'NLM Data Test 2'!$D$12:$D$136,0),\"Error\")=\"Error\",(INDEX('NLM Data Test 1'!$E$12:$E$136,(MATCH($D85,'NLM Data Test 1'!$W$12:$W$136,0)),1)),(INDEX('NLM Data Test 2'!$G$12:$G$136,(MATCH($D85,'NLM Data Test 2'!$D$12:$D$136,0)),1)))","v":{"$error":"#N/A"}},{"$f":"IF(IFERROR(MATCH($D85,'NLM Data Test 2'!$D$12:$D$136,0),\"Error\")=\"Error\",(INDEX('NLM Data Test 1'!$F$12:$F$136,(MATCH($D85,'NLM Data Test 1'!$W$12:$W$136,0)),1)),(INDEX('NLM Data Test 2'!$F$12:$F$136,(MATCH($D85,'NLM Data Test 2'!$D$12:$D$136,0)),1)))","v":{"$error":"#N/A"}},{"$f":"IF(INDEX('NLM Data Test 1'!$H$12:$H$136,(MATCH(NLML.ChangeInScores.PrePostDataset[[#This Row],[First Name & Last Name*\n(choose from list)]],'NLM Data Test 1'!$W$12:$W$136,0)),1)=\"\",\"\",(INDEX('NLM Data Test 1'!H$12:H$136,(MATCH(NLML.ChangeInScores.PrePostDataset[[#This Row],[First Name & Last Name*\n(choose from list)]],'NLM Data Test 1'!$W$12:$W$136,0)),1)))","v":{"$error":"#N/A"}},{"$f":"IF(INDEX('NLM Data Test 1'!$I$12:$I$136,(MATCH(NLML.ChangeInScores.PrePostDataset[[#This Row],[First Name & Last Name*\n(choose from list)]],'NLM Data Test 1'!$W$12:$W$136,0)),1)=\"\",\"\",(INDEX('NLM Data Test 1'!I$12:I$136,(MATCH(NLML.ChangeInScores.PrePostDataset[[#This Row],[First Name & Last Name*\n(choose from list)]],'NLM Data Test 1'!$W$12:$W$136,0)),1)))","v":{"$error":"#N/A"}},{"$f":"IF(INDEX('NLM Data Test 1'!$J$12:$J$136,(MATCH(NLML.ChangeInScores.PrePostDataset[[#This Row],[First Name & Last Name*\n(choose from list)]],'NLM Data Test 1'!$W$12:$W$136,0)),1)=\"\",\"\",(INDEX('NLM Data Test 1'!J$12:J$136,(MATCH(NLML.ChangeInScores.PrePostDataset[[#This Row],[First Name & Last Name*\n(choose from list)]],'NLM Data Test 1'!$W$12:$W$136,0)),1)))","v":{"$error":"#N/A"}},{"$f":"IFERROR(INDEX('NLM Data Test 1'!$M$12:$M$136,(MATCH(NLML.ChangeInScores.PrePostDataset[[#This Row],[First Name & Last Name*\n(choose from list)]],'NLM Data Test 1'!$W$12:$W$136,0)),1),\"\")","v":""},{"$f":"INDEX('NLM Data Test 2'!$I$12:$I$136,(MATCH(NLML.ChangeInScores.PrePostDataset[[#This Row],[First Name & Last Name*\n(choose from list)]],'NLM Data Test 2'!$D$12:$D$136,0)),1)","v":{"$error":"#N/A"}},{"$f":"IFERROR(INDEX('NLM Data Test 2'!$J$12:$J$136,(MATCH(NLML.ChangeInScores.PrePostDataset[[#This Row],[First Name & Last Name*\n(choose from list)]],'NLM Data Test 2'!$X$12:$X$136,0)),1),\"\")","v":""},{"$f":"IFERROR(INDEX('NLM Data Test 2'!$K$12:$K$136,(MATCH(NLML.ChangeInScores.PrePostDataset[[#This Row],[First Name & Last Name*\n(choose from list)]],'NLM Data Test 2'!$X$12:$X$136,0)),1),\"\")","v":""},{"$f":"IFERROR(INDEX('NLM Data Test 2'!$N$12:$N$136,(MATCH(NLML.ChangeInScores.PrePostDataset[[#This Row],[First Name & Last Name*\n(choose from list)]],'NLM Data Test 2'!$X$12:$X$136,0)),1),\"\")","v":""},{"$f":"(INDEX('NLM Data Test 2'!$O$12:$O$136,(MATCH(NLML.ChangeInScores.PrePostDataset[[#This Row],[First Name & Last Name*\n(choose from list)]],'NLM Data Test 2'!$X$12:$X$136,0)),1))-(INDEX('NLM Data Test 1'!$N$12:$N$136,(MATCH(NLML.ChangeInScores.PrePostDataset[[#This Row],[First Name & Last Name*\n(choose from list)]],'NLM Data Test 1'!$W$12:$W$136,0)),1))","v":{"$error":"#N/A"}},{"$f":"(INDEX('NLM Data Test 2'!$P$12:$P$136,(MATCH(NLML.ChangeInScores.PrePostDataset[[#This Row],[First Name & Last Name*\n(choose from list)]],'NLM Data Test 2'!$X$12:$X$136,0)),1))-(INDEX('NLM Data Test 1'!$O$12:$O$136,(MATCH(NLML.ChangeInScores.PrePostDataset[[#This Row],[First Name & Last Name*\n(choose from list)]],'NLM Data Test 1'!$W$12:$W$136,0)),1))","v":{"$error":"#N/A"}},{"$f":"(INDEX('NLM Data Test 2'!$Q$12:$Q$136,(MATCH(NLML.ChangeInScores.PrePostDataset[[#This Row],[First Name & Last Name*\n(choose from list)]],'NLM Data Test 2'!$X$12:$X$136,0)),1))-(INDEX('NLM Data Test 1'!$P$12:$P$136,(MATCH(NLML.ChangeInScores.PrePostDataset[[#This Row],[First Name & Last Name*\n(choose from list)]],'NLM Data Test 1'!$W$12:$W$136,0)),1))","v":{"$error":"#N/A"}},{"$f":"(INDEX('NLM Data Test 2'!$R$12:$R$136,(MATCH(NLML.ChangeInScores.PrePostDataset[[#This Row],[First Name & Last Name*\n(choose from list)]],'NLM Data Test 2'!$X$12:$X$136,0)),1))-(INDEX('NLM Data Test 1'!$Q$12:$Q$136,(MATCH(NLML.ChangeInScores.PrePostDataset[[#This Row],[First Name & Last Name*\n(choose from list)]],'NLM Data Test 1'!$W$12:$W$136,0)),1))","v":{"$error":"#N/A"}},{"$f":"(INDEX('NLM Data Test 2'!$S$12:$S$136,(MATCH(NLML.ChangeInScores.PrePostDataset[[#This Row],[First Name & Last Name*\n(choose from list)]],'NLM Data Test 2'!$X$12:$X$136,0)),1))-(INDEX('NLM Data Test 1'!$R$12:$R$136,(MATCH(NLML.ChangeInScores.PrePostDataset[[#This Row],[First Name & Last Name*\n(choose from list)]],'NLM Data Test 1'!$W$12:$W$136,0)),1))","v":{"$error":"#N/A"}},{"$f":"(INDEX('NLM Data Test 2'!$T$12:$T$136,(MATCH(NLML.ChangeInScores.PrePostDataset[[#This Row],[First Name & Last Name*\n(choose from list)]],'NLM Data Test 2'!$X$12:$X$136,0)),1))-(INDEX('NLM Data Test 1'!$S$12:$S$136,(MATCH(NLML.ChangeInScores.PrePostDataset[[#This Row],[First Name & Last Name*\n(choose from list)]],'NLM Data Test 1'!$W$12:$W$136,0)),1))","v":{"$error":"#N/A"}},{"$f":"IFERROR(INDEX('NLM Data Test 1'!$T$12:$T$136,(MATCH(NLML.ChangeInScores.PrePostDataset[[#This Row],[First Name & Last Name*\n(choose from list)]],'NLM Data Test 1'!$W$12:$W$136,0)),1),\"\")","v":""},{"$f":"IFERROR(INDEX('NLM Data Test 2'!$U$12:$U$136,(MATCH(NLML.ChangeInScores.PrePostDataset[[#This Row],[First Name & Last Name*\n(choose from list)]],'NLM Data Test 2'!$X$12:$X$136,0)),1),\"\")","v":""}]
[71,{"$f":"IFERROR(INDEX(NLML.Test1.PrePostDataset[*First Name],(MATCH(NLML.ChangeInScores.PrePostDataset[[#This Row],[First Name & Last Name*\n(choose from list)]],'NLM Data Test 1'!W82:W206,0)),1),\"\")","v":""},{"$f":"IFERROR(INDEX(NLML.Test1.PrePostDataset[*Last Name],(MATCH(NLML.ChangeInScores.PrePostDataset[[#This Row],[First Name & Last Name*\n(choose from list)]],'NLM Data Test 1'!W82:W206,0)),1),\"\")","v":""},{"$f":"'NLM Data Test 2'!D82","v":0},{"$f":"IF(IFERROR(MATCH($D86,'NLM Data Test 2'!$D$12:$D$136,0),\"Error\")=\"Error\",(INDEX('NLM Data Test 1'!$D$12:$D$136,(MATCH($D86,'NLM Data Test 1'!$W$12:$W$136,0)),1)),(INDEX('NLM Data Test 2'!$E$12:$E$136,(MATCH($D86,'NLM Data Test 2'!$D$12:$D$136,0)),1)))","v":{"$error":"#N/A"}},{"$f":"IF(IFERROR(MATCH($D86,'NLM Data Test 2'!$D$12:$D$136,0),\"Error\")=\"Error\",(INDEX('NLM Data Test 1'!$E$12:$E$136,(MATCH($D86,'NLM Data Test 1'!$W$12:$W$136,0)),1)),(INDEX('NLM Data Test 2'!$G$12:$G$136,(MATCH($D86,'NLM Data Test 2'!$D$12:$D$136,0)),1)))","v":{"$error":"#N/A"}},{"$f":"IF(IFERROR(MATCH($D86,'NLM Data Test 2'!$D$12:$D$136,0),\"Error\")=\"Error\",(INDEX('NLM Data Test 1'!$F$12:$F$136,(MATCH($D86,'NLM Data Test 1'!$W$12:$W$136,0)),1)),(INDEX('NLM Data Test 2'!$F$12:$F$136,(MATCH($D86,'NLM Data Test 2'!$D$12:$D$136,0)),1)))","v":{"$error":"#N/A"}},{"$f":"IF(INDEX('NLM Data Test 1'!$H$12:$H$136,(MATCH(NLML.ChangeInScores.PrePostDataset[[#This Row],[First Name & Last Name*\n(choose from list)]],'NLM Data Test 1'!$W$12:$W$136,0)),1)=\"\",\"\",(INDEX('NLM Data Test 1'!H$12:H$136,(MATCH(NLML.ChangeInScores.PrePostDataset[[#This Row],[First Name & Last Name*\n(choose from list)]],'NLM Data Test 1'!$W$12:$W$136,0)),1)))","v":{"$error":"#N/A"}},{"$f":"IF(INDEX('NLM Data Test 1'!$I$12:$I$136,(MATCH(NLML.ChangeInScores.PrePostDataset[[#This Row],[First Name & Last Name*\n(choose from list)]],'NLM Data Test 1'!$W$12:$W$136,0)),1)=\"\",\"\",(INDEX('NLM Data Test 1'!I$12:I$136,(MATCH(NLML.ChangeInScores.PrePostDataset[[#This Row],[First Name & Last Name*\n(choose from list)]],'NLM Data Test 1'!$W$12:$W$136,0)),1)))","v":{"$error":"#N/A"}},{"$f":"IF(INDEX('NLM Data Test 1'!$J$12:$J$136,(MATCH(NLML.ChangeInScores.PrePostDataset[[#This Row],[First Name & Last Name*\n(choose from list)]],'NLM Data Test 1'!$W$12:$W$136,0)),1)=\"\",\"\",(INDEX('NLM Data Test 1'!J$12:J$136,(MATCH(NLML.ChangeInScores.PrePostDataset[[#This Row],[First Name & Last Name*\n(choose from list)]],'NLM Data Test 1'!$W$12:$W$136,0)),1)))","v":{"$error":"#N/A"}},{"$f":"IFERROR(INDEX('NLM Data Test 1'!$M$12:$M$136,(MATCH(NLML.ChangeInScores.PrePostDataset[[#This Row],[First Name & Last Name*\n(choose from list)]],'NLM Data Test 1'!$W$12:$W$136,0)),1),\"\")","v":""},{"$f":"INDEX('NLM Data Test 2'!$I$12:$I$136,(MATCH(NLML.ChangeInScores.PrePostDataset[[#This Row],[First Name & Last Name*\n(choose from list)]],'NLM Data Test 2'!$D$12:$D$136,0)),1)","v":{"$error":"#N/A"}},{"$f":"IFERROR(INDEX('NLM Data Test 2'!$J$12:$J$136,(MATCH(NLML.ChangeInScores.PrePostDataset[[#This Row],[First Name & Last Name*\n(choose from list)]],'NLM Data Test 2'!$X$12:$X$136,0)),1),\"\")","v":""},{"$f":"IFERROR(INDEX('NLM Data Test 2'!$K$12:$K$136,(MATCH(NLML.ChangeInScores.PrePostDataset[[#This Row],[First Name & Last Name*\n(choose from list)]],'NLM Data Test 2'!$X$12:$X$136,0)),1),\"\")","v":""},{"$f":"IFERROR(INDEX('NLM Data Test 2'!$N$12:$N$136,(MATCH(NLML.ChangeInScores.PrePostDataset[[#This Row],[First Name & Last Name*\n(choose from list)]],'NLM Data Test 2'!$X$12:$X$136,0)),1),\"\")","v":""},{"$f":"(INDEX('NLM Data Test 2'!$O$12:$O$136,(MATCH(NLML.ChangeInScores.PrePostDataset[[#This Row],[First Name & Last Name*\n(choose from list)]],'NLM Data Test 2'!$X$12:$X$136,0)),1))-(INDEX('NLM Data Test 1'!$N$12:$N$136,(MATCH(NLML.ChangeInScores.PrePostDataset[[#This Row],[First Name & Last Name*\n(choose from list)]],'NLM Data Test 1'!$W$12:$W$136,0)),1))","v":{"$error":"#N/A"}},{"$f":"(INDEX('NLM Data Test 2'!$P$12:$P$136,(MATCH(NLML.ChangeInScores.PrePostDataset[[#This Row],[First Name & Last Name*\n(choose from list)]],'NLM Data Test 2'!$X$12:$X$136,0)),1))-(INDEX('NLM Data Test 1'!$O$12:$O$136,(MATCH(NLML.ChangeInScores.PrePostDataset[[#This Row],[First Name & Last Name*\n(choose from list)]],'NLM Data Test 1'!$W$12:$W$136,0)),1))","v":{"$error":"#N/A"}},{"$f":"(INDEX('NLM Data Test 2'!$Q$12:$Q$136,(MATCH(NLML.ChangeInScores.PrePostDataset[[#This Row],[First Name & Last Name*\n(choose from list)]],'NLM Data Test 2'!$X$12:$X$136,0)),1))-(INDEX('NLM Data Test 1'!$P$12:$P$136,(MATCH(NLML.ChangeInScores.PrePostDataset[[#This Row],[First Name & Last Name*\n(choose from list)]],'NLM Data Test 1'!$W$12:$W$136,0)),1))","v":{"$error":"#N/A"}},{"$f":"(INDEX('NLM Data Test 2'!$R$12:$R$136,(MATCH(NLML.ChangeInScores.PrePostDataset[[#This Row],[First Name & Last Name*\n(choose from list)]],'NLM Data Test 2'!$X$12:$X$136,0)),1))-(INDEX('NLM Data Test 1'!$Q$12:$Q$136,(MATCH(NLML.ChangeInScores.PrePostDataset[[#This Row],[First Name & Last Name*\n(choose from list)]],'NLM Data Test 1'!$W$12:$W$136,0)),1))","v":{"$error":"#N/A"}},{"$f":"(INDEX('NLM Data Test 2'!$S$12:$S$136,(MATCH(NLML.ChangeInScores.PrePostDataset[[#This Row],[First Name & Last Name*\n(choose from list)]],'NLM Data Test 2'!$X$12:$X$136,0)),1))-(INDEX('NLM Data Test 1'!$R$12:$R$136,(MATCH(NLML.ChangeInScores.PrePostDataset[[#This Row],[First Name & Last Name*\n(choose from list)]],'NLM Data Test 1'!$W$12:$W$136,0)),1))","v":{"$error":"#N/A"}},{"$f":"(INDEX('NLM Data Test 2'!$T$12:$T$136,(MATCH(NLML.ChangeInScores.PrePostDataset[[#This Row],[First Name & Last Name*\n(choose from list)]],'NLM Data Test 2'!$X$12:$X$136,0)),1))-(INDEX('NLM Data Test 1'!$S$12:$S$136,(MATCH(NLML.ChangeInScores.PrePostDataset[[#This Row],[First Name & Last Name*\n(choose from list)]],'NLM Data Test 1'!$W$12:$W$136,0)),1))","v":{"$error":"#N/A"}},{"$f":"IFERROR(INDEX('NLM Data Test 1'!$T$12:$T$136,(MATCH(NLML.ChangeInScores.PrePostDataset[[#This Row],[First Name & Last Name*\n(choose from list)]],'NLM Data Test 1'!$W$12:$W$136,0)),1),\"\")","v":""},{"$f":"IFERROR(INDEX('NLM Data Test 2'!$U$12:$U$136,(MATCH(NLML.ChangeInScores.PrePostDataset[[#This Row],[First Name & Last Name*\n(choose from list)]],'NLM Data Test 2'!$X$12:$X$136,0)),1),\"\")","v":""}]
[72,{"$f":"IFERROR(INDEX(NLML.Test1.PrePostDataset[*First Name],(MATCH(NLML.ChangeInScores.PrePostDataset[[#This Row],[First Name & Last Name*\n(choose from list)]],'NLM Data Test 1'!W83:W207,0)),1),\"\")","v":""},{"$f":"IFERROR(INDEX(NLML.Test1.PrePostDataset[*Last Name],(MATCH(NLML.ChangeInScores.PrePostDataset[[#This Row],[First Name & Last Name*\n(choose from list)]],'NLM Data Test 1'!W83:W207,0)),1),\"\")","v":""},{"$f":"'NLM Data Test 2'!D83","v":0},{"$f":"IF(IFERROR(MATCH($D87,'NLM Data Test 2'!$D$12:$D$136,0),\"Error\")=\"Error\",(INDEX('NLM Data Test 1'!$D$12:$D$136,(MATCH($D87,'NLM Data Test 1'!$W$12:$W$136,0)),1)),(INDEX('NLM Data Test 2'!$E$12:$E$136,(MATCH($D87,'NLM Data Test 2'!$D$12:$D$136,0)),1)))","v":{"$error":"#N/A"}},{"$f":"IF(IFERROR(MATCH($D87,'NLM Data Test 2'!$D$12:$D$136,0),\"Error\")=\"Error\",(INDEX('NLM Data Test 1'!$E$12:$E$136,(MATCH($D87,'NLM Data Test 1'!$W$12:$W$136,0)),1)),(INDEX('NLM Data Test 2'!$G$12:$G$136,(MATCH($D87,'NLM Data Test 2'!$D$12:$D$136,0)),1)))","v":{"$error":"#N/A"}},{"$f":"IF(IFERROR(MATCH($D87,'NLM Data Test 2'!$D$12:$D$136,0),\"Error\")=\"Error\",(INDEX('NLM Data Test 1'!$F$12:$F$136,(MATCH($D87,'NLM Data Test 1'!$W$12:$W$136,0)),1)),(INDEX('NLM Data Test 2'!$F$12:$F$136,(MATCH($D87,'NLM Data Test 2'!$D$12:$D$136,0)),1)))","v":{"$error":"#N/A"}},{"$f":"IF(INDEX('NLM Data Test 1'!$H$12:$H$136,(MATCH(NLML.ChangeInScores.PrePostDataset[[#This Row],[First Name & Last Name*\n(choose from list)]],'NLM Data Test 1'!$W$12:$W$136,0)),1)=\"\",\"\",(INDEX('NLM Data Test 1'!H$12:H$136,(MATCH(NLML.ChangeInScores.PrePostDataset[[#This Row],[First Name & Last Name*\n(choose from list)]],'NLM Data Test 1'!$W$12:$W$136,0)),1)))","v":{"$error":"#N/A"}},{"$f":"IF(INDEX('NLM Data Test 1'!$I$12:$I$136,(MATCH(NLML.ChangeInScores.PrePostDataset[[#This Row],[First Name & Last Name*\n(choose from list)]],'NLM Data Test 1'!$W$12:$W$136,0)),1)=\"\",\"\",(INDEX('NLM Data Test 1'!I$12:I$136,(MATCH(NLML.ChangeInScores.PrePostDataset[[#This Row],[First Name & Last Name*\n(choose from list)]],'NLM Data Test 1'!$W$12:$W$136,0)),1)))","v":{"$error":"#N/A"}},{"$f":"IF(INDEX('NLM Data Test 1'!$J$12:$J$136,(MATCH(NLML.ChangeInScores.PrePostDataset[[#This Row],[First Name & Last Name*\n(choose from list)]],'NLM Data Test 1'!$W$12:$W$136,0)),1)=\"\",\"\",(INDEX('NLM Data Test 1'!J$12:J$136,(MATCH(NLML.ChangeInScores.PrePostDataset[[#This Row],[First Name & Last Name*\n(choose from list)]],'NLM Data Test 1'!$W$12:$W$136,0)),1)))","v":{"$error":"#N/A"}},{"$f":"IFERROR(INDEX('NLM Data Test 1'!$M$12:$M$136,(MATCH(NLML.ChangeInScores.PrePostDataset[[#This Row],[First Name & Last Name*\n(choose from list)]],'NLM Data Test 1'!$W$12:$W$136,0)),1),\"\")","v":""},{"$f":"INDEX('NLM Data Test 2'!$I$12:$I$136,(MATCH(NLML.ChangeInScores.PrePostDataset[[#This Row],[First Name & Last Name*\n(choose from list)]],'NLM Data Test 2'!$D$12:$D$136,0)),1)","v":{"$error":"#N/A"}},{"$f":"IFERROR(INDEX('NLM Data Test 2'!$J$12:$J$136,(MATCH(NLML.ChangeInScores.PrePostDataset[[#This Row],[First Name & Last Name*\n(choose from list)]],'NLM Data Test 2'!$X$12:$X$136,0)),1),\"\")","v":""},{"$f":"IFERROR(INDEX('NLM Data Test 2'!$K$12:$K$136,(MATCH(NLML.ChangeInScores.PrePostDataset[[#This Row],[First Name & Last Name*\n(choose from list)]],'NLM Data Test 2'!$X$12:$X$136,0)),1),\"\")","v":""},{"$f":"IFERROR(INDEX('NLM Data Test 2'!$N$12:$N$136,(MATCH(NLML.ChangeInScores.PrePostDataset[[#This Row],[First Name & Last Name*\n(choose from list)]],'NLM Data Test 2'!$X$12:$X$136,0)),1),\"\")","v":""},{"$f":"(INDEX('NLM Data Test 2'!$O$12:$O$136,(MATCH(NLML.ChangeInScores.PrePostDataset[[#This Row],[First Name & Last Name*\n(choose from list)]],'NLM Data Test 2'!$X$12:$X$136,0)),1))-(INDEX('NLM Data Test 1'!$N$12:$N$136,(MATCH(NLML.ChangeInScores.PrePostDataset[[#This Row],[First Name & Last Name*\n(choose from list)]],'NLM Data Test 1'!$W$12:$W$136,0)),1))","v":{"$error":"#N/A"}},{"$f":"(INDEX('NLM Data Test 2'!$P$12:$P$136,(MATCH(NLML.ChangeInScores.PrePostDataset[[#This Row],[First Name & Last Name*\n(choose from list)]],'NLM Data Test 2'!$X$12:$X$136,0)),1))-(INDEX('NLM Data Test 1'!$O$12:$O$136,(MATCH(NLML.ChangeInScores.PrePostDataset[[#This Row],[First Name & Last Name*\n(choose from list)]],'NLM Data Test 1'!$W$12:$W$136,0)),1))","v":{"$error":"#N/A"}},{"$f":"(INDEX('NLM Data Test 2'!$Q$12:$Q$136,(MATCH(NLML.ChangeInScores.PrePostDataset[[#This Row],[First Name & Last Name*\n(choose from list)]],'NLM Data Test 2'!$X$12:$X$136,0)),1))-(INDEX('NLM Data Test 1'!$P$12:$P$136,(MATCH(NLML.ChangeInScores.PrePostDataset[[#This Row],[First Name & Last Name*\n(choose from list)]],'NLM Data Test 1'!$W$12:$W$136,0)),1))","v":{"$error":"#N/A"}},{"$f":"(INDEX('NLM Data Test 2'!$R$12:$R$136,(MATCH(NLML.ChangeInScores.PrePostDataset[[#This Row],[First Name & Last Name*\n(choose from list)]],'NLM Data Test 2'!$X$12:$X$136,0)),1))-(INDEX('NLM Data Test 1'!$Q$12:$Q$136,(MATCH(NLML.ChangeInScores.PrePostDataset[[#This Row],[First Name & Last Name*\n(choose from list)]],'NLM Data Test 1'!$W$12:$W$136,0)),1))","v":{"$error":"#N/A"}},{"$f":"(INDEX('NLM Data Test 2'!$S$12:$S$136,(MATCH(NLML.ChangeInScores.PrePostDataset[[#This Row],[First Name & Last Name*\n(choose from list)]],'NLM Data Test 2'!$X$12:$X$136,0)),1))-(INDEX('NLM Data Test 1'!$R$12:$R$136,(MATCH(NLML.ChangeInScores.PrePostDataset[[#This Row],[First Name & Last Name*\n(choose from list)]],'NLM Data Test 1'!$W$12:$W$136,0)),1))","v":{"$error":"#N/A"}},{"$f":"(INDEX('NLM Data Test 2'!$T$12:$T$136,(MATCH(NLML.ChangeInScores.PrePostDataset[[#This Row],[First Name & Last Name*\n(choose from list)]],'NLM Data Test 2'!$X$12:$X$136,0)),1))-(INDEX('NLM Data Test 1'!$S$12:$S$136,(MATCH(NLML.ChangeInScores.PrePostDataset[[#This Row],[First Name & Last Name*\n(choose from list)]],'NLM Data Test 1'!$W$12:$W$136,0)),1))","v":{"$error":"#N/A"}},{"$f":"IFERROR(INDEX('NLM Data Test 1'!$T$12:$T$136,(MATCH(NLML.ChangeInScores.PrePostDataset[[#This Row],[First Name & Last Name*\n(choose from list)]],'NLM Data Test 1'!$W$12:$W$136,0)),1),\"\")","v":""},{"$f":"IFERROR(INDEX('NLM Data Test 2'!$U$12:$U$136,(MATCH(NLML.ChangeInScores.PrePostDataset[[#This Row],[First Name & Last Name*\n(choose from list)]],'NLM Data Test 2'!$X$12:$X$136,0)),1),\"\")","v":""}]
[73,{"$f":"IFERROR(INDEX(NLML.Test1.PrePostDataset[*First Name],(MATCH(NLML.ChangeInScores.PrePostDataset[[#This Row],[First Name & Last Name*\n(choose from list)]],'NLM Data Test 1'!W84:W208,0)),1),\"\")","v":""},{"$f":"IFERROR(INDEX(NLML.Test1.PrePostDataset[*Last Name],(MATCH(NLML.ChangeInScores.PrePostDataset[[#This Row],[First Name & Last Name*\n(choose from list)]],'NLM Data Test 1'!W84:W208,0)),1),\"\")","v":""},{"$f":"'NLM Data Test 2'!D84","v":0},{"$f":"IF(IFERROR(MATCH($D88,'NLM Data Test 2'!$D$12:$D$136,0),\"Error\")=\"Error\",(INDEX('NLM Data Test 1'!$D$12:$D$136,(MATCH($D88,'NLM Data Test 1'!$W$12:$W$136,0)),1)),(INDEX('NLM Data Test 2'!$E$12:$E$136,(MATCH($D88,'NLM Data Test 2'!$D$12:$D$136,0)),1)))","v":{"$error":"#N/A"}},{"$f":"IF(IFERROR(MATCH($D88,'NLM Data Test 2'!$D$12:$D$136,0),\"Error\")=\"Error\",(INDEX('NLM Data Test 1'!$E$12:$E$136,(MATCH($D88,'NLM Data Test 1'!$W$12:$W$136,0)),1)),(INDEX('NLM Data Test 2'!$G$12:$G$136,(MATCH($D88,'NLM Data Test 2'!$D$12:$D$136,0)),1)))","v":{"$error":"#N/A"}},{"$f":"IF(IFERROR(MATCH($D88,'NLM Data Test 2'!$D$12:$D$136,0),\"Error\")=\"Error\",(INDEX('NLM Data Test 1'!$F$12:$F$136,(MATCH($D88,'NLM Data Test 1'!$W$12:$W$136,0)),1)),(INDEX('NLM Data Test 2'!$F$12:$F$136,(MATCH($D88,'NLM Data Test 2'!$D$12:$D$136,0)),1)))","v":{"$error":"#N/A"}},{"$f":"IF(INDEX('NLM Data Test 1'!$H$12:$H$136,(MATCH(NLML.ChangeInScores.PrePostDataset[[#This Row],[First Name & Last Name*\n(choose from list)]],'NLM Data Test 1'!$W$12:$W$136,0)),1)=\"\",\"\",(INDEX('NLM Data Test 1'!H$12:H$136,(MATCH(NLML.ChangeInScores.PrePostDataset[[#This Row],[First Name & Last Name*\n(choose from list)]],'NLM Data Test 1'!$W$12:$W$136,0)),1)))","v":{"$error":"#N/A"}},{"$f":"IF(INDEX('NLM Data Test 1'!$I$12:$I$136,(MATCH(NLML.ChangeInScores.PrePostDataset[[#This Row],[First Name & Last Name*\n(choose from list)]],'NLM Data Test 1'!$W$12:$W$136,0)),1)=\"\",\"\",(INDEX('NLM Data Test 1'!I$12:I$136,(MATCH(NLML.ChangeInScores.PrePostDataset[[#This Row],[First Name & Last Name*\n(choose from list)]],'NLM Data Test 1'!$W$12:$W$136,0)),1)))","v":{"$error":"#N/A"}},{"$f":"IF(INDEX('NLM Data Test 1'!$J$12:$J$136,(MATCH(NLML.ChangeInScores.PrePostDataset[[#This Row],[First Name & Last Name*\n(choose from list)]],'NLM Data Test 1'!$W$12:$W$136,0)),1)=\"\",\"\",(INDEX('NLM Data Test 1'!J$12:J$136,(MATCH(NLML.ChangeInScores.PrePostDataset[[#This Row],[First Name & Last Name*\n(choose from list)]],'NLM Data Test 1'!$W$12:$W$136,0)),1)))","v":{"$error":"#N/A"}},{"$f":"IFERROR(INDEX('NLM Data Test 1'!$M$12:$M$136,(MATCH(NLML.ChangeInScores.PrePostDataset[[#This Row],[First Name & Last Name*\n(choose from list)]],'NLM Data Test 1'!$W$12:$W$136,0)),1),\"\")","v":""},{"$f":"INDEX('NLM Data Test 2'!$I$12:$I$136,(MATCH(NLML.ChangeInScores.PrePostDataset[[#This Row],[First Name & Last Name*\n(choose from list)]],'NLM Data Test 2'!$D$12:$D$136,0)),1)","v":{"$error":"#N/A"}},{"$f":"IFERROR(INDEX('NLM Data Test 2'!$J$12:$J$136,(MATCH(NLML.ChangeInScores.PrePostDataset[[#This Row],[First Name & Last Name*\n(choose from list)]],'NLM Data Test 2'!$X$12:$X$136,0)),1),\"\")","v":""},{"$f":"IFERROR(INDEX('NLM Data Test 2'!$K$12:$K$136,(MATCH(NLML.ChangeInScores.PrePostDataset[[#This Row],[First Name & Last Name*\n(choose from list)]],'NLM Data Test 2'!$X$12:$X$136,0)),1),\"\")","v":""},{"$f":"IFERROR(INDEX('NLM Data Test 2'!$N$12:$N$136,(MATCH(NLML.ChangeInScores.PrePostDataset[[#This Row],[First Name & Last Name*\n(choose from list)]],'NLM Data Test 2'!$X$12:$X$136,0)),1),\"\")","v":""},{"$f":"(INDEX('NLM Data Test 2'!$O$12:$O$136,(MATCH(NLML.ChangeInScores.PrePostDataset[[#This Row],[First Name & Last Name*\n(choose from list)]],'NLM Data Test 2'!$X$12:$X$136,0)),1))-(INDEX('NLM Data Test 1'!$N$12:$N$136,(MATCH(NLML.ChangeInScores.PrePostDataset[[#This Row],[First Name & Last Name*\n(choose from list)]],'NLM Data Test 1'!$W$12:$W$136,0)),1))","v":{"$error":"#N/A"}},{"$f":"(INDEX('NLM Data Test 2'!$P$12:$P$136,(MATCH(NLML.ChangeInScores.PrePostDataset[[#This Row],[First Name & Last Name*\n(choose from list)]],'NLM Data Test 2'!$X$12:$X$136,0)),1))-(INDEX('NLM Data Test 1'!$O$12:$O$136,(MATCH(NLML.ChangeInScores.PrePostDataset[[#This Row],[First Name & Last Name*\n(choose from list)]],'NLM Data Test 1'!$W$12:$W$136,0)),1))","v":{"$error":"#N/A"}},{"$f":"(INDEX('NLM Data Test 2'!$Q$12:$Q$136,(MATCH(NLML.ChangeInScores.PrePostDataset[[#This Row],[First Name & Last Name*\n(choose from list)]],'NLM Data Test 2'!$X$12:$X$136,0)),1))-(INDEX('NLM Data Test 1'!$P$12:$P$136,(MATCH(NLML.ChangeInScores.PrePostDataset[[#This Row],[First Name & Last Name*\n(choose from list)]],'NLM Data Test 1'!$W$12:$W$136,0)),1))","v":{"$error":"#N/A"}},{"$f":"(INDEX('NLM Data Test 2'!$R$12:$R$136,(MATCH(NLML.ChangeInScores.PrePostDataset[[#This Row],[First Name & Last Name*\n(choose from list)]],'NLM Data Test 2'!$X$12:$X$136,0)),1))-(INDEX('NLM Data Test 1'!$Q$12:$Q$136,(MATCH(NLML.ChangeInScores.PrePostDataset[[#This Row],[First Name & Last Name*\n(choose from list)]],'NLM Data Test 1'!$W$12:$W$136,0)),1))","v":{"$error":"#N/A"}},{"$f":"(INDEX('NLM Data Test 2'!$S$12:$S$136,(MATCH(NLML.ChangeInScores.PrePostDataset[[#This Row],[First Name & Last Name*\n(choose from list)]],'NLM Data Test 2'!$X$12:$X$136,0)),1))-(INDEX('NLM Data Test 1'!$R$12:$R$136,(MATCH(NLML.ChangeInScores.PrePostDataset[[#This Row],[First Name & Last Name*\n(choose from list)]],'NLM Data Test 1'!$W$12:$W$136,0)),1))","v":{"$error":"#N/A"}},{"$f":"(INDEX('NLM Data Test 2'!$T$12:$T$136,(MATCH(NLML.ChangeInScores.PrePostDataset[[#This Row],[First Name & Last Name*\n(choose from list)]],'NLM Data Test 2'!$X$12:$X$136,0)),1))-(INDEX('NLM Data Test 1'!$S$12:$S$136,(MATCH(NLML.ChangeInScores.PrePostDataset[[#This Row],[First Name & Last Name*\n(choose from list)]],'NLM Data Test 1'!$W$12:$W$136,0)),1))","v":{"$error":"#N/A"}},{"$f":"IFERROR(INDEX('NLM Data Test 1'!$T$12:$T$136,(MATCH(NLML.ChangeInScores.PrePostDataset[[#This Row],[First Name & Last Name*\n(choose from list)]],'NLM Data Test 1'!$W$12:$W$136,0)),1),\"\")","v":""},{"$f":"IFERROR(INDEX('NLM Data Test 2'!$U$12:$U$136,(MATCH(NLML.ChangeInScores.PrePostDataset[[#This Row],[First Name & Last Name*\n(choose from list)]],'NLM Data Test 2'!$X$12:$X$136,0)),1),\"\")","v":""}]
[74,{"$f":"IFERROR(INDEX(NLML.Test1.PrePostDataset[*First Name],(MATCH(NLML.ChangeInScores.PrePostDataset[[#This Row],[First Name & Last Name*\n(choose from list)]],'NLM Data Test 1'!W85:W209,0)),1),\"\")","v":""},{"$f":"IFERROR(INDEX(NLML.Test1.PrePostDataset[*Last Name],(MATCH(NLML.ChangeInScores.PrePostDataset[[#This Row],[First Name & Last Name*\n(choose from list)]],'NLM Data Test 1'!W85:W209,0)),1),\"\")","v":""},{"$f":"'NLM Data Test 2'!D85","v":0},{"$f":"IF(IFERROR(MATCH($D89,'NLM Data Test 2'!$D$12:$D$136,0),\"Error\")=\"Error\",(INDEX('NLM Data Test 1'!$D$12:$D$136,(MATCH($D89,'NLM Data Test 1'!$W$12:$W$136,0)),1)),(INDEX('NLM Data Test 2'!$E$12:$E$136,(MATCH($D89,'NLM Data Test 2'!$D$12:$D$136,0)),1)))","v":{"$error":"#N/A"}},{"$f":"IF(IFERROR(MATCH($D89,'NLM Data Test 2'!$D$12:$D$136,0),\"Error\")=\"Error\",(INDEX('NLM Data Test 1'!$E$12:$E$136,(MATCH($D89,'NLM Data Test 1'!$W$12:$W$136,0)),1)),(INDEX('NLM Data Test 2'!$G$12:$G$136,(MATCH($D89,'NLM Data Test 2'!$D$12:$D$136,0)),1)))","v":{"$error":"#N/A"}},{"$f":"IF(IFERROR(MATCH($D89,'NLM Data Test 2'!$D$12:$D$136,0),\"Error\")=\"Error\",(INDEX('NLM Data Test 1'!$F$12:$F$136,(MATCH($D89,'NLM Data Test 1'!$W$12:$W$136,0)),1)),(INDEX('NLM Data Test 2'!$F$12:$F$136,(MATCH($D89,'NLM Data Test 2'!$D$12:$D$136,0)),1)))","v":{"$error":"#N/A"}},{"$f":"IF(INDEX('NLM Data Test 1'!$H$12:$H$136,(MATCH(NLML.ChangeInScores.PrePostDataset[[#This Row],[First Name & Last Name*\n(choose from list)]],'NLM Data Test 1'!$W$12:$W$136,0)),1)=\"\",\"\",(INDEX('NLM Data Test 1'!H$12:H$136,(MATCH(NLML.ChangeInScores.PrePostDataset[[#This Row],[First Name & Last Name*\n(choose from list)]],'NLM Data Test 1'!$W$12:$W$136,0)),1)))","v":{"$error":"#N/A"}},{"$f":"IF(INDEX('NLM Data Test 1'!$I$12:$I$136,(MATCH(NLML.ChangeInScores.PrePostDataset[[#This Row],[First Name & Last Name*\n(choose from list)]],'NLM Data Test 1'!$W$12:$W$136,0)),1)=\"\",\"\",(INDEX('NLM Data Test 1'!I$12:I$136,(MATCH(NLML.ChangeInScores.PrePostDataset[[#This Row],[First Name & Last Name*\n(choose from list)]],'NLM Data Test 1'!$W$12:$W$136,0)),1)))","v":{"$error":"#N/A"}},{"$f":"IF(INDEX('NLM Data Test 1'!$J$12:$J$136,(MATCH(NLML.ChangeInScores.PrePostDataset[[#This Row],[First Name & Last Name*\n(choose from list)]],'NLM Data Test 1'!$W$12:$W$136,0)),1)=\"\",\"\",(INDEX('NLM Data Test 1'!J$12:J$136,(MATCH(NLML.ChangeInScores.PrePostDataset[[#This Row],[First Name & Last Name*\n(choose from list)]],'NLM Data Test 1'!$W$12:$W$136,0)),1)))","v":{"$error":"#N/A"}},{"$f":"IFERROR(INDEX('NLM Data Test 1'!$M$12:$M$136,(MATCH(NLML.ChangeInScores.PrePostDataset[[#This Row],[First Name & Last Name*\n(choose from list)]],'NLM Data Test 1'!$W$12:$W$136,0)),1),\"\")","v":""},{"$f":"INDEX('NLM Data Test 2'!$I$12:$I$136,(MATCH(NLML.ChangeInScores.PrePostDataset[[#This Row],[First Name & Last Name*\n(choose from list)]],'NLM Data Test 2'!$D$12:$D$136,0)),1)","v":{"$error":"#N/A"}},{"$f":"IFERROR(INDEX('NLM Data Test 2'!$J$12:$J$136,(MATCH(NLML.ChangeInScores.PrePostDataset[[#This Row],[First Name & Last Name*\n(choose from list)]],'NLM Data Test 2'!$X$12:$X$136,0)),1),\"\")","v":""},{"$f":"IFERROR(INDEX('NLM Data Test 2'!$K$12:$K$136,(MATCH(NLML.ChangeInScores.PrePostDataset[[#This Row],[First Name & Last Name*\n(choose from list)]],'NLM Data Test 2'!$X$12:$X$136,0)),1),\"\")","v":""},{"$f":"IFERROR(INDEX('NLM Data Test 2'!$N$12:$N$136,(MATCH(NLML.ChangeInScores.PrePostDataset[[#This Row],[First Name & Last Name*\n(choose from list)]],'NLM Data Test 2'!$X$12:$X$136,0)),1),\"\")","v":""},{"$f":"(INDEX('NLM Data Test 2'!$O$12:$O$136,(MATCH(NLML.ChangeInScores.PrePostDataset[[#This Row],[First Name & Last Name*\n(choose from list)]],'NLM Data Test 2'!$X$12:$X$136,0)),1))-(INDEX('NLM Data Test 1'!$N$12:$N$136,(MATCH(NLML.ChangeInScores.PrePostDataset[[#This Row],[First Name & Last Name*\n(choose from list)]],'NLM Data Test 1'!$W$12:$W$136,0)),1))","v":{"$error":"#N/A"}},{"$f":"(INDEX('NLM Data Test 2'!$P$12:$P$136,(MATCH(NLML.ChangeInScores.PrePostDataset[[#This Row],[First Name & Last Name*\n(choose from list)]],'NLM Data Test 2'!$X$12:$X$136,0)),1))-(INDEX('NLM Data Test 1'!$O$12:$O$136,(MATCH(NLML.ChangeInScores.PrePostDataset[[#This Row],[First Name & Last Name*\n(choose from list)]],'NLM Data Test 1'!$W$12:$W$136,0)),1))","v":{"$error":"#N/A"}},{"$f":"(INDEX('NLM Data Test 2'!$Q$12:$Q$136,(MATCH(NLML.ChangeInScores.PrePostDataset[[#This Row],[First Name & Last Name*\n(choose from list)]],'NLM Data Test 2'!$X$12:$X$136,0)),1))-(INDEX('NLM Data Test 1'!$P$12:$P$136,(MATCH(NLML.ChangeInScores.PrePostDataset[[#This Row],[First Name & Last Name*\n(choose from list)]],'NLM Data Test 1'!$W$12:$W$136,0)),1))","v":{"$error":"#N/A"}},{"$f":"(INDEX('NLM Data Test 2'!$R$12:$R$136,(MATCH(NLML.ChangeInScores.PrePostDataset[[#This Row],[First Name & Last Name*\n(choose from list)]],'NLM Data Test 2'!$X$12:$X$136,0)),1))-(INDEX('NLM Data Test 1'!$Q$12:$Q$136,(MATCH(NLML.ChangeInScores.PrePostDataset[[#This Row],[First Name & Last Name*\n(choose from list)]],'NLM Data Test 1'!$W$12:$W$136,0)),1))","v":{"$error":"#N/A"}},{"$f":"(INDEX('NLM Data Test 2'!$S$12:$S$136,(MATCH(NLML.ChangeInScores.PrePostDataset[[#This Row],[First Name & Last Name*\n(choose from list)]],'NLM Data Test 2'!$X$12:$X$136,0)),1))-(INDEX('NLM Data Test 1'!$R$12:$R$136,(MATCH(NLML.ChangeInScores.PrePostDataset[[#This Row],[First Name & Last Name*\n(choose from list)]],'NLM Data Test 1'!$W$12:$W$136,0)),1))","v":{"$error":"#N/A"}},{"$f":"(INDEX('NLM Data Test 2'!$T$12:$T$136,(MATCH(NLML.ChangeInScores.PrePostDataset[[#This Row],[First Name & Last Name*\n(choose from list)]],'NLM Data Test 2'!$X$12:$X$136,0)),1))-(INDEX('NLM Data Test 1'!$S$12:$S$136,(MATCH(NLML.ChangeInScores.PrePostDataset[[#This Row],[First Name & Last Name*\n(choose from list)]],'NLM Data Test 1'!$W$12:$W$136,0)),1))","v":{"$error":"#N/A"}},{"$f":"IFERROR(INDEX('NLM Data Test 1'!$T$12:$T$136,(MATCH(NLML.ChangeInScores.PrePostDataset[[#This Row],[First Name & Last Name*\n(choose from list)]],'NLM Data Test 1'!$W$12:$W$136,0)),1),\"\")","v":""},{"$f":"IFERROR(INDEX('NLM Data Test 2'!$U$12:$U$136,(MATCH(NLML.ChangeInScores.PrePostDataset[[#This Row],[First Name & Last Name*\n(choose from list)]],'NLM Data Test 2'!$X$12:$X$136,0)),1),\"\")","v":""}]
[75,{"$f":"IFERROR(INDEX(NLML.Test1.PrePostDataset[*First Name],(MATCH(NLML.ChangeInScores.PrePostDataset[[#This Row],[First Name & Last Name*\n(choose from list)]],'NLM Data Test 1'!W86:W210,0)),1),\"\")","v":""},{"$f":"IFERROR(INDEX(NLML.Test1.PrePostDataset[*Last Name],(MATCH(NLML.ChangeInScores.PrePostDataset[[#This Row],[First Name & Last Name*\n(choose from list)]],'NLM Data Test 1'!W86:W210,0)),1),\"\")","v":""},{"$f":"'NLM Data Test 2'!D86","v":0},{"$f":"IF(IFERROR(MATCH($D90,'NLM Data Test 2'!$D$12:$D$136,0),\"Error\")=\"Error\",(INDEX('NLM Data Test 1'!$D$12:$D$136,(MATCH($D90,'NLM Data Test 1'!$W$12:$W$136,0)),1)),(INDEX('NLM Data Test 2'!$E$12:$E$136,(MATCH($D90,'NLM Data Test 2'!$D$12:$D$136,0)),1)))","v":{"$error":"#N/A"}},{"$f":"IF(IFERROR(MATCH($D90,'NLM Data Test 2'!$D$12:$D$136,0),\"Error\")=\"Error\",(INDEX('NLM Data Test 1'!$E$12:$E$136,(MATCH($D90,'NLM Data Test 1'!$W$12:$W$136,0)),1)),(INDEX('NLM Data Test 2'!$G$12:$G$136,(MATCH($D90,'NLM Data Test 2'!$D$12:$D$136,0)),1)))","v":{"$error":"#N/A"}},{"$f":"IF(IFERROR(MATCH($D90,'NLM Data Test 2'!$D$12:$D$136,0),\"Error\")=\"Error\",(INDEX('NLM Data Test 1'!$F$12:$F$136,(MATCH($D90,'NLM Data Test 1'!$W$12:$W$136,0)),1)),(INDEX('NLM Data Test 2'!$F$12:$F$136,(MATCH($D90,'NLM Data Test 2'!$D$12:$D$136,0)),1)))","v":{"$error":"#N/A"}},{"$f":"IF(INDEX('NLM Data Test 1'!$H$12:$H$136,(MATCH(NLML.ChangeInScores.PrePostDataset[[#This Row],[First Name & Last Name*\n(choose from list)]],'NLM Data Test 1'!$W$12:$W$136,0)),1)=\"\",\"\",(INDEX('NLM Data Test 1'!H$12:H$136,(MATCH(NLML.ChangeInScores.PrePostDataset[[#This Row],[First Name & Last Name*\n(choose from list)]],'NLM Data Test 1'!$W$12:$W$136,0)),1)))","v":{"$error":"#N/A"}},{"$f":"IF(INDEX('NLM Data Test 1'!$I$12:$I$136,(MATCH(NLML.ChangeInScores.PrePostDataset[[#This Row],[First Name & Last Name*\n(choose from list)]],'NLM Data Test 1'!$W$12:$W$136,0)),1)=\"\",\"\",(INDEX('NLM Data Test 1'!I$12:I$136,(MATCH(NLML.ChangeInScores.PrePostDataset[[#This Row],[First Name & Last Name*\n(choose from list)]],'NLM Data Test 1'!$W$12:$W$136,0)),1)))","v":{"$error":"#N/A"}},{"$f":"IF(INDEX('NLM Data Test 1'!$J$12:$J$136,(MATCH(NLML.ChangeInScores.PrePostDataset[[#This Row],[First Name & Last Name*\n(choose from list)]],'NLM Data Test 1'!$W$12:$W$136,0)),1)=\"\",\"\",(INDEX('NLM Data Test 1'!J$12:J$136,(MATCH(NLML.ChangeInScores.PrePostDataset[[#This Row],[First Name & Last Name*\n(choose from list)]],'NLM Data Test 1'!$W$12:$W$136,0)),1)))","v":{"$error":"#N/A"}},{"$f":"IFERROR(INDEX('NLM Data Test 1'!$M$12:$M$136,(MATCH(NLML.ChangeInScores.PrePostDataset[[#This Row],[First Name & Last Name*\n(choose from list)]],'NLM Data Test 1'!$W$12:$W$136,0)),1),\"\")","v":""},{"$f":"INDEX('NLM Data Test 2'!$I$12:$I$136,(MATCH(NLML.ChangeInScores.PrePostDataset[[#This Row],[First Name & Last Name*\n(choose from list)]],'NLM Data Test 2'!$D$12:$D$136,0)),1)","v":{"$error":"#N/A"}},{"$f":"IFERROR(INDEX('NLM Data Test 2'!$J$12:$J$136,(MATCH(NLML.ChangeInScores.PrePostDataset[[#This Row],[First Name & Last Name*\n(choose from list)]],'NLM Data Test 2'!$X$12:$X$136,0)),1),\"\")","v":""},{"$f":"IFERROR(INDEX('NLM Data Test 2'!$K$12:$K$136,(MATCH(NLML.ChangeInScores.PrePostDataset[[#This Row],[First Name & Last Name*\n(choose from list)]],'NLM Data Test 2'!$X$12:$X$136,0)),1),\"\")","v":""},{"$f":"IFERROR(INDEX('NLM Data Test 2'!$N$12:$N$136,(MATCH(NLML.ChangeInScores.PrePostDataset[[#This Row],[First Name & Last Name*\n(choose from list)]],'NLM Data Test 2'!$X$12:$X$136,0)),1),\"\")","v":""},{"$f":"(INDEX('NLM Data Test 2'!$O$12:$O$136,(MATCH(NLML.ChangeInScores.PrePostDataset[[#This Row],[First Name & Last Name*\n(choose from list)]],'NLM Data Test 2'!$X$12:$X$136,0)),1))-(INDEX('NLM Data Test 1'!$N$12:$N$136,(MATCH(NLML.ChangeInScores.PrePostDataset[[#This Row],[First Name & Last Name*\n(choose from list)]],'NLM Data Test 1'!$W$12:$W$136,0)),1))","v":{"$error":"#N/A"}},{"$f":"(INDEX('NLM Data Test 2'!$P$12:$P$136,(MATCH(NLML.ChangeInScores.PrePostDataset[[#This Row],[First Name & Last Name*\n(choose from list)]],'NLM Data Test 2'!$X$12:$X$136,0)),1))-(INDEX('NLM Data Test 1'!$O$12:$O$136,(MATCH(NLML.ChangeInScores.PrePostDataset[[#This Row],[First Name & Last Name*\n(choose from list)]],'NLM Data Test 1'!$W$12:$W$136,0)),1))","v":{"$error":"#N/A"}},{"$f":"(INDEX('NLM Data Test 2'!$Q$12:$Q$136,(MATCH(NLML.ChangeInScores.PrePostDataset[[#This Row],[First Name & Last Name*\n(choose from list)]],'NLM Data Test 2'!$X$12:$X$136,0)),1))-(INDEX('NLM Data Test 1'!$P$12:$P$136,(MATCH(NLML.ChangeInScores.PrePostDataset[[#This Row],[First Name & Last Name*\n(choose from list)]],'NLM Data Test 1'!$W$12:$W$136,0)),1))","v":{"$error":"#N/A"}},{"$f":"(INDEX('NLM Data Test 2'!$R$12:$R$136,(MATCH(NLML.ChangeInScores.PrePostDataset[[#This Row],[First Name & Last Name*\n(choose from list)]],'NLM Data Test 2'!$X$12:$X$136,0)),1))-(INDEX('NLM Data Test 1'!$Q$12:$Q$136,(MATCH(NLML.ChangeInScores.PrePostDataset[[#This Row],[First Name & Last Name*\n(choose from list)]],'NLM Data Test 1'!$W$12:$W$136,0)),1))","v":{"$error":"#N/A"}},{"$f":"(INDEX('NLM Data Test 2'!$S$12:$S$136,(MATCH(NLML.ChangeInScores.PrePostDataset[[#This Row],[First Name & Last Name*\n(choose from list)]],'NLM Data Test 2'!$X$12:$X$136,0)),1))-(INDEX('NLM Data Test 1'!$R$12:$R$136,(MATCH(NLML.ChangeInScores.PrePostDataset[[#This Row],[First Name & Last Name*\n(choose from list)]],'NLM Data Test 1'!$W$12:$W$136,0)),1))","v":{"$error":"#N/A"}},{"$f":"(INDEX('NLM Data Test 2'!$T$12:$T$136,(MATCH(NLML.ChangeInScores.PrePostDataset[[#This Row],[First Name & Last Name*\n(choose from list)]],'NLM Data Test 2'!$X$12:$X$136,0)),1))-(INDEX('NLM Data Test 1'!$S$12:$S$136,(MATCH(NLML.ChangeInScores.PrePostDataset[[#This Row],[First Name & Last Name*\n(choose from list)]],'NLM Data Test 1'!$W$12:$W$136,0)),1))","v":{"$error":"#N/A"}},{"$f":"IFERROR(INDEX('NLM Data Test 1'!$T$12:$T$136,(MATCH(NLML.ChangeInScores.PrePostDataset[[#This Row],[First Name & Last Name*\n(choose from list)]],'NLM Data Test 1'!$W$12:$W$136,0)),1),\"\")","v":""},{"$f":"IFERROR(INDEX('NLM Data Test 2'!$U$12:$U$136,(MATCH(NLML.ChangeInScores.PrePostDataset[[#This Row],[First Name & Last Name*\n(choose from list)]],'NLM Data Test 2'!$X$12:$X$136,0)),1),\"\")","v":""}]
[76,{"$f":"IFERROR(INDEX(NLML.Test1.PrePostDataset[*First Name],(MATCH(NLML.ChangeInScores.PrePostDataset[[#This Row],[First Name & Last Name*\n(choose from list)]],'NLM Data Test 1'!W87:W211,0)),1),\"\")","v":""},{"$f":"IFERROR(INDEX(NLML.Test1.PrePostDataset[*Last Name],(MATCH(NLML.ChangeInScores.PrePostDataset[[#This Row],[First Name & Last Name*\n(choose from list)]],'NLM Data Test 1'!W87:W211,0)),1),\"\")","v":""},{"$f":"'NLM Data Test 2'!D87","v":0},{"$f":"IF(IFERROR(MATCH($D91,'NLM Data Test 2'!$D$12:$D$136,0),\"Error\")=\"Error\",(INDEX('NLM Data Test 1'!$D$12:$D$136,(MATCH($D91,'NLM Data Test 1'!$W$12:$W$136,0)),1)),(INDEX('NLM Data Test 2'!$E$12:$E$136,(MATCH($D91,'NLM Data Test 2'!$D$12:$D$136,0)),1)))","v":{"$error":"#N/A"}},{"$f":"IF(IFERROR(MATCH($D91,'NLM Data Test 2'!$D$12:$D$136,0),\"Error\")=\"Error\",(INDEX('NLM Data Test 1'!$E$12:$E$136,(MATCH($D91,'NLM Data Test 1'!$W$12:$W$136,0)),1)),(INDEX('NLM Data Test 2'!$G$12:$G$136,(MATCH($D91,'NLM Data Test 2'!$D$12:$D$136,0)),1)))","v":{"$error":"#N/A"}},{"$f":"IF(IFERROR(MATCH($D91,'NLM Data Test 2'!$D$12:$D$136,0),\"Error\")=\"Error\",(INDEX('NLM Data Test 1'!$F$12:$F$136,(MATCH($D91,'NLM Data Test 1'!$W$12:$W$136,0)),1)),(INDEX('NLM Data Test 2'!$F$12:$F$136,(MATCH($D91,'NLM Data Test 2'!$D$12:$D$136,0)),1)))","v":{"$error":"#N/A"}},{"$f":"IF(INDEX('NLM Data Test 1'!$H$12:$H$136,(MATCH(NLML.ChangeInScores.PrePostDataset[[#This Row],[First Name & Last Name*\n(choose from list)]],'NLM Data Test 1'!$W$12:$W$136,0)),1)=\"\",\"\",(INDEX('NLM Data Test 1'!H$12:H$136,(MATCH(NLML.ChangeInScores.PrePostDataset[[#This Row],[First Name & Last Name*\n(choose from list)]],'NLM Data Test 1'!$W$12:$W$136,0)),1)))","v":{"$error":"#N/A"}},{"$f":"IF(INDEX('NLM Data Test 1'!$I$12:$I$136,(MATCH(NLML.ChangeInScores.PrePostDataset[[#This Row],[First Name & Last Name*\n(choose from list)]],'NLM Data Test 1'!$W$12:$W$136,0)),1)=\"\",\"\",(INDEX('NLM Data Test 1'!I$12:I$136,(MATCH(NLML.ChangeInScores.PrePostDataset[[#This Row],[First Name & Last Name*\n(choose from list)]],'NLM Data Test 1'!$W$12:$W$136,0)),1)))","v":{"$error":"#N/A"}},{"$f":"IF(INDEX('NLM Data Test 1'!$J$12:$J$136,(MATCH(NLML.ChangeInScores.PrePostDataset[[#This Row],[First Name & Last Name*\n(choose from list)]],'NLM Data Test 1'!$W$12:$W$136,0)),1)=\"\",\"\",(INDEX('NLM Data Test 1'!J$12:J$136,(MATCH(NLML.ChangeInScores.PrePostDataset[[#This Row],[First Name & Last Name*\n(choose from list)]],'NLM Data Test 1'!$W$12:$W$136,0)),1)))","v":{"$error":"#N/A"}},{"$f":"IFERROR(INDEX('NLM Data Test 1'!$M$12:$M$136,(MATCH(NLML.ChangeInScores.PrePostDataset[[#This Row],[First Name & Last Name*\n(choose from list)]],'NLM Data Test 1'!$W$12:$W$136,0)),1),\"\")","v":""},{"$f":"INDEX('NLM Data Test 2'!$I$12:$I$136,(MATCH(NLML.ChangeInScores.PrePostDataset[[#This Row],[First Name & Last Name*\n(choose from list)]],'NLM Data Test 2'!$D$12:$D$136,0)),1)","v":{"$error":"#N/A"}},{"$f":"IFERROR(INDEX('NLM Data Test 2'!$J$12:$J$136,(MATCH(NLML.ChangeInScores.PrePostDataset[[#This Row],[First Name & Last Name*\n(choose from list)]],'NLM Data Test 2'!$X$12:$X$136,0)),1),\"\")","v":""},{"$f":"IFERROR(INDEX('NLM Data Test 2'!$K$12:$K$136,(MATCH(NLML.ChangeInScores.PrePostDataset[[#This Row],[First Name & Last Name*\n(choose from list)]],'NLM Data Test 2'!$X$12:$X$136,0)),1),\"\")","v":""},{"$f":"IFERROR(INDEX('NLM Data Test 2'!$N$12:$N$136,(MATCH(NLML.ChangeInScores.PrePostDataset[[#This Row],[First Name & Last Name*\n(choose from list)]],'NLM Data Test 2'!$X$12:$X$136,0)),1),\"\")","v":""},{"$f":"(INDEX('NLM Data Test 2'!$O$12:$O$136,(MATCH(NLML.ChangeInScores.PrePostDataset[[#This Row],[First Name & Last Name*\n(choose from list)]],'NLM Data Test 2'!$X$12:$X$136,0)),1))-(INDEX('NLM Data Test 1'!$N$12:$N$136,(MATCH(NLML.ChangeInScores.PrePostDataset[[#This Row],[First Name & Last Name*\n(choose from list)]],'NLM Data Test 1'!$W$12:$W$136,0)),1))","v":{"$error":"#N/A"}},{"$f":"(INDEX('NLM Data Test 2'!$P$12:$P$136,(MATCH(NLML.ChangeInScores.PrePostDataset[[#This Row],[First Name & Last Name*\n(choose from list)]],'NLM Data Test 2'!$X$12:$X$136,0)),1))-(INDEX('NLM Data Test 1'!$O$12:$O$136,(MATCH(NLML.ChangeInScores.PrePostDataset[[#This Row],[First Name & Last Name*\n(choose from list)]],'NLM Data Test 1'!$W$12:$W$136,0)),1))","v":{"$error":"#N/A"}},{"$f":"(INDEX('NLM Data Test 2'!$Q$12:$Q$136,(MATCH(NLML.ChangeInScores.PrePostDataset[[#This Row],[First Name & Last Name*\n(choose from list)]],'NLM Data Test 2'!$X$12:$X$136,0)),1))-(INDEX('NLM Data Test 1'!$P$12:$P$136,(MATCH(NLML.ChangeInScores.PrePostDataset[[#This Row],[First Name & Last Name*\n(choose from list)]],'NLM Data Test 1'!$W$12:$W$136,0)),1))","v":{"$error":"#N/A"}},{"$f":"(INDEX('NLM Data Test 2'!$R$12:$R$136,(MATCH(NLML.ChangeInScores.PrePostDataset[[#This Row],[First Name & Last Name*\n(choose from list)]],'NLM Data Test 2'!$X$12:$X$136,0)),1))-(INDEX('NLM Data Test 1'!$Q$12:$Q$136,(MATCH(NLML.ChangeInScores.PrePostDataset[[#This Row],[First Name & Last Name*\n(choose from list)]],'NLM Data Test 1'!$W$12:$W$136,0)),1))","v":{"$error":"#N/A"}},{"$f":"(INDEX('NLM Data Test 2'!$S$12:$S$136,(MATCH(NLML.ChangeInScores.PrePostDataset[[#This Row],[First Name & Last Name*\n(choose from list)]],'NLM Data Test 2'!$X$12:$X$136,0)),1))-(INDEX('NLM Data Test 1'!$R$12:$R$136,(MATCH(NLML.ChangeInScores.PrePostDataset[[#This Row],[First Name & Last Name*\n(choose from list)]],'NLM Data Test 1'!$W$12:$W$136,0)),1))","v":{"$error":"#N/A"}},{"$f":"(INDEX('NLM Data Test 2'!$T$12:$T$136,(MATCH(NLML.ChangeInScores.PrePostDataset[[#This Row],[First Name & Last Name*\n(choose from list)]],'NLM Data Test 2'!$X$12:$X$136,0)),1))-(INDEX('NLM Data Test 1'!$S$12:$S$136,(MATCH(NLML.ChangeInScores.PrePostDataset[[#This Row],[First Name & Last Name*\n(choose from list)]],'NLM Data Test 1'!$W$12:$W$136,0)),1))","v":{"$error":"#N/A"}},{"$f":"IFERROR(INDEX('NLM Data Test 1'!$T$12:$T$136,(MATCH(NLML.ChangeInScores.PrePostDataset[[#This Row],[First Name & Last Name*\n(choose from list)]],'NLM Data Test 1'!$W$12:$W$136,0)),1),\"\")","v":""},{"$f":"IFERROR(INDEX('NLM Data Test 2'!$U$12:$U$136,(MATCH(NLML.ChangeInScores.PrePostDataset[[#This Row],[First Name & Last Name*\n(choose from list)]],'NLM Data Test 2'!$X$12:$X$136,0)),1),\"\")","v":""}]
[77,{"$f":"IFERROR(INDEX(NLML.Test1.PrePostDataset[*First Name],(MATCH(NLML.ChangeInScores.PrePostDataset[[#This Row],[First Name & Last Name*\n(choose from list)]],'NLM Data Test 1'!W88:W212,0)),1),\"\")","v":""},{"$f":"IFERROR(INDEX(NLML.Test1.PrePostDataset[*Last Name],(MATCH(NLML.ChangeInScores.PrePostDataset[[#This Row],[First Name & Last Name*\n(choose from list)]],'NLM Data Test 1'!W88:W212,0)),1),\"\")","v":""},{"$f":"'NLM Data Test 2'!D88","v":0},{"$f":"IF(IFERROR(MATCH($D92,'NLM Data Test 2'!$D$12:$D$136,0),\"Error\")=\"Error\",(INDEX('NLM Data Test 1'!$D$12:$D$136,(MATCH($D92,'NLM Data Test 1'!$W$12:$W$136,0)),1)),(INDEX('NLM Data Test 2'!$E$12:$E$136,(MATCH($D92,'NLM Data Test 2'!$D$12:$D$136,0)),1)))","v":{"$error":"#N/A"}},{"$f":"IF(IFERROR(MATCH($D92,'NLM Data Test 2'!$D$12:$D$136,0),\"Error\")=\"Error\",(INDEX('NLM Data Test 1'!$E$12:$E$136,(MATCH($D92,'NLM Data Test 1'!$W$12:$W$136,0)),1)),(INDEX('NLM Data Test 2'!$G$12:$G$136,(MATCH($D92,'NLM Data Test 2'!$D$12:$D$136,0)),1)))","v":{"$error":"#N/A"}},{"$f":"IF(IFERROR(MATCH($D92,'NLM Data Test 2'!$D$12:$D$136,0),\"Error\")=\"Error\",(INDEX('NLM Data Test 1'!$F$12:$F$136,(MATCH($D92,'NLM Data Test 1'!$W$12:$W$136,0)),1)),(INDEX('NLM Data Test 2'!$F$12:$F$136,(MATCH($D92,'NLM Data Test 2'!$D$12:$D$136,0)),1)))","v":{"$error":"#N/A"}},{"$f":"IF(INDEX('NLM Data Test 1'!$H$12:$H$136,(MATCH(NLML.ChangeInScores.PrePostDataset[[#This Row],[First Name & Last Name*\n(choose from list)]],'NLM Data Test 1'!$W$12:$W$136,0)),1)=\"\",\"\",(INDEX('NLM Data Test 1'!H$12:H$136,(MATCH(NLML.ChangeInScores.PrePostDataset[[#This Row],[First Name & Last Name*\n(choose from list)]],'NLM Data Test 1'!$W$12:$W$136,0)),1)))","v":{"$error":"#N/A"}},{"$f":"IF(INDEX('NLM Data Test 1'!$I$12:$I$136,(MATCH(NLML.ChangeInScores.PrePostDataset[[#This Row],[First Name & Last Name*\n(choose from list)]],'NLM Data Test 1'!$W$12:$W$136,0)),1)=\"\",\"\",(INDEX('NLM Data Test 1'!I$12:I$136,(MATCH(NLML.ChangeInScores.PrePostDataset[[#This Row],[First Name & Last Name*\n(choose from list)]],'NLM Data Test 1'!$W$12:$W$136,0)),1)))","v":{"$error":"#N/A"}},{"$f":"IF(INDEX('NLM Data Test 1'!$J$12:$J$136,(MATCH(NLML.ChangeInScores.PrePostDataset[[#This Row],[First Name & Last Name*\n(choose from list)]],'NLM Data Test 1'!$W$12:$W$136,0)),1)=\"\",\"\",(INDEX('NLM Data Test 1'!J$12:J$136,(MATCH(NLML.ChangeInScores.PrePostDataset[[#This Row],[First Name & Last Name*\n(choose from list)]],'NLM Data Test 1'!$W$12:$W$136,0)),1)))","v":{"$error":"#N/A"}},{"$f":"IFERROR(INDEX('NLM Data Test 1'!$M$12:$M$136,(MATCH(NLML.ChangeInScores.PrePostDataset[[#This Row],[First Name & Last Name*\n(choose from list)]],'NLM Data Test 1'!$W$12:$W$136,0)),1),\"\")","v":""},{"$f":"INDEX('NLM Data Test 2'!$I$12:$I$136,(MATCH(NLML.ChangeInScores.PrePostDataset[[#This Row],[First Name & Last Name*\n(choose from list)]],'NLM Data Test 2'!$D$12:$D$136,0)),1)","v":{"$error":"#N/A"}},{"$f":"IFERROR(INDEX('NLM Data Test 2'!$J$12:$J$136,(MATCH(NLML.ChangeInScores.PrePostDataset[[#This Row],[First Name & Last Name*\n(choose from list)]],'NLM Data Test 2'!$X$12:$X$136,0)),1),\"\")","v":""},{"$f":"IFERROR(INDEX('NLM Data Test 2'!$K$12:$K$136,(MATCH(NLML.ChangeInScores.PrePostDataset[[#This Row],[First Name & Last Name*\n(choose from list)]],'NLM Data Test 2'!$X$12:$X$136,0)),1),\"\")","v":""},{"$f":"IFERROR(INDEX('NLM Data Test 2'!$N$12:$N$136,(MATCH(NLML.ChangeInScores.PrePostDataset[[#This Row],[First Name & Last Name*\n(choose from list)]],'NLM Data Test 2'!$X$12:$X$136,0)),1),\"\")","v":""},{"$f":"(INDEX('NLM Data Test 2'!$O$12:$O$136,(MATCH(NLML.ChangeInScores.PrePostDataset[[#This Row],[First Name & Last Name*\n(choose from list)]],'NLM Data Test 2'!$X$12:$X$136,0)),1))-(INDEX('NLM Data Test 1'!$N$12:$N$136,(MATCH(NLML.ChangeInScores.PrePostDataset[[#This Row],[First Name & Last Name*\n(choose from list)]],'NLM Data Test 1'!$W$12:$W$136,0)),1))","v":{"$error":"#N/A"}},{"$f":"(INDEX('NLM Data Test 2'!$P$12:$P$136,(MATCH(NLML.ChangeInScores.PrePostDataset[[#This Row],[First Name & Last Name*\n(choose from list)]],'NLM Data Test 2'!$X$12:$X$136,0)),1))-(INDEX('NLM Data Test 1'!$O$12:$O$136,(MATCH(NLML.ChangeInScores.PrePostDataset[[#This Row],[First Name & Last Name*\n(choose from list)]],'NLM Data Test 1'!$W$12:$W$136,0)),1))","v":{"$error":"#N/A"}},{"$f":"(INDEX('NLM Data Test 2'!$Q$12:$Q$136,(MATCH(NLML.ChangeInScores.PrePostDataset[[#This Row],[First Name & Last Name*\n(choose from list)]],'NLM Data Test 2'!$X$12:$X$136,0)),1))-(INDEX('NLM Data Test 1'!$P$12:$P$136,(MATCH(NLML.ChangeInScores.PrePostDataset[[#This Row],[First Name & Last Name*\n(choose from list)]],'NLM Data Test 1'!$W$12:$W$136,0)),1))","v":{"$error":"#N/A"}},{"$f":"(INDEX('NLM Data Test 2'!$R$12:$R$136,(MATCH(NLML.ChangeInScores.PrePostDataset[[#This Row],[First Name & Last Name*\n(choose from list)]],'NLM Data Test 2'!$X$12:$X$136,0)),1))-(INDEX('NLM Data Test 1'!$Q$12:$Q$136,(MATCH(NLML.ChangeInScores.PrePostDataset[[#This Row],[First Name & Last Name*\n(choose from list)]],'NLM Data Test 1'!$W$12:$W$136,0)),1))","v":{"$error":"#N/A"}},{"$f":"(INDEX('NLM Data Test 2'!$S$12:$S$136,(MATCH(NLML.ChangeInScores.PrePostDataset[[#This Row],[First Name & Last Name*\n(choose from list)]],'NLM Data Test 2'!$X$12:$X$136,0)),1))-(INDEX('NLM Data Test 1'!$R$12:$R$136,(MATCH(NLML.ChangeInScores.PrePostDataset[[#This Row],[First Name & Last Name*\n(choose from list)]],'NLM Data Test 1'!$W$12:$W$136,0)),1))","v":{"$error":"#N/A"}},{"$f":"(INDEX('NLM Data Test 2'!$T$12:$T$136,(MATCH(NLML.ChangeInScores.PrePostDataset[[#This Row],[First Name & Last Name*\n(choose from list)]],'NLM Data Test 2'!$X$12:$X$136,0)),1))-(INDEX('NLM Data Test 1'!$S$12:$S$136,(MATCH(NLML.ChangeInScores.PrePostDataset[[#This Row],[First Name & Last Name*\n(choose from list)]],'NLM Data Test 1'!$W$12:$W$136,0)),1))","v":{"$error":"#N/A"}},{"$f":"IFERROR(INDEX('NLM Data Test 1'!$T$12:$T$136,(MATCH(NLML.ChangeInScores.PrePostDataset[[#This Row],[First Name & Last Name*\n(choose from list)]],'NLM Data Test 1'!$W$12:$W$136,0)),1),\"\")","v":""},{"$f":"IFERROR(INDEX('NLM Data Test 2'!$U$12:$U$136,(MATCH(NLML.ChangeInScores.PrePostDataset[[#This Row],[First Name & Last Name*\n(choose from list)]],'NLM Data Test 2'!$X$12:$X$136,0)),1),\"\")","v":""}]
[78,{"$f":"IFERROR(INDEX(NLML.Test1.PrePostDataset[*First Name],(MATCH(NLML.ChangeInScores.PrePostDataset[[#This Row],[First Name & Last Name*\n(choose from list)]],'NLM Data Test 1'!W89:W213,0)),1),\"\")","v":""},{"$f":"IFERROR(INDEX(NLML.Test1.PrePostDataset[*Last Name],(MATCH(NLML.ChangeInScores.PrePostDataset[[#This Row],[First Name & Last Name*\n(choose from list)]],'NLM Data Test 1'!W89:W213,0)),1),\"\")","v":""},{"$f":"'NLM Data Test 2'!D89","v":0},{"$f":"IF(IFERROR(MATCH($D93,'NLM Data Test 2'!$D$12:$D$136,0),\"Error\")=\"Error\",(INDEX('NLM Data Test 1'!$D$12:$D$136,(MATCH($D93,'NLM Data Test 1'!$W$12:$W$136,0)),1)),(INDEX('NLM Data Test 2'!$E$12:$E$136,(MATCH($D93,'NLM Data Test 2'!$D$12:$D$136,0)),1)))","v":{"$error":"#N/A"}},{"$f":"IF(IFERROR(MATCH($D93,'NLM Data Test 2'!$D$12:$D$136,0),\"Error\")=\"Error\",(INDEX('NLM Data Test 1'!$E$12:$E$136,(MATCH($D93,'NLM Data Test 1'!$W$12:$W$136,0)),1)),(INDEX('NLM Data Test 2'!$G$12:$G$136,(MATCH($D93,'NLM Data Test 2'!$D$12:$D$136,0)),1)))","v":{"$error":"#N/A"}},{"$f":"IF(IFERROR(MATCH($D93,'NLM Data Test 2'!$D$12:$D$136,0),\"Error\")=\"Error\",(INDEX('NLM Data Test 1'!$F$12:$F$136,(MATCH($D93,'NLM Data Test 1'!$W$12:$W$136,0)),1)),(INDEX('NLM Data Test 2'!$F$12:$F$136,(MATCH($D93,'NLM Data Test 2'!$D$12:$D$136,0)),1)))","v":{"$error":"#N/A"}},{"$f":"IF(INDEX('NLM Data Test 1'!$H$12:$H$136,(MATCH(NLML.ChangeInScores.PrePostDataset[[#This Row],[First Name & Last Name*\n(choose from list)]],'NLM Data Test 1'!$W$12:$W$136,0)),1)=\"\",\"\",(INDEX('NLM Data Test 1'!H$12:H$136,(MATCH(NLML.ChangeInScores.PrePostDataset[[#This Row],[First Name & Last Name*\n(choose from list)]],'NLM Data Test 1'!$W$12:$W$136,0)),1)))","v":{"$error":"#N/A"}},{"$f":"IF(INDEX('NLM Data Test 1'!$I$12:$I$136,(MATCH(NLML.ChangeInScores.PrePostDataset[[#This Row],[First Name & Last Name*\n(choose from list)]],'NLM Data Test 1'!$W$12:$W$136,0)),1)=\"\",\"\",(INDEX('NLM Data Test 1'!I$12:I$136,(MATCH(NLML.ChangeInScores.PrePostDataset[[#This Row],[First Name & Last Name*\n(choose from list)]],'NLM Data Test 1'!$W$12:$W$136,0)),1)))","v":{"$error":"#N/A"}},{"$f":"IF(INDEX('NLM Data Test 1'!$J$12:$J$136,(MATCH(NLML.ChangeInScores.PrePostDataset[[#This Row],[First Name & Last Name*\n(choose from list)]],'NLM Data Test 1'!$W$12:$W$136,0)),1)=\"\",\"\",(INDEX('NLM Data Test 1'!J$12:J$136,(MATCH(NLML.ChangeInScores.PrePostDataset[[#This Row],[First Name & Last Name*\n(choose from list)]],'NLM Data Test 1'!$W$12:$W$136,0)),1)))","v":{"$error":"#N/A"}},{"$f":"IFERROR(INDEX('NLM Data Test 1'!$M$12:$M$136,(MATCH(NLML.ChangeInScores.PrePostDataset[[#This Row],[First Name & Last Name*\n(choose from list)]],'NLM Data Test 1'!$W$12:$W$136,0)),1),\"\")","v":""},{"$f":"INDEX('NLM Data Test 2'!$I$12:$I$136,(MATCH(NLML.ChangeInScores.PrePostDataset[[#This Row],[First Name & Last Name*\n(choose from list)]],'NLM Data Test 2'!$D$12:$D$136,0)),1)","v":{"$error":"#N/A"}},{"$f":"IFERROR(INDEX('NLM Data Test 2'!$J$12:$J$136,(MATCH(NLML.ChangeInScores.PrePostDataset[[#This Row],[First Name & Last Name*\n(choose from list)]],'NLM Data Test 2'!$X$12:$X$136,0)),1),\"\")","v":""},{"$f":"IFERROR(INDEX('NLM Data Test 2'!$K$12:$K$136,(MATCH(NLML.ChangeInScores.PrePostDataset[[#This Row],[First Name & Last Name*\n(choose from list)]],'NLM Data Test 2'!$X$12:$X$136,0)),1),\"\")","v":""},{"$f":"IFERROR(INDEX('NLM Data Test 2'!$N$12:$N$136,(MATCH(NLML.ChangeInScores.PrePostDataset[[#This Row],[First Name & Last Name*\n(choose from list)]],'NLM Data Test 2'!$X$12:$X$136,0)),1),\"\")","v":""},{"$f":"(INDEX('NLM Data Test 2'!$O$12:$O$136,(MATCH(NLML.ChangeInScores.PrePostDataset[[#This Row],[First Name & Last Name*\n(choose from list)]],'NLM Data Test 2'!$X$12:$X$136,0)),1))-(INDEX('NLM Data Test 1'!$N$12:$N$136,(MATCH(NLML.ChangeInScores.PrePostDataset[[#This Row],[First Name & Last Name*\n(choose from list)]],'NLM Data Test 1'!$W$12:$W$136,0)),1))","v":{"$error":"#N/A"}},{"$f":"(INDEX('NLM Data Test 2'!$P$12:$P$136,(MATCH(NLML.ChangeInScores.PrePostDataset[[#This Row],[First Name & Last Name*\n(choose from list)]],'NLM Data Test 2'!$X$12:$X$136,0)),1))-(INDEX('NLM Data Test 1'!$O$12:$O$136,(MATCH(NLML.ChangeInScores.PrePostDataset[[#This Row],[First Name & Last Name*\n(choose from list)]],'NLM Data Test 1'!$W$12:$W$136,0)),1))","v":{"$error":"#N/A"}},{"$f":"(INDEX('NLM Data Test 2'!$Q$12:$Q$136,(MATCH(NLML.ChangeInScores.PrePostDataset[[#This Row],[First Name & Last Name*\n(choose from list)]],'NLM Data Test 2'!$X$12:$X$136,0)),1))-(INDEX('NLM Data Test 1'!$P$12:$P$136,(MATCH(NLML.ChangeInScores.PrePostDataset[[#This Row],[First Name & Last Name*\n(choose from list)]],'NLM Data Test 1'!$W$12:$W$136,0)),1))","v":{"$error":"#N/A"}},{"$f":"(INDEX('NLM Data Test 2'!$R$12:$R$136,(MATCH(NLML.ChangeInScores.PrePostDataset[[#This Row],[First Name & Last Name*\n(choose from list)]],'NLM Data Test 2'!$X$12:$X$136,0)),1))-(INDEX('NLM Data Test 1'!$Q$12:$Q$136,(MATCH(NLML.ChangeInScores.PrePostDataset[[#This Row],[First Name & Last Name*\n(choose from list)]],'NLM Data Test 1'!$W$12:$W$136,0)),1))","v":{"$error":"#N/A"}},{"$f":"(INDEX('NLM Data Test 2'!$S$12:$S$136,(MATCH(NLML.ChangeInScores.PrePostDataset[[#This Row],[First Name & Last Name*\n(choose from list)]],'NLM Data Test 2'!$X$12:$X$136,0)),1))-(INDEX('NLM Data Test 1'!$R$12:$R$136,(MATCH(NLML.ChangeInScores.PrePostDataset[[#This Row],[First Name & Last Name*\n(choose from list)]],'NLM Data Test 1'!$W$12:$W$136,0)),1))","v":{"$error":"#N/A"}},{"$f":"(INDEX('NLM Data Test 2'!$T$12:$T$136,(MATCH(NLML.ChangeInScores.PrePostDataset[[#This Row],[First Name & Last Name*\n(choose from list)]],'NLM Data Test 2'!$X$12:$X$136,0)),1))-(INDEX('NLM Data Test 1'!$S$12:$S$136,(MATCH(NLML.ChangeInScores.PrePostDataset[[#This Row],[First Name & Last Name*\n(choose from list)]],'NLM Data Test 1'!$W$12:$W$136,0)),1))","v":{"$error":"#N/A"}},{"$f":"IFERROR(INDEX('NLM Data Test 1'!$T$12:$T$136,(MATCH(NLML.ChangeInScores.PrePostDataset[[#This Row],[First Name & Last Name*\n(choose from list)]],'NLM Data Test 1'!$W$12:$W$136,0)),1),\"\")","v":""},{"$f":"IFERROR(INDEX('NLM Data Test 2'!$U$12:$U$136,(MATCH(NLML.ChangeInScores.PrePostDataset[[#This Row],[First Name & Last Name*\n(choose from list)]],'NLM Data Test 2'!$X$12:$X$136,0)),1),\"\")","v":""}]
[79,{"$f":"IFERROR(INDEX(NLML.Test1.PrePostDataset[*First Name],(MATCH(NLML.ChangeInScores.PrePostDataset[[#This Row],[First Name & Last Name*\n(choose from list)]],'NLM Data Test 1'!W90:W214,0)),1),\"\")","v":""},{"$f":"IFERROR(INDEX(NLML.Test1.PrePostDataset[*Last Name],(MATCH(NLML.ChangeInScores.PrePostDataset[[#This Row],[First Name & Last Name*\n(choose from list)]],'NLM Data Test 1'!W90:W214,0)),1),\"\")","v":""},{"$f":"'NLM Data Test 2'!D90","v":0},{"$f":"IF(IFERROR(MATCH($D94,'NLM Data Test 2'!$D$12:$D$136,0),\"Error\")=\"Error\",(INDEX('NLM Data Test 1'!$D$12:$D$136,(MATCH($D94,'NLM Data Test 1'!$W$12:$W$136,0)),1)),(INDEX('NLM Data Test 2'!$E$12:$E$136,(MATCH($D94,'NLM Data Test 2'!$D$12:$D$136,0)),1)))","v":{"$error":"#N/A"}},{"$f":"IF(IFERROR(MATCH($D94,'NLM Data Test 2'!$D$12:$D$136,0),\"Error\")=\"Error\",(INDEX('NLM Data Test 1'!$E$12:$E$136,(MATCH($D94,'NLM Data Test 1'!$W$12:$W$136,0)),1)),(INDEX('NLM Data Test 2'!$G$12:$G$136,(MATCH($D94,'NLM Data Test 2'!$D$12:$D$136,0)),1)))","v":{"$error":"#N/A"}},{"$f":"IF(IFERROR(MATCH($D94,'NLM Data Test 2'!$D$12:$D$136,0),\"Error\")=\"Error\",(INDEX('NLM Data Test 1'!$F$12:$F$136,(MATCH($D94,'NLM Data Test 1'!$W$12:$W$136,0)),1)),(INDEX('NLM Data Test 2'!$F$12:$F$136,(MATCH($D94,'NLM Data Test 2'!$D$12:$D$136,0)),1)))","v":{"$error":"#N/A"}},{"$f":"IF(INDEX('NLM Data Test 1'!$H$12:$H$136,(MATCH(NLML.ChangeInScores.PrePostDataset[[#This Row],[First Name & Last Name*\n(choose from list)]],'NLM Data Test 1'!$W$12:$W$136,0)),1)=\"\",\"\",(INDEX('NLM Data Test 1'!H$12:H$136,(MATCH(NLML.ChangeInScores.PrePostDataset[[#This Row],[First Name & Last Name*\n(choose from list)]],'NLM Data Test 1'!$W$12:$W$136,0)),1)))","v":{"$error":"#N/A"}},{"$f":"IF(INDEX('NLM Data Test 1'!$I$12:$I$136,(MATCH(NLML.ChangeInScores.PrePostDataset[[#This Row],[First Name & Last Name*\n(choose from list)]],'NLM Data Test 1'!$W$12:$W$136,0)),1)=\"\",\"\",(INDEX('NLM Data Test 1'!I$12:I$136,(MATCH(NLML.ChangeInScores.PrePostDataset[[#This Row],[First Name & Last Name*\n(choose from list)]],'NLM Data Test 1'!$W$12:$W$136,0)),1)))","v":{"$error":"#N/A"}},{"$f":"IF(INDEX('NLM Data Test 1'!$J$12:$J$136,(MATCH(NLML.ChangeInScores.PrePostDataset[[#This Row],[First Name & Last Name*\n(choose from list)]],'NLM Data Test 1'!$W$12:$W$136,0)),1)=\"\",\"\",(INDEX('NLM Data Test 1'!J$12:J$136,(MATCH(NLML.ChangeInScores.PrePostDataset[[#This Row],[First Name & Last Name*\n(choose from list)]],'NLM Data Test 1'!$W$12:$W$136,0)),1)))","v":{"$error":"#N/A"}},{"$f":"IFERROR(INDEX('NLM Data Test 1'!$M$12:$M$136,(MATCH(NLML.ChangeInScores.PrePostDataset[[#This Row],[First Name & Last Name*\n(choose from list)]],'NLM Data Test 1'!$W$12:$W$136,0)),1),\"\")","v":""},{"$f":"INDEX('NLM Data Test 2'!$I$12:$I$136,(MATCH(NLML.ChangeInScores.PrePostDataset[[#This Row],[First Name & Last Name*\n(choose from list)]],'NLM Data Test 2'!$D$12:$D$136,0)),1)","v":{"$error":"#N/A"}},{"$f":"IFERROR(INDEX('NLM Data Test 2'!$J$12:$J$136,(MATCH(NLML.ChangeInScores.PrePostDataset[[#This Row],[First Name & Last Name*\n(choose from list)]],'NLM Data Test 2'!$X$12:$X$136,0)),1),\"\")","v":""},{"$f":"IFERROR(INDEX('NLM Data Test 2'!$K$12:$K$136,(MATCH(NLML.ChangeInScores.PrePostDataset[[#This Row],[First Name & Last Name*\n(choose from list)]],'NLM Data Test 2'!$X$12:$X$136,0)),1),\"\")","v":""},{"$f":"IFERROR(INDEX('NLM Data Test 2'!$N$12:$N$136,(MATCH(NLML.ChangeInScores.PrePostDataset[[#This Row],[First Name & Last Name*\n(choose from list)]],'NLM Data Test 2'!$X$12:$X$136,0)),1),\"\")","v":""},{"$f":"(INDEX('NLM Data Test 2'!$O$12:$O$136,(MATCH(NLML.ChangeInScores.PrePostDataset[[#This Row],[First Name & Last Name*\n(choose from list)]],'NLM Data Test 2'!$X$12:$X$136,0)),1))-(INDEX('NLM Data Test 1'!$N$12:$N$136,(MATCH(NLML.ChangeInScores.PrePostDataset[[#This Row],[First Name & Last Name*\n(choose from list)]],'NLM Data Test 1'!$W$12:$W$136,0)),1))","v":{"$error":"#N/A"}},{"$f":"(INDEX('NLM Data Test 2'!$P$12:$P$136,(MATCH(NLML.ChangeInScores.PrePostDataset[[#This Row],[First Name & Last Name*\n(choose from list)]],'NLM Data Test 2'!$X$12:$X$136,0)),1))-(INDEX('NLM Data Test 1'!$O$12:$O$136,(MATCH(NLML.ChangeInScores.PrePostDataset[[#This Row],[First Name & Last Name*\n(choose from list)]],'NLM Data Test 1'!$W$12:$W$136,0)),1))","v":{"$error":"#N/A"}},{"$f":"(INDEX('NLM Data Test 2'!$Q$12:$Q$136,(MATCH(NLML.ChangeInScores.PrePostDataset[[#This Row],[First Name & Last Name*\n(choose from list)]],'NLM Data Test 2'!$X$12:$X$136,0)),1))-(INDEX('NLM Data Test 1'!$P$12:$P$136,(MATCH(NLML.ChangeInScores.PrePostDataset[[#This Row],[First Name & Last Name*\n(choose from list)]],'NLM Data Test 1'!$W$12:$W$136,0)),1))","v":{"$error":"#N/A"}},{"$f":"(INDEX('NLM Data Test 2'!$R$12:$R$136,(MATCH(NLML.ChangeInScores.PrePostDataset[[#This Row],[First Name & Last Name*\n(choose from list)]],'NLM Data Test 2'!$X$12:$X$136,0)),1))-(INDEX('NLM Data Test 1'!$Q$12:$Q$136,(MATCH(NLML.ChangeInScores.PrePostDataset[[#This Row],[First Name & Last Name*\n(choose from list)]],'NLM Data Test 1'!$W$12:$W$136,0)),1))","v":{"$error":"#N/A"}},{"$f":"(INDEX('NLM Data Test 2'!$S$12:$S$136,(MATCH(NLML.ChangeInScores.PrePostDataset[[#This Row],[First Name & Last Name*\n(choose from list)]],'NLM Data Test 2'!$X$12:$X$136,0)),1))-(INDEX('NLM Data Test 1'!$R$12:$R$136,(MATCH(NLML.ChangeInScores.PrePostDataset[[#This Row],[First Name & Last Name*\n(choose from list)]],'NLM Data Test 1'!$W$12:$W$136,0)),1))","v":{"$error":"#N/A"}},{"$f":"(INDEX('NLM Data Test 2'!$T$12:$T$136,(MATCH(NLML.ChangeInScores.PrePostDataset[[#This Row],[First Name & Last Name*\n(choose from list)]],'NLM Data Test 2'!$X$12:$X$136,0)),1))-(INDEX('NLM Data Test 1'!$S$12:$S$136,(MATCH(NLML.ChangeInScores.PrePostDataset[[#This Row],[First Name & Last Name*\n(choose from list)]],'NLM Data Test 1'!$W$12:$W$136,0)),1))","v":{"$error":"#N/A"}},{"$f":"IFERROR(INDEX('NLM Data Test 1'!$T$12:$T$136,(MATCH(NLML.ChangeInScores.PrePostDataset[[#This Row],[First Name & Last Name*\n(choose from list)]],'NLM Data Test 1'!$W$12:$W$136,0)),1),\"\")","v":""},{"$f":"IFERROR(INDEX('NLM Data Test 2'!$U$12:$U$136,(MATCH(NLML.ChangeInScores.PrePostDataset[[#This Row],[First Name & Last Name*\n(choose from list)]],'NLM Data Test 2'!$X$12:$X$136,0)),1),\"\")","v":""}]
[80,{"$f":"IFERROR(INDEX(NLML.Test1.PrePostDataset[*First Name],(MATCH(NLML.ChangeInScores.PrePostDataset[[#This Row],[First Name & Last Name*\n(choose from list)]],'NLM Data Test 1'!W91:W215,0)),1),\"\")","v":""},{"$f":"IFERROR(INDEX(NLML.Test1.PrePostDataset[*Last Name],(MATCH(NLML.ChangeInScores.PrePostDataset[[#This Row],[First Name & Last Name*\n(choose from list)]],'NLM Data Test 1'!W91:W215,0)),1),\"\")","v":""},{"$f":"'NLM Data Test 2'!D91","v":0},{"$f":"IF(IFERROR(MATCH($D95,'NLM Data Test 2'!$D$12:$D$136,0),\"Error\")=\"Error\",(INDEX('NLM Data Test 1'!$D$12:$D$136,(MATCH($D95,'NLM Data Test 1'!$W$12:$W$136,0)),1)),(INDEX('NLM Data Test 2'!$E$12:$E$136,(MATCH($D95,'NLM Data Test 2'!$D$12:$D$136,0)),1)))","v":{"$error":"#N/A"}},{"$f":"IF(IFERROR(MATCH($D95,'NLM Data Test 2'!$D$12:$D$136,0),\"Error\")=\"Error\",(INDEX('NLM Data Test 1'!$E$12:$E$136,(MATCH($D95,'NLM Data Test 1'!$W$12:$W$136,0)),1)),(INDEX('NLM Data Test 2'!$G$12:$G$136,(MATCH($D95,'NLM Data Test 2'!$D$12:$D$136,0)),1)))","v":{"$error":"#N/A"}},{"$f":"IF(IFERROR(MATCH($D95,'NLM Data Test 2'!$D$12:$D$136,0),\"Error\")=\"Error\",(INDEX('NLM Data Test 1'!$F$12:$F$136,(MATCH($D95,'NLM Data Test 1'!$W$12:$W$136,0)),1)),(INDEX('NLM Data Test 2'!$F$12:$F$136,(MATCH($D95,'NLM Data Test 2'!$D$12:$D$136,0)),1)))","v":{"$error":"#N/A"}},{"$f":"IF(INDEX('NLM Data Test 1'!$H$12:$H$136,(MATCH(NLML.ChangeInScores.PrePostDataset[[#This Row],[First Name & Last Name*\n(choose from list)]],'NLM Data Test 1'!$W$12:$W$136,0)),1)=\"\",\"\",(INDEX('NLM Data Test 1'!H$12:H$136,(MATCH(NLML.ChangeInScores.PrePostDataset[[#This Row],[First Name & Last Name*\n(choose from list)]],'NLM Data Test 1'!$W$12:$W$136,0)),1)))","v":{"$error":"#N/A"}},{"$f":"IF(INDEX('NLM Data Test 1'!$I$12:$I$136,(MATCH(NLML.ChangeInScores.PrePostDataset[[#This Row],[First Name & Last Name*\n(choose from list)]],'NLM Data Test 1'!$W$12:$W$136,0)),1)=\"\",\"\",(INDEX('NLM Data Test 1'!I$12:I$136,(MATCH(NLML.ChangeInScores.PrePostDataset[[#This Row],[First Name & Last Name*\n(choose from list)]],'NLM Data Test 1'!$W$12:$W$136,0)),1)))","v":{"$error":"#N/A"}},{"$f":"IF(INDEX('NLM Data Test 1'!$J$12:$J$136,(MATCH(NLML.ChangeInScores.PrePostDataset[[#This Row],[First Name & Last Name*\n(choose from list)]],'NLM Data Test 1'!$W$12:$W$136,0)),1)=\"\",\"\",(INDEX('NLM Data Test 1'!J$12:J$136,(MATCH(NLML.ChangeInScores.PrePostDataset[[#This Row],[First Name & Last Name*\n(choose from list)]],'NLM Data Test 1'!$W$12:$W$136,0)),1)))","v":{"$error":"#N/A"}},{"$f":"IFERROR(INDEX('NLM Data Test 1'!$M$12:$M$136,(MATCH(NLML.ChangeInScores.PrePostDataset[[#This Row],[First Name & Last Name*\n(choose from list)]],'NLM Data Test 1'!$W$12:$W$136,0)),1),\"\")","v":""},{"$f":"INDEX('NLM Data Test 2'!$I$12:$I$136,(MATCH(NLML.ChangeInScores.PrePostDataset[[#This Row],[First Name & Last Name*\n(choose from list)]],'NLM Data Test 2'!$D$12:$D$136,0)),1)","v":{"$error":"#N/A"}},{"$f":"IFERROR(INDEX('NLM Data Test 2'!$J$12:$J$136,(MATCH(NLML.ChangeInScores.PrePostDataset[[#This Row],[First Name & Last Name*\n(choose from list)]],'NLM Data Test 2'!$X$12:$X$136,0)),1),\"\")","v":""},{"$f":"IFERROR(INDEX('NLM Data Test 2'!$K$12:$K$136,(MATCH(NLML.ChangeInScores.PrePostDataset[[#This Row],[First Name & Last Name*\n(choose from list)]],'NLM Data Test 2'!$X$12:$X$136,0)),1),\"\")","v":""},{"$f":"IFERROR(INDEX('NLM Data Test 2'!$N$12:$N$136,(MATCH(NLML.ChangeInScores.PrePostDataset[[#This Row],[First Name & Last Name*\n(choose from list)]],'NLM Data Test 2'!$X$12:$X$136,0)),1),\"\")","v":""},{"$f":"(INDEX('NLM Data Test 2'!$O$12:$O$136,(MATCH(NLML.ChangeInScores.PrePostDataset[[#This Row],[First Name & Last Name*\n(choose from list)]],'NLM Data Test 2'!$X$12:$X$136,0)),1))-(INDEX('NLM Data Test 1'!$N$12:$N$136,(MATCH(NLML.ChangeInScores.PrePostDataset[[#This Row],[First Name & Last Name*\n(choose from list)]],'NLM Data Test 1'!$W$12:$W$136,0)),1))","v":{"$error":"#N/A"}},{"$f":"(INDEX('NLM Data Test 2'!$P$12:$P$136,(MATCH(NLML.ChangeInScores.PrePostDataset[[#This Row],[First Name & Last Name*\n(choose from list)]],'NLM Data Test 2'!$X$12:$X$136,0)),1))-(INDEX('NLM Data Test 1'!$O$12:$O$136,(MATCH(NLML.ChangeInScores.PrePostDataset[[#This Row],[First Name & Last Name*\n(choose from list)]],'NLM Data Test 1'!$W$12:$W$136,0)),1))","v":{"$error":"#N/A"}},{"$f":"(INDEX('NLM Data Test 2'!$Q$12:$Q$136,(MATCH(NLML.ChangeInScores.PrePostDataset[[#This Row],[First Name & Last Name*\n(choose from list)]],'NLM Data Test 2'!$X$12:$X$136,0)),1))-(INDEX('NLM Data Test 1'!$P$12:$P$136,(MATCH(NLML.ChangeInScores.PrePostDataset[[#This Row],[First Name & Last Name*\n(choose from list)]],'NLM Data Test 1'!$W$12:$W$136,0)),1))","v":{"$error":"#N/A"}},{"$f":"(INDEX('NLM Data Test 2'!$R$12:$R$136,(MATCH(NLML.ChangeInScores.PrePostDataset[[#This Row],[First Name & Last Name*\n(choose from list)]],'NLM Data Test 2'!$X$12:$X$136,0)),1))-(INDEX('NLM Data Test 1'!$Q$12:$Q$136,(MATCH(NLML.ChangeInScores.PrePostDataset[[#This Row],[First Name & Last Name*\n(choose from list)]],'NLM Data Test 1'!$W$12:$W$136,0)),1))","v":{"$error":"#N/A"}},{"$f":"(INDEX('NLM Data Test 2'!$S$12:$S$136,(MATCH(NLML.ChangeInScores.PrePostDataset[[#This Row],[First Name & Last Name*\n(choose from list)]],'NLM Data Test 2'!$X$12:$X$136,0)),1))-(INDEX('NLM Data Test 1'!$R$12:$R$136,(MATCH(NLML.ChangeInScores.PrePostDataset[[#This Row],[First Name & Last Name*\n(choose from list)]],'NLM Data Test 1'!$W$12:$W$136,0)),1))","v":{"$error":"#N/A"}},{"$f":"(INDEX('NLM Data Test 2'!$T$12:$T$136,(MATCH(NLML.ChangeInScores.PrePostDataset[[#This Row],[First Name & Last Name*\n(choose from list)]],'NLM Data Test 2'!$X$12:$X$136,0)),1))-(INDEX('NLM Data Test 1'!$S$12:$S$136,(MATCH(NLML.ChangeInScores.PrePostDataset[[#This Row],[First Name & Last Name*\n(choose from list)]],'NLM Data Test 1'!$W$12:$W$136,0)),1))","v":{"$error":"#N/A"}},{"$f":"IFERROR(INDEX('NLM Data Test 1'!$T$12:$T$136,(MATCH(NLML.ChangeInScores.PrePostDataset[[#This Row],[First Name & Last Name*\n(choose from list)]],'NLM Data Test 1'!$W$12:$W$136,0)),1),\"\")","v":""},{"$f":"IFERROR(INDEX('NLM Data Test 2'!$U$12:$U$136,(MATCH(NLML.ChangeInScores.PrePostDataset[[#This Row],[First Name & Last Name*\n(choose from list)]],'NLM Data Test 2'!$X$12:$X$136,0)),1),\"\")","v":""}]
[81,{"$f":"IFERROR(INDEX(NLML.Test1.PrePostDataset[*First Name],(MATCH(NLML.ChangeInScores.PrePostDataset[[#This Row],[First Name & Last Name*\n(choose from list)]],'NLM Data Test 1'!W92:W216,0)),1),\"\")","v":""},{"$f":"IFERROR(INDEX(NLML.Test1.PrePostDataset[*Last Name],(MATCH(NLML.ChangeInScores.PrePostDataset[[#This Row],[First Name & Last Name*\n(choose from list)]],'NLM Data Test 1'!W92:W216,0)),1),\"\")","v":""},{"$f":"'NLM Data Test 2'!D92","v":0},{"$f":"IF(IFERROR(MATCH($D96,'NLM Data Test 2'!$D$12:$D$136,0),\"Error\")=\"Error\",(INDEX('NLM Data Test 1'!$D$12:$D$136,(MATCH($D96,'NLM Data Test 1'!$W$12:$W$136,0)),1)),(INDEX('NLM Data Test 2'!$E$12:$E$136,(MATCH($D96,'NLM Data Test 2'!$D$12:$D$136,0)),1)))","v":{"$error":"#N/A"}},{"$f":"IF(IFERROR(MATCH($D96,'NLM Data Test 2'!$D$12:$D$136,0),\"Error\")=\"Error\",(INDEX('NLM Data Test 1'!$E$12:$E$136,(MATCH($D96,'NLM Data Test 1'!$W$12:$W$136,0)),1)),(INDEX('NLM Data Test 2'!$G$12:$G$136,(MATCH($D96,'NLM Data Test 2'!$D$12:$D$136,0)),1)))","v":{"$error":"#N/A"}},{"$f":"IF(IFERROR(MATCH($D96,'NLM Data Test 2'!$D$12:$D$136,0),\"Error\")=\"Error\",(INDEX('NLM Data Test 1'!$F$12:$F$136,(MATCH($D96,'NLM Data Test 1'!$W$12:$W$136,0)),1)),(INDEX('NLM Data Test 2'!$F$12:$F$136,(MATCH($D96,'NLM Data Test 2'!$D$12:$D$136,0)),1)))","v":{"$error":"#N/A"}},{"$f":"IF(INDEX('NLM Data Test 1'!$H$12:$H$136,(MATCH(NLML.ChangeInScores.PrePostDataset[[#This Row],[First Name & Last Name*\n(choose from list)]],'NLM Data Test 1'!$W$12:$W$136,0)),1)=\"\",\"\",(INDEX('NLM Data Test 1'!H$12:H$136,(MATCH(NLML.ChangeInScores.PrePostDataset[[#This Row],[First Name & Last Name*\n(choose from list)]],'NLM Data Test 1'!$W$12:$W$136,0)),1)))","v":{"$error":"#N/A"}},{"$f":"IF(INDEX('NLM Data Test 1'!$I$12:$I$136,(MATCH(NLML.ChangeInScores.PrePostDataset[[#This Row],[First Name & Last Name*\n(choose from list)]],'NLM Data Test 1'!$W$12:$W$136,0)),1)=\"\",\"\",(INDEX('NLM Data Test 1'!I$12:I$136,(MATCH(NLML.ChangeInScores.PrePostDataset[[#This Row],[First Name & Last Name*\n(choose from list)]],'NLM Data Test 1'!$W$12:$W$136,0)),1)))","v":{"$error":"#N/A"}},{"$f":"IF(INDEX('NLM Data Test 1'!$J$12:$J$136,(MATCH(NLML.ChangeInScores.PrePostDataset[[#This Row],[First Name & Last Name*\n(choose from list)]],'NLM Data Test 1'!$W$12:$W$136,0)),1)=\"\",\"\",(INDEX('NLM Data Test 1'!J$12:J$136,(MATCH(NLML.ChangeInScores.PrePostDataset[[#This Row],[First Name & Last Name*\n(choose from list)]],'NLM Data Test 1'!$W$12:$W$136,0)),1)))","v":{"$error":"#N/A"}},{"$f":"IFERROR(INDEX('NLM Data Test 1'!$M$12:$M$136,(MATCH(NLML.ChangeInScores.PrePostDataset[[#This Row],[First Name & Last Name*\n(choose from list)]],'NLM Data Test 1'!$W$12:$W$136,0)),1),\"\")","v":""},{"$f":"INDEX('NLM Data Test 2'!$I$12:$I$136,(MATCH(NLML.ChangeInScores.PrePostDataset[[#This Row],[First Name & Last Name*\n(choose from list)]],'NLM Data Test 2'!$D$12:$D$136,0)),1)","v":{"$error":"#N/A"}},{"$f":"IFERROR(INDEX('NLM Data Test 2'!$J$12:$J$136,(MATCH(NLML.ChangeInScores.PrePostDataset[[#This Row],[First Name & Last Name*\n(choose from list)]],'NLM Data Test 2'!$X$12:$X$136,0)),1),\"\")","v":""},{"$f":"IFERROR(INDEX('NLM Data Test 2'!$K$12:$K$136,(MATCH(NLML.ChangeInScores.PrePostDataset[[#This Row],[First Name & Last Name*\n(choose from list)]],'NLM Data Test 2'!$X$12:$X$136,0)),1),\"\")","v":""},{"$f":"IFERROR(INDEX('NLM Data Test 2'!$N$12:$N$136,(MATCH(NLML.ChangeInScores.PrePostDataset[[#This Row],[First Name & Last Name*\n(choose from list)]],'NLM Data Test 2'!$X$12:$X$136,0)),1),\"\")","v":""},{"$f":"(INDEX('NLM Data Test 2'!$O$12:$O$136,(MATCH(NLML.ChangeInScores.PrePostDataset[[#This Row],[First Name & Last Name*\n(choose from list)]],'NLM Data Test 2'!$X$12:$X$136,0)),1))-(INDEX('NLM Data Test 1'!$N$12:$N$136,(MATCH(NLML.ChangeInScores.PrePostDataset[[#This Row],[First Name & Last Name*\n(choose from list)]],'NLM Data Test 1'!$W$12:$W$136,0)),1))","v":{"$error":"#N/A"}},{"$f":"(INDEX('NLM Data Test 2'!$P$12:$P$136,(MATCH(NLML.ChangeInScores.PrePostDataset[[#This Row],[First Name & Last Name*\n(choose from list)]],'NLM Data Test 2'!$X$12:$X$136,0)),1))-(INDEX('NLM Data Test 1'!$O$12:$O$136,(MATCH(NLML.ChangeInScores.PrePostDataset[[#This Row],[First Name & Last Name*\n(choose from list)]],'NLM Data Test 1'!$W$12:$W$136,0)),1))","v":{"$error":"#N/A"}},{"$f":"(INDEX('NLM Data Test 2'!$Q$12:$Q$136,(MATCH(NLML.ChangeInScores.PrePostDataset[[#This Row],[First Name & Last Name*\n(choose from list)]],'NLM Data Test 2'!$X$12:$X$136,0)),1))-(INDEX('NLM Data Test 1'!$P$12:$P$136,(MATCH(NLML.ChangeInScores.PrePostDataset[[#This Row],[First Name & Last Name*\n(choose from list)]],'NLM Data Test 1'!$W$12:$W$136,0)),1))","v":{"$error":"#N/A"}},{"$f":"(INDEX('NLM Data Test 2'!$R$12:$R$136,(MATCH(NLML.ChangeInScores.PrePostDataset[[#This Row],[First Name & Last Name*\n(choose from list)]],'NLM Data Test 2'!$X$12:$X$136,0)),1))-(INDEX('NLM Data Test 1'!$Q$12:$Q$136,(MATCH(NLML.ChangeInScores.PrePostDataset[[#This Row],[First Name & Last Name*\n(choose from list)]],'NLM Data Test 1'!$W$12:$W$136,0)),1))","v":{"$error":"#N/A"}},{"$f":"(INDEX('NLM Data Test 2'!$S$12:$S$136,(MATCH(NLML.ChangeInScores.PrePostDataset[[#This Row],[First Name & Last Name*\n(choose from list)]],'NLM Data Test 2'!$X$12:$X$136,0)),1))-(INDEX('NLM Data Test 1'!$R$12:$R$136,(MATCH(NLML.ChangeInScores.PrePostDataset[[#This Row],[First Name & Last Name*\n(choose from list)]],'NLM Data Test 1'!$W$12:$W$136,0)),1))","v":{"$error":"#N/A"}},{"$f":"(INDEX('NLM Data Test 2'!$T$12:$T$136,(MATCH(NLML.ChangeInScores.PrePostDataset[[#This Row],[First Name & Last Name*\n(choose from list)]],'NLM Data Test 2'!$X$12:$X$136,0)),1))-(INDEX('NLM Data Test 1'!$S$12:$S$136,(MATCH(NLML.ChangeInScores.PrePostDataset[[#This Row],[First Name & Last Name*\n(choose from list)]],'NLM Data Test 1'!$W$12:$W$136,0)),1))","v":{"$error":"#N/A"}},{"$f":"IFERROR(INDEX('NLM Data Test 1'!$T$12:$T$136,(MATCH(NLML.ChangeInScores.PrePostDataset[[#This Row],[First Name & Last Name*\n(choose from list)]],'NLM Data Test 1'!$W$12:$W$136,0)),1),\"\")","v":""},{"$f":"IFERROR(INDEX('NLM Data Test 2'!$U$12:$U$136,(MATCH(NLML.ChangeInScores.PrePostDataset[[#This Row],[First Name & Last Name*\n(choose from list)]],'NLM Data Test 2'!$X$12:$X$136,0)),1),\"\")","v":""}]
[82,{"$f":"IFERROR(INDEX(NLML.Test1.PrePostDataset[*First Name],(MATCH(NLML.ChangeInScores.PrePostDataset[[#This Row],[First Name & Last Name*\n(choose from list)]],'NLM Data Test 1'!W93:W217,0)),1),\"\")","v":""},{"$f":"IFERROR(INDEX(NLML.Test1.PrePostDataset[*Last Name],(MATCH(NLML.ChangeInScores.PrePostDataset[[#This Row],[First Name & Last Name*\n(choose from list)]],'NLM Data Test 1'!W93:W217,0)),1),\"\")","v":""},{"$f":"'NLM Data Test 2'!D93","v":0},{"$f":"IF(IFERROR(MATCH($D97,'NLM Data Test 2'!$D$12:$D$136,0),\"Error\")=\"Error\",(INDEX('NLM Data Test 1'!$D$12:$D$136,(MATCH($D97,'NLM Data Test 1'!$W$12:$W$136,0)),1)),(INDEX('NLM Data Test 2'!$E$12:$E$136,(MATCH($D97,'NLM Data Test 2'!$D$12:$D$136,0)),1)))","v":{"$error":"#N/A"}},{"$f":"IF(IFERROR(MATCH($D97,'NLM Data Test 2'!$D$12:$D$136,0),\"Error\")=\"Error\",(INDEX('NLM Data Test 1'!$E$12:$E$136,(MATCH($D97,'NLM Data Test 1'!$W$12:$W$136,0)),1)),(INDEX('NLM Data Test 2'!$G$12:$G$136,(MATCH($D97,'NLM Data Test 2'!$D$12:$D$136,0)),1)))","v":{"$error":"#N/A"}},{"$f":"IF(IFERROR(MATCH($D97,'NLM Data Test 2'!$D$12:$D$136,0),\"Error\")=\"Error\",(INDEX('NLM Data Test 1'!$F$12:$F$136,(MATCH($D97,'NLM Data Test 1'!$W$12:$W$136,0)),1)),(INDEX('NLM Data Test 2'!$F$12:$F$136,(MATCH($D97,'NLM Data Test 2'!$D$12:$D$136,0)),1)))","v":{"$error":"#N/A"}},{"$f":"IF(INDEX('NLM Data Test 1'!$H$12:$H$136,(MATCH(NLML.ChangeInScores.PrePostDataset[[#This Row],[First Name & Last Name*\n(choose from list)]],'NLM Data Test 1'!$W$12:$W$136,0)),1)=\"\",\"\",(INDEX('NLM Data Test 1'!H$12:H$136,(MATCH(NLML.ChangeInScores.PrePostDataset[[#This Row],[First Name & Last Name*\n(choose from list)]],'NLM Data Test 1'!$W$12:$W$136,0)),1)))","v":{"$error":"#N/A"}},{"$f":"IF(INDEX('NLM Data Test 1'!$I$12:$I$136,(MATCH(NLML.ChangeInScores.PrePostDataset[[#This Row],[First Name & Last Name*\n(choose from list)]],'NLM Data Test 1'!$W$12:$W$136,0)),1)=\"\",\"\",(INDEX('NLM Data Test 1'!I$12:I$136,(MATCH(NLML.ChangeInScores.PrePostDataset[[#This Row],[First Name & Last Name*\n(choose from list)]],'NLM Data Test 1'!$W$12:$W$136,0)),1)))","v":{"$error":"#N/A"}},{"$f":"IF(INDEX('NLM Data Test 1'!$J$12:$J$136,(MATCH(NLML.ChangeInScores.PrePostDataset[[#This Row],[First Name & Last Name*\n(choose from list)]],'NLM Data Test 1'!$W$12:$W$136,0)),1)=\"\",\"\",(INDEX('NLM Data Test 1'!J$12:J$136,(MATCH(NLML.ChangeInScores.PrePostDataset[[#This Row],[First Name & Last Name*\n(choose from list)]],'NLM Data Test 1'!$W$12:$W$136,0)),1)))","v":{"$error":"#N/A"}},{"$f":"IFERROR(INDEX('NLM Data Test 1'!$M$12:$M$136,(MATCH(NLML.ChangeInScores.PrePostDataset[[#This Row],[First Name & Last Name*\n(choose from list)]],'NLM Data Test 1'!$W$12:$W$136,0)),1),\"\")","v":""},{"$f":"INDEX('NLM Data Test 2'!$I$12:$I$136,(MATCH(NLML.ChangeInScores.PrePostDataset[[#This Row],[First Name & Last Name*\n(choose from list)]],'NLM Data Test 2'!$D$12:$D$136,0)),1)","v":{"$error":"#N/A"}},{"$f":"IFERROR(INDEX('NLM Data Test 2'!$J$12:$J$136,(MATCH(NLML.ChangeInScores.PrePostDataset[[#This Row],[First Name & Last Name*\n(choose from list)]],'NLM Data Test 2'!$X$12:$X$136,0)),1),\"\")","v":""},{"$f":"IFERROR(INDEX('NLM Data Test 2'!$K$12:$K$136,(MATCH(NLML.ChangeInScores.PrePostDataset[[#This Row],[First Name & Last Name*\n(choose from list)]],'NLM Data Test 2'!$X$12:$X$136,0)),1),\"\")","v":""},{"$f":"IFERROR(INDEX('NLM Data Test 2'!$N$12:$N$136,(MATCH(NLML.ChangeInScores.PrePostDataset[[#This Row],[First Name & Last Name*\n(choose from list)]],'NLM Data Test 2'!$X$12:$X$136,0)),1),\"\")","v":""},{"$f":"(INDEX('NLM Data Test 2'!$O$12:$O$136,(MATCH(NLML.ChangeInScores.PrePostDataset[[#This Row],[First Name & Last Name*\n(choose from list)]],'NLM Data Test 2'!$X$12:$X$136,0)),1))-(INDEX('NLM Data Test 1'!$N$12:$N$136,(MATCH(NLML.ChangeInScores.PrePostDataset[[#This Row],[First Name & Last Name*\n(choose from list)]],'NLM Data Test 1'!$W$12:$W$136,0)),1))","v":{"$error":"#N/A"}},{"$f":"(INDEX('NLM Data Test 2'!$P$12:$P$136,(MATCH(NLML.ChangeInScores.PrePostDataset[[#This Row],[First Name & Last Name*\n(choose from list)]],'NLM Data Test 2'!$X$12:$X$136,0)),1))-(INDEX('NLM Data Test 1'!$O$12:$O$136,(MATCH(NLML.ChangeInScores.PrePostDataset[[#This Row],[First Name & Last Name*\n(choose from list)]],'NLM Data Test 1'!$W$12:$W$136,0)),1))","v":{"$error":"#N/A"}},{"$f":"(INDEX('NLM Data Test 2'!$Q$12:$Q$136,(MATCH(NLML.ChangeInScores.PrePostDataset[[#This Row],[First Name & Last Name*\n(choose from list)]],'NLM Data Test 2'!$X$12:$X$136,0)),1))-(INDEX('NLM Data Test 1'!$P$12:$P$136,(MATCH(NLML.ChangeInScores.PrePostDataset[[#This Row],[First Name & Last Name*\n(choose from list)]],'NLM Data Test 1'!$W$12:$W$136,0)),1))","v":{"$error":"#N/A"}},{"$f":"(INDEX('NLM Data Test 2'!$R$12:$R$136,(MATCH(NLML.ChangeInScores.PrePostDataset[[#This Row],[First Name & Last Name*\n(choose from list)]],'NLM Data Test 2'!$X$12:$X$136,0)),1))-(INDEX('NLM Data Test 1'!$Q$12:$Q$136,(MATCH(NLML.ChangeInScores.PrePostDataset[[#This Row],[First Name & Last Name*\n(choose from list)]],'NLM Data Test 1'!$W$12:$W$136,0)),1))","v":{"$error":"#N/A"}},{"$f":"(INDEX('NLM Data Test 2'!$S$12:$S$136,(MATCH(NLML.ChangeInScores.PrePostDataset[[#This Row],[First Name & Last Name*\n(choose from list)]],'NLM Data Test 2'!$X$12:$X$136,0)),1))-(INDEX('NLM Data Test 1'!$R$12:$R$136,(MATCH(NLML.ChangeInScores.PrePostDataset[[#This Row],[First Name & Last Name*\n(choose from list)]],'NLM Data Test 1'!$W$12:$W$136,0)),1))","v":{"$error":"#N/A"}},{"$f":"(INDEX('NLM Data Test 2'!$T$12:$T$136,(MATCH(NLML.ChangeInScores.PrePostDataset[[#This Row],[First Name & Last Name*\n(choose from list)]],'NLM Data Test 2'!$X$12:$X$136,0)),1))-(INDEX('NLM Data Test 1'!$S$12:$S$136,(MATCH(NLML.ChangeInScores.PrePostDataset[[#This Row],[First Name & Last Name*\n(choose from list)]],'NLM Data Test 1'!$W$12:$W$136,0)),1))","v":{"$error":"#N/A"}},{"$f":"IFERROR(INDEX('NLM Data Test 1'!$T$12:$T$136,(MATCH(NLML.ChangeInScores.PrePostDataset[[#This Row],[First Name & Last Name*\n(choose from list)]],'NLM Data Test 1'!$W$12:$W$136,0)),1),\"\")","v":""},{"$f":"IFERROR(INDEX('NLM Data Test 2'!$U$12:$U$136,(MATCH(NLML.ChangeInScores.PrePostDataset[[#This Row],[First Name & Last Name*\n(choose from list)]],'NLM Data Test 2'!$X$12:$X$136,0)),1),\"\")","v":""}]
[83,{"$f":"IFERROR(INDEX(NLML.Test1.PrePostDataset[*First Name],(MATCH(NLML.ChangeInScores.PrePostDataset[[#This Row],[First Name & Last Name*\n(choose from list)]],'NLM Data Test 1'!W94:W218,0)),1),\"\")","v":""},{"$f":"IFERROR(INDEX(NLML.Test1.PrePostDataset[*Last Name],(MATCH(NLML.ChangeInScores.PrePostDataset[[#This Row],[First Name & Last Name*\n(choose from list)]],'NLM Data Test 1'!W94:W218,0)),1),\"\")","v":""},{"$f":"'NLM Data Test 2'!D94","v":0},{"$f":"IF(IFERROR(MATCH($D98,'NLM Data Test 2'!$D$12:$D$136,0),\"Error\")=\"Error\",(INDEX('NLM Data Test 1'!$D$12:$D$136,(MATCH($D98,'NLM Data Test 1'!$W$12:$W$136,0)),1)),(INDEX('NLM Data Test 2'!$E$12:$E$136,(MATCH($D98,'NLM Data Test 2'!$D$12:$D$136,0)),1)))","v":{"$error":"#N/A"}},{"$f":"IF(IFERROR(MATCH($D98,'NLM Data Test 2'!$D$12:$D$136,0),\"Error\")=\"Error\",(INDEX('NLM Data Test 1'!$E$12:$E$136,(MATCH($D98,'NLM Data Test 1'!$W$12:$W$136,0)),1)),(INDEX('NLM Data Test 2'!$G$12:$G$136,(MATCH($D98,'NLM Data Test 2'!$D$12:$D$136,0)),1)))","v":{"$error":"#N/A"}},{"$f":"IF(IFERROR(MATCH($D98,'NLM Data Test 2'!$D$12:$D$136,0),\"Error\")=\"Error\",(INDEX('NLM Data Test 1'!$F$12:$F$136,(MATCH($D98,'NLM Data Test 1'!$W$12:$W$136,0)),1)),(INDEX('NLM Data Test 2'!$F$12:$F$136,(MATCH($D98,'NLM Data Test 2'!$D$12:$D$136,0)),1)))","v":{"$error":"#N/A"}},{"$f":"IF(INDEX('NLM Data Test 1'!$H$12:$H$136,(MATCH(NLML.ChangeInScores.PrePostDataset[[#This Row],[First Name & Last Name*\n(choose from list)]],'NLM Data Test 1'!$W$12:$W$136,0)),1)=\"\",\"\",(INDEX('NLM Data Test 1'!H$12:H$136,(MATCH(NLML.ChangeInScores.PrePostDataset[[#This Row],[First Name & Last Name*\n(choose from list)]],'NLM Data Test 1'!$W$12:$W$136,0)),1)))","v":{"$error":"#N/A"}},{"$f":"IF(INDEX('NLM Data Test 1'!$I$12:$I$136,(MATCH(NLML.ChangeInScores.PrePostDataset[[#This Row],[First Name & Last Name*\n(choose from list)]],'NLM Data Test 1'!$W$12:$W$136,0)),1)=\"\",\"\",(INDEX('NLM Data Test 1'!I$12:I$136,(MATCH(NLML.ChangeInScores.PrePostDataset[[#This Row],[First Name & Last Name*\n(choose from list)]],'NLM Data Test 1'!$W$12:$W$136,0)),1)))","v":{"$error":"#N/A"}},{"$f":"IF(INDEX('NLM Data Test 1'!$J$12:$J$136,(MATCH(NLML.ChangeInScores.PrePostDataset[[#This Row],[First Name & Last Name*\n(choose from list)]],'NLM Data Test 1'!$W$12:$W$136,0)),1)=\"\",\"\",(INDEX('NLM Data Test 1'!J$12:J$136,(MATCH(NLML.ChangeInScores.PrePostDataset[[#This Row],[First Name & Last Name*\n(choose from list)]],'NLM Data Test 1'!$W$12:$W$136,0)),1)))","v":{"$error":"#N/A"}},{"$f":"IFERROR(INDEX('NLM Data Test 1'!$M$12:$M$136,(MATCH(NLML.ChangeInScores.PrePostDataset[[#This Row],[First Name & Last Name*\n(choose from list)]],'NLM Data Test 1'!$W$12:$W$136,0)),1),\"\")","v":""},{"$f":"INDEX('NLM Data Test 2'!$I$12:$I$136,(MATCH(NLML.ChangeInScores.PrePostDataset[[#This Row],[First Name & Last Name*\n(choose from list)]],'NLM Data Test 2'!$D$12:$D$136,0)),1)","v":{"$error":"#N/A"}},{"$f":"IFERROR(INDEX('NLM Data Test 2'!$J$12:$J$136,(MATCH(NLML.ChangeInScores.PrePostDataset[[#This Row],[First Name & Last Name*\n(choose from list)]],'NLM Data Test 2'!$X$12:$X$136,0)),1),\"\")","v":""},{"$f":"IFERROR(INDEX('NLM Data Test 2'!$K$12:$K$136,(MATCH(NLML.ChangeInScores.PrePostDataset[[#This Row],[First Name & Last Name*\n(choose from list)]],'NLM Data Test 2'!$X$12:$X$136,0)),1),\"\")","v":""},{"$f":"IFERROR(INDEX('NLM Data Test 2'!$N$12:$N$136,(MATCH(NLML.ChangeInScores.PrePostDataset[[#This Row],[First Name & Last Name*\n(choose from list)]],'NLM Data Test 2'!$X$12:$X$136,0)),1),\"\")","v":""},{"$f":"(INDEX('NLM Data Test 2'!$O$12:$O$136,(MATCH(NLML.ChangeInScores.PrePostDataset[[#This Row],[First Name & Last Name*\n(choose from list)]],'NLM Data Test 2'!$X$12:$X$136,0)),1))-(INDEX('NLM Data Test 1'!$N$12:$N$136,(MATCH(NLML.ChangeInScores.PrePostDataset[[#This Row],[First Name & Last Name*\n(choose from list)]],'NLM Data Test 1'!$W$12:$W$136,0)),1))","v":{"$error":"#N/A"}},{"$f":"(INDEX('NLM Data Test 2'!$P$12:$P$136,(MATCH(NLML.ChangeInScores.PrePostDataset[[#This Row],[First Name & Last Name*\n(choose from list)]],'NLM Data Test 2'!$X$12:$X$136,0)),1))-(INDEX('NLM Data Test 1'!$O$12:$O$136,(MATCH(NLML.ChangeInScores.PrePostDataset[[#This Row],[First Name & Last Name*\n(choose from list)]],'NLM Data Test 1'!$W$12:$W$136,0)),1))","v":{"$error":"#N/A"}},{"$f":"(INDEX('NLM Data Test 2'!$Q$12:$Q$136,(MATCH(NLML.ChangeInScores.PrePostDataset[[#This Row],[First Name & Last Name*\n(choose from list)]],'NLM Data Test 2'!$X$12:$X$136,0)),1))-(INDEX('NLM Data Test 1'!$P$12:$P$136,(MATCH(NLML.ChangeInScores.PrePostDataset[[#This Row],[First Name & Last Name*\n(choose from list)]],'NLM Data Test 1'!$W$12:$W$136,0)),1))","v":{"$error":"#N/A"}},{"$f":"(INDEX('NLM Data Test 2'!$R$12:$R$136,(MATCH(NLML.ChangeInScores.PrePostDataset[[#This Row],[First Name & Last Name*\n(choose from list)]],'NLM Data Test 2'!$X$12:$X$136,0)),1))-(INDEX('NLM Data Test 1'!$Q$12:$Q$136,(MATCH(NLML.ChangeInScores.PrePostDataset[[#This Row],[First Name & Last Name*\n(choose from list)]],'NLM Data Test 1'!$W$12:$W$136,0)),1))","v":{"$error":"#N/A"}},{"$f":"(INDEX('NLM Data Test 2'!$S$12:$S$136,(MATCH(NLML.ChangeInScores.PrePostDataset[[#This Row],[First Name & Last Name*\n(choose from list)]],'NLM Data Test 2'!$X$12:$X$136,0)),1))-(INDEX('NLM Data Test 1'!$R$12:$R$136,(MATCH(NLML.ChangeInScores.PrePostDataset[[#This Row],[First Name & Last Name*\n(choose from list)]],'NLM Data Test 1'!$W$12:$W$136,0)),1))","v":{"$error":"#N/A"}},{"$f":"(INDEX('NLM Data Test 2'!$T$12:$T$136,(MATCH(NLML.ChangeInScores.PrePostDataset[[#This Row],[First Name & Last Name*\n(choose from list)]],'NLM Data Test 2'!$X$12:$X$136,0)),1))-(INDEX('NLM Data Test 1'!$S$12:$S$136,(MATCH(NLML.ChangeInScores.PrePostDataset[[#This Row],[First Name & Last Name*\n(choose from list)]],'NLM Data Test 1'!$W$12:$W$136,0)),1))","v":{"$error":"#N/A"}},{"$f":"IFERROR(INDEX('NLM Data Test 1'!$T$12:$T$136,(MATCH(NLML.ChangeInScores.PrePostDataset[[#This Row],[First Name & Last Name*\n(choose from list)]],'NLM Data Test 1'!$W$12:$W$136,0)),1),\"\")","v":""},{"$f":"IFERROR(INDEX('NLM Data Test 2'!$U$12:$U$136,(MATCH(NLML.ChangeInScores.PrePostDataset[[#This Row],[First Name & Last Name*\n(choose from list)]],'NLM Data Test 2'!$X$12:$X$136,0)),1),\"\")","v":""}]
[84,{"$f":"IFERROR(INDEX(NLML.Test1.PrePostDataset[*First Name],(MATCH(NLML.ChangeInScores.PrePostDataset[[#This Row],[First Name & Last Name*\n(choose from list)]],'NLM Data Test 1'!W95:W219,0)),1),\"\")","v":""},{"$f":"IFERROR(INDEX(NLML.Test1.PrePostDataset[*Last Name],(MATCH(NLML.ChangeInScores.PrePostDataset[[#This Row],[First Name & Last Name*\n(choose from list)]],'NLM Data Test 1'!W95:W219,0)),1),\"\")","v":""},{"$f":"'NLM Data Test 2'!D95","v":0},{"$f":"IF(IFERROR(MATCH($D99,'NLM Data Test 2'!$D$12:$D$136,0),\"Error\")=\"Error\",(INDEX('NLM Data Test 1'!$D$12:$D$136,(MATCH($D99,'NLM Data Test 1'!$W$12:$W$136,0)),1)),(INDEX('NLM Data Test 2'!$E$12:$E$136,(MATCH($D99,'NLM Data Test 2'!$D$12:$D$136,0)),1)))","v":{"$error":"#N/A"}},{"$f":"IF(IFERROR(MATCH($D99,'NLM Data Test 2'!$D$12:$D$136,0),\"Error\")=\"Error\",(INDEX('NLM Data Test 1'!$E$12:$E$136,(MATCH($D99,'NLM Data Test 1'!$W$12:$W$136,0)),1)),(INDEX('NLM Data Test 2'!$G$12:$G$136,(MATCH($D99,'NLM Data Test 2'!$D$12:$D$136,0)),1)))","v":{"$error":"#N/A"}},{"$f":"IF(IFERROR(MATCH($D99,'NLM Data Test 2'!$D$12:$D$136,0),\"Error\")=\"Error\",(INDEX('NLM Data Test 1'!$F$12:$F$136,(MATCH($D99,'NLM Data Test 1'!$W$12:$W$136,0)),1)),(INDEX('NLM Data Test 2'!$F$12:$F$136,(MATCH($D99,'NLM Data Test 2'!$D$12:$D$136,0)),1)))","v":{"$error":"#N/A"}},{"$f":"IF(INDEX('NLM Data Test 1'!$H$12:$H$136,(MATCH(NLML.ChangeInScores.PrePostDataset[[#This Row],[First Name & Last Name*\n(choose from list)]],'NLM Data Test 1'!$W$12:$W$136,0)),1)=\"\",\"\",(INDEX('NLM Data Test 1'!H$12:H$136,(MATCH(NLML.ChangeInScores.PrePostDataset[[#This Row],[First Name & Last Name*\n(choose from list)]],'NLM Data Test 1'!$W$12:$W$136,0)),1)))","v":{"$error":"#N/A"}},{"$f":"IF(INDEX('NLM Data Test 1'!$I$12:$I$136,(MATCH(NLML.ChangeInScores.PrePostDataset[[#This Row],[First Name & Last Name*\n(choose from list)]],'NLM Data Test 1'!$W$12:$W$136,0)),1)=\"\",\"\",(INDEX('NLM Data Test 1'!I$12:I$136,(MATCH(NLML.ChangeInScores.PrePostDataset[[#This Row],[First Name & Last Name*\n(choose from list)]],'NLM Data Test 1'!$W$12:$W$136,0)),1)))","v":{"$error":"#N/A"}},{"$f":"IF(INDEX('NLM Data Test 1'!$J$12:$J$136,(MATCH(NLML.ChangeInScores.PrePostDataset[[#This Row],[First Name & Last Name*\n(choose from list)]],'NLM Data Test 1'!$W$12:$W$136,0)),1)=\"\",\"\",(INDEX('NLM Data Test 1'!J$12:J$136,(MATCH(NLML.ChangeInScores.PrePostDataset[[#This Row],[First Name & Last Name*\n(choose from list)]],'NLM Data Test 1'!$W$12:$W$136,0)),1)))","v":{"$error":"#N/A"}},{"$f":"IFERROR(INDEX('NLM Data Test 1'!$M$12:$M$136,(MATCH(NLML.ChangeInScores.PrePostDataset[[#This Row],[First Name & Last Name*\n(choose from list)]],'NLM Data Test 1'!$W$12:$W$136,0)),1),\"\")","v":""},{"$f":"INDEX('NLM Data Test 2'!$I$12:$I$136,(MATCH(NLML.ChangeInScores.PrePostDataset[[#This Row],[First Name & Last Name*\n(choose from list)]],'NLM Data Test 2'!$D$12:$D$136,0)),1)","v":{"$error":"#N/A"}},{"$f":"IFERROR(INDEX('NLM Data Test 2'!$J$12:$J$136,(MATCH(NLML.ChangeInScores.PrePostDataset[[#This Row],[First Name & Last Name*\n(choose from list)]],'NLM Data Test 2'!$X$12:$X$136,0)),1),\"\")","v":""},{"$f":"IFERROR(INDEX('NLM Data Test 2'!$K$12:$K$136,(MATCH(NLML.ChangeInScores.PrePostDataset[[#This Row],[First Name & Last Name*\n(choose from list)]],'NLM Data Test 2'!$X$12:$X$136,0)),1),\"\")","v":""},{"$f":"IFERROR(INDEX('NLM Data Test 2'!$N$12:$N$136,(MATCH(NLML.ChangeInScores.PrePostDataset[[#This Row],[First Name & Last Name*\n(choose from list)]],'NLM Data Test 2'!$X$12:$X$136,0)),1),\"\")","v":""},{"$f":"(INDEX('NLM Data Test 2'!$O$12:$O$136,(MATCH(NLML.ChangeInScores.PrePostDataset[[#This Row],[First Name & Last Name*\n(choose from list)]],'NLM Data Test 2'!$X$12:$X$136,0)),1))-(INDEX('NLM Data Test 1'!$N$12:$N$136,(MATCH(NLML.ChangeInScores.PrePostDataset[[#This Row],[First Name & Last Name*\n(choose from list)]],'NLM Data Test 1'!$W$12:$W$136,0)),1))","v":{"$error":"#N/A"}},{"$f":"(INDEX('NLM Data Test 2'!$P$12:$P$136,(MATCH(NLML.ChangeInScores.PrePostDataset[[#This Row],[First Name & Last Name*\n(choose from list)]],'NLM Data Test 2'!$X$12:$X$136,0)),1))-(INDEX('NLM Data Test 1'!$O$12:$O$136,(MATCH(NLML.ChangeInScores.PrePostDataset[[#This Row],[First Name & Last Name*\n(choose from list)]],'NLM Data Test 1'!$W$12:$W$136,0)),1))","v":{"$error":"#N/A"}},{"$f":"(INDEX('NLM Data Test 2'!$Q$12:$Q$136,(MATCH(NLML.ChangeInScores.PrePostDataset[[#This Row],[First Name & Last Name*\n(choose from list)]],'NLM Data Test 2'!$X$12:$X$136,0)),1))-(INDEX('NLM Data Test 1'!$P$12:$P$136,(MATCH(NLML.ChangeInScores.PrePostDataset[[#This Row],[First Name & Last Name*\n(choose from list)]],'NLM Data Test 1'!$W$12:$W$136,0)),1))","v":{"$error":"#N/A"}},{"$f":"(INDEX('NLM Data Test 2'!$R$12:$R$136,(MATCH(NLML.ChangeInScores.PrePostDataset[[#This Row],[First Name & Last Name*\n(choose from list)]],'NLM Data Test 2'!$X$12:$X$136,0)),1))-(INDEX('NLM Data Test 1'!$Q$12:$Q$136,(MATCH(NLML.ChangeInScores.PrePostDataset[[#This Row],[First Name & Last Name*\n(choose from list)]],'NLM Data Test 1'!$W$12:$W$136,0)),1))","v":{"$error":"#N/A"}},{"$f":"(INDEX('NLM Data Test 2'!$S$12:$S$136,(MATCH(NLML.ChangeInScores.PrePostDataset[[#This Row],[First Name & Last Name*\n(choose from list)]],'NLM Data Test 2'!$X$12:$X$136,0)),1))-(INDEX('NLM Data Test 1'!$R$12:$R$136,(MATCH(NLML.ChangeInScores.PrePostDataset[[#This Row],[First Name & Last Name*\n(choose from list)]],'NLM Data Test 1'!$W$12:$W$136,0)),1))","v":{"$error":"#N/A"}},{"$f":"(INDEX('NLM Data Test 2'!$T$12:$T$136,(MATCH(NLML.ChangeInScores.PrePostDataset[[#This Row],[First Name & Last Name*\n(choose from list)]],'NLM Data Test 2'!$X$12:$X$136,0)),1))-(INDEX('NLM Data Test 1'!$S$12:$S$136,(MATCH(NLML.ChangeInScores.PrePostDataset[[#This Row],[First Name & Last Name*\n(choose from list)]],'NLM Data Test 1'!$W$12:$W$136,0)),1))","v":{"$error":"#N/A"}},{"$f":"IFERROR(INDEX('NLM Data Test 1'!$T$12:$T$136,(MATCH(NLML.ChangeInScores.PrePostDataset[[#This Row],[First Name & Last Name*\n(choose from list)]],'NLM Data Test 1'!$W$12:$W$136,0)),1),\"\")","v":""},{"$f":"IFERROR(INDEX('NLM Data Test 2'!$U$12:$U$136,(MATCH(NLML.ChangeInScores.PrePostDataset[[#This Row],[First Name & Last Name*\n(choose from list)]],'NLM Data Test 2'!$X$12:$X$136,0)),1),\"\")","v":""}]
[85,{"$f":"IFERROR(INDEX(NLML.Test1.PrePostDataset[*First Name],(MATCH(NLML.ChangeInScores.PrePostDataset[[#This Row],[First Name & Last Name*\n(choose from list)]],'NLM Data Test 1'!W96:W220,0)),1),\"\")","v":""},{"$f":"IFERROR(INDEX(NLML.Test1.PrePostDataset[*Last Name],(MATCH(NLML.ChangeInScores.PrePostDataset[[#This Row],[First Name & Last Name*\n(choose from list)]],'NLM Data Test 1'!W96:W220,0)),1),\"\")","v":""},{"$f":"'NLM Data Test 2'!D96","v":0},{"$f":"IF(IFERROR(MATCH($D100,'NLM Data Test 2'!$D$12:$D$136,0),\"Error\")=\"Error\",(INDEX('NLM Data Test 1'!$D$12:$D$136,(MATCH($D100,'NLM Data Test 1'!$W$12:$W$136,0)),1)),(INDEX('NLM Data Test 2'!$E$12:$E$136,(MATCH($D100,'NLM Data Test 2'!$D$12:$D$136,0)),1)))","v":{"$error":"#N/A"}},{"$f":"IF(IFERROR(MATCH($D100,'NLM Data Test 2'!$D$12:$D$136,0),\"Error\")=\"Error\",(INDEX('NLM Data Test 1'!$E$12:$E$136,(MATCH($D100,'NLM Data Test 1'!$W$12:$W$136,0)),1)),(INDEX('NLM Data Test 2'!$G$12:$G$136,(MATCH($D100,'NLM Data Test 2'!$D$12:$D$136,0)),1)))","v":{"$error":"#N/A"}},{"$f":"IF(IFERROR(MATCH($D100,'NLM Data Test 2'!$D$12:$D$136,0),\"Error\")=\"Error\",(INDEX('NLM Data Test 1'!$F$12:$F$136,(MATCH($D100,'NLM Data Test 1'!$W$12:$W$136,0)),1)),(INDEX('NLM Data Test 2'!$F$12:$F$136,(MATCH($D100,'NLM Data Test 2'!$D$12:$D$136,0)),1)))","v":{"$error":"#N/A"}},{"$f":"IF(INDEX('NLM Data Test 1'!$H$12:$H$136,(MATCH(NLML.ChangeInScores.PrePostDataset[[#This Row],[First Name & Last Name*\n(choose from list)]],'NLM Data Test 1'!$W$12:$W$136,0)),1)=\"\",\"\",(INDEX('NLM Data Test 1'!H$12:H$136,(MATCH(NLML.ChangeInScores.PrePostDataset[[#This Row],[First Name & Last Name*\n(choose from list)]],'NLM Data Test 1'!$W$12:$W$136,0)),1)))","v":{"$error":"#N/A"}},{"$f":"IF(INDEX('NLM Data Test 1'!$I$12:$I$136,(MATCH(NLML.ChangeInScores.PrePostDataset[[#This Row],[First Name & Last Name*\n(choose from list)]],'NLM Data Test 1'!$W$12:$W$136,0)),1)=\"\",\"\",(INDEX('NLM Data Test 1'!I$12:I$136,(MATCH(NLML.ChangeInScores.PrePostDataset[[#This Row],[First Name & Last Name*\n(choose from list)]],'NLM Data Test 1'!$W$12:$W$136,0)),1)))","v":{"$error":"#N/A"}},{"$f":"IF(INDEX('NLM Data Test 1'!$J$12:$J$136,(MATCH(NLML.ChangeInScores.PrePostDataset[[#This Row],[First Name & Last Name*\n(choose from list)]],'NLM Data Test 1'!$W$12:$W$136,0)),1)=\"\",\"\",(INDEX('NLM Data Test 1'!J$12:J$136,(MATCH(NLML.ChangeInScores.PrePostDataset[[#This Row],[First Name & Last Name*\n(choose from list)]],'NLM Data Test 1'!$W$12:$W$136,0)),1)))","v":{"$error":"#N/A"}},{"$f":"IFERROR(INDEX('NLM Data Test 1'!$M$12:$M$136,(MATCH(NLML.ChangeInScores.PrePostDataset[[#This Row],[First Name & Last Name*\n(choose from list)]],'NLM Data Test 1'!$W$12:$W$136,0)),1),\"\")","v":""},{"$f":"INDEX('NLM Data Test 2'!$I$12:$I$136,(MATCH(NLML.ChangeInScores.PrePostDataset[[#This Row],[First Name & Last Name*\n(choose from list)]],'NLM Data Test 2'!$D$12:$D$136,0)),1)","v":{"$error":"#N/A"}},{"$f":"IFERROR(INDEX('NLM Data Test 2'!$J$12:$J$136,(MATCH(NLML.ChangeInScores.PrePostDataset[[#This Row],[First Name & Last Name*\n(choose from list)]],'NLM Data Test 2'!$X$12:$X$136,0)),1),\"\")","v":""},{"$f":"IFERROR(INDEX('NLM Data Test 2'!$K$12:$K$136,(MATCH(NLML.ChangeInScores.PrePostDataset[[#This Row],[First Name & Last Name*\n(choose from list)]],'NLM Data Test 2'!$X$12:$X$136,0)),1),\"\")","v":""},{"$f":"IFERROR(INDEX('NLM Data Test 2'!$N$12:$N$136,(MATCH(NLML.ChangeInScores.PrePostDataset[[#This Row],[First Name & Last Name*\n(choose from list)]],'NLM Data Test 2'!$X$12:$X$136,0)),1),\"\")","v":""},{"$f":"(INDEX('NLM Data Test 2'!$O$12:$O$136,(MATCH(NLML.ChangeInScores.PrePostDataset[[#This Row],[First Name & Last Name*\n(choose from list)]],'NLM Data Test 2'!$X$12:$X$136,0)),1))-(INDEX('NLM Data Test 1'!$N$12:$N$136,(MATCH(NLML.ChangeInScores.PrePostDataset[[#This Row],[First Name & Last Name*\n(choose from list)]],'NLM Data Test 1'!$W$12:$W$136,0)),1))","v":{"$error":"#N/A"}},{"$f":"(INDEX('NLM Data Test 2'!$P$12:$P$136,(MATCH(NLML.ChangeInScores.PrePostDataset[[#This Row],[First Name & Last Name*\n(choose from list)]],'NLM Data Test 2'!$X$12:$X$136,0)),1))-(INDEX('NLM Data Test 1'!$O$12:$O$136,(MATCH(NLML.ChangeInScores.PrePostDataset[[#This Row],[First Name & Last Name*\n(choose from list)]],'NLM Data Test 1'!$W$12:$W$136,0)),1))","v":{"$error":"#N/A"}},{"$f":"(INDEX('NLM Data Test 2'!$Q$12:$Q$136,(MATCH(NLML.ChangeInScores.PrePostDataset[[#This Row],[First Name & Last Name*\n(choose from list)]],'NLM Data Test 2'!$X$12:$X$136,0)),1))-(INDEX('NLM Data Test 1'!$P$12:$P$136,(MATCH(NLML.ChangeInScores.PrePostDataset[[#This Row],[First Name & Last Name*\n(choose from list)]],'NLM Data Test 1'!$W$12:$W$136,0)),1))","v":{"$error":"#N/A"}},{"$f":"(INDEX('NLM Data Test 2'!$R$12:$R$136,(MATCH(NLML.ChangeInScores.PrePostDataset[[#This Row],[First Name & Last Name*\n(choose from list)]],'NLM Data Test 2'!$X$12:$X$136,0)),1))-(INDEX('NLM Data Test 1'!$Q$12:$Q$136,(MATCH(NLML.ChangeInScores.PrePostDataset[[#This Row],[First Name & Last Name*\n(choose from list)]],'NLM Data Test 1'!$W$12:$W$136,0)),1))","v":{"$error":"#N/A"}},{"$f":"(INDEX('NLM Data Test 2'!$S$12:$S$136,(MATCH(NLML.ChangeInScores.PrePostDataset[[#This Row],[First Name & Last Name*\n(choose from list)]],'NLM Data Test 2'!$X$12:$X$136,0)),1))-(INDEX('NLM Data Test 1'!$R$12:$R$136,(MATCH(NLML.ChangeInScores.PrePostDataset[[#This Row],[First Name & Last Name*\n(choose from list)]],'NLM Data Test 1'!$W$12:$W$136,0)),1))","v":{"$error":"#N/A"}},{"$f":"(INDEX('NLM Data Test 2'!$T$12:$T$136,(MATCH(NLML.ChangeInScores.PrePostDataset[[#This Row],[First Name & Last Name*\n(choose from list)]],'NLM Data Test 2'!$X$12:$X$136,0)),1))-(INDEX('NLM Data Test 1'!$S$12:$S$136,(MATCH(NLML.ChangeInScores.PrePostDataset[[#This Row],[First Name & Last Name*\n(choose from list)]],'NLM Data Test 1'!$W$12:$W$136,0)),1))","v":{"$error":"#N/A"}},{"$f":"IFERROR(INDEX('NLM Data Test 1'!$T$12:$T$136,(MATCH(NLML.ChangeInScores.PrePostDataset[[#This Row],[First Name & Last Name*\n(choose from list)]],'NLM Data Test 1'!$W$12:$W$136,0)),1),\"\")","v":""},{"$f":"IFERROR(INDEX('NLM Data Test 2'!$U$12:$U$136,(MATCH(NLML.ChangeInScores.PrePostDataset[[#This Row],[First Name & Last Name*\n(choose from list)]],'NLM Data Test 2'!$X$12:$X$136,0)),1),\"\")","v":""}]
[86,{"$f":"IFERROR(INDEX(NLML.Test1.PrePostDataset[*First Name],(MATCH(NLML.ChangeInScores.PrePostDataset[[#This Row],[First Name & Last Name*\n(choose from list)]],'NLM Data Test 1'!W97:W221,0)),1),\"\")","v":""},{"$f":"IFERROR(INDEX(NLML.Test1.PrePostDataset[*Last Name],(MATCH(NLML.ChangeInScores.PrePostDataset[[#This Row],[First Name & Last Name*\n(choose from list)]],'NLM Data Test 1'!W97:W221,0)),1),\"\")","v":""},{"$f":"'NLM Data Test 2'!D97","v":0},{"$f":"IF(IFERROR(MATCH($D101,'NLM Data Test 2'!$D$12:$D$136,0),\"Error\")=\"Error\",(INDEX('NLM Data Test 1'!$D$12:$D$136,(MATCH($D101,'NLM Data Test 1'!$W$12:$W$136,0)),1)),(INDEX('NLM Data Test 2'!$E$12:$E$136,(MATCH($D101,'NLM Data Test 2'!$D$12:$D$136,0)),1)))","v":{"$error":"#N/A"}},{"$f":"IF(IFERROR(MATCH($D101,'NLM Data Test 2'!$D$12:$D$136,0),\"Error\")=\"Error\",(INDEX('NLM Data Test 1'!$E$12:$E$136,(MATCH($D101,'NLM Data Test 1'!$W$12:$W$136,0)),1)),(INDEX('NLM Data Test 2'!$G$12:$G$136,(MATCH($D101,'NLM Data Test 2'!$D$12:$D$136,0)),1)))","v":{"$error":"#N/A"}},{"$f":"IF(IFERROR(MATCH($D101,'NLM Data Test 2'!$D$12:$D$136,0),\"Error\")=\"Error\",(INDEX('NLM Data Test 1'!$F$12:$F$136,(MATCH($D101,'NLM Data Test 1'!$W$12:$W$136,0)),1)),(INDEX('NLM Data Test 2'!$F$12:$F$136,(MATCH($D101,'NLM Data Test 2'!$D$12:$D$136,0)),1)))","v":{"$error":"#N/A"}},{"$f":"IF(INDEX('NLM Data Test 1'!$H$12:$H$136,(MATCH(NLML.ChangeInScores.PrePostDataset[[#This Row],[First Name & Last Name*\n(choose from list)]],'NLM Data Test 1'!$W$12:$W$136,0)),1)=\"\",\"\",(INDEX('NLM Data Test 1'!H$12:H$136,(MATCH(NLML.ChangeInScores.PrePostDataset[[#This Row],[First Name & Last Name*\n(choose from list)]],'NLM Data Test 1'!$W$12:$W$136,0)),1)))","v":{"$error":"#N/A"}},{"$f":"IF(INDEX('NLM Data Test 1'!$I$12:$I$136,(MATCH(NLML.ChangeInScores.PrePostDataset[[#This Row],[First Name & Last Name*\n(choose from list)]],'NLM Data Test 1'!$W$12:$W$136,0)),1)=\"\",\"\",(INDEX('NLM Data Test 1'!I$12:I$136,(MATCH(NLML.ChangeInScores.PrePostDataset[[#This Row],[First Name & Last Name*\n(choose from list)]],'NLM Data Test 1'!$W$12:$W$136,0)),1)))","v":{"$error":"#N/A"}},{"$f":"IF(INDEX('NLM Data Test 1'!$J$12:$J$136,(MATCH(NLML.ChangeInScores.PrePostDataset[[#This Row],[First Name & Last Name*\n(choose from list)]],'NLM Data Test 1'!$W$12:$W$136,0)),1)=\"\",\"\",(INDEX('NLM Data Test 1'!J$12:J$136,(MATCH(NLML.ChangeInScores.PrePostDataset[[#This Row],[First Name & Last Name*\n(choose from list)]],'NLM Data Test 1'!$W$12:$W$136,0)),1)))","v":{"$error":"#N/A"}},{"$f":"IFERROR(INDEX('NLM Data Test 1'!$M$12:$M$136,(MATCH(NLML.ChangeInScores.PrePostDataset[[#This Row],[First Name & Last Name*\n(choose from list)]],'NLM Data Test 1'!$W$12:$W$136,0)),1),\"\")","v":""},{"$f":"INDEX('NLM Data Test 2'!$I$12:$I$136,(MATCH(NLML.ChangeInScores.PrePostDataset[[#This Row],[First Name & Last Name*\n(choose from list)]],'NLM Data Test 2'!$D$12:$D$136,0)),1)","v":{"$error":"#N/A"}},{"$f":"IFERROR(INDEX('NLM Data Test 2'!$J$12:$J$136,(MATCH(NLML.ChangeInScores.PrePostDataset[[#This Row],[First Name & Last Name*\n(choose from list)]],'NLM Data Test 2'!$X$12:$X$136,0)),1),\"\")","v":""},{"$f":"IFERROR(INDEX('NLM Data Test 2'!$K$12:$K$136,(MATCH(NLML.ChangeInScores.PrePostDataset[[#This Row],[First Name & Last Name*\n(choose from list)]],'NLM Data Test 2'!$X$12:$X$136,0)),1),\"\")","v":""},{"$f":"IFERROR(INDEX('NLM Data Test 2'!$N$12:$N$136,(MATCH(NLML.ChangeInScores.PrePostDataset[[#This Row],[First Name & Last Name*\n(choose from list)]],'NLM Data Test 2'!$X$12:$X$136,0)),1),\"\")","v":""},{"$f":"(INDEX('NLM Data Test 2'!$O$12:$O$136,(MATCH(NLML.ChangeInScores.PrePostDataset[[#This Row],[First Name & Last Name*\n(choose from list)]],'NLM Data Test 2'!$X$12:$X$136,0)),1))-(INDEX('NLM Data Test 1'!$N$12:$N$136,(MATCH(NLML.ChangeInScores.PrePostDataset[[#This Row],[First Name & Last Name*\n(choose from list)]],'NLM Data Test 1'!$W$12:$W$136,0)),1))","v":{"$error":"#N/A"}},{"$f":"(INDEX('NLM Data Test 2'!$P$12:$P$136,(MATCH(NLML.ChangeInScores.PrePostDataset[[#This Row],[First Name & Last Name*\n(choose from list)]],'NLM Data Test 2'!$X$12:$X$136,0)),1))-(INDEX('NLM Data Test 1'!$O$12:$O$136,(MATCH(NLML.ChangeInScores.PrePostDataset[[#This Row],[First Name & Last Name*\n(choose from list)]],'NLM Data Test 1'!$W$12:$W$136,0)),1))","v":{"$error":"#N/A"}},{"$f":"(INDEX('NLM Data Test 2'!$Q$12:$Q$136,(MATCH(NLML.ChangeInScores.PrePostDataset[[#This Row],[First Name & Last Name*\n(choose from list)]],'NLM Data Test 2'!$X$12:$X$136,0)),1))-(INDEX('NLM Data Test 1'!$P$12:$P$136,(MATCH(NLML.ChangeInScores.PrePostDataset[[#This Row],[First Name & Last Name*\n(choose from list)]],'NLM Data Test 1'!$W$12:$W$136,0)),1))","v":{"$error":"#N/A"}},{"$f":"(INDEX('NLM Data Test 2'!$R$12:$R$136,(MATCH(NLML.ChangeInScores.PrePostDataset[[#This Row],[First Name & Last Name*\n(choose from list)]],'NLM Data Test 2'!$X$12:$X$136,0)),1))-(INDEX('NLM Data Test 1'!$Q$12:$Q$136,(MATCH(NLML.ChangeInScores.PrePostDataset[[#This Row],[First Name & Last Name*\n(choose from list)]],'NLM Data Test 1'!$W$12:$W$136,0)),1))","v":{"$error":"#N/A"}},{"$f":"(INDEX('NLM Data Test 2'!$S$12:$S$136,(MATCH(NLML.ChangeInScores.PrePostDataset[[#This Row],[First Name & Last Name*\n(choose from list)]],'NLM Data Test 2'!$X$12:$X$136,0)),1))-(INDEX('NLM Data Test 1'!$R$12:$R$136,(MATCH(NLML.ChangeInScores.PrePostDataset[[#This Row],[First Name & Last Name*\n(choose from list)]],'NLM Data Test 1'!$W$12:$W$136,0)),1))","v":{"$error":"#N/A"}},{"$f":"(INDEX('NLM Data Test 2'!$T$12:$T$136,(MATCH(NLML.ChangeInScores.PrePostDataset[[#This Row],[First Name & Last Name*\n(choose from list)]],'NLM Data Test 2'!$X$12:$X$136,0)),1))-(INDEX('NLM Data Test 1'!$S$12:$S$136,(MATCH(NLML.ChangeInScores.PrePostDataset[[#This Row],[First Name & Last Name*\n(choose from list)]],'NLM Data Test 1'!$W$12:$W$136,0)),1))","v":{"$error":"#N/A"}},{"$f":"IFERROR(INDEX('NLM Data Test 1'!$T$12:$T$136,(MATCH(NLML.ChangeInScores.PrePostDataset[[#This Row],[First Name & Last Name*\n(choose from list)]],'NLM Data Test 1'!$W$12:$W$136,0)),1),\"\")","v":""},{"$f":"IFERROR(INDEX('NLM Data Test 2'!$U$12:$U$136,(MATCH(NLML.ChangeInScores.PrePostDataset[[#This Row],[First Name & Last Name*\n(choose from list)]],'NLM Data Test 2'!$X$12:$X$136,0)),1),\"\")","v":""}]
[87,{"$f":"IFERROR(INDEX(NLML.Test1.PrePostDataset[*First Name],(MATCH(NLML.ChangeInScores.PrePostDataset[[#This Row],[First Name & Last Name*\n(choose from list)]],'NLM Data Test 1'!W98:W222,0)),1),\"\")","v":""},{"$f":"IFERROR(INDEX(NLML.Test1.PrePostDataset[*Last Name],(MATCH(NLML.ChangeInScores.PrePostDataset[[#This Row],[First Name & Last Name*\n(choose from list)]],'NLM Data Test 1'!W98:W222,0)),1),\"\")","v":""},{"$f":"'NLM Data Test 2'!D98","v":0},{"$f":"IF(IFERROR(MATCH($D102,'NLM Data Test 2'!$D$12:$D$136,0),\"Error\")=\"Error\",(INDEX('NLM Data Test 1'!$D$12:$D$136,(MATCH($D102,'NLM Data Test 1'!$W$12:$W$136,0)),1)),(INDEX('NLM Data Test 2'!$E$12:$E$136,(MATCH($D102,'NLM Data Test 2'!$D$12:$D$136,0)),1)))","v":{"$error":"#N/A"}},{"$f":"IF(IFERROR(MATCH($D102,'NLM Data Test 2'!$D$12:$D$136,0),\"Error\")=\"Error\",(INDEX('NLM Data Test 1'!$E$12:$E$136,(MATCH($D102,'NLM Data Test 1'!$W$12:$W$136,0)),1)),(INDEX('NLM Data Test 2'!$G$12:$G$136,(MATCH($D102,'NLM Data Test 2'!$D$12:$D$136,0)),1)))","v":{"$error":"#N/A"}},{"$f":"IF(IFERROR(MATCH($D102,'NLM Data Test 2'!$D$12:$D$136,0),\"Error\")=\"Error\",(INDEX('NLM Data Test 1'!$F$12:$F$136,(MATCH($D102,'NLM Data Test 1'!$W$12:$W$136,0)),1)),(INDEX('NLM Data Test 2'!$F$12:$F$136,(MATCH($D102,'NLM Data Test 2'!$D$12:$D$136,0)),1)))","v":{"$error":"#N/A"}},{"$f":"IF(INDEX('NLM Data Test 1'!$H$12:$H$136,(MATCH(NLML.ChangeInScores.PrePostDataset[[#This Row],[First Name & Last Name*\n(choose from list)]],'NLM Data Test 1'!$W$12:$W$136,0)),1)=\"\",\"\",(INDEX('NLM Data Test 1'!H$12:H$136,(MATCH(NLML.ChangeInScores.PrePostDataset[[#This Row],[First Name & Last Name*\n(choose from list)]],'NLM Data Test 1'!$W$12:$W$136,0)),1)))","v":{"$error":"#N/A"}},{"$f":"IF(INDEX('NLM Data Test 1'!$I$12:$I$136,(MATCH(NLML.ChangeInScores.PrePostDataset[[#This Row],[First Name & Last Name*\n(choose from list)]],'NLM Data Test 1'!$W$12:$W$136,0)),1)=\"\",\"\",(INDEX('NLM Data Test 1'!I$12:I$136,(MATCH(NLML.ChangeInScores.PrePostDataset[[#This Row],[First Name & Last Name*\n(choose from list)]],'NLM Data Test 1'!$W$12:$W$136,0)),1)))","v":{"$error":"#N/A"}},{"$f":"IF(INDEX('NLM Data Test 1'!$J$12:$J$136,(MATCH(NLML.ChangeInScores.PrePostDataset[[#This Row],[First Name & Last Name*\n(choose from list)]],'NLM Data Test 1'!$W$12:$W$136,0)),1)=\"\",\"\",(INDEX('NLM Data Test 1'!J$12:J$136,(MATCH(NLML.ChangeInScores.PrePostDataset[[#This Row],[First Name & Last Name*\n(choose from list)]],'NLM Data Test 1'!$W$12:$W$136,0)),1)))","v":{"$error":"#N/A"}},{"$f":"IFERROR(INDEX('NLM Data Test 1'!$M$12:$M$136,(MATCH(NLML.ChangeInScores.PrePostDataset[[#This Row],[First Name & Last Name*\n(choose from list)]],'NLM Data Test 1'!$W$12:$W$136,0)),1),\"\")","v":""},{"$f":"INDEX('NLM Data Test 2'!$I$12:$I$136,(MATCH(NLML.ChangeInScores.PrePostDataset[[#This Row],[First Name & Last Name*\n(choose from list)]],'NLM Data Test 2'!$D$12:$D$136,0)),1)","v":{"$error":"#N/A"}},{"$f":"IFERROR(INDEX('NLM Data Test 2'!$J$12:$J$136,(MATCH(NLML.ChangeInScores.PrePostDataset[[#This Row],[First Name & Last Name*\n(choose from list)]],'NLM Data Test 2'!$X$12:$X$136,0)),1),\"\")","v":""},{"$f":"IFERROR(INDEX('NLM Data Test 2'!$K$12:$K$136,(MATCH(NLML.ChangeInScores.PrePostDataset[[#This Row],[First Name & Last Name*\n(choose from list)]],'NLM Data Test 2'!$X$12:$X$136,0)),1),\"\")","v":""},{"$f":"IFERROR(INDEX('NLM Data Test 2'!$N$12:$N$136,(MATCH(NLML.ChangeInScores.PrePostDataset[[#This Row],[First Name & Last Name*\n(choose from list)]],'NLM Data Test 2'!$X$12:$X$136,0)),1),\"\")","v":""},{"$f":"(INDEX('NLM Data Test 2'!$O$12:$O$136,(MATCH(NLML.ChangeInScores.PrePostDataset[[#This Row],[First Name & Last Name*\n(choose from list)]],'NLM Data Test 2'!$X$12:$X$136,0)),1))-(INDEX('NLM Data Test 1'!$N$12:$N$136,(MATCH(NLML.ChangeInScores.PrePostDataset[[#This Row],[First Name & Last Name*\n(choose from list)]],'NLM Data Test 1'!$W$12:$W$136,0)),1))","v":{"$error":"#N/A"}},{"$f":"(INDEX('NLM Data Test 2'!$P$12:$P$136,(MATCH(NLML.ChangeInScores.PrePostDataset[[#This Row],[First Name & Last Name*\n(choose from list)]],'NLM Data Test 2'!$X$12:$X$136,0)),1))-(INDEX('NLM Data Test 1'!$O$12:$O$136,(MATCH(NLML.ChangeInScores.PrePostDataset[[#This Row],[First Name & Last Name*\n(choose from list)]],'NLM Data Test 1'!$W$12:$W$136,0)),1))","v":{"$error":"#N/A"}},{"$f":"(INDEX('NLM Data Test 2'!$Q$12:$Q$136,(MATCH(NLML.ChangeInScores.PrePostDataset[[#This Row],[First Name & Last Name*\n(choose from list)]],'NLM Data Test 2'!$X$12:$X$136,0)),1))-(INDEX('NLM Data Test 1'!$P$12:$P$136,(MATCH(NLML.ChangeInScores.PrePostDataset[[#This Row],[First Name & Last Name*\n(choose from list)]],'NLM Data Test 1'!$W$12:$W$136,0)),1))","v":{"$error":"#N/A"}},{"$f":"(INDEX('NLM Data Test 2'!$R$12:$R$136,(MATCH(NLML.ChangeInScores.PrePostDataset[[#This Row],[First Name & Last Name*\n(choose from list)]],'NLM Data Test 2'!$X$12:$X$136,0)),1))-(INDEX('NLM Data Test 1'!$Q$12:$Q$136,(MATCH(NLML.ChangeInScores.PrePostDataset[[#This Row],[First Name & Last Name*\n(choose from list)]],'NLM Data Test 1'!$W$12:$W$136,0)),1))","v":{"$error":"#N/A"}},{"$f":"(INDEX('NLM Data Test 2'!$S$12:$S$136,(MATCH(NLML.ChangeInScores.PrePostDataset[[#This Row],[First Name & Last Name*\n(choose from list)]],'NLM Data Test 2'!$X$12:$X$136,0)),1))-(INDEX('NLM Data Test 1'!$R$12:$R$136,(MATCH(NLML.ChangeInScores.PrePostDataset[[#This Row],[First Name & Last Name*\n(choose from list)]],'NLM Data Test 1'!$W$12:$W$136,0)),1))","v":{"$error":"#N/A"}},{"$f":"(INDEX('NLM Data Test 2'!$T$12:$T$136,(MATCH(NLML.ChangeInScores.PrePostDataset[[#This Row],[First Name & Last Name*\n(choose from list)]],'NLM Data Test 2'!$X$12:$X$136,0)),1))-(INDEX('NLM Data Test 1'!$S$12:$S$136,(MATCH(NLML.ChangeInScores.PrePostDataset[[#This Row],[First Name & Last Name*\n(choose from list)]],'NLM Data Test 1'!$W$12:$W$136,0)),1))","v":{"$error":"#N/A"}},{"$f":"IFERROR(INDEX('NLM Data Test 1'!$T$12:$T$136,(MATCH(NLML.ChangeInScores.PrePostDataset[[#This Row],[First Name & Last Name*\n(choose from list)]],'NLM Data Test 1'!$W$12:$W$136,0)),1),\"\")","v":""},{"$f":"IFERROR(INDEX('NLM Data Test 2'!$U$12:$U$136,(MATCH(NLML.ChangeInScores.PrePostDataset[[#This Row],[First Name & Last Name*\n(choose from list)]],'NLM Data Test 2'!$X$12:$X$136,0)),1),\"\")","v":""}]
[88,{"$f":"IFERROR(INDEX(NLML.Test1.PrePostDataset[*First Name],(MATCH(NLML.ChangeInScores.PrePostDataset[[#This Row],[First Name & Last Name*\n(choose from list)]],'NLM Data Test 1'!W99:W223,0)),1),\"\")","v":""},{"$f":"IFERROR(INDEX(NLML.Test1.PrePostDataset[*Last Name],(MATCH(NLML.ChangeInScores.PrePostDataset[[#This Row],[First Name & Last Name*\n(choose from list)]],'NLM Data Test 1'!W99:W223,0)),1),\"\")","v":""},{"$f":"'NLM Data Test 2'!D99","v":0},{"$f":"IF(IFERROR(MATCH($D103,'NLM Data Test 2'!$D$12:$D$136,0),\"Error\")=\"Error\",(INDEX('NLM Data Test 1'!$D$12:$D$136,(MATCH($D103,'NLM Data Test 1'!$W$12:$W$136,0)),1)),(INDEX('NLM Data Test 2'!$E$12:$E$136,(MATCH($D103,'NLM Data Test 2'!$D$12:$D$136,0)),1)))","v":{"$error":"#N/A"}},{"$f":"IF(IFERROR(MATCH($D103,'NLM Data Test 2'!$D$12:$D$136,0),\"Error\")=\"Error\",(INDEX('NLM Data Test 1'!$E$12:$E$136,(MATCH($D103,'NLM Data Test 1'!$W$12:$W$136,0)),1)),(INDEX('NLM Data Test 2'!$G$12:$G$136,(MATCH($D103,'NLM Data Test 2'!$D$12:$D$136,0)),1)))","v":{"$error":"#N/A"}},{"$f":"IF(IFERROR(MATCH($D103,'NLM Data Test 2'!$D$12:$D$136,0),\"Error\")=\"Error\",(INDEX('NLM Data Test 1'!$F$12:$F$136,(MATCH($D103,'NLM Data Test 1'!$W$12:$W$136,0)),1)),(INDEX('NLM Data Test 2'!$F$12:$F$136,(MATCH($D103,'NLM Data Test 2'!$D$12:$D$136,0)),1)))","v":{"$error":"#N/A"}},{"$f":"IF(INDEX('NLM Data Test 1'!$H$12:$H$136,(MATCH(NLML.ChangeInScores.PrePostDataset[[#This Row],[First Name & Last Name*\n(choose from list)]],'NLM Data Test 1'!$W$12:$W$136,0)),1)=\"\",\"\",(INDEX('NLM Data Test 1'!H$12:H$136,(MATCH(NLML.ChangeInScores.PrePostDataset[[#This Row],[First Name & Last Name*\n(choose from list)]],'NLM Data Test 1'!$W$12:$W$136,0)),1)))","v":{"$error":"#N/A"}},{"$f":"IF(INDEX('NLM Data Test 1'!$I$12:$I$136,(MATCH(NLML.ChangeInScores.PrePostDataset[[#This Row],[First Name & Last Name*\n(choose from list)]],'NLM Data Test 1'!$W$12:$W$136,0)),1)=\"\",\"\",(INDEX('NLM Data Test 1'!I$12:I$136,(MATCH(NLML.ChangeInScores.PrePostDataset[[#This Row],[First Name & Last Name*\n(choose from list)]],'NLM Data Test 1'!$W$12:$W$136,0)),1)))","v":{"$error":"#N/A"}},{"$f":"IF(INDEX('NLM Data Test 1'!$J$12:$J$136,(MATCH(NLML.ChangeInScores.PrePostDataset[[#This Row],[First Name & Last Name*\n(choose from list)]],'NLM Data Test 1'!$W$12:$W$136,0)),1)=\"\",\"\",(INDEX('NLM Data Test 1'!J$12:J$136,(MATCH(NLML.ChangeInScores.PrePostDataset[[#This Row],[First Name & Last Name*\n(choose from list)]],'NLM Data Test 1'!$W$12:$W$136,0)),1)))","v":{"$error":"#N/A"}},{"$f":"IFERROR(INDEX('NLM Data Test 1'!$M$12:$M$136,(MATCH(NLML.ChangeInScores.PrePostDataset[[#This Row],[First Name & Last Name*\n(choose from list)]],'NLM Data Test 1'!$W$12:$W$136,0)),1),\"\")","v":""},{"$f":"INDEX('NLM Data Test 2'!$I$12:$I$136,(MATCH(NLML.ChangeInScores.PrePostDataset[[#This Row],[First Name & Last Name*\n(choose from list)]],'NLM Data Test 2'!$D$12:$D$136,0)),1)","v":{"$error":"#N/A"}},{"$f":"IFERROR(INDEX('NLM Data Test 2'!$J$12:$J$136,(MATCH(NLML.ChangeInScores.PrePostDataset[[#This Row],[First Name & Last Name*\n(choose from list)]],'NLM Data Test 2'!$X$12:$X$136,0)),1),\"\")","v":""},{"$f":"IFERROR(INDEX('NLM Data Test 2'!$K$12:$K$136,(MATCH(NLML.ChangeInScores.PrePostDataset[[#This Row],[First Name & Last Name*\n(choose from list)]],'NLM Data Test 2'!$X$12:$X$136,0)),1),\"\")","v":""},{"$f":"IFERROR(INDEX('NLM Data Test 2'!$N$12:$N$136,(MATCH(NLML.ChangeInScores.PrePostDataset[[#This Row],[First Name & Last Name*\n(choose from list)]],'NLM Data Test 2'!$X$12:$X$136,0)),1),\"\")","v":""},{"$f":"(INDEX('NLM Data Test 2'!$O$12:$O$136,(MATCH(NLML.ChangeInScores.PrePostDataset[[#This Row],[First Name & Last Name*\n(choose from list)]],'NLM Data Test 2'!$X$12:$X$136,0)),1))-(INDEX('NLM Data Test 1'!$N$12:$N$136,(MATCH(NLML.ChangeInScores.PrePostDataset[[#This Row],[First Name & Last Name*\n(choose from list)]],'NLM Data Test 1'!$W$12:$W$136,0)),1))","v":{"$error":"#N/A"}},{"$f":"(INDEX('NLM Data Test 2'!$P$12:$P$136,(MATCH(NLML.ChangeInScores.PrePostDataset[[#This Row],[First Name & Last Name*\n(choose from list)]],'NLM Data Test 2'!$X$12:$X$136,0)),1))-(INDEX('NLM Data Test 1'!$O$12:$O$136,(MATCH(NLML.ChangeInScores.PrePostDataset[[#This Row],[First Name & Last Name*\n(choose from list)]],'NLM Data Test 1'!$W$12:$W$136,0)),1))","v":{"$error":"#N/A"}},{"$f":"(INDEX('NLM Data Test 2'!$Q$12:$Q$136,(MATCH(NLML.ChangeInScores.PrePostDataset[[#This Row],[First Name & Last Name*\n(choose from list)]],'NLM Data Test 2'!$X$12:$X$136,0)),1))-(INDEX('NLM Data Test 1'!$P$12:$P$136,(MATCH(NLML.ChangeInScores.PrePostDataset[[#This Row],[First Name & Last Name*\n(choose from list)]],'NLM Data Test 1'!$W$12:$W$136,0)),1))","v":{"$error":"#N/A"}},{"$f":"(INDEX('NLM Data Test 2'!$R$12:$R$136,(MATCH(NLML.ChangeInScores.PrePostDataset[[#This Row],[First Name & Last Name*\n(choose from list)]],'NLM Data Test 2'!$X$12:$X$136,0)),1))-(INDEX('NLM Data Test 1'!$Q$12:$Q$136,(MATCH(NLML.ChangeInScores.PrePostDataset[[#This Row],[First Name & Last Name*\n(choose from list)]],'NLM Data Test 1'!$W$12:$W$136,0)),1))","v":{"$error":"#N/A"}},{"$f":"(INDEX('NLM Data Test 2'!$S$12:$S$136,(MATCH(NLML.ChangeInScores.PrePostDataset[[#This Row],[First Name & Last Name*\n(choose from list)]],'NLM Data Test 2'!$X$12:$X$136,0)),1))-(INDEX('NLM Data Test 1'!$R$12:$R$136,(MATCH(NLML.ChangeInScores.PrePostDataset[[#This Row],[First Name & Last Name*\n(choose from list)]],'NLM Data Test 1'!$W$12:$W$136,0)),1))","v":{"$error":"#N/A"}},{"$f":"(INDEX('NLM Data Test 2'!$T$12:$T$136,(MATCH(NLML.ChangeInScores.PrePostDataset[[#This Row],[First Name & Last Name*\n(choose from list)]],'NLM Data Test 2'!$X$12:$X$136,0)),1))-(INDEX('NLM Data Test 1'!$S$12:$S$136,(MATCH(NLML.ChangeInScores.PrePostDataset[[#This Row],[First Name & Last Name*\n(choose from list)]],'NLM Data Test 1'!$W$12:$W$136,0)),1))","v":{"$error":"#N/A"}},{"$f":"IFERROR(INDEX('NLM Data Test 1'!$T$12:$T$136,(MATCH(NLML.ChangeInScores.PrePostDataset[[#This Row],[First Name & Last Name*\n(choose from list)]],'NLM Data Test 1'!$W$12:$W$136,0)),1),\"\")","v":""},{"$f":"IFERROR(INDEX('NLM Data Test 2'!$U$12:$U$136,(MATCH(NLML.ChangeInScores.PrePostDataset[[#This Row],[First Name & Last Name*\n(choose from list)]],'NLM Data Test 2'!$X$12:$X$136,0)),1),\"\")","v":""}]
[89,{"$f":"IFERROR(INDEX(NLML.Test1.PrePostDataset[*First Name],(MATCH(NLML.ChangeInScores.PrePostDataset[[#This Row],[First Name & Last Name*\n(choose from list)]],'NLM Data Test 1'!W100:W224,0)),1),\"\")","v":""},{"$f":"IFERROR(INDEX(NLML.Test1.PrePostDataset[*Last Name],(MATCH(NLML.ChangeInScores.PrePostDataset[[#This Row],[First Name & Last Name*\n(choose from list)]],'NLM Data Test 1'!W100:W224,0)),1),\"\")","v":""},{"$f":"'NLM Data Test 2'!D100","v":0},{"$f":"IF(IFERROR(MATCH($D104,'NLM Data Test 2'!$D$12:$D$136,0),\"Error\")=\"Error\",(INDEX('NLM Data Test 1'!$D$12:$D$136,(MATCH($D104,'NLM Data Test 1'!$W$12:$W$136,0)),1)),(INDEX('NLM Data Test 2'!$E$12:$E$136,(MATCH($D104,'NLM Data Test 2'!$D$12:$D$136,0)),1)))","v":{"$error":"#N/A"}},{"$f":"IF(IFERROR(MATCH($D104,'NLM Data Test 2'!$D$12:$D$136,0),\"Error\")=\"Error\",(INDEX('NLM Data Test 1'!$E$12:$E$136,(MATCH($D104,'NLM Data Test 1'!$W$12:$W$136,0)),1)),(INDEX('NLM Data Test 2'!$G$12:$G$136,(MATCH($D104,'NLM Data Test 2'!$D$12:$D$136,0)),1)))","v":{"$error":"#N/A"}},{"$f":"IF(IFERROR(MATCH($D104,'NLM Data Test 2'!$D$12:$D$136,0),\"Error\")=\"Error\",(INDEX('NLM Data Test 1'!$F$12:$F$136,(MATCH($D104,'NLM Data Test 1'!$W$12:$W$136,0)),1)),(INDEX('NLM Data Test 2'!$F$12:$F$136,(MATCH($D104,'NLM Data Test 2'!$D$12:$D$136,0)),1)))","v":{"$error":"#N/A"}},{"$f":"IF(INDEX('NLM Data Test 1'!$H$12:$H$136,(MATCH(NLML.ChangeInScores.PrePostDataset[[#This Row],[First Name & Last Name*\n(choose from list)]],'NLM Data Test 1'!$W$12:$W$136,0)),1)=\"\",\"\",(INDEX('NLM Data Test 1'!H$12:H$136,(MATCH(NLML.ChangeInScores.PrePostDataset[[#This Row],[First Name & Last Name*\n(choose from list)]],'NLM Data Test 1'!$W$12:$W$136,0)),1)))","v":{"$error":"#N/A"}},{"$f":"IF(INDEX('NLM Data Test 1'!$I$12:$I$136,(MATCH(NLML.ChangeInScores.PrePostDataset[[#This Row],[First Name & Last Name*\n(choose from list)]],'NLM Data Test 1'!$W$12:$W$136,0)),1)=\"\",\"\",(INDEX('NLM Data Test 1'!I$12:I$136,(MATCH(NLML.ChangeInScores.PrePostDataset[[#This Row],[First Name & Last Name*\n(choose from list)]],'NLM Data Test 1'!$W$12:$W$136,0)),1)))","v":{"$error":"#N/A"}},{"$f":"IF(INDEX('NLM Data Test 1'!$J$12:$J$136,(MATCH(NLML.ChangeInScores.PrePostDataset[[#This Row],[First Name & Last Name*\n(choose from list)]],'NLM Data Test 1'!$W$12:$W$136,0)),1)=\"\",\"\",(INDEX('NLM Data Test 1'!J$12:J$136,(MATCH(NLML.ChangeInScores.PrePostDataset[[#This Row],[First Name & Last Name*\n(choose from list)]],'NLM Data Test 1'!$W$12:$W$136,0)),1)))","v":{"$error":"#N/A"}},{"$f":"IFERROR(INDEX('NLM Data Test 1'!$M$12:$M$136,(MATCH(NLML.ChangeInScores.PrePostDataset[[#This Row],[First Name & Last Name*\n(choose from list)]],'NLM Data Test 1'!$W$12:$W$136,0)),1),\"\")","v":""},{"$f":"INDEX('NLM Data Test 2'!$I$12:$I$136,(MATCH(NLML.ChangeInScores.PrePostDataset[[#This Row],[First Name & Last Name*\n(choose from list)]],'NLM Data Test 2'!$D$12:$D$136,0)),1)","v":{"$error":"#N/A"}},{"$f":"IFERROR(INDEX('NLM Data Test 2'!$J$12:$J$136,(MATCH(NLML.ChangeInScores.PrePostDataset[[#This Row],[First Name & Last Name*\n(choose from list)]],'NLM Data Test 2'!$X$12:$X$136,0)),1),\"\")","v":""},{"$f":"IFERROR(INDEX('NLM Data Test 2'!$K$12:$K$136,(MATCH(NLML.ChangeInScores.PrePostDataset[[#This Row],[First Name & Last Name*\n(choose from list)]],'NLM Data Test 2'!$X$12:$X$136,0)),1),\"\")","v":""},{"$f":"IFERROR(INDEX('NLM Data Test 2'!$N$12:$N$136,(MATCH(NLML.ChangeInScores.PrePostDataset[[#This Row],[First Name & Last Name*\n(choose from list)]],'NLM Data Test 2'!$X$12:$X$136,0)),1),\"\")","v":""},{"$f":"(INDEX('NLM Data Test 2'!$O$12:$O$136,(MATCH(NLML.ChangeInScores.PrePostDataset[[#This Row],[First Name & Last Name*\n(choose from list)]],'NLM Data Test 2'!$X$12:$X$136,0)),1))-(INDEX('NLM Data Test 1'!$N$12:$N$136,(MATCH(NLML.ChangeInScores.PrePostDataset[[#This Row],[First Name & Last Name*\n(choose from list)]],'NLM Data Test 1'!$W$12:$W$136,0)),1))","v":{"$error":"#N/A"}},{"$f":"(INDEX('NLM Data Test 2'!$P$12:$P$136,(MATCH(NLML.ChangeInScores.PrePostDataset[[#This Row],[First Name & Last Name*\n(choose from list)]],'NLM Data Test 2'!$X$12:$X$136,0)),1))-(INDEX('NLM Data Test 1'!$O$12:$O$136,(MATCH(NLML.ChangeInScores.PrePostDataset[[#This Row],[First Name & Last Name*\n(choose from list)]],'NLM Data Test 1'!$W$12:$W$136,0)),1))","v":{"$error":"#N/A"}},{"$f":"(INDEX('NLM Data Test 2'!$Q$12:$Q$136,(MATCH(NLML.ChangeInScores.PrePostDataset[[#This Row],[First Name & Last Name*\n(choose from list)]],'NLM Data Test 2'!$X$12:$X$136,0)),1))-(INDEX('NLM Data Test 1'!$P$12:$P$136,(MATCH(NLML.ChangeInScores.PrePostDataset[[#This Row],[First Name & Last Name*\n(choose from list)]],'NLM Data Test 1'!$W$12:$W$136,0)),1))","v":{"$error":"#N/A"}},{"$f":"(INDEX('NLM Data Test 2'!$R$12:$R$136,(MATCH(NLML.ChangeInScores.PrePostDataset[[#This Row],[First Name & Last Name*\n(choose from list)]],'NLM Data Test 2'!$X$12:$X$136,0)),1))-(INDEX('NLM Data Test 1'!$Q$12:$Q$136,(MATCH(NLML.ChangeInScores.PrePostDataset[[#This Row],[First Name & Last Name*\n(choose from list)]],'NLM Data Test 1'!$W$12:$W$136,0)),1))","v":{"$error":"#N/A"}},{"$f":"(INDEX('NLM Data Test 2'!$S$12:$S$136,(MATCH(NLML.ChangeInScores.PrePostDataset[[#This Row],[First Name & Last Name*\n(choose from list)]],'NLM Data Test 2'!$X$12:$X$136,0)),1))-(INDEX('NLM Data Test 1'!$R$12:$R$136,(MATCH(NLML.ChangeInScores.PrePostDataset[[#This Row],[First Name & Last Name*\n(choose from list)]],'NLM Data Test 1'!$W$12:$W$136,0)),1))","v":{"$error":"#N/A"}},{"$f":"(INDEX('NLM Data Test 2'!$T$12:$T$136,(MATCH(NLML.ChangeInScores.PrePostDataset[[#This Row],[First Name & Last Name*\n(choose from list)]],'NLM Data Test 2'!$X$12:$X$136,0)),1))-(INDEX('NLM Data Test 1'!$S$12:$S$136,(MATCH(NLML.ChangeInScores.PrePostDataset[[#This Row],[First Name & Last Name*\n(choose from list)]],'NLM Data Test 1'!$W$12:$W$136,0)),1))","v":{"$error":"#N/A"}},{"$f":"IFERROR(INDEX('NLM Data Test 1'!$T$12:$T$136,(MATCH(NLML.ChangeInScores.PrePostDataset[[#This Row],[First Name & Last Name*\n(choose from list)]],'NLM Data Test 1'!$W$12:$W$136,0)),1),\"\")","v":""},{"$f":"IFERROR(INDEX('NLM Data Test 2'!$U$12:$U$136,(MATCH(NLML.ChangeInScores.PrePostDataset[[#This Row],[First Name & Last Name*\n(choose from list)]],'NLM Data Test 2'!$X$12:$X$136,0)),1),\"\")","v":""}]
[90,{"$f":"IFERROR(INDEX(NLML.Test1.PrePostDataset[*First Name],(MATCH(NLML.ChangeInScores.PrePostDataset[[#This Row],[First Name & Last Name*\n(choose from list)]],'NLM Data Test 1'!W101:W225,0)),1),\"\")","v":""},{"$f":"IFERROR(INDEX(NLML.Test1.PrePostDataset[*Last Name],(MATCH(NLML.ChangeInScores.PrePostDataset[[#This Row],[First Name & Last Name*\n(choose from list)]],'NLM Data Test 1'!W101:W225,0)),1),\"\")","v":""},{"$f":"'NLM Data Test 2'!D101","v":0},{"$f":"IF(IFERROR(MATCH($D105,'NLM Data Test 2'!$D$12:$D$136,0),\"Error\")=\"Error\",(INDEX('NLM Data Test 1'!$D$12:$D$136,(MATCH($D105,'NLM Data Test 1'!$W$12:$W$136,0)),1)),(INDEX('NLM Data Test 2'!$E$12:$E$136,(MATCH($D105,'NLM Data Test 2'!$D$12:$D$136,0)),1)))","v":{"$error":"#N/A"}},{"$f":"IF(IFERROR(MATCH($D105,'NLM Data Test 2'!$D$12:$D$136,0),\"Error\")=\"Error\",(INDEX('NLM Data Test 1'!$E$12:$E$136,(MATCH($D105,'NLM Data Test 1'!$W$12:$W$136,0)),1)),(INDEX('NLM Data Test 2'!$G$12:$G$136,(MATCH($D105,'NLM Data Test 2'!$D$12:$D$136,0)),1)))","v":{"$error":"#N/A"}},{"$f":"IF(IFERROR(MATCH($D105,'NLM Data Test 2'!$D$12:$D$136,0),\"Error\")=\"Error\",(INDEX('NLM Data Test 1'!$F$12:$F$136,(MATCH($D105,'NLM Data Test 1'!$W$12:$W$136,0)),1)),(INDEX('NLM Data Test 2'!$F$12:$F$136,(MATCH($D105,'NLM Data Test 2'!$D$12:$D$136,0)),1)))","v":{"$error":"#N/A"}},{"$f":"IF(INDEX('NLM Data Test 1'!$H$12:$H$136,(MATCH(NLML.ChangeInScores.PrePostDataset[[#This Row],[First Name & Last Name*\n(choose from list)]],'NLM Data Test 1'!$W$12:$W$136,0)),1)=\"\",\"\",(INDEX('NLM Data Test 1'!H$12:H$136,(MATCH(NLML.ChangeInScores.PrePostDataset[[#This Row],[First Name & Last Name*\n(choose from list)]],'NLM Data Test 1'!$W$12:$W$136,0)),1)))","v":{"$error":"#N/A"}},{"$f":"IF(INDEX('NLM Data Test 1'!$I$12:$I$136,(MATCH(NLML.ChangeInScores.PrePostDataset[[#This Row],[First Name & Last Name*\n(choose from list)]],'NLM Data Test 1'!$W$12:$W$136,0)),1)=\"\",\"\",(INDEX('NLM Data Test 1'!I$12:I$136,(MATCH(NLML.ChangeInScores.PrePostDataset[[#This Row],[First Name & Last Name*\n(choose from list)]],'NLM Data Test 1'!$W$12:$W$136,0)),1)))","v":{"$error":"#N/A"}},{"$f":"IF(INDEX('NLM Data Test 1'!$J$12:$J$136,(MATCH(NLML.ChangeInScores.PrePostDataset[[#This Row],[First Name & Last Name*\n(choose from list)]],'NLM Data Test 1'!$W$12:$W$136,0)),1)=\"\",\"\",(INDEX('NLM Data Test 1'!J$12:J$136,(MATCH(NLML.ChangeInScores.PrePostDataset[[#This Row],[First Name & Last Name*\n(choose from list)]],'NLM Data Test 1'!$W$12:$W$136,0)),1)))","v":{"$error":"#N/A"}},{"$f":"IFERROR(INDEX('NLM Data Test 1'!$M$12:$M$136,(MATCH(NLML.ChangeInScores.PrePostDataset[[#This Row],[First Name & Last Name*\n(choose from list)]],'NLM Data Test 1'!$W$12:$W$136,0)),1),\"\")","v":""},{"$f":"INDEX('NLM Data Test 2'!$I$12:$I$136,(MATCH(NLML.ChangeInScores.PrePostDataset[[#This Row],[First Name & Last Name*\n(choose from list)]],'NLM Data Test 2'!$D$12:$D$136,0)),1)","v":{"$error":"#N/A"}},{"$f":"IFERROR(INDEX('NLM Data Test 2'!$J$12:$J$136,(MATCH(NLML.ChangeInScores.PrePostDataset[[#This Row],[First Name & Last Name*\n(choose from list)]],'NLM Data Test 2'!$X$12:$X$136,0)),1),\"\")","v":""},{"$f":"IFERROR(INDEX('NLM Data Test 2'!$K$12:$K$136,(MATCH(NLML.ChangeInScores.PrePostDataset[[#This Row],[First Name & Last Name*\n(choose from list)]],'NLM Data Test 2'!$X$12:$X$136,0)),1),\"\")","v":""},{"$f":"IFERROR(INDEX('NLM Data Test 2'!$N$12:$N$136,(MATCH(NLML.ChangeInScores.PrePostDataset[[#This Row],[First Name & Last Name*\n(choose from list)]],'NLM Data Test 2'!$X$12:$X$136,0)),1),\"\")","v":""},{"$f":"(INDEX('NLM Data Test 2'!$O$12:$O$136,(MATCH(NLML.ChangeInScores.PrePostDataset[[#This Row],[First Name & Last Name*\n(choose from list)]],'NLM Data Test 2'!$X$12:$X$136,0)),1))-(INDEX('NLM Data Test 1'!$N$12:$N$136,(MATCH(NLML.ChangeInScores.PrePostDataset[[#This Row],[First Name & Last Name*\n(choose from list)]],'NLM Data Test 1'!$W$12:$W$136,0)),1))","v":{"$error":"#N/A"}},{"$f":"(INDEX('NLM Data Test 2'!$P$12:$P$136,(MATCH(NLML.ChangeInScores.PrePostDataset[[#This Row],[First Name & Last Name*\n(choose from list)]],'NLM Data Test 2'!$X$12:$X$136,0)),1))-(INDEX('NLM Data Test 1'!$O$12:$O$136,(MATCH(NLML.ChangeInScores.PrePostDataset[[#This Row],[First Name & Last Name*\n(choose from list)]],'NLM Data Test 1'!$W$12:$W$136,0)),1))","v":{"$error":"#N/A"}},{"$f":"(INDEX('NLM Data Test 2'!$Q$12:$Q$136,(MATCH(NLML.ChangeInScores.PrePostDataset[[#This Row],[First Name & Last Name*\n(choose from list)]],'NLM Data Test 2'!$X$12:$X$136,0)),1))-(INDEX('NLM Data Test 1'!$P$12:$P$136,(MATCH(NLML.ChangeInScores.PrePostDataset[[#This Row],[First Name & Last Name*\n(choose from list)]],'NLM Data Test 1'!$W$12:$W$136,0)),1))","v":{"$error":"#N/A"}},{"$f":"(INDEX('NLM Data Test 2'!$R$12:$R$136,(MATCH(NLML.ChangeInScores.PrePostDataset[[#This Row],[First Name & Last Name*\n(choose from list)]],'NLM Data Test 2'!$X$12:$X$136,0)),1))-(INDEX('NLM Data Test 1'!$Q$12:$Q$136,(MATCH(NLML.ChangeInScores.PrePostDataset[[#This Row],[First Name & Last Name*\n(choose from list)]],'NLM Data Test 1'!$W$12:$W$136,0)),1))","v":{"$error":"#N/A"}},{"$f":"(INDEX('NLM Data Test 2'!$S$12:$S$136,(MATCH(NLML.ChangeInScores.PrePostDataset[[#This Row],[First Name & Last Name*\n(choose from list)]],'NLM Data Test 2'!$X$12:$X$136,0)),1))-(INDEX('NLM Data Test 1'!$R$12:$R$136,(MATCH(NLML.ChangeInScores.PrePostDataset[[#This Row],[First Name & Last Name*\n(choose from list)]],'NLM Data Test 1'!$W$12:$W$136,0)),1))","v":{"$error":"#N/A"}},{"$f":"(INDEX('NLM Data Test 2'!$T$12:$T$136,(MATCH(NLML.ChangeInScores.PrePostDataset[[#This Row],[First Name & Last Name*\n(choose from list)]],'NLM Data Test 2'!$X$12:$X$136,0)),1))-(INDEX('NLM Data Test 1'!$S$12:$S$136,(MATCH(NLML.ChangeInScores.PrePostDataset[[#This Row],[First Name & Last Name*\n(choose from list)]],'NLM Data Test 1'!$W$12:$W$136,0)),1))","v":{"$error":"#N/A"}},{"$f":"IFERROR(INDEX('NLM Data Test 1'!$T$12:$T$136,(MATCH(NLML.ChangeInScores.PrePostDataset[[#This Row],[First Name & Last Name*\n(choose from list)]],'NLM Data Test 1'!$W$12:$W$136,0)),1),\"\")","v":""},{"$f":"IFERROR(INDEX('NLM Data Test 2'!$U$12:$U$136,(MATCH(NLML.ChangeInScores.PrePostDataset[[#This Row],[First Name & Last Name*\n(choose from list)]],'NLM Data Test 2'!$X$12:$X$136,0)),1),\"\")","v":""}]
[91,{"$f":"IFERROR(INDEX(NLML.Test1.PrePostDataset[*First Name],(MATCH(NLML.ChangeInScores.PrePostDataset[[#This Row],[First Name & Last Name*\n(choose from list)]],'NLM Data Test 1'!W102:W226,0)),1),\"\")","v":""},{"$f":"IFERROR(INDEX(NLML.Test1.PrePostDataset[*Last Name],(MATCH(NLML.ChangeInScores.PrePostDataset[[#This Row],[First Name & Last Name*\n(choose from list)]],'NLM Data Test 1'!W102:W226,0)),1),\"\")","v":""},{"$f":"'NLM Data Test 2'!D102","v":0},{"$f":"IF(IFERROR(MATCH($D106,'NLM Data Test 2'!$D$12:$D$136,0),\"Error\")=\"Error\",(INDEX('NLM Data Test 1'!$D$12:$D$136,(MATCH($D106,'NLM Data Test 1'!$W$12:$W$136,0)),1)),(INDEX('NLM Data Test 2'!$E$12:$E$136,(MATCH($D106,'NLM Data Test 2'!$D$12:$D$136,0)),1)))","v":{"$error":"#N/A"}},{"$f":"IF(IFERROR(MATCH($D106,'NLM Data Test 2'!$D$12:$D$136,0),\"Error\")=\"Error\",(INDEX('NLM Data Test 1'!$E$12:$E$136,(MATCH($D106,'NLM Data Test 1'!$W$12:$W$136,0)),1)),(INDEX('NLM Data Test 2'!$G$12:$G$136,(MATCH($D106,'NLM Data Test 2'!$D$12:$D$136,0)),1)))","v":{"$error":"#N/A"}},{"$f":"IF(IFERROR(MATCH($D106,'NLM Data Test 2'!$D$12:$D$136,0),\"Error\")=\"Error\",(INDEX('NLM Data Test 1'!$F$12:$F$136,(MATCH($D106,'NLM Data Test 1'!$W$12:$W$136,0)),1)),(INDEX('NLM Data Test 2'!$F$12:$F$136,(MATCH($D106,'NLM Data Test 2'!$D$12:$D$136,0)),1)))","v":{"$error":"#N/A"}},{"$f":"IF(INDEX('NLM Data Test 1'!$H$12:$H$136,(MATCH(NLML.ChangeInScores.PrePostDataset[[#This Row],[First Name & Last Name*\n(choose from list)]],'NLM Data Test 1'!$W$12:$W$136,0)),1)=\"\",\"\",(INDEX('NLM Data Test 1'!H$12:H$136,(MATCH(NLML.ChangeInScores.PrePostDataset[[#This Row],[First Name & Last Name*\n(choose from list)]],'NLM Data Test 1'!$W$12:$W$136,0)),1)))","v":{"$error":"#N/A"}},{"$f":"IF(INDEX('NLM Data Test 1'!$I$12:$I$136,(MATCH(NLML.ChangeInScores.PrePostDataset[[#This Row],[First Name & Last Name*\n(choose from list)]],'NLM Data Test 1'!$W$12:$W$136,0)),1)=\"\",\"\",(INDEX('NLM Data Test 1'!I$12:I$136,(MATCH(NLML.ChangeInScores.PrePostDataset[[#This Row],[First Name & Last Name*\n(choose from list)]],'NLM Data Test 1'!$W$12:$W$136,0)),1)))","v":{"$error":"#N/A"}},{"$f":"IF(INDEX('NLM Data Test 1'!$J$12:$J$136,(MATCH(NLML.ChangeInScores.PrePostDataset[[#This Row],[First Name & Last Name*\n(choose from list)]],'NLM Data Test 1'!$W$12:$W$136,0)),1)=\"\",\"\",(INDEX('NLM Data Test 1'!J$12:J$136,(MATCH(NLML.ChangeInScores.PrePostDataset[[#This Row],[First Name & Last Name*\n(choose from list)]],'NLM Data Test 1'!$W$12:$W$136,0)),1)))","v":{"$error":"#N/A"}},{"$f":"IFERROR(INDEX('NLM Data Test 1'!$M$12:$M$136,(MATCH(NLML.ChangeInScores.PrePostDataset[[#This Row],[First Name & Last Name*\n(choose from list)]],'NLM Data Test 1'!$W$12:$W$136,0)),1),\"\")","v":""},{"$f":"INDEX('NLM Data Test 2'!$I$12:$I$136,(MATCH(NLML.ChangeInScores.PrePostDataset[[#This Row],[First Name & Last Name*\n(choose from list)]],'NLM Data Test 2'!$D$12:$D$136,0)),1)","v":{"$error":"#N/A"}},{"$f":"IFERROR(INDEX('NLM Data Test 2'!$J$12:$J$136,(MATCH(NLML.ChangeInScores.PrePostDataset[[#This Row],[First Name & Last Name*\n(choose from list)]],'NLM Data Test 2'!$X$12:$X$136,0)),1),\"\")","v":""},{"$f":"IFERROR(INDEX('NLM Data Test 2'!$K$12:$K$136,(MATCH(NLML.ChangeInScores.PrePostDataset[[#This Row],[First Name & Last Name*\n(choose from list)]],'NLM Data Test 2'!$X$12:$X$136,0)),1),\"\")","v":""},{"$f":"IFERROR(INDEX('NLM Data Test 2'!$N$12:$N$136,(MATCH(NLML.ChangeInScores.PrePostDataset[[#This Row],[First Name & Last Name*\n(choose from list)]],'NLM Data Test 2'!$X$12:$X$136,0)),1),\"\")","v":""},{"$f":"(INDEX('NLM Data Test 2'!$O$12:$O$136,(MATCH(NLML.ChangeInScores.PrePostDataset[[#This Row],[First Name & Last Name*\n(choose from list)]],'NLM Data Test 2'!$X$12:$X$136,0)),1))-(INDEX('NLM Data Test 1'!$N$12:$N$136,(MATCH(NLML.ChangeInScores.PrePostDataset[[#This Row],[First Name & Last Name*\n(choose from list)]],'NLM Data Test 1'!$W$12:$W$136,0)),1))","v":{"$error":"#N/A"}},{"$f":"(INDEX('NLM Data Test 2'!$P$12:$P$136,(MATCH(NLML.ChangeInScores.PrePostDataset[[#This Row],[First Name & Last Name*\n(choose from list)]],'NLM Data Test 2'!$X$12:$X$136,0)),1))-(INDEX('NLM Data Test 1'!$O$12:$O$136,(MATCH(NLML.ChangeInScores.PrePostDataset[[#This Row],[First Name & Last Name*\n(choose from list)]],'NLM Data Test 1'!$W$12:$W$136,0)),1))","v":{"$error":"#N/A"}},{"$f":"(INDEX('NLM Data Test 2'!$Q$12:$Q$136,(MATCH(NLML.ChangeInScores.PrePostDataset[[#This Row],[First Name & Last Name*\n(choose from list)]],'NLM Data Test 2'!$X$12:$X$136,0)),1))-(INDEX('NLM Data Test 1'!$P$12:$P$136,(MATCH(NLML.ChangeInScores.PrePostDataset[[#This Row],[First Name & Last Name*\n(choose from list)]],'NLM Data Test 1'!$W$12:$W$136,0)),1))","v":{"$error":"#N/A"}},{"$f":"(INDEX('NLM Data Test 2'!$R$12:$R$136,(MATCH(NLML.ChangeInScores.PrePostDataset[[#This Row],[First Name & Last Name*\n(choose from list)]],'NLM Data Test 2'!$X$12:$X$136,0)),1))-(INDEX('NLM Data Test 1'!$Q$12:$Q$136,(MATCH(NLML.ChangeInScores.PrePostDataset[[#This Row],[First Name & Last Name*\n(choose from list)]],'NLM Data Test 1'!$W$12:$W$136,0)),1))","v":{"$error":"#N/A"}},{"$f":"(INDEX('NLM Data Test 2'!$S$12:$S$136,(MATCH(NLML.ChangeInScores.PrePostDataset[[#This Row],[First Name & Last Name*\n(choose from list)]],'NLM Data Test 2'!$X$12:$X$136,0)),1))-(INDEX('NLM Data Test 1'!$R$12:$R$136,(MATCH(NLML.ChangeInScores.PrePostDataset[[#This Row],[First Name & Last Name*\n(choose from list)]],'NLM Data Test 1'!$W$12:$W$136,0)),1))","v":{"$error":"#N/A"}},{"$f":"(INDEX('NLM Data Test 2'!$T$12:$T$136,(MATCH(NLML.ChangeInScores.PrePostDataset[[#This Row],[First Name & Last Name*\n(choose from list)]],'NLM Data Test 2'!$X$12:$X$136,0)),1))-(INDEX('NLM Data Test 1'!$S$12:$S$136,(MATCH(NLML.ChangeInScores.PrePostDataset[[#This Row],[First Name & Last Name*\n(choose from list)]],'NLM Data Test 1'!$W$12:$W$136,0)),1))","v":{"$error":"#N/A"}},{"$f":"IFERROR(INDEX('NLM Data Test 1'!$T$12:$T$136,(MATCH(NLML.ChangeInScores.PrePostDataset[[#This Row],[First Name & Last Name*\n(choose from list)]],'NLM Data Test 1'!$W$12:$W$136,0)),1),\"\")","v":""},{"$f":"IFERROR(INDEX('NLM Data Test 2'!$U$12:$U$136,(MATCH(NLML.ChangeInScores.PrePostDataset[[#This Row],[First Name & Last Name*\n(choose from list)]],'NLM Data Test 2'!$X$12:$X$136,0)),1),\"\")","v":""}]
[92,{"$f":"IFERROR(INDEX(NLML.Test1.PrePostDataset[*First Name],(MATCH(NLML.ChangeInScores.PrePostDataset[[#This Row],[First Name & Last Name*\n(choose from list)]],'NLM Data Test 1'!W103:W227,0)),1),\"\")","v":""},{"$f":"IFERROR(INDEX(NLML.Test1.PrePostDataset[*Last Name],(MATCH(NLML.ChangeInScores.PrePostDataset[[#This Row],[First Name & Last Name*\n(choose from list)]],'NLM Data Test 1'!W103:W227,0)),1),\"\")","v":""},{"$f":"'NLM Data Test 2'!D103","v":0},{"$f":"IF(IFERROR(MATCH($D107,'NLM Data Test 2'!$D$12:$D$136,0),\"Error\")=\"Error\",(INDEX('NLM Data Test 1'!$D$12:$D$136,(MATCH($D107,'NLM Data Test 1'!$W$12:$W$136,0)),1)),(INDEX('NLM Data Test 2'!$E$12:$E$136,(MATCH($D107,'NLM Data Test 2'!$D$12:$D$136,0)),1)))","v":{"$error":"#N/A"}},{"$f":"IF(IFERROR(MATCH($D107,'NLM Data Test 2'!$D$12:$D$136,0),\"Error\")=\"Error\",(INDEX('NLM Data Test 1'!$E$12:$E$136,(MATCH($D107,'NLM Data Test 1'!$W$12:$W$136,0)),1)),(INDEX('NLM Data Test 2'!$G$12:$G$136,(MATCH($D107,'NLM Data Test 2'!$D$12:$D$136,0)),1)))","v":{"$error":"#N/A"}},{"$f":"IF(IFERROR(MATCH($D107,'NLM Data Test 2'!$D$12:$D$136,0),\"Error\")=\"Error\",(INDEX('NLM Data Test 1'!$F$12:$F$136,(MATCH($D107,'NLM Data Test 1'!$W$12:$W$136,0)),1)),(INDEX('NLM Data Test 2'!$F$12:$F$136,(MATCH($D107,'NLM Data Test 2'!$D$12:$D$136,0)),1)))","v":{"$error":"#N/A"}},{"$f":"IF(INDEX('NLM Data Test 1'!$H$12:$H$136,(MATCH(NLML.ChangeInScores.PrePostDataset[[#This Row],[First Name & Last Name*\n(choose from list)]],'NLM Data Test 1'!$W$12:$W$136,0)),1)=\"\",\"\",(INDEX('NLM Data Test 1'!H$12:H$136,(MATCH(NLML.ChangeInScores.PrePostDataset[[#This Row],[First Name & Last Name*\n(choose from list)]],'NLM Data Test 1'!$W$12:$W$136,0)),1)))","v":{"$error":"#N/A"}},{"$f":"IF(INDEX('NLM Data Test 1'!$I$12:$I$136,(MATCH(NLML.ChangeInScores.PrePostDataset[[#This Row],[First Name & Last Name*\n(choose from list)]],'NLM Data Test 1'!$W$12:$W$136,0)),1)=\"\",\"\",(INDEX('NLM Data Test 1'!I$12:I$136,(MATCH(NLML.ChangeInScores.PrePostDataset[[#This Row],[First Name & Last Name*\n(choose from list)]],'NLM Data Test 1'!$W$12:$W$136,0)),1)))","v":{"$error":"#N/A"}},{"$f":"IF(INDEX('NLM Data Test 1'!$J$12:$J$136,(MATCH(NLML.ChangeInScores.PrePostDataset[[#This Row],[First Name & Last Name*\n(choose from list)]],'NLM Data Test 1'!$W$12:$W$136,0)),1)=\"\",\"\",(INDEX('NLM Data Test 1'!J$12:J$136,(MATCH(NLML.ChangeInScores.PrePostDataset[[#This Row],[First Name & Last Name*\n(choose from list)]],'NLM Data Test 1'!$W$12:$W$136,0)),1)))","v":{"$error":"#N/A"}},{"$f":"IFERROR(INDEX('NLM Data Test 1'!$M$12:$M$136,(MATCH(NLML.ChangeInScores.PrePostDataset[[#This Row],[First Name & Last Name*\n(choose from list)]],'NLM Data Test 1'!$W$12:$W$136,0)),1),\"\")","v":""},{"$f":"INDEX('NLM Data Test 2'!$I$12:$I$136,(MATCH(NLML.ChangeInScores.PrePostDataset[[#This Row],[First Name & Last Name*\n(choose from list)]],'NLM Data Test 2'!$D$12:$D$136,0)),1)","v":{"$error":"#N/A"}},{"$f":"IFERROR(INDEX('NLM Data Test 2'!$J$12:$J$136,(MATCH(NLML.ChangeInScores.PrePostDataset[[#This Row],[First Name & Last Name*\n(choose from list)]],'NLM Data Test 2'!$X$12:$X$136,0)),1),\"\")","v":""},{"$f":"IFERROR(INDEX('NLM Data Test 2'!$K$12:$K$136,(MATCH(NLML.ChangeInScores.PrePostDataset[[#This Row],[First Name & Last Name*\n(choose from list)]],'NLM Data Test 2'!$X$12:$X$136,0)),1),\"\")","v":""},{"$f":"IFERROR(INDEX('NLM Data Test 2'!$N$12:$N$136,(MATCH(NLML.ChangeInScores.PrePostDataset[[#This Row],[First Name & Last Name*\n(choose from list)]],'NLM Data Test 2'!$X$12:$X$136,0)),1),\"\")","v":""},{"$f":"(INDEX('NLM Data Test 2'!$O$12:$O$136,(MATCH(NLML.ChangeInScores.PrePostDataset[[#This Row],[First Name & Last Name*\n(choose from list)]],'NLM Data Test 2'!$X$12:$X$136,0)),1))-(INDEX('NLM Data Test 1'!$N$12:$N$136,(MATCH(NLML.ChangeInScores.PrePostDataset[[#This Row],[First Name & Last Name*\n(choose from list)]],'NLM Data Test 1'!$W$12:$W$136,0)),1))","v":{"$error":"#N/A"}},{"$f":"(INDEX('NLM Data Test 2'!$P$12:$P$136,(MATCH(NLML.ChangeInScores.PrePostDataset[[#This Row],[First Name & Last Name*\n(choose from list)]],'NLM Data Test 2'!$X$12:$X$136,0)),1))-(INDEX('NLM Data Test 1'!$O$12:$O$136,(MATCH(NLML.ChangeInScores.PrePostDataset[[#This Row],[First Name & Last Name*\n(choose from list)]],'NLM Data Test 1'!$W$12:$W$136,0)),1))","v":{"$error":"#N/A"}},{"$f":"(INDEX('NLM Data Test 2'!$Q$12:$Q$136,(MATCH(NLML.ChangeInScores.PrePostDataset[[#This Row],[First Name & Last Name*\n(choose from list)]],'NLM Data Test 2'!$X$12:$X$136,0)),1))-(INDEX('NLM Data Test 1'!$P$12:$P$136,(MATCH(NLML.ChangeInScores.PrePostDataset[[#This Row],[First Name & Last Name*\n(choose from list)]],'NLM Data Test 1'!$W$12:$W$136,0)),1))","v":{"$error":"#N/A"}},{"$f":"(INDEX('NLM Data Test 2'!$R$12:$R$136,(MATCH(NLML.ChangeInScores.PrePostDataset[[#This Row],[First Name & Last Name*\n(choose from list)]],'NLM Data Test 2'!$X$12:$X$136,0)),1))-(INDEX('NLM Data Test 1'!$Q$12:$Q$136,(MATCH(NLML.ChangeInScores.PrePostDataset[[#This Row],[First Name & Last Name*\n(choose from list)]],'NLM Data Test 1'!$W$12:$W$136,0)),1))","v":{"$error":"#N/A"}},{"$f":"(INDEX('NLM Data Test 2'!$S$12:$S$136,(MATCH(NLML.ChangeInScores.PrePostDataset[[#This Row],[First Name & Last Name*\n(choose from list)]],'NLM Data Test 2'!$X$12:$X$136,0)),1))-(INDEX('NLM Data Test 1'!$R$12:$R$136,(MATCH(NLML.ChangeInScores.PrePostDataset[[#This Row],[First Name & Last Name*\n(choose from list)]],'NLM Data Test 1'!$W$12:$W$136,0)),1))","v":{"$error":"#N/A"}},{"$f":"(INDEX('NLM Data Test 2'!$T$12:$T$136,(MATCH(NLML.ChangeInScores.PrePostDataset[[#This Row],[First Name & Last Name*\n(choose from list)]],'NLM Data Test 2'!$X$12:$X$136,0)),1))-(INDEX('NLM Data Test 1'!$S$12:$S$136,(MATCH(NLML.ChangeInScores.PrePostDataset[[#This Row],[First Name & Last Name*\n(choose from list)]],'NLM Data Test 1'!$W$12:$W$136,0)),1))","v":{"$error":"#N/A"}},{"$f":"IFERROR(INDEX('NLM Data Test 1'!$T$12:$T$136,(MATCH(NLML.ChangeInScores.PrePostDataset[[#This Row],[First Name & Last Name*\n(choose from list)]],'NLM Data Test 1'!$W$12:$W$136,0)),1),\"\")","v":""},{"$f":"IFERROR(INDEX('NLM Data Test 2'!$U$12:$U$136,(MATCH(NLML.ChangeInScores.PrePostDataset[[#This Row],[First Name & Last Name*\n(choose from list)]],'NLM Data Test 2'!$X$12:$X$136,0)),1),\"\")","v":""}]
[93,{"$f":"IFERROR(INDEX(NLML.Test1.PrePostDataset[*First Name],(MATCH(NLML.ChangeInScores.PrePostDataset[[#This Row],[First Name & Last Name*\n(choose from list)]],'NLM Data Test 1'!W104:W228,0)),1),\"\")","v":""},{"$f":"IFERROR(INDEX(NLML.Test1.PrePostDataset[*Last Name],(MATCH(NLML.ChangeInScores.PrePostDataset[[#This Row],[First Name & Last Name*\n(choose from list)]],'NLM Data Test 1'!W104:W228,0)),1),\"\")","v":""},{"$f":"'NLM Data Test 2'!D104","v":0},{"$f":"IF(IFERROR(MATCH($D108,'NLM Data Test 2'!$D$12:$D$136,0),\"Error\")=\"Error\",(INDEX('NLM Data Test 1'!$D$12:$D$136,(MATCH($D108,'NLM Data Test 1'!$W$12:$W$136,0)),1)),(INDEX('NLM Data Test 2'!$E$12:$E$136,(MATCH($D108,'NLM Data Test 2'!$D$12:$D$136,0)),1)))","v":{"$error":"#N/A"}},{"$f":"IF(IFERROR(MATCH($D108,'NLM Data Test 2'!$D$12:$D$136,0),\"Error\")=\"Error\",(INDEX('NLM Data Test 1'!$E$12:$E$136,(MATCH($D108,'NLM Data Test 1'!$W$12:$W$136,0)),1)),(INDEX('NLM Data Test 2'!$G$12:$G$136,(MATCH($D108,'NLM Data Test 2'!$D$12:$D$136,0)),1)))","v":{"$error":"#N/A"}},{"$f":"IF(IFERROR(MATCH($D108,'NLM Data Test 2'!$D$12:$D$136,0),\"Error\")=\"Error\",(INDEX('NLM Data Test 1'!$F$12:$F$136,(MATCH($D108,'NLM Data Test 1'!$W$12:$W$136,0)),1)),(INDEX('NLM Data Test 2'!$F$12:$F$136,(MATCH($D108,'NLM Data Test 2'!$D$12:$D$136,0)),1)))","v":{"$error":"#N/A"}},{"$f":"IF(INDEX('NLM Data Test 1'!$H$12:$H$136,(MATCH(NLML.ChangeInScores.PrePostDataset[[#This Row],[First Name & Last Name*\n(choose from list)]],'NLM Data Test 1'!$W$12:$W$136,0)),1)=\"\",\"\",(INDEX('NLM Data Test 1'!H$12:H$136,(MATCH(NLML.ChangeInScores.PrePostDataset[[#This Row],[First Name & Last Name*\n(choose from list)]],'NLM Data Test 1'!$W$12:$W$136,0)),1)))","v":{"$error":"#N/A"}},{"$f":"IF(INDEX('NLM Data Test 1'!$I$12:$I$136,(MATCH(NLML.ChangeInScores.PrePostDataset[[#This Row],[First Name & Last Name*\n(choose from list)]],'NLM Data Test 1'!$W$12:$W$136,0)),1)=\"\",\"\",(INDEX('NLM Data Test 1'!I$12:I$136,(MATCH(NLML.ChangeInScores.PrePostDataset[[#This Row],[First Name & Last Name*\n(choose from list)]],'NLM Data Test 1'!$W$12:$W$136,0)),1)))","v":{"$error":"#N/A"}},{"$f":"IF(INDEX('NLM Data Test 1'!$J$12:$J$136,(MATCH(NLML.ChangeInScores.PrePostDataset[[#This Row],[First Name & Last Name*\n(choose from list)]],'NLM Data Test 1'!$W$12:$W$136,0)),1)=\"\",\"\",(INDEX('NLM Data Test 1'!J$12:J$136,(MATCH(NLML.ChangeInScores.PrePostDataset[[#This Row],[First Name & Last Name*\n(choose from list)]],'NLM Data Test 1'!$W$12:$W$136,0)),1)))","v":{"$error":"#N/A"}},{"$f":"IFERROR(INDEX('NLM Data Test 1'!$M$12:$M$136,(MATCH(NLML.ChangeInScores.PrePostDataset[[#This Row],[First Name & Last Name*\n(choose from list)]],'NLM Data Test 1'!$W$12:$W$136,0)),1),\"\")","v":""},{"$f":"INDEX('NLM Data Test 2'!$I$12:$I$136,(MATCH(NLML.ChangeInScores.PrePostDataset[[#This Row],[First Name & Last Name*\n(choose from list)]],'NLM Data Test 2'!$D$12:$D$136,0)),1)","v":{"$error":"#N/A"}},{"$f":"IFERROR(INDEX('NLM Data Test 2'!$J$12:$J$136,(MATCH(NLML.ChangeInScores.PrePostDataset[[#This Row],[First Name & Last Name*\n(choose from list)]],'NLM Data Test 2'!$X$12:$X$136,0)),1),\"\")","v":""},{"$f":"IFERROR(INDEX('NLM Data Test 2'!$K$12:$K$136,(MATCH(NLML.ChangeInScores.PrePostDataset[[#This Row],[First Name & Last Name*\n(choose from list)]],'NLM Data Test 2'!$X$12:$X$136,0)),1),\"\")","v":""},{"$f":"IFERROR(INDEX('NLM Data Test 2'!$N$12:$N$136,(MATCH(NLML.ChangeInScores.PrePostDataset[[#This Row],[First Name & Last Name*\n(choose from list)]],'NLM Data Test 2'!$X$12:$X$136,0)),1),\"\")","v":""},{"$f":"(INDEX('NLM Data Test 2'!$O$12:$O$136,(MATCH(NLML.ChangeInScores.PrePostDataset[[#This Row],[First Name & Last Name*\n(choose from list)]],'NLM Data Test 2'!$X$12:$X$136,0)),1))-(INDEX('NLM Data Test 1'!$N$12:$N$136,(MATCH(NLML.ChangeInScores.PrePostDataset[[#This Row],[First Name & Last Name*\n(choose from list)]],'NLM Data Test 1'!$W$12:$W$136,0)),1))","v":{"$error":"#N/A"}},{"$f":"(INDEX('NLM Data Test 2'!$P$12:$P$136,(MATCH(NLML.ChangeInScores.PrePostDataset[[#This Row],[First Name & Last Name*\n(choose from list)]],'NLM Data Test 2'!$X$12:$X$136,0)),1))-(INDEX('NLM Data Test 1'!$O$12:$O$136,(MATCH(NLML.ChangeInScores.PrePostDataset[[#This Row],[First Name & Last Name*\n(choose from list)]],'NLM Data Test 1'!$W$12:$W$136,0)),1))","v":{"$error":"#N/A"}},{"$f":"(INDEX('NLM Data Test 2'!$Q$12:$Q$136,(MATCH(NLML.ChangeInScores.PrePostDataset[[#This Row],[First Name & Last Name*\n(choose from list)]],'NLM Data Test 2'!$X$12:$X$136,0)),1))-(INDEX('NLM Data Test 1'!$P$12:$P$136,(MATCH(NLML.ChangeInScores.PrePostDataset[[#This Row],[First Name & Last Name*\n(choose from list)]],'NLM Data Test 1'!$W$12:$W$136,0)),1))","v":{"$error":"#N/A"}},{"$f":"(INDEX('NLM Data Test 2'!$R$12:$R$136,(MATCH(NLML.ChangeInScores.PrePostDataset[[#This Row],[First Name & Last Name*\n(choose from list)]],'NLM Data Test 2'!$X$12:$X$136,0)),1))-(INDEX('NLM Data Test 1'!$Q$12:$Q$136,(MATCH(NLML.ChangeInScores.PrePostDataset[[#This Row],[First Name & Last Name*\n(choose from list)]],'NLM Data Test 1'!$W$12:$W$136,0)),1))","v":{"$error":"#N/A"}},{"$f":"(INDEX('NLM Data Test 2'!$S$12:$S$136,(MATCH(NLML.ChangeInScores.PrePostDataset[[#This Row],[First Name & Last Name*\n(choose from list)]],'NLM Data Test 2'!$X$12:$X$136,0)),1))-(INDEX('NLM Data Test 1'!$R$12:$R$136,(MATCH(NLML.ChangeInScores.PrePostDataset[[#This Row],[First Name & Last Name*\n(choose from list)]],'NLM Data Test 1'!$W$12:$W$136,0)),1))","v":{"$error":"#N/A"}},{"$f":"(INDEX('NLM Data Test 2'!$T$12:$T$136,(MATCH(NLML.ChangeInScores.PrePostDataset[[#This Row],[First Name & Last Name*\n(choose from list)]],'NLM Data Test 2'!$X$12:$X$136,0)),1))-(INDEX('NLM Data Test 1'!$S$12:$S$136,(MATCH(NLML.ChangeInScores.PrePostDataset[[#This Row],[First Name & Last Name*\n(choose from list)]],'NLM Data Test 1'!$W$12:$W$136,0)),1))","v":{"$error":"#N/A"}},{"$f":"IFERROR(INDEX('NLM Data Test 1'!$T$12:$T$136,(MATCH(NLML.ChangeInScores.PrePostDataset[[#This Row],[First Name & Last Name*\n(choose from list)]],'NLM Data Test 1'!$W$12:$W$136,0)),1),\"\")","v":""},{"$f":"IFERROR(INDEX('NLM Data Test 2'!$U$12:$U$136,(MATCH(NLML.ChangeInScores.PrePostDataset[[#This Row],[First Name & Last Name*\n(choose from list)]],'NLM Data Test 2'!$X$12:$X$136,0)),1),\"\")","v":""}]
[94,{"$f":"IFERROR(INDEX(NLML.Test1.PrePostDataset[*First Name],(MATCH(NLML.ChangeInScores.PrePostDataset[[#This Row],[First Name & Last Name*\n(choose from list)]],'NLM Data Test 1'!W105:W229,0)),1),\"\")","v":""},{"$f":"IFERROR(INDEX(NLML.Test1.PrePostDataset[*Last Name],(MATCH(NLML.ChangeInScores.PrePostDataset[[#This Row],[First Name & Last Name*\n(choose from list)]],'NLM Data Test 1'!W105:W229,0)),1),\"\")","v":""},{"$f":"'NLM Data Test 2'!D105","v":0},{"$f":"IF(IFERROR(MATCH($D109,'NLM Data Test 2'!$D$12:$D$136,0),\"Error\")=\"Error\",(INDEX('NLM Data Test 1'!$D$12:$D$136,(MATCH($D109,'NLM Data Test 1'!$W$12:$W$136,0)),1)),(INDEX('NLM Data Test 2'!$E$12:$E$136,(MATCH($D109,'NLM Data Test 2'!$D$12:$D$136,0)),1)))","v":{"$error":"#N/A"}},{"$f":"IF(IFERROR(MATCH($D109,'NLM Data Test 2'!$D$12:$D$136,0),\"Error\")=\"Error\",(INDEX('NLM Data Test 1'!$E$12:$E$136,(MATCH($D109,'NLM Data Test 1'!$W$12:$W$136,0)),1)),(INDEX('NLM Data Test 2'!$G$12:$G$136,(MATCH($D109,'NLM Data Test 2'!$D$12:$D$136,0)),1)))","v":{"$error":"#N/A"}},{"$f":"IF(IFERROR(MATCH($D109,'NLM Data Test 2'!$D$12:$D$136,0),\"Error\")=\"Error\",(INDEX('NLM Data Test 1'!$F$12:$F$136,(MATCH($D109,'NLM Data Test 1'!$W$12:$W$136,0)),1)),(INDEX('NLM Data Test 2'!$F$12:$F$136,(MATCH($D109,'NLM Data Test 2'!$D$12:$D$136,0)),1)))","v":{"$error":"#N/A"}},{"$f":"IF(INDEX('NLM Data Test 1'!$H$12:$H$136,(MATCH(NLML.ChangeInScores.PrePostDataset[[#This Row],[First Name & Last Name*\n(choose from list)]],'NLM Data Test 1'!$W$12:$W$136,0)),1)=\"\",\"\",(INDEX('NLM Data Test 1'!H$12:H$136,(MATCH(NLML.ChangeInScores.PrePostDataset[[#This Row],[First Name & Last Name*\n(choose from list)]],'NLM Data Test 1'!$W$12:$W$136,0)),1)))","v":{"$error":"#N/A"}},{"$f":"IF(INDEX('NLM Data Test 1'!$I$12:$I$136,(MATCH(NLML.ChangeInScores.PrePostDataset[[#This Row],[First Name & Last Name*\n(choose from list)]],'NLM Data Test 1'!$W$12:$W$136,0)),1)=\"\",\"\",(INDEX('NLM Data Test 1'!I$12:I$136,(MATCH(NLML.ChangeInScores.PrePostDataset[[#This Row],[First Name & Last Name*\n(choose from list)]],'NLM Data Test 1'!$W$12:$W$136,0)),1)))","v":{"$error":"#N/A"}},{"$f":"IF(INDEX('NLM Data Test 1'!$J$12:$J$136,(MATCH(NLML.ChangeInScores.PrePostDataset[[#This Row],[First Name & Last Name*\n(choose from list)]],'NLM Data Test 1'!$W$12:$W$136,0)),1)=\"\",\"\",(INDEX('NLM Data Test 1'!J$12:J$136,(MATCH(NLML.ChangeInScores.PrePostDataset[[#This Row],[First Name & Last Name*\n(choose from list)]],'NLM Data Test 1'!$W$12:$W$136,0)),1)))","v":{"$error":"#N/A"}},{"$f":"IFERROR(INDEX('NLM Data Test 1'!$M$12:$M$136,(MATCH(NLML.ChangeInScores.PrePostDataset[[#This Row],[First Name & Last Name*\n(choose from list)]],'NLM Data Test 1'!$W$12:$W$136,0)),1),\"\")","v":""},{"$f":"INDEX('NLM Data Test 2'!$I$12:$I$136,(MATCH(NLML.ChangeInScores.PrePostDataset[[#This Row],[First Name & Last Name*\n(choose from list)]],'NLM Data Test 2'!$D$12:$D$136,0)),1)","v":{"$error":"#N/A"}},{"$f":"IFERROR(INDEX('NLM Data Test 2'!$J$12:$J$136,(MATCH(NLML.ChangeInScores.PrePostDataset[[#This Row],[First Name & Last Name*\n(choose from list)]],'NLM Data Test 2'!$X$12:$X$136,0)),1),\"\")","v":""},{"$f":"IFERROR(INDEX('NLM Data Test 2'!$K$12:$K$136,(MATCH(NLML.ChangeInScores.PrePostDataset[[#This Row],[First Name & Last Name*\n(choose from list)]],'NLM Data Test 2'!$X$12:$X$136,0)),1),\"\")","v":""},{"$f":"IFERROR(INDEX('NLM Data Test 2'!$N$12:$N$136,(MATCH(NLML.ChangeInScores.PrePostDataset[[#This Row],[First Name & Last Name*\n(choose from list)]],'NLM Data Test 2'!$X$12:$X$136,0)),1),\"\")","v":""},{"$f":"(INDEX('NLM Data Test 2'!$O$12:$O$136,(MATCH(NLML.ChangeInScores.PrePostDataset[[#This Row],[First Name & Last Name*\n(choose from list)]],'NLM Data Test 2'!$X$12:$X$136,0)),1))-(INDEX('NLM Data Test 1'!$N$12:$N$136,(MATCH(NLML.ChangeInScores.PrePostDataset[[#This Row],[First Name & Last Name*\n(choose from list)]],'NLM Data Test 1'!$W$12:$W$136,0)),1))","v":{"$error":"#N/A"}},{"$f":"(INDEX('NLM Data Test 2'!$P$12:$P$136,(MATCH(NLML.ChangeInScores.PrePostDataset[[#This Row],[First Name & Last Name*\n(choose from list)]],'NLM Data Test 2'!$X$12:$X$136,0)),1))-(INDEX('NLM Data Test 1'!$O$12:$O$136,(MATCH(NLML.ChangeInScores.PrePostDataset[[#This Row],[First Name & Last Name*\n(choose from list)]],'NLM Data Test 1'!$W$12:$W$136,0)),1))","v":{"$error":"#N/A"}},{"$f":"(INDEX('NLM Data Test 2'!$Q$12:$Q$136,(MATCH(NLML.ChangeInScores.PrePostDataset[[#This Row],[First Name & Last Name*\n(choose from list)]],'NLM Data Test 2'!$X$12:$X$136,0)),1))-(INDEX('NLM Data Test 1'!$P$12:$P$136,(MATCH(NLML.ChangeInScores.PrePostDataset[[#This Row],[First Name & Last Name*\n(choose from list)]],'NLM Data Test 1'!$W$12:$W$136,0)),1))","v":{"$error":"#N/A"}},{"$f":"(INDEX('NLM Data Test 2'!$R$12:$R$136,(MATCH(NLML.ChangeInScores.PrePostDataset[[#This Row],[First Name & Last Name*\n(choose from list)]],'NLM Data Test 2'!$X$12:$X$136,0)),1))-(INDEX('NLM Data Test 1'!$Q$12:$Q$136,(MATCH(NLML.ChangeInScores.PrePostDataset[[#This Row],[First Name & Last Name*\n(choose from list)]],'NLM Data Test 1'!$W$12:$W$136,0)),1))","v":{"$error":"#N/A"}},{"$f":"(INDEX('NLM Data Test 2'!$S$12:$S$136,(MATCH(NLML.ChangeInScores.PrePostDataset[[#This Row],[First Name & Last Name*\n(choose from list)]],'NLM Data Test 2'!$X$12:$X$136,0)),1))-(INDEX('NLM Data Test 1'!$R$12:$R$136,(MATCH(NLML.ChangeInScores.PrePostDataset[[#This Row],[First Name & Last Name*\n(choose from list)]],'NLM Data Test 1'!$W$12:$W$136,0)),1))","v":{"$error":"#N/A"}},{"$f":"(INDEX('NLM Data Test 2'!$T$12:$T$136,(MATCH(NLML.ChangeInScores.PrePostDataset[[#This Row],[First Name & Last Name*\n(choose from list)]],'NLM Data Test 2'!$X$12:$X$136,0)),1))-(INDEX('NLM Data Test 1'!$S$12:$S$136,(MATCH(NLML.ChangeInScores.PrePostDataset[[#This Row],[First Name & Last Name*\n(choose from list)]],'NLM Data Test 1'!$W$12:$W$136,0)),1))","v":{"$error":"#N/A"}},{"$f":"IFERROR(INDEX('NLM Data Test 1'!$T$12:$T$136,(MATCH(NLML.ChangeInScores.PrePostDataset[[#This Row],[First Name & Last Name*\n(choose from list)]],'NLM Data Test 1'!$W$12:$W$136,0)),1),\"\")","v":""},{"$f":"IFERROR(INDEX('NLM Data Test 2'!$U$12:$U$136,(MATCH(NLML.ChangeInScores.PrePostDataset[[#This Row],[First Name & Last Name*\n(choose from list)]],'NLM Data Test 2'!$X$12:$X$136,0)),1),\"\")","v":""}]
[95,{"$f":"IFERROR(INDEX(NLML.Test1.PrePostDataset[*First Name],(MATCH(NLML.ChangeInScores.PrePostDataset[[#This Row],[First Name & Last Name*\n(choose from list)]],'NLM Data Test 1'!W106:W230,0)),1),\"\")","v":""},{"$f":"IFERROR(INDEX(NLML.Test1.PrePostDataset[*Last Name],(MATCH(NLML.ChangeInScores.PrePostDataset[[#This Row],[First Name & Last Name*\n(choose from list)]],'NLM Data Test 1'!W106:W230,0)),1),\"\")","v":""},{"$f":"'NLM Data Test 2'!D106","v":0},{"$f":"IF(IFERROR(MATCH($D110,'NLM Data Test 2'!$D$12:$D$136,0),\"Error\")=\"Error\",(INDEX('NLM Data Test 1'!$D$12:$D$136,(MATCH($D110,'NLM Data Test 1'!$W$12:$W$136,0)),1)),(INDEX('NLM Data Test 2'!$E$12:$E$136,(MATCH($D110,'NLM Data Test 2'!$D$12:$D$136,0)),1)))","v":{"$error":"#N/A"}},{"$f":"IF(IFERROR(MATCH($D110,'NLM Data Test 2'!$D$12:$D$136,0),\"Error\")=\"Error\",(INDEX('NLM Data Test 1'!$E$12:$E$136,(MATCH($D110,'NLM Data Test 1'!$W$12:$W$136,0)),1)),(INDEX('NLM Data Test 2'!$G$12:$G$136,(MATCH($D110,'NLM Data Test 2'!$D$12:$D$136,0)),1)))","v":{"$error":"#N/A"}},{"$f":"IF(IFERROR(MATCH($D110,'NLM Data Test 2'!$D$12:$D$136,0),\"Error\")=\"Error\",(INDEX('NLM Data Test 1'!$F$12:$F$136,(MATCH($D110,'NLM Data Test 1'!$W$12:$W$136,0)),1)),(INDEX('NLM Data Test 2'!$F$12:$F$136,(MATCH($D110,'NLM Data Test 2'!$D$12:$D$136,0)),1)))","v":{"$error":"#N/A"}},{"$f":"IF(INDEX('NLM Data Test 1'!$H$12:$H$136,(MATCH(NLML.ChangeInScores.PrePostDataset[[#This Row],[First Name & Last Name*\n(choose from list)]],'NLM Data Test 1'!$W$12:$W$136,0)),1)=\"\",\"\",(INDEX('NLM Data Test 1'!H$12:H$136,(MATCH(NLML.ChangeInScores.PrePostDataset[[#This Row],[First Name & Last Name*\n(choose from list)]],'NLM Data Test 1'!$W$12:$W$136,0)),1)))","v":{"$error":"#N/A"}},{"$f":"IF(INDEX('NLM Data Test 1'!$I$12:$I$136,(MATCH(NLML.ChangeInScores.PrePostDataset[[#This Row],[First Name & Last Name*\n(choose from list)]],'NLM Data Test 1'!$W$12:$W$136,0)),1)=\"\",\"\",(INDEX('NLM Data Test 1'!I$12:I$136,(MATCH(NLML.ChangeInScores.PrePostDataset[[#This Row],[First Name & Last Name*\n(choose from list)]],'NLM Data Test 1'!$W$12:$W$136,0)),1)))","v":{"$error":"#N/A"}},{"$f":"IF(INDEX('NLM Data Test 1'!$J$12:$J$136,(MATCH(NLML.ChangeInScores.PrePostDataset[[#This Row],[First Name & Last Name*\n(choose from list)]],'NLM Data Test 1'!$W$12:$W$136,0)),1)=\"\",\"\",(INDEX('NLM Data Test 1'!J$12:J$136,(MATCH(NLML.ChangeInScores.PrePostDataset[[#This Row],[First Name & Last Name*\n(choose from list)]],'NLM Data Test 1'!$W$12:$W$136,0)),1)))","v":{"$error":"#N/A"}},{"$f":"IFERROR(INDEX('NLM Data Test 1'!$M$12:$M$136,(MATCH(NLML.ChangeInScores.PrePostDataset[[#This Row],[First Name & Last Name*\n(choose from list)]],'NLM Data Test 1'!$W$12:$W$136,0)),1),\"\")","v":""},{"$f":"INDEX('NLM Data Test 2'!$I$12:$I$136,(MATCH(NLML.ChangeInScores.PrePostDataset[[#This Row],[First Name & Last Name*\n(choose from list)]],'NLM Data Test 2'!$D$12:$D$136,0)),1)","v":{"$error":"#N/A"}},{"$f":"IFERROR(INDEX('NLM Data Test 2'!$J$12:$J$136,(MATCH(NLML.ChangeInScores.PrePostDataset[[#This Row],[First Name & Last Name*\n(choose from list)]],'NLM Data Test 2'!$X$12:$X$136,0)),1),\"\")","v":""},{"$f":"IFERROR(INDEX('NLM Data Test 2'!$K$12:$K$136,(MATCH(NLML.ChangeInScores.PrePostDataset[[#This Row],[First Name & Last Name*\n(choose from list)]],'NLM Data Test 2'!$X$12:$X$136,0)),1),\"\")","v":""},{"$f":"IFERROR(INDEX('NLM Data Test 2'!$N$12:$N$136,(MATCH(NLML.ChangeInScores.PrePostDataset[[#This Row],[First Name & Last Name*\n(choose from list)]],'NLM Data Test 2'!$X$12:$X$136,0)),1),\"\")","v":""},{"$f":"(INDEX('NLM Data Test 2'!$O$12:$O$136,(MATCH(NLML.ChangeInScores.PrePostDataset[[#This Row],[First Name & Last Name*\n(choose from list)]],'NLM Data Test 2'!$X$12:$X$136,0)),1))-(INDEX('NLM Data Test 1'!$N$12:$N$136,(MATCH(NLML.ChangeInScores.PrePostDataset[[#This Row],[First Name & Last Name*\n(choose from list)]],'NLM Data Test 1'!$W$12:$W$136,0)),1))","v":{"$error":"#N/A"}},{"$f":"(INDEX('NLM Data Test 2'!$P$12:$P$136,(MATCH(NLML.ChangeInScores.PrePostDataset[[#This Row],[First Name & Last Name*\n(choose from list)]],'NLM Data Test 2'!$X$12:$X$136,0)),1))-(INDEX('NLM Data Test 1'!$O$12:$O$136,(MATCH(NLML.ChangeInScores.PrePostDataset[[#This Row],[First Name & Last Name*\n(choose from list)]],'NLM Data Test 1'!$W$12:$W$136,0)),1))","v":{"$error":"#N/A"}},{"$f":"(INDEX('NLM Data Test 2'!$Q$12:$Q$136,(MATCH(NLML.ChangeInScores.PrePostDataset[[#This Row],[First Name & Last Name*\n(choose from list)]],'NLM Data Test 2'!$X$12:$X$136,0)),1))-(INDEX('NLM Data Test 1'!$P$12:$P$136,(MATCH(NLML.ChangeInScores.PrePostDataset[[#This Row],[First Name & Last Name*\n(choose from list)]],'NLM Data Test 1'!$W$12:$W$136,0)),1))","v":{"$error":"#N/A"}},{"$f":"(INDEX('NLM Data Test 2'!$R$12:$R$136,(MATCH(NLML.ChangeInScores.PrePostDataset[[#This Row],[First Name & Last Name*\n(choose from list)]],'NLM Data Test 2'!$X$12:$X$136,0)),1))-(INDEX('NLM Data Test 1'!$Q$12:$Q$136,(MATCH(NLML.ChangeInScores.PrePostDataset[[#This Row],[First Name & Last Name*\n(choose from list)]],'NLM Data Test 1'!$W$12:$W$136,0)),1))","v":{"$error":"#N/A"}},{"$f":"(INDEX('NLM Data Test 2'!$S$12:$S$136,(MATCH(NLML.ChangeInScores.PrePostDataset[[#This Row],[First Name & Last Name*\n(choose from list)]],'NLM Data Test 2'!$X$12:$X$136,0)),1))-(INDEX('NLM Data Test 1'!$R$12:$R$136,(MATCH(NLML.ChangeInScores.PrePostDataset[[#This Row],[First Name & Last Name*\n(choose from list)]],'NLM Data Test 1'!$W$12:$W$136,0)),1))","v":{"$error":"#N/A"}},{"$f":"(INDEX('NLM Data Test 2'!$T$12:$T$136,(MATCH(NLML.ChangeInScores.PrePostDataset[[#This Row],[First Name & Last Name*\n(choose from list)]],'NLM Data Test 2'!$X$12:$X$136,0)),1))-(INDEX('NLM Data Test 1'!$S$12:$S$136,(MATCH(NLML.ChangeInScores.PrePostDataset[[#This Row],[First Name & Last Name*\n(choose from list)]],'NLM Data Test 1'!$W$12:$W$136,0)),1))","v":{"$error":"#N/A"}},{"$f":"IFERROR(INDEX('NLM Data Test 1'!$T$12:$T$136,(MATCH(NLML.ChangeInScores.PrePostDataset[[#This Row],[First Name & Last Name*\n(choose from list)]],'NLM Data Test 1'!$W$12:$W$136,0)),1),\"\")","v":""},{"$f":"IFERROR(INDEX('NLM Data Test 2'!$U$12:$U$136,(MATCH(NLML.ChangeInScores.PrePostDataset[[#This Row],[First Name & Last Name*\n(choose from list)]],'NLM Data Test 2'!$X$12:$X$136,0)),1),\"\")","v":""}]
[96,{"$f":"IFERROR(INDEX(NLML.Test1.PrePostDataset[*First Name],(MATCH(NLML.ChangeInScores.PrePostDataset[[#This Row],[First Name & Last Name*\n(choose from list)]],'NLM Data Test 1'!W107:W231,0)),1),\"\")","v":""},{"$f":"IFERROR(INDEX(NLML.Test1.PrePostDataset[*Last Name],(MATCH(NLML.ChangeInScores.PrePostDataset[[#This Row],[First Name & Last Name*\n(choose from list)]],'NLM Data Test 1'!W107:W231,0)),1),\"\")","v":""},{"$f":"'NLM Data Test 2'!D107","v":0},{"$f":"IF(IFERROR(MATCH($D111,'NLM Data Test 2'!$D$12:$D$136,0),\"Error\")=\"Error\",(INDEX('NLM Data Test 1'!$D$12:$D$136,(MATCH($D111,'NLM Data Test 1'!$W$12:$W$136,0)),1)),(INDEX('NLM Data Test 2'!$E$12:$E$136,(MATCH($D111,'NLM Data Test 2'!$D$12:$D$136,0)),1)))","v":{"$error":"#N/A"}},{"$f":"IF(IFERROR(MATCH($D111,'NLM Data Test 2'!$D$12:$D$136,0),\"Error\")=\"Error\",(INDEX('NLM Data Test 1'!$E$12:$E$136,(MATCH($D111,'NLM Data Test 1'!$W$12:$W$136,0)),1)),(INDEX('NLM Data Test 2'!$G$12:$G$136,(MATCH($D111,'NLM Data Test 2'!$D$12:$D$136,0)),1)))","v":{"$error":"#N/A"}},{"$f":"IF(IFERROR(MATCH($D111,'NLM Data Test 2'!$D$12:$D$136,0),\"Error\")=\"Error\",(INDEX('NLM Data Test 1'!$F$12:$F$136,(MATCH($D111,'NLM Data Test 1'!$W$12:$W$136,0)),1)),(INDEX('NLM Data Test 2'!$F$12:$F$136,(MATCH($D111,'NLM Data Test 2'!$D$12:$D$136,0)),1)))","v":{"$error":"#N/A"}},{"$f":"IF(INDEX('NLM Data Test 1'!$H$12:$H$136,(MATCH(NLML.ChangeInScores.PrePostDataset[[#This Row],[First Name & Last Name*\n(choose from list)]],'NLM Data Test 1'!$W$12:$W$136,0)),1)=\"\",\"\",(INDEX('NLM Data Test 1'!H$12:H$136,(MATCH(NLML.ChangeInScores.PrePostDataset[[#This Row],[First Name & Last Name*\n(choose from list)]],'NLM Data Test 1'!$W$12:$W$136,0)),1)))","v":{"$error":"#N/A"}},{"$f":"IF(INDEX('NLM Data Test 1'!$I$12:$I$136,(MATCH(NLML.ChangeInScores.PrePostDataset[[#This Row],[First Name & Last Name*\n(choose from list)]],'NLM Data Test 1'!$W$12:$W$136,0)),1)=\"\",\"\",(INDEX('NLM Data Test 1'!I$12:I$136,(MATCH(NLML.ChangeInScores.PrePostDataset[[#This Row],[First Name & Last Name*\n(choose from list)]],'NLM Data Test 1'!$W$12:$W$136,0)),1)))","v":{"$error":"#N/A"}},{"$f":"IF(INDEX('NLM Data Test 1'!$J$12:$J$136,(MATCH(NLML.ChangeInScores.PrePostDataset[[#This Row],[First Name & Last Name*\n(choose from list)]],'NLM Data Test 1'!$W$12:$W$136,0)),1)=\"\",\"\",(INDEX('NLM Data Test 1'!J$12:J$136,(MATCH(NLML.ChangeInScores.PrePostDataset[[#This Row],[First Name & Last Name*\n(choose from list)]],'NLM Data Test 1'!$W$12:$W$136,0)),1)))","v":{"$error":"#N/A"}},{"$f":"IFERROR(INDEX('NLM Data Test 1'!$M$12:$M$136,(MATCH(NLML.ChangeInScores.PrePostDataset[[#This Row],[First Name & Last Name*\n(choose from list)]],'NLM Data Test 1'!$W$12:$W$136,0)),1),\"\")","v":""},{"$f":"INDEX('NLM Data Test 2'!$I$12:$I$136,(MATCH(NLML.ChangeInScores.PrePostDataset[[#This Row],[First Name & Last Name*\n(choose from list)]],'NLM Data Test 2'!$D$12:$D$136,0)),1)","v":{"$error":"#N/A"}},{"$f":"IFERROR(INDEX('NLM Data Test 2'!$J$12:$J$136,(MATCH(NLML.ChangeInScores.PrePostDataset[[#This Row],[First Name & Last Name*\n(choose from list)]],'NLM Data Test 2'!$X$12:$X$136,0)),1),\"\")","v":""},{"$f":"IFERROR(INDEX('NLM Data Test 2'!$K$12:$K$136,(MATCH(NLML.ChangeInScores.PrePostDataset[[#This Row],[First Name & Last Name*\n(choose from list)]],'NLM Data Test 2'!$X$12:$X$136,0)),1),\"\")","v":""},{"$f":"IFERROR(INDEX('NLM Data Test 2'!$N$12:$N$136,(MATCH(NLML.ChangeInScores.PrePostDataset[[#This Row],[First Name & Last Name*\n(choose from list)]],'NLM Data Test 2'!$X$12:$X$136,0)),1),\"\")","v":""},{"$f":"(INDEX('NLM Data Test 2'!$O$12:$O$136,(MATCH(NLML.ChangeInScores.PrePostDataset[[#This Row],[First Name & Last Name*\n(choose from list)]],'NLM Data Test 2'!$X$12:$X$136,0)),1))-(INDEX('NLM Data Test 1'!$N$12:$N$136,(MATCH(NLML.ChangeInScores.PrePostDataset[[#This Row],[First Name & Last Name*\n(choose from list)]],'NLM Data Test 1'!$W$12:$W$136,0)),1))","v":{"$error":"#N/A"}},{"$f":"(INDEX('NLM Data Test 2'!$P$12:$P$136,(MATCH(NLML.ChangeInScores.PrePostDataset[[#This Row],[First Name & Last Name*\n(choose from list)]],'NLM Data Test 2'!$X$12:$X$136,0)),1))-(INDEX('NLM Data Test 1'!$O$12:$O$136,(MATCH(NLML.ChangeInScores.PrePostDataset[[#This Row],[First Name & Last Name*\n(choose from list)]],'NLM Data Test 1'!$W$12:$W$136,0)),1))","v":{"$error":"#N/A"}},{"$f":"(INDEX('NLM Data Test 2'!$Q$12:$Q$136,(MATCH(NLML.ChangeInScores.PrePostDataset[[#This Row],[First Name & Last Name*\n(choose from list)]],'NLM Data Test 2'!$X$12:$X$136,0)),1))-(INDEX('NLM Data Test 1'!$P$12:$P$136,(MATCH(NLML.ChangeInScores.PrePostDataset[[#This Row],[First Name & Last Name*\n(choose from list)]],'NLM Data Test 1'!$W$12:$W$136,0)),1))","v":{"$error":"#N/A"}},{"$f":"(INDEX('NLM Data Test 2'!$R$12:$R$136,(MATCH(NLML.ChangeInScores.PrePostDataset[[#This Row],[First Name & Last Name*\n(choose from list)]],'NLM Data Test 2'!$X$12:$X$136,0)),1))-(INDEX('NLM Data Test 1'!$Q$12:$Q$136,(MATCH(NLML.ChangeInScores.PrePostDataset[[#This Row],[First Name & Last Name*\n(choose from list)]],'NLM Data Test 1'!$W$12:$W$136,0)),1))","v":{"$error":"#N/A"}},{"$f":"(INDEX('NLM Data Test 2'!$S$12:$S$136,(MATCH(NLML.ChangeInScores.PrePostDataset[[#This Row],[First Name & Last Name*\n(choose from list)]],'NLM Data Test 2'!$X$12:$X$136,0)),1))-(INDEX('NLM Data Test 1'!$R$12:$R$136,(MATCH(NLML.ChangeInScores.PrePostDataset[[#This Row],[First Name & Last Name*\n(choose from list)]],'NLM Data Test 1'!$W$12:$W$136,0)),1))","v":{"$error":"#N/A"}},{"$f":"(INDEX('NLM Data Test 2'!$T$12:$T$136,(MATCH(NLML.ChangeInScores.PrePostDataset[[#This Row],[First Name & Last Name*\n(choose from list)]],'NLM Data Test 2'!$X$12:$X$136,0)),1))-(INDEX('NLM Data Test 1'!$S$12:$S$136,(MATCH(NLML.ChangeInScores.PrePostDataset[[#This Row],[First Name & Last Name*\n(choose from list)]],'NLM Data Test 1'!$W$12:$W$136,0)),1))","v":{"$error":"#N/A"}},{"$f":"IFERROR(INDEX('NLM Data Test 1'!$T$12:$T$136,(MATCH(NLML.ChangeInScores.PrePostDataset[[#This Row],[First Name & Last Name*\n(choose from list)]],'NLM Data Test 1'!$W$12:$W$136,0)),1),\"\")","v":""},{"$f":"IFERROR(INDEX('NLM Data Test 2'!$U$12:$U$136,(MATCH(NLML.ChangeInScores.PrePostDataset[[#This Row],[First Name & Last Name*\n(choose from list)]],'NLM Data Test 2'!$X$12:$X$136,0)),1),\"\")","v":""}]
[97,{"$f":"IFERROR(INDEX(NLML.Test1.PrePostDataset[*First Name],(MATCH(NLML.ChangeInScores.PrePostDataset[[#This Row],[First Name & Last Name*\n(choose from list)]],'NLM Data Test 1'!W108:W232,0)),1),\"\")","v":""},{"$f":"IFERROR(INDEX(NLML.Test1.PrePostDataset[*Last Name],(MATCH(NLML.ChangeInScores.PrePostDataset[[#This Row],[First Name & Last Name*\n(choose from list)]],'NLM Data Test 1'!W108:W232,0)),1),\"\")","v":""},{"$f":"'NLM Data Test 2'!D108","v":0},{"$f":"IF(IFERROR(MATCH($D112,'NLM Data Test 2'!$D$12:$D$136,0),\"Error\")=\"Error\",(INDEX('NLM Data Test 1'!$D$12:$D$136,(MATCH($D112,'NLM Data Test 1'!$W$12:$W$136,0)),1)),(INDEX('NLM Data Test 2'!$E$12:$E$136,(MATCH($D112,'NLM Data Test 2'!$D$12:$D$136,0)),1)))","v":{"$error":"#N/A"}},{"$f":"IF(IFERROR(MATCH($D112,'NLM Data Test 2'!$D$12:$D$136,0),\"Error\")=\"Error\",(INDEX('NLM Data Test 1'!$E$12:$E$136,(MATCH($D112,'NLM Data Test 1'!$W$12:$W$136,0)),1)),(INDEX('NLM Data Test 2'!$G$12:$G$136,(MATCH($D112,'NLM Data Test 2'!$D$12:$D$136,0)),1)))","v":{"$error":"#N/A"}},{"$f":"IF(IFERROR(MATCH($D112,'NLM Data Test 2'!$D$12:$D$136,0),\"Error\")=\"Error\",(INDEX('NLM Data Test 1'!$F$12:$F$136,(MATCH($D112,'NLM Data Test 1'!$W$12:$W$136,0)),1)),(INDEX('NLM Data Test 2'!$F$12:$F$136,(MATCH($D112,'NLM Data Test 2'!$D$12:$D$136,0)),1)))","v":{"$error":"#N/A"}},{"$f":"IF(INDEX('NLM Data Test 1'!$H$12:$H$136,(MATCH(NLML.ChangeInScores.PrePostDataset[[#This Row],[First Name & Last Name*\n(choose from list)]],'NLM Data Test 1'!$W$12:$W$136,0)),1)=\"\",\"\",(INDEX('NLM Data Test 1'!H$12:H$136,(MATCH(NLML.ChangeInScores.PrePostDataset[[#This Row],[First Name & Last Name*\n(choose from list)]],'NLM Data Test 1'!$W$12:$W$136,0)),1)))","v":{"$error":"#N/A"}},{"$f":"IF(INDEX('NLM Data Test 1'!$I$12:$I$136,(MATCH(NLML.ChangeInScores.PrePostDataset[[#This Row],[First Name & Last Name*\n(choose from list)]],'NLM Data Test 1'!$W$12:$W$136,0)),1)=\"\",\"\",(INDEX('NLM Data Test 1'!I$12:I$136,(MATCH(NLML.ChangeInScores.PrePostDataset[[#This Row],[First Name & Last Name*\n(choose from list)]],'NLM Data Test 1'!$W$12:$W$136,0)),1)))","v":{"$error":"#N/A"}},{"$f":"IF(INDEX('NLM Data Test 1'!$J$12:$J$136,(MATCH(NLML.ChangeInScores.PrePostDataset[[#This Row],[First Name & Last Name*\n(choose from list)]],'NLM Data Test 1'!$W$12:$W$136,0)),1)=\"\",\"\",(INDEX('NLM Data Test 1'!J$12:J$136,(MATCH(NLML.ChangeInScores.PrePostDataset[[#This Row],[First Name & Last Name*\n(choose from list)]],'NLM Data Test 1'!$W$12:$W$136,0)),1)))","v":{"$error":"#N/A"}},{"$f":"IFERROR(INDEX('NLM Data Test 1'!$M$12:$M$136,(MATCH(NLML.ChangeInScores.PrePostDataset[[#This Row],[First Name & Last Name*\n(choose from list)]],'NLM Data Test 1'!$W$12:$W$136,0)),1),\"\")","v":""},{"$f":"INDEX('NLM Data Test 2'!$I$12:$I$136,(MATCH(NLML.ChangeInScores.PrePostDataset[[#This Row],[First Name & Last Name*\n(choose from list)]],'NLM Data Test 2'!$D$12:$D$136,0)),1)","v":{"$error":"#N/A"}},{"$f":"IFERROR(INDEX('NLM Data Test 2'!$J$12:$J$136,(MATCH(NLML.ChangeInScores.PrePostDataset[[#This Row],[First Name & Last Name*\n(choose from list)]],'NLM Data Test 2'!$X$12:$X$136,0)),1),\"\")","v":""},{"$f":"IFERROR(INDEX('NLM Data Test 2'!$K$12:$K$136,(MATCH(NLML.ChangeInScores.PrePostDataset[[#This Row],[First Name & Last Name*\n(choose from list)]],'NLM Data Test 2'!$X$12:$X$136,0)),1),\"\")","v":""},{"$f":"IFERROR(INDEX('NLM Data Test 2'!$N$12:$N$136,(MATCH(NLML.ChangeInScores.PrePostDataset[[#This Row],[First Name & Last Name*\n(choose from list)]],'NLM Data Test 2'!$X$12:$X$136,0)),1),\"\")","v":""},{"$f":"(INDEX('NLM Data Test 2'!$O$12:$O$136,(MATCH(NLML.ChangeInScores.PrePostDataset[[#This Row],[First Name & Last Name*\n(choose from list)]],'NLM Data Test 2'!$X$12:$X$136,0)),1))-(INDEX('NLM Data Test 1'!$N$12:$N$136,(MATCH(NLML.ChangeInScores.PrePostDataset[[#This Row],[First Name & Last Name*\n(choose from list)]],'NLM Data Test 1'!$W$12:$W$136,0)),1))","v":{"$error":"#N/A"}},{"$f":"(INDEX('NLM Data Test 2'!$P$12:$P$136,(MATCH(NLML.ChangeInScores.PrePostDataset[[#This Row],[First Name & Last Name*\n(choose from list)]],'NLM Data Test 2'!$X$12:$X$136,0)),1))-(INDEX('NLM Data Test 1'!$O$12:$O$136,(MATCH(NLML.ChangeInScores.PrePostDataset[[#This Row],[First Name & Last Name*\n(choose from list)]],'NLM Data Test 1'!$W$12:$W$136,0)),1))","v":{"$error":"#N/A"}},{"$f":"(INDEX('NLM Data Test 2'!$Q$12:$Q$136,(MATCH(NLML.ChangeInScores.PrePostDataset[[#This Row],[First Name & Last Name*\n(choose from list)]],'NLM Data Test 2'!$X$12:$X$136,0)),1))-(INDEX('NLM Data Test 1'!$P$12:$P$136,(MATCH(NLML.ChangeInScores.PrePostDataset[[#This Row],[First Name & Last Name*\n(choose from list)]],'NLM Data Test 1'!$W$12:$W$136,0)),1))","v":{"$error":"#N/A"}},{"$f":"(INDEX('NLM Data Test 2'!$R$12:$R$136,(MATCH(NLML.ChangeInScores.PrePostDataset[[#This Row],[First Name & Last Name*\n(choose from list)]],'NLM Data Test 2'!$X$12:$X$136,0)),1))-(INDEX('NLM Data Test 1'!$Q$12:$Q$136,(MATCH(NLML.ChangeInScores.PrePostDataset[[#This Row],[First Name & Last Name*\n(choose from list)]],'NLM Data Test 1'!$W$12:$W$136,0)),1))","v":{"$error":"#N/A"}},{"$f":"(INDEX('NLM Data Test 2'!$S$12:$S$136,(MATCH(NLML.ChangeInScores.PrePostDataset[[#This Row],[First Name & Last Name*\n(choose from list)]],'NLM Data Test 2'!$X$12:$X$136,0)),1))-(INDEX('NLM Data Test 1'!$R$12:$R$136,(MATCH(NLML.ChangeInScores.PrePostDataset[[#This Row],[First Name & Last Name*\n(choose from list)]],'NLM Data Test 1'!$W$12:$W$136,0)),1))","v":{"$error":"#N/A"}},{"$f":"(INDEX('NLM Data Test 2'!$T$12:$T$136,(MATCH(NLML.ChangeInScores.PrePostDataset[[#This Row],[First Name & Last Name*\n(choose from list)]],'NLM Data Test 2'!$X$12:$X$136,0)),1))-(INDEX('NLM Data Test 1'!$S$12:$S$136,(MATCH(NLML.ChangeInScores.PrePostDataset[[#This Row],[First Name & Last Name*\n(choose from list)]],'NLM Data Test 1'!$W$12:$W$136,0)),1))","v":{"$error":"#N/A"}},{"$f":"IFERROR(INDEX('NLM Data Test 1'!$T$12:$T$136,(MATCH(NLML.ChangeInScores.PrePostDataset[[#This Row],[First Name & Last Name*\n(choose from list)]],'NLM Data Test 1'!$W$12:$W$136,0)),1),\"\")","v":""},{"$f":"IFERROR(INDEX('NLM Data Test 2'!$U$12:$U$136,(MATCH(NLML.ChangeInScores.PrePostDataset[[#This Row],[First Name & Last Name*\n(choose from list)]],'NLM Data Test 2'!$X$12:$X$136,0)),1),\"\")","v":""}]
[98,{"$f":"IFERROR(INDEX(NLML.Test1.PrePostDataset[*First Name],(MATCH(NLML.ChangeInScores.PrePostDataset[[#This Row],[First Name & Last Name*\n(choose from list)]],'NLM Data Test 1'!W109:W233,0)),1),\"\")","v":""},{"$f":"IFERROR(INDEX(NLML.Test1.PrePostDataset[*Last Name],(MATCH(NLML.ChangeInScores.PrePostDataset[[#This Row],[First Name & Last Name*\n(choose from list)]],'NLM Data Test 1'!W109:W233,0)),1),\"\")","v":""},{"$f":"'NLM Data Test 2'!D109","v":0},{"$f":"IF(IFERROR(MATCH($D113,'NLM Data Test 2'!$D$12:$D$136,0),\"Error\")=\"Error\",(INDEX('NLM Data Test 1'!$D$12:$D$136,(MATCH($D113,'NLM Data Test 1'!$W$12:$W$136,0)),1)),(INDEX('NLM Data Test 2'!$E$12:$E$136,(MATCH($D113,'NLM Data Test 2'!$D$12:$D$136,0)),1)))","v":{"$error":"#N/A"}},{"$f":"IF(IFERROR(MATCH($D113,'NLM Data Test 2'!$D$12:$D$136,0),\"Error\")=\"Error\",(INDEX('NLM Data Test 1'!$E$12:$E$136,(MATCH($D113,'NLM Data Test 1'!$W$12:$W$136,0)),1)),(INDEX('NLM Data Test 2'!$G$12:$G$136,(MATCH($D113,'NLM Data Test 2'!$D$12:$D$136,0)),1)))","v":{"$error":"#N/A"}},{"$f":"IF(IFERROR(MATCH($D113,'NLM Data Test 2'!$D$12:$D$136,0),\"Error\")=\"Error\",(INDEX('NLM Data Test 1'!$F$12:$F$136,(MATCH($D113,'NLM Data Test 1'!$W$12:$W$136,0)),1)),(INDEX('NLM Data Test 2'!$F$12:$F$136,(MATCH($D113,'NLM Data Test 2'!$D$12:$D$136,0)),1)))","v":{"$error":"#N/A"}},{"$f":"IF(INDEX('NLM Data Test 1'!$H$12:$H$136,(MATCH(NLML.ChangeInScores.PrePostDataset[[#This Row],[First Name & Last Name*\n(choose from list)]],'NLM Data Test 1'!$W$12:$W$136,0)),1)=\"\",\"\",(INDEX('NLM Data Test 1'!H$12:H$136,(MATCH(NLML.ChangeInScores.PrePostDataset[[#This Row],[First Name & Last Name*\n(choose from list)]],'NLM Data Test 1'!$W$12:$W$136,0)),1)))","v":{"$error":"#N/A"}},{"$f":"IF(INDEX('NLM Data Test 1'!$I$12:$I$136,(MATCH(NLML.ChangeInScores.PrePostDataset[[#This Row],[First Name & Last Name*\n(choose from list)]],'NLM Data Test 1'!$W$12:$W$136,0)),1)=\"\",\"\",(INDEX('NLM Data Test 1'!I$12:I$136,(MATCH(NLML.ChangeInScores.PrePostDataset[[#This Row],[First Name & Last Name*\n(choose from list)]],'NLM Data Test 1'!$W$12:$W$136,0)),1)))","v":{"$error":"#N/A"}},{"$f":"IF(INDEX('NLM Data Test 1'!$J$12:$J$136,(MATCH(NLML.ChangeInScores.PrePostDataset[[#This Row],[First Name & Last Name*\n(choose from list)]],'NLM Data Test 1'!$W$12:$W$136,0)),1)=\"\",\"\",(INDEX('NLM Data Test 1'!J$12:J$136,(MATCH(NLML.ChangeInScores.PrePostDataset[[#This Row],[First Name & Last Name*\n(choose from list)]],'NLM Data Test 1'!$W$12:$W$136,0)),1)))","v":{"$error":"#N/A"}},{"$f":"IFERROR(INDEX('NLM Data Test 1'!$M$12:$M$136,(MATCH(NLML.ChangeInScores.PrePostDataset[[#This Row],[First Name & Last Name*\n(choose from list)]],'NLM Data Test 1'!$W$12:$W$136,0)),1),\"\")","v":""},{"$f":"INDEX('NLM Data Test 2'!$I$12:$I$136,(MATCH(NLML.ChangeInScores.PrePostDataset[[#This Row],[First Name & Last Name*\n(choose from list)]],'NLM Data Test 2'!$D$12:$D$136,0)),1)","v":{"$error":"#N/A"}},{"$f":"IFERROR(INDEX('NLM Data Test 2'!$J$12:$J$136,(MATCH(NLML.ChangeInScores.PrePostDataset[[#This Row],[First Name & Last Name*\n(choose from list)]],'NLM Data Test 2'!$X$12:$X$136,0)),1),\"\")","v":""},{"$f":"IFERROR(INDEX('NLM Data Test 2'!$K$12:$K$136,(MATCH(NLML.ChangeInScores.PrePostDataset[[#This Row],[First Name & Last Name*\n(choose from list)]],'NLM Data Test 2'!$X$12:$X$136,0)),1),\"\")","v":""},{"$f":"IFERROR(INDEX('NLM Data Test 2'!$N$12:$N$136,(MATCH(NLML.ChangeInScores.PrePostDataset[[#This Row],[First Name & Last Name*\n(choose from list)]],'NLM Data Test 2'!$X$12:$X$136,0)),1),\"\")","v":""},{"$f":"(INDEX('NLM Data Test 2'!$O$12:$O$136,(MATCH(NLML.ChangeInScores.PrePostDataset[[#This Row],[First Name & Last Name*\n(choose from list)]],'NLM Data Test 2'!$X$12:$X$136,0)),1))-(INDEX('NLM Data Test 1'!$N$12:$N$136,(MATCH(NLML.ChangeInScores.PrePostDataset[[#This Row],[First Name & Last Name*\n(choose from list)]],'NLM Data Test 1'!$W$12:$W$136,0)),1))","v":{"$error":"#N/A"}},{"$f":"(INDEX('NLM Data Test 2'!$P$12:$P$136,(MATCH(NLML.ChangeInScores.PrePostDataset[[#This Row],[First Name & Last Name*\n(choose from list)]],'NLM Data Test 2'!$X$12:$X$136,0)),1))-(INDEX('NLM Data Test 1'!$O$12:$O$136,(MATCH(NLML.ChangeInScores.PrePostDataset[[#This Row],[First Name & Last Name*\n(choose from list)]],'NLM Data Test 1'!$W$12:$W$136,0)),1))","v":{"$error":"#N/A"}},{"$f":"(INDEX('NLM Data Test 2'!$Q$12:$Q$136,(MATCH(NLML.ChangeInScores.PrePostDataset[[#This Row],[First Name & Last Name*\n(choose from list)]],'NLM Data Test 2'!$X$12:$X$136,0)),1))-(INDEX('NLM Data Test 1'!$P$12:$P$136,(MATCH(NLML.ChangeInScores.PrePostDataset[[#This Row],[First Name & Last Name*\n(choose from list)]],'NLM Data Test 1'!$W$12:$W$136,0)),1))","v":{"$error":"#N/A"}},{"$f":"(INDEX('NLM Data Test 2'!$R$12:$R$136,(MATCH(NLML.ChangeInScores.PrePostDataset[[#This Row],[First Name & Last Name*\n(choose from list)]],'NLM Data Test 2'!$X$12:$X$136,0)),1))-(INDEX('NLM Data Test 1'!$Q$12:$Q$136,(MATCH(NLML.ChangeInScores.PrePostDataset[[#This Row],[First Name & Last Name*\n(choose from list)]],'NLM Data Test 1'!$W$12:$W$136,0)),1))","v":{"$error":"#N/A"}},{"$f":"(INDEX('NLM Data Test 2'!$S$12:$S$136,(MATCH(NLML.ChangeInScores.PrePostDataset[[#This Row],[First Name & Last Name*\n(choose from list)]],'NLM Data Test 2'!$X$12:$X$136,0)),1))-(INDEX('NLM Data Test 1'!$R$12:$R$136,(MATCH(NLML.ChangeInScores.PrePostDataset[[#This Row],[First Name & Last Name*\n(choose from list)]],'NLM Data Test 1'!$W$12:$W$136,0)),1))","v":{"$error":"#N/A"}},{"$f":"(INDEX('NLM Data Test 2'!$T$12:$T$136,(MATCH(NLML.ChangeInScores.PrePostDataset[[#This Row],[First Name & Last Name*\n(choose from list)]],'NLM Data Test 2'!$X$12:$X$136,0)),1))-(INDEX('NLM Data Test 1'!$S$12:$S$136,(MATCH(NLML.ChangeInScores.PrePostDataset[[#This Row],[First Name & Last Name*\n(choose from list)]],'NLM Data Test 1'!$W$12:$W$136,0)),1))","v":{"$error":"#N/A"}},{"$f":"IFERROR(INDEX('NLM Data Test 1'!$T$12:$T$136,(MATCH(NLML.ChangeInScores.PrePostDataset[[#This Row],[First Name & Last Name*\n(choose from list)]],'NLM Data Test 1'!$W$12:$W$136,0)),1),\"\")","v":""},{"$f":"IFERROR(INDEX('NLM Data Test 2'!$U$12:$U$136,(MATCH(NLML.ChangeInScores.PrePostDataset[[#This Row],[First Name & Last Name*\n(choose from list)]],'NLM Data Test 2'!$X$12:$X$136,0)),1),\"\")","v":""}]
[99,{"$f":"IFERROR(INDEX(NLML.Test1.PrePostDataset[*First Name],(MATCH(NLML.ChangeInScores.PrePostDataset[[#This Row],[First Name & Last Name*\n(choose from list)]],'NLM Data Test 1'!W110:W234,0)),1),\"\")","v":""},{"$f":"IFERROR(INDEX(NLML.Test1.PrePostDataset[*Last Name],(MATCH(NLML.ChangeInScores.PrePostDataset[[#This Row],[First Name & Last Name*\n(choose from list)]],'NLM Data Test 1'!W110:W234,0)),1),\"\")","v":""},{"$f":"'NLM Data Test 2'!D110","v":0},{"$f":"IF(IFERROR(MATCH($D114,'NLM Data Test 2'!$D$12:$D$136,0),\"Error\")=\"Error\",(INDEX('NLM Data Test 1'!$D$12:$D$136,(MATCH($D114,'NLM Data Test 1'!$W$12:$W$136,0)),1)),(INDEX('NLM Data Test 2'!$E$12:$E$136,(MATCH($D114,'NLM Data Test 2'!$D$12:$D$136,0)),1)))","v":{"$error":"#N/A"}},{"$f":"IF(IFERROR(MATCH($D114,'NLM Data Test 2'!$D$12:$D$136,0),\"Error\")=\"Error\",(INDEX('NLM Data Test 1'!$E$12:$E$136,(MATCH($D114,'NLM Data Test 1'!$W$12:$W$136,0)),1)),(INDEX('NLM Data Test 2'!$G$12:$G$136,(MATCH($D114,'NLM Data Test 2'!$D$12:$D$136,0)),1)))","v":{"$error":"#N/A"}},{"$f":"IF(IFERROR(MATCH($D114,'NLM Data Test 2'!$D$12:$D$136,0),\"Error\")=\"Error\",(INDEX('NLM Data Test 1'!$F$12:$F$136,(MATCH($D114,'NLM Data Test 1'!$W$12:$W$136,0)),1)),(INDEX('NLM Data Test 2'!$F$12:$F$136,(MATCH($D114,'NLM Data Test 2'!$D$12:$D$136,0)),1)))","v":{"$error":"#N/A"}},{"$f":"IF(INDEX('NLM Data Test 1'!$H$12:$H$136,(MATCH(NLML.ChangeInScores.PrePostDataset[[#This Row],[First Name & Last Name*\n(choose from list)]],'NLM Data Test 1'!$W$12:$W$136,0)),1)=\"\",\"\",(INDEX('NLM Data Test 1'!H$12:H$136,(MATCH(NLML.ChangeInScores.PrePostDataset[[#This Row],[First Name & Last Name*\n(choose from list)]],'NLM Data Test 1'!$W$12:$W$136,0)),1)))","v":{"$error":"#N/A"}},{"$f":"IF(INDEX('NLM Data Test 1'!$I$12:$I$136,(MATCH(NLML.ChangeInScores.PrePostDataset[[#This Row],[First Name & Last Name*\n(choose from list)]],'NLM Data Test 1'!$W$12:$W$136,0)),1)=\"\",\"\",(INDEX('NLM Data Test 1'!I$12:I$136,(MATCH(NLML.ChangeInScores.PrePostDataset[[#This Row],[First Name & Last Name*\n(choose from list)]],'NLM Data Test 1'!$W$12:$W$136,0)),1)))","v":{"$error":"#N/A"}},{"$f":"IF(INDEX('NLM Data Test 1'!$J$12:$J$136,(MATCH(NLML.ChangeInScores.PrePostDataset[[#This Row],[First Name & Last Name*\n(choose from list)]],'NLM Data Test 1'!$W$12:$W$136,0)),1)=\"\",\"\",(INDEX('NLM Data Test 1'!J$12:J$136,(MATCH(NLML.ChangeInScores.PrePostDataset[[#This Row],[First Name & Last Name*\n(choose from list)]],'NLM Data Test 1'!$W$12:$W$136,0)),1)))","v":{"$error":"#N/A"}},{"$f":"IFERROR(INDEX('NLM Data Test 1'!$M$12:$M$136,(MATCH(NLML.ChangeInScores.PrePostDataset[[#This Row],[First Name & Last Name*\n(choose from list)]],'NLM Data Test 1'!$W$12:$W$136,0)),1),\"\")","v":""},{"$f":"INDEX('NLM Data Test 2'!$I$12:$I$136,(MATCH(NLML.ChangeInScores.PrePostDataset[[#This Row],[First Name & Last Name*\n(choose from list)]],'NLM Data Test 2'!$D$12:$D$136,0)),1)","v":{"$error":"#N/A"}},{"$f":"IFERROR(INDEX('NLM Data Test 2'!$J$12:$J$136,(MATCH(NLML.ChangeInScores.PrePostDataset[[#This Row],[First Name & Last Name*\n(choose from list)]],'NLM Data Test 2'!$X$12:$X$136,0)),1),\"\")","v":""},{"$f":"IFERROR(INDEX('NLM Data Test 2'!$K$12:$K$136,(MATCH(NLML.ChangeInScores.PrePostDataset[[#This Row],[First Name & Last Name*\n(choose from list)]],'NLM Data Test 2'!$X$12:$X$136,0)),1),\"\")","v":""},{"$f":"IFERROR(INDEX('NLM Data Test 2'!$N$12:$N$136,(MATCH(NLML.ChangeInScores.PrePostDataset[[#This Row],[First Name & Last Name*\n(choose from list)]],'NLM Data Test 2'!$X$12:$X$136,0)),1),\"\")","v":""},{"$f":"(INDEX('NLM Data Test 2'!$O$12:$O$136,(MATCH(NLML.ChangeInScores.PrePostDataset[[#This Row],[First Name & Last Name*\n(choose from list)]],'NLM Data Test 2'!$X$12:$X$136,0)),1))-(INDEX('NLM Data Test 1'!$N$12:$N$136,(MATCH(NLML.ChangeInScores.PrePostDataset[[#This Row],[First Name & Last Name*\n(choose from list)]],'NLM Data Test 1'!$W$12:$W$136,0)),1))","v":{"$error":"#N/A"}},{"$f":"(INDEX('NLM Data Test 2'!$P$12:$P$136,(MATCH(NLML.ChangeInScores.PrePostDataset[[#This Row],[First Name & Last Name*\n(choose from list)]],'NLM Data Test 2'!$X$12:$X$136,0)),1))-(INDEX('NLM Data Test 1'!$O$12:$O$136,(MATCH(NLML.ChangeInScores.PrePostDataset[[#This Row],[First Name & Last Name*\n(choose from list)]],'NLM Data Test 1'!$W$12:$W$136,0)),1))","v":{"$error":"#N/A"}},{"$f":"(INDEX('NLM Data Test 2'!$Q$12:$Q$136,(MATCH(NLML.ChangeInScores.PrePostDataset[[#This Row],[First Name & Last Name*\n(choose from list)]],'NLM Data Test 2'!$X$12:$X$136,0)),1))-(INDEX('NLM Data Test 1'!$P$12:$P$136,(MATCH(NLML.ChangeInScores.PrePostDataset[[#This Row],[First Name & Last Name*\n(choose from list)]],'NLM Data Test 1'!$W$12:$W$136,0)),1))","v":{"$error":"#N/A"}},{"$f":"(INDEX('NLM Data Test 2'!$R$12:$R$136,(MATCH(NLML.ChangeInScores.PrePostDataset[[#This Row],[First Name & Last Name*\n(choose from list)]],'NLM Data Test 2'!$X$12:$X$136,0)),1))-(INDEX('NLM Data Test 1'!$Q$12:$Q$136,(MATCH(NLML.ChangeInScores.PrePostDataset[[#This Row],[First Name & Last Name*\n(choose from list)]],'NLM Data Test 1'!$W$12:$W$136,0)),1))","v":{"$error":"#N/A"}},{"$f":"(INDEX('NLM Data Test 2'!$S$12:$S$136,(MATCH(NLML.ChangeInScores.PrePostDataset[[#This Row],[First Name & Last Name*\n(choose from list)]],'NLM Data Test 2'!$X$12:$X$136,0)),1))-(INDEX('NLM Data Test 1'!$R$12:$R$136,(MATCH(NLML.ChangeInScores.PrePostDataset[[#This Row],[First Name & Last Name*\n(choose from list)]],'NLM Data Test 1'!$W$12:$W$136,0)),1))","v":{"$error":"#N/A"}},{"$f":"(INDEX('NLM Data Test 2'!$T$12:$T$136,(MATCH(NLML.ChangeInScores.PrePostDataset[[#This Row],[First Name & Last Name*\n(choose from list)]],'NLM Data Test 2'!$X$12:$X$136,0)),1))-(INDEX('NLM Data Test 1'!$S$12:$S$136,(MATCH(NLML.ChangeInScores.PrePostDataset[[#This Row],[First Name & Last Name*\n(choose from list)]],'NLM Data Test 1'!$W$12:$W$136,0)),1))","v":{"$error":"#N/A"}},{"$f":"IFERROR(INDEX('NLM Data Test 1'!$T$12:$T$136,(MATCH(NLML.ChangeInScores.PrePostDataset[[#This Row],[First Name & Last Name*\n(choose from list)]],'NLM Data Test 1'!$W$12:$W$136,0)),1),\"\")","v":""},{"$f":"IFERROR(INDEX('NLM Data Test 2'!$U$12:$U$136,(MATCH(NLML.ChangeInScores.PrePostDataset[[#This Row],[First Name & Last Name*\n(choose from list)]],'NLM Data Test 2'!$X$12:$X$136,0)),1),\"\")","v":""}]
[100,{"$f":"IFERROR(INDEX(NLML.Test1.PrePostDataset[*First Name],(MATCH(NLML.ChangeInScores.PrePostDataset[[#This Row],[First Name & Last Name*\n(choose from list)]],'NLM Data Test 1'!W111:W235,0)),1),\"\")","v":""},{"$f":"IFERROR(INDEX(NLML.Test1.PrePostDataset[*Last Name],(MATCH(NLML.ChangeInScores.PrePostDataset[[#This Row],[First Name & Last Name*\n(choose from list)]],'NLM Data Test 1'!W111:W235,0)),1),\"\")","v":""},{"$f":"'NLM Data Test 2'!D111","v":0},{"$f":"IF(IFERROR(MATCH($D115,'NLM Data Test 2'!$D$12:$D$136,0),\"Error\")=\"Error\",(INDEX('NLM Data Test 1'!$D$12:$D$136,(MATCH($D115,'NLM Data Test 1'!$W$12:$W$136,0)),1)),(INDEX('NLM Data Test 2'!$E$12:$E$136,(MATCH($D115,'NLM Data Test 2'!$D$12:$D$136,0)),1)))","v":{"$error":"#N/A"}},{"$f":"IF(IFERROR(MATCH($D115,'NLM Data Test 2'!$D$12:$D$136,0),\"Error\")=\"Error\",(INDEX('NLM Data Test 1'!$E$12:$E$136,(MATCH($D115,'NLM Data Test 1'!$W$12:$W$136,0)),1)),(INDEX('NLM Data Test 2'!$G$12:$G$136,(MATCH($D115,'NLM Data Test 2'!$D$12:$D$136,0)),1)))","v":{"$error":"#N/A"}},{"$f":"IF(IFERROR(MATCH($D115,'NLM Data Test 2'!$D$12:$D$136,0),\"Error\")=\"Error\",(INDEX('NLM Data Test 1'!$F$12:$F$136,(MATCH($D115,'NLM Data Test 1'!$W$12:$W$136,0)),1)),(INDEX('NLM Data Test 2'!$F$12:$F$136,(MATCH($D115,'NLM Data Test 2'!$D$12:$D$136,0)),1)))","v":{"$error":"#N/A"}},{"$f":"IF(INDEX('NLM Data Test 1'!$H$12:$H$136,(MATCH(NLML.ChangeInScores.PrePostDataset[[#This Row],[First Name & Last Name*\n(choose from list)]],'NLM Data Test 1'!$W$12:$W$136,0)),1)=\"\",\"\",(INDEX('NLM Data Test 1'!H$12:H$136,(MATCH(NLML.ChangeInScores.PrePostDataset[[#This Row],[First Name & Last Name*\n(choose from list)]],'NLM Data Test 1'!$W$12:$W$136,0)),1)))","v":{"$error":"#N/A"}},{"$f":"IF(INDEX('NLM Data Test 1'!$I$12:$I$136,(MATCH(NLML.ChangeInScores.PrePostDataset[[#This Row],[First Name & Last Name*\n(choose from list)]],'NLM Data Test 1'!$W$12:$W$136,0)),1)=\"\",\"\",(INDEX('NLM Data Test 1'!I$12:I$136,(MATCH(NLML.ChangeInScores.PrePostDataset[[#This Row],[First Name & Last Name*\n(choose from list)]],'NLM Data Test 1'!$W$12:$W$136,0)),1)))","v":{"$error":"#N/A"}},{"$f":"IF(INDEX('NLM Data Test 1'!$J$12:$J$136,(MATCH(NLML.ChangeInScores.PrePostDataset[[#This Row],[First Name & Last Name*\n(choose from list)]],'NLM Data Test 1'!$W$12:$W$136,0)),1)=\"\",\"\",(INDEX('NLM Data Test 1'!J$12:J$136,(MATCH(NLML.ChangeInScores.PrePostDataset[[#This Row],[First Name & Last Name*\n(choose from list)]],'NLM Data Test 1'!$W$12:$W$136,0)),1)))","v":{"$error":"#N/A"}},{"$f":"IFERROR(INDEX('NLM Data Test 1'!$M$12:$M$136,(MATCH(NLML.ChangeInScores.PrePostDataset[[#This Row],[First Name & Last Name*\n(choose from list)]],'NLM Data Test 1'!$W$12:$W$136,0)),1),\"\")","v":""},{"$f":"INDEX('NLM Data Test 2'!$I$12:$I$136,(MATCH(NLML.ChangeInScores.PrePostDataset[[#This Row],[First Name & Last Name*\n(choose from list)]],'NLM Data Test 2'!$D$12:$D$136,0)),1)","v":{"$error":"#N/A"}},{"$f":"IFERROR(INDEX('NLM Data Test 2'!$J$12:$J$136,(MATCH(NLML.ChangeInScores.PrePostDataset[[#This Row],[First Name & Last Name*\n(choose from list)]],'NLM Data Test 2'!$X$12:$X$136,0)),1),\"\")","v":""},{"$f":"IFERROR(INDEX('NLM Data Test 2'!$K$12:$K$136,(MATCH(NLML.ChangeInScores.PrePostDataset[[#This Row],[First Name & Last Name*\n(choose from list)]],'NLM Data Test 2'!$X$12:$X$136,0)),1),\"\")","v":""},{"$f":"IFERROR(INDEX('NLM Data Test 2'!$N$12:$N$136,(MATCH(NLML.ChangeInScores.PrePostDataset[[#This Row],[First Name & Last Name*\n(choose from list)]],'NLM Data Test 2'!$X$12:$X$136,0)),1),\"\")","v":""},{"$f":"(INDEX('NLM Data Test 2'!$O$12:$O$136,(MATCH(NLML.ChangeInScores.PrePostDataset[[#This Row],[First Name & Last Name*\n(choose from list)]],'NLM Data Test 2'!$X$12:$X$136,0)),1))-(INDEX('NLM Data Test 1'!$N$12:$N$136,(MATCH(NLML.ChangeInScores.PrePostDataset[[#This Row],[First Name & Last Name*\n(choose from list)]],'NLM Data Test 1'!$W$12:$W$136,0)),1))","v":{"$error":"#N/A"}},{"$f":"(INDEX('NLM Data Test 2'!$P$12:$P$136,(MATCH(NLML.ChangeInScores.PrePostDataset[[#This Row],[First Name & Last Name*\n(choose from list)]],'NLM Data Test 2'!$X$12:$X$136,0)),1))-(INDEX('NLM Data Test 1'!$O$12:$O$136,(MATCH(NLML.ChangeInScores.PrePostDataset[[#This Row],[First Name & Last Name*\n(choose from list)]],'NLM Data Test 1'!$W$12:$W$136,0)),1))","v":{"$error":"#N/A"}},{"$f":"(INDEX('NLM Data Test 2'!$Q$12:$Q$136,(MATCH(NLML.ChangeInScores.PrePostDataset[[#This Row],[First Name & Last Name*\n(choose from list)]],'NLM Data Test 2'!$X$12:$X$136,0)),1))-(INDEX('NLM Data Test 1'!$P$12:$P$136,(MATCH(NLML.ChangeInScores.PrePostDataset[[#This Row],[First Name & Last Name*\n(choose from list)]],'NLM Data Test 1'!$W$12:$W$136,0)),1))","v":{"$error":"#N/A"}},{"$f":"(INDEX('NLM Data Test 2'!$R$12:$R$136,(MATCH(NLML.ChangeInScores.PrePostDataset[[#This Row],[First Name & Last Name*\n(choose from list)]],'NLM Data Test 2'!$X$12:$X$136,0)),1))-(INDEX('NLM Data Test 1'!$Q$12:$Q$136,(MATCH(NLML.ChangeInScores.PrePostDataset[[#This Row],[First Name & Last Name*\n(choose from list)]],'NLM Data Test 1'!$W$12:$W$136,0)),1))","v":{"$error":"#N/A"}},{"$f":"(INDEX('NLM Data Test 2'!$S$12:$S$136,(MATCH(NLML.ChangeInScores.PrePostDataset[[#This Row],[First Name & Last Name*\n(choose from list)]],'NLM Data Test 2'!$X$12:$X$136,0)),1))-(INDEX('NLM Data Test 1'!$R$12:$R$136,(MATCH(NLML.ChangeInScores.PrePostDataset[[#This Row],[First Name & Last Name*\n(choose from list)]],'NLM Data Test 1'!$W$12:$W$136,0)),1))","v":{"$error":"#N/A"}},{"$f":"(INDEX('NLM Data Test 2'!$T$12:$T$136,(MATCH(NLML.ChangeInScores.PrePostDataset[[#This Row],[First Name & Last Name*\n(choose from list)]],'NLM Data Test 2'!$X$12:$X$136,0)),1))-(INDEX('NLM Data Test 1'!$S$12:$S$136,(MATCH(NLML.ChangeInScores.PrePostDataset[[#This Row],[First Name & Last Name*\n(choose from list)]],'NLM Data Test 1'!$W$12:$W$136,0)),1))","v":{"$error":"#N/A"}},{"$f":"IFERROR(INDEX('NLM Data Test 1'!$T$12:$T$136,(MATCH(NLML.ChangeInScores.PrePostDataset[[#This Row],[First Name & Last Name*\n(choose from list)]],'NLM Data Test 1'!$W$12:$W$136,0)),1),\"\")","v":""},{"$f":"IFERROR(INDEX('NLM Data Test 2'!$U$12:$U$136,(MATCH(NLML.ChangeInScores.PrePostDataset[[#This Row],[First Name & Last Name*\n(choose from list)]],'NLM Data Test 2'!$X$12:$X$136,0)),1),\"\")","v":""}]
[101,{"$f":"IFERROR(INDEX(NLML.Test1.PrePostDataset[*First Name],(MATCH(NLML.ChangeInScores.PrePostDataset[[#This Row],[First Name & Last Name*\n(choose from list)]],'NLM Data Test 1'!W112:W236,0)),1),\"\")","v":""},{"$f":"IFERROR(INDEX(NLML.Test1.PrePostDataset[*Last Name],(MATCH(NLML.ChangeInScores.PrePostDataset[[#This Row],[First Name & Last Name*\n(choose from list)]],'NLM Data Test 1'!W112:W236,0)),1),\"\")","v":""},{"$f":"'NLM Data Test 2'!D112","v":0},{"$f":"IF(IFERROR(MATCH($D116,'NLM Data Test 2'!$D$12:$D$136,0),\"Error\")=\"Error\",(INDEX('NLM Data Test 1'!$D$12:$D$136,(MATCH($D116,'NLM Data Test 1'!$W$12:$W$136,0)),1)),(INDEX('NLM Data Test 2'!$E$12:$E$136,(MATCH($D116,'NLM Data Test 2'!$D$12:$D$136,0)),1)))","v":{"$error":"#N/A"}},{"$f":"IF(IFERROR(MATCH($D116,'NLM Data Test 2'!$D$12:$D$136,0),\"Error\")=\"Error\",(INDEX('NLM Data Test 1'!$E$12:$E$136,(MATCH($D116,'NLM Data Test 1'!$W$12:$W$136,0)),1)),(INDEX('NLM Data Test 2'!$G$12:$G$136,(MATCH($D116,'NLM Data Test 2'!$D$12:$D$136,0)),1)))","v":{"$error":"#N/A"}},{"$f":"IF(IFERROR(MATCH($D116,'NLM Data Test 2'!$D$12:$D$136,0),\"Error\")=\"Error\",(INDEX('NLM Data Test 1'!$F$12:$F$136,(MATCH($D116,'NLM Data Test 1'!$W$12:$W$136,0)),1)),(INDEX('NLM Data Test 2'!$F$12:$F$136,(MATCH($D116,'NLM Data Test 2'!$D$12:$D$136,0)),1)))","v":{"$error":"#N/A"}},{"$f":"IF(INDEX('NLM Data Test 1'!$H$12:$H$136,(MATCH(NLML.ChangeInScores.PrePostDataset[[#This Row],[First Name & Last Name*\n(choose from list)]],'NLM Data Test 1'!$W$12:$W$136,0)),1)=\"\",\"\",(INDEX('NLM Data Test 1'!H$12:H$136,(MATCH(NLML.ChangeInScores.PrePostDataset[[#This Row],[First Name & Last Name*\n(choose from list)]],'NLM Data Test 1'!$W$12:$W$136,0)),1)))","v":{"$error":"#N/A"}},{"$f":"IF(INDEX('NLM Data Test 1'!$I$12:$I$136,(MATCH(NLML.ChangeInScores.PrePostDataset[[#This Row],[First Name & Last Name*\n(choose from list)]],'NLM Data Test 1'!$W$12:$W$136,0)),1)=\"\",\"\",(INDEX('NLM Data Test 1'!I$12:I$136,(MATCH(NLML.ChangeInScores.PrePostDataset[[#This Row],[First Name & Last Name*\n(choose from list)]],'NLM Data Test 1'!$W$12:$W$136,0)),1)))","v":{"$error":"#N/A"}},{"$f":"IF(INDEX('NLM Data Test 1'!$J$12:$J$136,(MATCH(NLML.ChangeInScores.PrePostDataset[[#This Row],[First Name & Last Name*\n(choose from list)]],'NLM Data Test 1'!$W$12:$W$136,0)),1)=\"\",\"\",(INDEX('NLM Data Test 1'!J$12:J$136,(MATCH(NLML.ChangeInScores.PrePostDataset[[#This Row],[First Name & Last Name*\n(choose from list)]],'NLM Data Test 1'!$W$12:$W$136,0)),1)))","v":{"$error":"#N/A"}},{"$f":"IFERROR(INDEX('NLM Data Test 1'!$M$12:$M$136,(MATCH(NLML.ChangeInScores.PrePostDataset[[#This Row],[First Name & Last Name*\n(choose from list)]],'NLM Data Test 1'!$W$12:$W$136,0)),1),\"\")","v":""},{"$f":"INDEX('NLM Data Test 2'!$I$12:$I$136,(MATCH(NLML.ChangeInScores.PrePostDataset[[#This Row],[First Name & Last Name*\n(choose from list)]],'NLM Data Test 2'!$D$12:$D$136,0)),1)","v":{"$error":"#N/A"}},{"$f":"IFERROR(INDEX('NLM Data Test 2'!$J$12:$J$136,(MATCH(NLML.ChangeInScores.PrePostDataset[[#This Row],[First Name & Last Name*\n(choose from list)]],'NLM Data Test 2'!$X$12:$X$136,0)),1),\"\")","v":""},{"$f":"IFERROR(INDEX('NLM Data Test 2'!$K$12:$K$136,(MATCH(NLML.ChangeInScores.PrePostDataset[[#This Row],[First Name & Last Name*\n(choose from list)]],'NLM Data Test 2'!$X$12:$X$136,0)),1),\"\")","v":""},{"$f":"IFERROR(INDEX('NLM Data Test 2'!$N$12:$N$136,(MATCH(NLML.ChangeInScores.PrePostDataset[[#This Row],[First Name & Last Name*\n(choose from list)]],'NLM Data Test 2'!$X$12:$X$136,0)),1),\"\")","v":""},{"$f":"(INDEX('NLM Data Test 2'!$O$12:$O$136,(MATCH(NLML.ChangeInScores.PrePostDataset[[#This Row],[First Name & Last Name*\n(choose from list)]],'NLM Data Test 2'!$X$12:$X$136,0)),1))-(INDEX('NLM Data Test 1'!$N$12:$N$136,(MATCH(NLML.ChangeInScores.PrePostDataset[[#This Row],[First Name & Last Name*\n(choose from list)]],'NLM Data Test 1'!$W$12:$W$136,0)),1))","v":{"$error":"#N/A"}},{"$f":"(INDEX('NLM Data Test 2'!$P$12:$P$136,(MATCH(NLML.ChangeInScores.PrePostDataset[[#This Row],[First Name & Last Name*\n(choose from list)]],'NLM Data Test 2'!$X$12:$X$136,0)),1))-(INDEX('NLM Data Test 1'!$O$12:$O$136,(MATCH(NLML.ChangeInScores.PrePostDataset[[#This Row],[First Name & Last Name*\n(choose from list)]],'NLM Data Test 1'!$W$12:$W$136,0)),1))","v":{"$error":"#N/A"}},{"$f":"(INDEX('NLM Data Test 2'!$Q$12:$Q$136,(MATCH(NLML.ChangeInScores.PrePostDataset[[#This Row],[First Name & Last Name*\n(choose from list)]],'NLM Data Test 2'!$X$12:$X$136,0)),1))-(INDEX('NLM Data Test 1'!$P$12:$P$136,(MATCH(NLML.ChangeInScores.PrePostDataset[[#This Row],[First Name & Last Name*\n(choose from list)]],'NLM Data Test 1'!$W$12:$W$136,0)),1))","v":{"$error":"#N/A"}},{"$f":"(INDEX('NLM Data Test 2'!$R$12:$R$136,(MATCH(NLML.ChangeInScores.PrePostDataset[[#This Row],[First Name & Last Name*\n(choose from list)]],'NLM Data Test 2'!$X$12:$X$136,0)),1))-(INDEX('NLM Data Test 1'!$Q$12:$Q$136,(MATCH(NLML.ChangeInScores.PrePostDataset[[#This Row],[First Name & Last Name*\n(choose from list)]],'NLM Data Test 1'!$W$12:$W$136,0)),1))","v":{"$error":"#N/A"}},{"$f":"(INDEX('NLM Data Test 2'!$S$12:$S$136,(MATCH(NLML.ChangeInScores.PrePostDataset[[#This Row],[First Name & Last Name*\n(choose from list)]],'NLM Data Test 2'!$X$12:$X$136,0)),1))-(INDEX('NLM Data Test 1'!$R$12:$R$136,(MATCH(NLML.ChangeInScores.PrePostDataset[[#This Row],[First Name & Last Name*\n(choose from list)]],'NLM Data Test 1'!$W$12:$W$136,0)),1))","v":{"$error":"#N/A"}},{"$f":"(INDEX('NLM Data Test 2'!$T$12:$T$136,(MATCH(NLML.ChangeInScores.PrePostDataset[[#This Row],[First Name & Last Name*\n(choose from list)]],'NLM Data Test 2'!$X$12:$X$136,0)),1))-(INDEX('NLM Data Test 1'!$S$12:$S$136,(MATCH(NLML.ChangeInScores.PrePostDataset[[#This Row],[First Name & Last Name*\n(choose from list)]],'NLM Data Test 1'!$W$12:$W$136,0)),1))","v":{"$error":"#N/A"}},{"$f":"IFERROR(INDEX('NLM Data Test 1'!$T$12:$T$136,(MATCH(NLML.ChangeInScores.PrePostDataset[[#This Row],[First Name & Last Name*\n(choose from list)]],'NLM Data Test 1'!$W$12:$W$136,0)),1),\"\")","v":""},{"$f":"IFERROR(INDEX('NLM Data Test 2'!$U$12:$U$136,(MATCH(NLML.ChangeInScores.PrePostDataset[[#This Row],[First Name & Last Name*\n(choose from list)]],'NLM Data Test 2'!$X$12:$X$136,0)),1),\"\")","v":""}]
[102,{"$f":"IFERROR(INDEX(NLML.Test1.PrePostDataset[*First Name],(MATCH(NLML.ChangeInScores.PrePostDataset[[#This Row],[First Name & Last Name*\n(choose from list)]],'NLM Data Test 1'!W113:W237,0)),1),\"\")","v":""},{"$f":"IFERROR(INDEX(NLML.Test1.PrePostDataset[*Last Name],(MATCH(NLML.ChangeInScores.PrePostDataset[[#This Row],[First Name & Last Name*\n(choose from list)]],'NLM Data Test 1'!W113:W237,0)),1),\"\")","v":""},{"$f":"'NLM Data Test 2'!D113","v":0},{"$f":"IF(IFERROR(MATCH($D117,'NLM Data Test 2'!$D$12:$D$136,0),\"Error\")=\"Error\",(INDEX('NLM Data Test 1'!$D$12:$D$136,(MATCH($D117,'NLM Data Test 1'!$W$12:$W$136,0)),1)),(INDEX('NLM Data Test 2'!$E$12:$E$136,(MATCH($D117,'NLM Data Test 2'!$D$12:$D$136,0)),1)))","v":{"$error":"#N/A"}},{"$f":"IF(IFERROR(MATCH($D117,'NLM Data Test 2'!$D$12:$D$136,0),\"Error\")=\"Error\",(INDEX('NLM Data Test 1'!$E$12:$E$136,(MATCH($D117,'NLM Data Test 1'!$W$12:$W$136,0)),1)),(INDEX('NLM Data Test 2'!$G$12:$G$136,(MATCH($D117,'NLM Data Test 2'!$D$12:$D$136,0)),1)))","v":{"$error":"#N/A"}},{"$f":"IF(IFERROR(MATCH($D117,'NLM Data Test 2'!$D$12:$D$136,0),\"Error\")=\"Error\",(INDEX('NLM Data Test 1'!$F$12:$F$136,(MATCH($D117,'NLM Data Test 1'!$W$12:$W$136,0)),1)),(INDEX('NLM Data Test 2'!$F$12:$F$136,(MATCH($D117,'NLM Data Test 2'!$D$12:$D$136,0)),1)))","v":{"$error":"#N/A"}},{"$f":"IF(INDEX('NLM Data Test 1'!$H$12:$H$136,(MATCH(NLML.ChangeInScores.PrePostDataset[[#This Row],[First Name & Last Name*\n(choose from list)]],'NLM Data Test 1'!$W$12:$W$136,0)),1)=\"\",\"\",(INDEX('NLM Data Test 1'!H$12:H$136,(MATCH(NLML.ChangeInScores.PrePostDataset[[#This Row],[First Name & Last Name*\n(choose from list)]],'NLM Data Test 1'!$W$12:$W$136,0)),1)))","v":{"$error":"#N/A"}},{"$f":"IF(INDEX('NLM Data Test 1'!$I$12:$I$136,(MATCH(NLML.ChangeInScores.PrePostDataset[[#This Row],[First Name & Last Name*\n(choose from list)]],'NLM Data Test 1'!$W$12:$W$136,0)),1)=\"\",\"\",(INDEX('NLM Data Test 1'!I$12:I$136,(MATCH(NLML.ChangeInScores.PrePostDataset[[#This Row],[First Name & Last Name*\n(choose from list)]],'NLM Data Test 1'!$W$12:$W$136,0)),1)))","v":{"$error":"#N/A"}},{"$f":"IF(INDEX('NLM Data Test 1'!$J$12:$J$136,(MATCH(NLML.ChangeInScores.PrePostDataset[[#This Row],[First Name & Last Name*\n(choose from list)]],'NLM Data Test 1'!$W$12:$W$136,0)),1)=\"\",\"\",(INDEX('NLM Data Test 1'!J$12:J$136,(MATCH(NLML.ChangeInScores.PrePostDataset[[#This Row],[First Name & Last Name*\n(choose from list)]],'NLM Data Test 1'!$W$12:$W$136,0)),1)))","v":{"$error":"#N/A"}},{"$f":"IFERROR(INDEX('NLM Data Test 1'!$M$12:$M$136,(MATCH(NLML.ChangeInScores.PrePostDataset[[#This Row],[First Name & Last Name*\n(choose from list)]],'NLM Data Test 1'!$W$12:$W$136,0)),1),\"\")","v":""},{"$f":"INDEX('NLM Data Test 2'!$I$12:$I$136,(MATCH(NLML.ChangeInScores.PrePostDataset[[#This Row],[First Name & Last Name*\n(choose from list)]],'NLM Data Test 2'!$D$12:$D$136,0)),1)","v":{"$error":"#N/A"}},{"$f":"IFERROR(INDEX('NLM Data Test 2'!$J$12:$J$136,(MATCH(NLML.ChangeInScores.PrePostDataset[[#This Row],[First Name & Last Name*\n(choose from list)]],'NLM Data Test 2'!$X$12:$X$136,0)),1),\"\")","v":""},{"$f":"IFERROR(INDEX('NLM Data Test 2'!$K$12:$K$136,(MATCH(NLML.ChangeInScores.PrePostDataset[[#This Row],[First Name & Last Name*\n(choose from list)]],'NLM Data Test 2'!$X$12:$X$136,0)),1),\"\")","v":""},{"$f":"IFERROR(INDEX('NLM Data Test 2'!$N$12:$N$136,(MATCH(NLML.ChangeInScores.PrePostDataset[[#This Row],[First Name & Last Name*\n(choose from list)]],'NLM Data Test 2'!$X$12:$X$136,0)),1),\"\")","v":""},{"$f":"(INDEX('NLM Data Test 2'!$O$12:$O$136,(MATCH(NLML.ChangeInScores.PrePostDataset[[#This Row],[First Name & Last Name*\n(choose from list)]],'NLM Data Test 2'!$X$12:$X$136,0)),1))-(INDEX('NLM Data Test 1'!$N$12:$N$136,(MATCH(NLML.ChangeInScores.PrePostDataset[[#This Row],[First Name & Last Name*\n(choose from list)]],'NLM Data Test 1'!$W$12:$W$136,0)),1))","v":{"$error":"#N/A"}},{"$f":"(INDEX('NLM Data Test 2'!$P$12:$P$136,(MATCH(NLML.ChangeInScores.PrePostDataset[[#This Row],[First Name & Last Name*\n(choose from list)]],'NLM Data Test 2'!$X$12:$X$136,0)),1))-(INDEX('NLM Data Test 1'!$O$12:$O$136,(MATCH(NLML.ChangeInScores.PrePostDataset[[#This Row],[First Name & Last Name*\n(choose from list)]],'NLM Data Test 1'!$W$12:$W$136,0)),1))","v":{"$error":"#N/A"}},{"$f":"(INDEX('NLM Data Test 2'!$Q$12:$Q$136,(MATCH(NLML.ChangeInScores.PrePostDataset[[#This Row],[First Name & Last Name*\n(choose from list)]],'NLM Data Test 2'!$X$12:$X$136,0)),1))-(INDEX('NLM Data Test 1'!$P$12:$P$136,(MATCH(NLML.ChangeInScores.PrePostDataset[[#This Row],[First Name & Last Name*\n(choose from list)]],'NLM Data Test 1'!$W$12:$W$136,0)),1))","v":{"$error":"#N/A"}},{"$f":"(INDEX('NLM Data Test 2'!$R$12:$R$136,(MATCH(NLML.ChangeInScores.PrePostDataset[[#This Row],[First Name & Last Name*\n(choose from list)]],'NLM Data Test 2'!$X$12:$X$136,0)),1))-(INDEX('NLM Data Test 1'!$Q$12:$Q$136,(MATCH(NLML.ChangeInScores.PrePostDataset[[#This Row],[First Name & Last Name*\n(choose from list)]],'NLM Data Test 1'!$W$12:$W$136,0)),1))","v":{"$error":"#N/A"}},{"$f":"(INDEX('NLM Data Test 2'!$S$12:$S$136,(MATCH(NLML.ChangeInScores.PrePostDataset[[#This Row],[First Name & Last Name*\n(choose from list)]],'NLM Data Test 2'!$X$12:$X$136,0)),1))-(INDEX('NLM Data Test 1'!$R$12:$R$136,(MATCH(NLML.ChangeInScores.PrePostDataset[[#This Row],[First Name & Last Name*\n(choose from list)]],'NLM Data Test 1'!$W$12:$W$136,0)),1))","v":{"$error":"#N/A"}},{"$f":"(INDEX('NLM Data Test 2'!$T$12:$T$136,(MATCH(NLML.ChangeInScores.PrePostDataset[[#This Row],[First Name & Last Name*\n(choose from list)]],'NLM Data Test 2'!$X$12:$X$136,0)),1))-(INDEX('NLM Data Test 1'!$S$12:$S$136,(MATCH(NLML.ChangeInScores.PrePostDataset[[#This Row],[First Name & Last Name*\n(choose from list)]],'NLM Data Test 1'!$W$12:$W$136,0)),1))","v":{"$error":"#N/A"}},{"$f":"IFERROR(INDEX('NLM Data Test 1'!$T$12:$T$136,(MATCH(NLML.ChangeInScores.PrePostDataset[[#This Row],[First Name & Last Name*\n(choose from list)]],'NLM Data Test 1'!$W$12:$W$136,0)),1),\"\")","v":""},{"$f":"IFERROR(INDEX('NLM Data Test 2'!$U$12:$U$136,(MATCH(NLML.ChangeInScores.PrePostDataset[[#This Row],[First Name & Last Name*\n(choose from list)]],'NLM Data Test 2'!$X$12:$X$136,0)),1),\"\")","v":""}]
[103,{"$f":"IFERROR(INDEX(NLML.Test1.PrePostDataset[*First Name],(MATCH(NLML.ChangeInScores.PrePostDataset[[#This Row],[First Name & Last Name*\n(choose from list)]],'NLM Data Test 1'!W114:W238,0)),1),\"\")","v":""},{"$f":"IFERROR(INDEX(NLML.Test1.PrePostDataset[*Last Name],(MATCH(NLML.ChangeInScores.PrePostDataset[[#This Row],[First Name & Last Name*\n(choose from list)]],'NLM Data Test 1'!W114:W238,0)),1),\"\")","v":""},{"$f":"'NLM Data Test 2'!D114","v":0},{"$f":"IF(IFERROR(MATCH($D118,'NLM Data Test 2'!$D$12:$D$136,0),\"Error\")=\"Error\",(INDEX('NLM Data Test 1'!$D$12:$D$136,(MATCH($D118,'NLM Data Test 1'!$W$12:$W$136,0)),1)),(INDEX('NLM Data Test 2'!$E$12:$E$136,(MATCH($D118,'NLM Data Test 2'!$D$12:$D$136,0)),1)))","v":{"$error":"#N/A"}},{"$f":"IF(IFERROR(MATCH($D118,'NLM Data Test 2'!$D$12:$D$136,0),\"Error\")=\"Error\",(INDEX('NLM Data Test 1'!$E$12:$E$136,(MATCH($D118,'NLM Data Test 1'!$W$12:$W$136,0)),1)),(INDEX('NLM Data Test 2'!$G$12:$G$136,(MATCH($D118,'NLM Data Test 2'!$D$12:$D$136,0)),1)))","v":{"$error":"#N/A"}},{"$f":"IF(IFERROR(MATCH($D118,'NLM Data Test 2'!$D$12:$D$136,0),\"Error\")=\"Error\",(INDEX('NLM Data Test 1'!$F$12:$F$136,(MATCH($D118,'NLM Data Test 1'!$W$12:$W$136,0)),1)),(INDEX('NLM Data Test 2'!$F$12:$F$136,(MATCH($D118,'NLM Data Test 2'!$D$12:$D$136,0)),1)))","v":{"$error":"#N/A"}},{"$f":"IF(INDEX('NLM Data Test 1'!$H$12:$H$136,(MATCH(NLML.ChangeInScores.PrePostDataset[[#This Row],[First Name & Last Name*\n(choose from list)]],'NLM Data Test 1'!$W$12:$W$136,0)),1)=\"\",\"\",(INDEX('NLM Data Test 1'!H$12:H$136,(MATCH(NLML.ChangeInScores.PrePostDataset[[#This Row],[First Name & Last Name*\n(choose from list)]],'NLM Data Test 1'!$W$12:$W$136,0)),1)))","v":{"$error":"#N/A"}},{"$f":"IF(INDEX('NLM Data Test 1'!$I$12:$I$136,(MATCH(NLML.ChangeInScores.PrePostDataset[[#This Row],[First Name & Last Name*\n(choose from list)]],'NLM Data Test 1'!$W$12:$W$136,0)),1)=\"\",\"\",(INDEX('NLM Data Test 1'!I$12:I$136,(MATCH(NLML.ChangeInScores.PrePostDataset[[#This Row],[First Name & Last Name*\n(choose from list)]],'NLM Data Test 1'!$W$12:$W$136,0)),1)))","v":{"$error":"#N/A"}},{"$f":"IF(INDEX('NLM Data Test 1'!$J$12:$J$136,(MATCH(NLML.ChangeInScores.PrePostDataset[[#This Row],[First Name & Last Name*\n(choose from list)]],'NLM Data Test 1'!$W$12:$W$136,0)),1)=\"\",\"\",(INDEX('NLM Data Test 1'!J$12:J$136,(MATCH(NLML.ChangeInScores.PrePostDataset[[#This Row],[First Name & Last Name*\n(choose from list)]],'NLM Data Test 1'!$W$12:$W$136,0)),1)))","v":{"$error":"#N/A"}},{"$f":"IFERROR(INDEX('NLM Data Test 1'!$M$12:$M$136,(MATCH(NLML.ChangeInScores.PrePostDataset[[#This Row],[First Name & Last Name*\n(choose from list)]],'NLM Data Test 1'!$W$12:$W$136,0)),1),\"\")","v":""},{"$f":"INDEX('NLM Data Test 2'!$I$12:$I$136,(MATCH(NLML.ChangeInScores.PrePostDataset[[#This Row],[First Name & Last Name*\n(choose from list)]],'NLM Data Test 2'!$D$12:$D$136,0)),1)","v":{"$error":"#N/A"}},{"$f":"IFERROR(INDEX('NLM Data Test 2'!$J$12:$J$136,(MATCH(NLML.ChangeInScores.PrePostDataset[[#This Row],[First Name & Last Name*\n(choose from list)]],'NLM Data Test 2'!$X$12:$X$136,0)),1),\"\")","v":""},{"$f":"IFERROR(INDEX('NLM Data Test 2'!$K$12:$K$136,(MATCH(NLML.ChangeInScores.PrePostDataset[[#This Row],[First Name & Last Name*\n(choose from list)]],'NLM Data Test 2'!$X$12:$X$136,0)),1),\"\")","v":""},{"$f":"IFERROR(INDEX('NLM Data Test 2'!$N$12:$N$136,(MATCH(NLML.ChangeInScores.PrePostDataset[[#This Row],[First Name & Last Name*\n(choose from list)]],'NLM Data Test 2'!$X$12:$X$136,0)),1),\"\")","v":""},{"$f":"(INDEX('NLM Data Test 2'!$O$12:$O$136,(MATCH(NLML.ChangeInScores.PrePostDataset[[#This Row],[First Name & Last Name*\n(choose from list)]],'NLM Data Test 2'!$X$12:$X$136,0)),1))-(INDEX('NLM Data Test 1'!$N$12:$N$136,(MATCH(NLML.ChangeInScores.PrePostDataset[[#This Row],[First Name & Last Name*\n(choose from list)]],'NLM Data Test 1'!$W$12:$W$136,0)),1))","v":{"$error":"#N/A"}},{"$f":"(INDEX('NLM Data Test 2'!$P$12:$P$136,(MATCH(NLML.ChangeInScores.PrePostDataset[[#This Row],[First Name & Last Name*\n(choose from list)]],'NLM Data Test 2'!$X$12:$X$136,0)),1))-(INDEX('NLM Data Test 1'!$O$12:$O$136,(MATCH(NLML.ChangeInScores.PrePostDataset[[#This Row],[First Name & Last Name*\n(choose from list)]],'NLM Data Test 1'!$W$12:$W$136,0)),1))","v":{"$error":"#N/A"}},{"$f":"(INDEX('NLM Data Test 2'!$Q$12:$Q$136,(MATCH(NLML.ChangeInScores.PrePostDataset[[#This Row],[First Name & Last Name*\n(choose from list)]],'NLM Data Test 2'!$X$12:$X$136,0)),1))-(INDEX('NLM Data Test 1'!$P$12:$P$136,(MATCH(NLML.ChangeInScores.PrePostDataset[[#This Row],[First Name & Last Name*\n(choose from list)]],'NLM Data Test 1'!$W$12:$W$136,0)),1))","v":{"$error":"#N/A"}},{"$f":"(INDEX('NLM Data Test 2'!$R$12:$R$136,(MATCH(NLML.ChangeInScores.PrePostDataset[[#This Row],[First Name & Last Name*\n(choose from list)]],'NLM Data Test 2'!$X$12:$X$136,0)),1))-(INDEX('NLM Data Test 1'!$Q$12:$Q$136,(MATCH(NLML.ChangeInScores.PrePostDataset[[#This Row],[First Name & Last Name*\n(choose from list)]],'NLM Data Test 1'!$W$12:$W$136,0)),1))","v":{"$error":"#N/A"}},{"$f":"(INDEX('NLM Data Test 2'!$S$12:$S$136,(MATCH(NLML.ChangeInScores.PrePostDataset[[#This Row],[First Name & Last Name*\n(choose from list)]],'NLM Data Test 2'!$X$12:$X$136,0)),1))-(INDEX('NLM Data Test 1'!$R$12:$R$136,(MATCH(NLML.ChangeInScores.PrePostDataset[[#This Row],[First Name & Last Name*\n(choose from list)]],'NLM Data Test 1'!$W$12:$W$136,0)),1))","v":{"$error":"#N/A"}},{"$f":"(INDEX('NLM Data Test 2'!$T$12:$T$136,(MATCH(NLML.ChangeInScores.PrePostDataset[[#This Row],[First Name & Last Name*\n(choose from list)]],'NLM Data Test 2'!$X$12:$X$136,0)),1))-(INDEX('NLM Data Test 1'!$S$12:$S$136,(MATCH(NLML.ChangeInScores.PrePostDataset[[#This Row],[First Name & Last Name*\n(choose from list)]],'NLM Data Test 1'!$W$12:$W$136,0)),1))","v":{"$error":"#N/A"}},{"$f":"IFERROR(INDEX('NLM Data Test 1'!$T$12:$T$136,(MATCH(NLML.ChangeInScores.PrePostDataset[[#This Row],[First Name & Last Name*\n(choose from list)]],'NLM Data Test 1'!$W$12:$W$136,0)),1),\"\")","v":""},{"$f":"IFERROR(INDEX('NLM Data Test 2'!$U$12:$U$136,(MATCH(NLML.ChangeInScores.PrePostDataset[[#This Row],[First Name & Last Name*\n(choose from list)]],'NLM Data Test 2'!$X$12:$X$136,0)),1),\"\")","v":""}]
[104,{"$f":"IFERROR(INDEX(NLML.Test1.PrePostDataset[*First Name],(MATCH(NLML.ChangeInScores.PrePostDataset[[#This Row],[First Name & Last Name*\n(choose from list)]],'NLM Data Test 1'!W115:W239,0)),1),\"\")","v":""},{"$f":"IFERROR(INDEX(NLML.Test1.PrePostDataset[*Last Name],(MATCH(NLML.ChangeInScores.PrePostDataset[[#This Row],[First Name & Last Name*\n(choose from list)]],'NLM Data Test 1'!W115:W239,0)),1),\"\")","v":""},{"$f":"'NLM Data Test 2'!D115","v":0},{"$f":"IF(IFERROR(MATCH($D119,'NLM Data Test 2'!$D$12:$D$136,0),\"Error\")=\"Error\",(INDEX('NLM Data Test 1'!$D$12:$D$136,(MATCH($D119,'NLM Data Test 1'!$W$12:$W$136,0)),1)),(INDEX('NLM Data Test 2'!$E$12:$E$136,(MATCH($D119,'NLM Data Test 2'!$D$12:$D$136,0)),1)))","v":{"$error":"#N/A"}},{"$f":"IF(IFERROR(MATCH($D119,'NLM Data Test 2'!$D$12:$D$136,0),\"Error\")=\"Error\",(INDEX('NLM Data Test 1'!$E$12:$E$136,(MATCH($D119,'NLM Data Test 1'!$W$12:$W$136,0)),1)),(INDEX('NLM Data Test 2'!$G$12:$G$136,(MATCH($D119,'NLM Data Test 2'!$D$12:$D$136,0)),1)))","v":{"$error":"#N/A"}},{"$f":"IF(IFERROR(MATCH($D119,'NLM Data Test 2'!$D$12:$D$136,0),\"Error\")=\"Error\",(INDEX('NLM Data Test 1'!$F$12:$F$136,(MATCH($D119,'NLM Data Test 1'!$W$12:$W$136,0)),1)),(INDEX('NLM Data Test 2'!$F$12:$F$136,(MATCH($D119,'NLM Data Test 2'!$D$12:$D$136,0)),1)))","v":{"$error":"#N/A"}},{"$f":"IF(INDEX('NLM Data Test 1'!$H$12:$H$136,(MATCH(NLML.ChangeInScores.PrePostDataset[[#This Row],[First Name & Last Name*\n(choose from list)]],'NLM Data Test 1'!$W$12:$W$136,0)),1)=\"\",\"\",(INDEX('NLM Data Test 1'!H$12:H$136,(MATCH(NLML.ChangeInScores.PrePostDataset[[#This Row],[First Name & Last Name*\n(choose from list)]],'NLM Data Test 1'!$W$12:$W$136,0)),1)))","v":{"$error":"#N/A"}},{"$f":"IF(INDEX('NLM Data Test 1'!$I$12:$I$136,(MATCH(NLML.ChangeInScores.PrePostDataset[[#This Row],[First Name & Last Name*\n(choose from list)]],'NLM Data Test 1'!$W$12:$W$136,0)),1)=\"\",\"\",(INDEX('NLM Data Test 1'!I$12:I$136,(MATCH(NLML.ChangeInScores.PrePostDataset[[#This Row],[First Name & Last Name*\n(choose from list)]],'NLM Data Test 1'!$W$12:$W$136,0)),1)))","v":{"$error":"#N/A"}},{"$f":"IF(INDEX('NLM Data Test 1'!$J$12:$J$136,(MATCH(NLML.ChangeInScores.PrePostDataset[[#This Row],[First Name & Last Name*\n(choose from list)]],'NLM Data Test 1'!$W$12:$W$136,0)),1)=\"\",\"\",(INDEX('NLM Data Test 1'!J$12:J$136,(MATCH(NLML.ChangeInScores.PrePostDataset[[#This Row],[First Name & Last Name*\n(choose from list)]],'NLM Data Test 1'!$W$12:$W$136,0)),1)))","v":{"$error":"#N/A"}},{"$f":"IFERROR(INDEX('NLM Data Test 1'!$M$12:$M$136,(MATCH(NLML.ChangeInScores.PrePostDataset[[#This Row],[First Name & Last Name*\n(choose from list)]],'NLM Data Test 1'!$W$12:$W$136,0)),1),\"\")","v":""},{"$f":"INDEX('NLM Data Test 2'!$I$12:$I$136,(MATCH(NLML.ChangeInScores.PrePostDataset[[#This Row],[First Name & Last Name*\n(choose from list)]],'NLM Data Test 2'!$D$12:$D$136,0)),1)","v":{"$error":"#N/A"}},{"$f":"IFERROR(INDEX('NLM Data Test 2'!$J$12:$J$136,(MATCH(NLML.ChangeInScores.PrePostDataset[[#This Row],[First Name & Last Name*\n(choose from list)]],'NLM Data Test 2'!$X$12:$X$136,0)),1),\"\")","v":""},{"$f":"IFERROR(INDEX('NLM Data Test 2'!$K$12:$K$136,(MATCH(NLML.ChangeInScores.PrePostDataset[[#This Row],[First Name & Last Name*\n(choose from list)]],'NLM Data Test 2'!$X$12:$X$136,0)),1),\"\")","v":""},{"$f":"IFERROR(INDEX('NLM Data Test 2'!$N$12:$N$136,(MATCH(NLML.ChangeInScores.PrePostDataset[[#This Row],[First Name & Last Name*\n(choose from list)]],'NLM Data Test 2'!$X$12:$X$136,0)),1),\"\")","v":""},{"$f":"(INDEX('NLM Data Test 2'!$O$12:$O$136,(MATCH(NLML.ChangeInScores.PrePostDataset[[#This Row],[First Name & Last Name*\n(choose from list)]],'NLM Data Test 2'!$X$12:$X$136,0)),1))-(INDEX('NLM Data Test 1'!$N$12:$N$136,(MATCH(NLML.ChangeInScores.PrePostDataset[[#This Row],[First Name & Last Name*\n(choose from list)]],'NLM Data Test 1'!$W$12:$W$136,0)),1))","v":{"$error":"#N/A"}},{"$f":"(INDEX('NLM Data Test 2'!$P$12:$P$136,(MATCH(NLML.ChangeInScores.PrePostDataset[[#This Row],[First Name & Last Name*\n(choose from list)]],'NLM Data Test 2'!$X$12:$X$136,0)),1))-(INDEX('NLM Data Test 1'!$O$12:$O$136,(MATCH(NLML.ChangeInScores.PrePostDataset[[#This Row],[First Name & Last Name*\n(choose from list)]],'NLM Data Test 1'!$W$12:$W$136,0)),1))","v":{"$error":"#N/A"}},{"$f":"(INDEX('NLM Data Test 2'!$Q$12:$Q$136,(MATCH(NLML.ChangeInScores.PrePostDataset[[#This Row],[First Name & Last Name*\n(choose from list)]],'NLM Data Test 2'!$X$12:$X$136,0)),1))-(INDEX('NLM Data Test 1'!$P$12:$P$136,(MATCH(NLML.ChangeInScores.PrePostDataset[[#This Row],[First Name & Last Name*\n(choose from list)]],'NLM Data Test 1'!$W$12:$W$136,0)),1))","v":{"$error":"#N/A"}},{"$f":"(INDEX('NLM Data Test 2'!$R$12:$R$136,(MATCH(NLML.ChangeInScores.PrePostDataset[[#This Row],[First Name & Last Name*\n(choose from list)]],'NLM Data Test 2'!$X$12:$X$136,0)),1))-(INDEX('NLM Data Test 1'!$Q$12:$Q$136,(MATCH(NLML.ChangeInScores.PrePostDataset[[#This Row],[First Name & Last Name*\n(choose from list)]],'NLM Data Test 1'!$W$12:$W$136,0)),1))","v":{"$error":"#N/A"}},{"$f":"(INDEX('NLM Data Test 2'!$S$12:$S$136,(MATCH(NLML.ChangeInScores.PrePostDataset[[#This Row],[First Name & Last Name*\n(choose from list)]],'NLM Data Test 2'!$X$12:$X$136,0)),1))-(INDEX('NLM Data Test 1'!$R$12:$R$136,(MATCH(NLML.ChangeInScores.PrePostDataset[[#This Row],[First Name & Last Name*\n(choose from list)]],'NLM Data Test 1'!$W$12:$W$136,0)),1))","v":{"$error":"#N/A"}},{"$f":"(INDEX('NLM Data Test 2'!$T$12:$T$136,(MATCH(NLML.ChangeInScores.PrePostDataset[[#This Row],[First Name & Last Name*\n(choose from list)]],'NLM Data Test 2'!$X$12:$X$136,0)),1))-(INDEX('NLM Data Test 1'!$S$12:$S$136,(MATCH(NLML.ChangeInScores.PrePostDataset[[#This Row],[First Name & Last Name*\n(choose from list)]],'NLM Data Test 1'!$W$12:$W$136,0)),1))","v":{"$error":"#N/A"}},{"$f":"IFERROR(INDEX('NLM Data Test 1'!$T$12:$T$136,(MATCH(NLML.ChangeInScores.PrePostDataset[[#This Row],[First Name & Last Name*\n(choose from list)]],'NLM Data Test 1'!$W$12:$W$136,0)),1),\"\")","v":""},{"$f":"IFERROR(INDEX('NLM Data Test 2'!$U$12:$U$136,(MATCH(NLML.ChangeInScores.PrePostDataset[[#This Row],[First Name & Last Name*\n(choose from list)]],'NLM Data Test 2'!$X$12:$X$136,0)),1),\"\")","v":""}]
[105,{"$f":"IFERROR(INDEX(NLML.Test1.PrePostDataset[*First Name],(MATCH(NLML.ChangeInScores.PrePostDataset[[#This Row],[First Name & Last Name*\n(choose from list)]],'NLM Data Test 1'!W116:W240,0)),1),\"\")","v":""},{"$f":"IFERROR(INDEX(NLML.Test1.PrePostDataset[*Last Name],(MATCH(NLML.ChangeInScores.PrePostDataset[[#This Row],[First Name & Last Name*\n(choose from list)]],'NLM Data Test 1'!W116:W240,0)),1),\"\")","v":""},{"$f":"'NLM Data Test 2'!D116","v":0},{"$f":"IF(IFERROR(MATCH($D120,'NLM Data Test 2'!$D$12:$D$136,0),\"Error\")=\"Error\",(INDEX('NLM Data Test 1'!$D$12:$D$136,(MATCH($D120,'NLM Data Test 1'!$W$12:$W$136,0)),1)),(INDEX('NLM Data Test 2'!$E$12:$E$136,(MATCH($D120,'NLM Data Test 2'!$D$12:$D$136,0)),1)))","v":{"$error":"#N/A"}},{"$f":"IF(IFERROR(MATCH($D120,'NLM Data Test 2'!$D$12:$D$136,0),\"Error\")=\"Error\",(INDEX('NLM Data Test 1'!$E$12:$E$136,(MATCH($D120,'NLM Data Test 1'!$W$12:$W$136,0)),1)),(INDEX('NLM Data Test 2'!$G$12:$G$136,(MATCH($D120,'NLM Data Test 2'!$D$12:$D$136,0)),1)))","v":{"$error":"#N/A"}},{"$f":"IF(IFERROR(MATCH($D120,'NLM Data Test 2'!$D$12:$D$136,0),\"Error\")=\"Error\",(INDEX('NLM Data Test 1'!$F$12:$F$136,(MATCH($D120,'NLM Data Test 1'!$W$12:$W$136,0)),1)),(INDEX('NLM Data Test 2'!$F$12:$F$136,(MATCH($D120,'NLM Data Test 2'!$D$12:$D$136,0)),1)))","v":{"$error":"#N/A"}},{"$f":"IF(INDEX('NLM Data Test 1'!$H$12:$H$136,(MATCH(NLML.ChangeInScores.PrePostDataset[[#This Row],[First Name & Last Name*\n(choose from list)]],'NLM Data Test 1'!$W$12:$W$136,0)),1)=\"\",\"\",(INDEX('NLM Data Test 1'!H$12:H$136,(MATCH(NLML.ChangeInScores.PrePostDataset[[#This Row],[First Name & Last Name*\n(choose from list)]],'NLM Data Test 1'!$W$12:$W$136,0)),1)))","v":{"$error":"#N/A"}},{"$f":"IF(INDEX('NLM Data Test 1'!$I$12:$I$136,(MATCH(NLML.ChangeInScores.PrePostDataset[[#This Row],[First Name & Last Name*\n(choose from list)]],'NLM Data Test 1'!$W$12:$W$136,0)),1)=\"\",\"\",(INDEX('NLM Data Test 1'!I$12:I$136,(MATCH(NLML.ChangeInScores.PrePostDataset[[#This Row],[First Name & Last Name*\n(choose from list)]],'NLM Data Test 1'!$W$12:$W$136,0)),1)))","v":{"$error":"#N/A"}},{"$f":"IF(INDEX('NLM Data Test 1'!$J$12:$J$136,(MATCH(NLML.ChangeInScores.PrePostDataset[[#This Row],[First Name & Last Name*\n(choose from list)]],'NLM Data Test 1'!$W$12:$W$136,0)),1)=\"\",\"\",(INDEX('NLM Data Test 1'!J$12:J$136,(MATCH(NLML.ChangeInScores.PrePostDataset[[#This Row],[First Name & Last Name*\n(choose from list)]],'NLM Data Test 1'!$W$12:$W$136,0)),1)))","v":{"$error":"#N/A"}},{"$f":"IFERROR(INDEX('NLM Data Test 1'!$M$12:$M$136,(MATCH(NLML.ChangeInScores.PrePostDataset[[#This Row],[First Name & Last Name*\n(choose from list)]],'NLM Data Test 1'!$W$12:$W$136,0)),1),\"\")","v":""},{"$f":"INDEX('NLM Data Test 2'!$I$12:$I$136,(MATCH(NLML.ChangeInScores.PrePostDataset[[#This Row],[First Name & Last Name*\n(choose from list)]],'NLM Data Test 2'!$D$12:$D$136,0)),1)","v":{"$error":"#N/A"}},{"$f":"IFERROR(INDEX('NLM Data Test 2'!$J$12:$J$136,(MATCH(NLML.ChangeInScores.PrePostDataset[[#This Row],[First Name & Last Name*\n(choose from list)]],'NLM Data Test 2'!$X$12:$X$136,0)),1),\"\")","v":""},{"$f":"IFERROR(INDEX('NLM Data Test 2'!$K$12:$K$136,(MATCH(NLML.ChangeInScores.PrePostDataset[[#This Row],[First Name & Last Name*\n(choose from list)]],'NLM Data Test 2'!$X$12:$X$136,0)),1),\"\")","v":""},{"$f":"IFERROR(INDEX('NLM Data Test 2'!$N$12:$N$136,(MATCH(NLML.ChangeInScores.PrePostDataset[[#This Row],[First Name & Last Name*\n(choose from list)]],'NLM Data Test 2'!$X$12:$X$136,0)),1),\"\")","v":""},{"$f":"(INDEX('NLM Data Test 2'!$O$12:$O$136,(MATCH(NLML.ChangeInScores.PrePostDataset[[#This Row],[First Name & Last Name*\n(choose from list)]],'NLM Data Test 2'!$X$12:$X$136,0)),1))-(INDEX('NLM Data Test 1'!$N$12:$N$136,(MATCH(NLML.ChangeInScores.PrePostDataset[[#This Row],[First Name & Last Name*\n(choose from list)]],'NLM Data Test 1'!$W$12:$W$136,0)),1))","v":{"$error":"#N/A"}},{"$f":"(INDEX('NLM Data Test 2'!$P$12:$P$136,(MATCH(NLML.ChangeInScores.PrePostDataset[[#This Row],[First Name & Last Name*\n(choose from list)]],'NLM Data Test 2'!$X$12:$X$136,0)),1))-(INDEX('NLM Data Test 1'!$O$12:$O$136,(MATCH(NLML.ChangeInScores.PrePostDataset[[#This Row],[First Name & Last Name*\n(choose from list)]],'NLM Data Test 1'!$W$12:$W$136,0)),1))","v":{"$error":"#N/A"}},{"$f":"(INDEX('NLM Data Test 2'!$Q$12:$Q$136,(MATCH(NLML.ChangeInScores.PrePostDataset[[#This Row],[First Name & Last Name*\n(choose from list)]],'NLM Data Test 2'!$X$12:$X$136,0)),1))-(INDEX('NLM Data Test 1'!$P$12:$P$136,(MATCH(NLML.ChangeInScores.PrePostDataset[[#This Row],[First Name & Last Name*\n(choose from list)]],'NLM Data Test 1'!$W$12:$W$136,0)),1))","v":{"$error":"#N/A"}},{"$f":"(INDEX('NLM Data Test 2'!$R$12:$R$136,(MATCH(NLML.ChangeInScores.PrePostDataset[[#This Row],[First Name & Last Name*\n(choose from list)]],'NLM Data Test 2'!$X$12:$X$136,0)),1))-(INDEX('NLM Data Test 1'!$Q$12:$Q$136,(MATCH(NLML.ChangeInScores.PrePostDataset[[#This Row],[First Name & Last Name*\n(choose from list)]],'NLM Data Test 1'!$W$12:$W$136,0)),1))","v":{"$error":"#N/A"}},{"$f":"(INDEX('NLM Data Test 2'!$S$12:$S$136,(MATCH(NLML.ChangeInScores.PrePostDataset[[#This Row],[First Name & Last Name*\n(choose from list)]],'NLM Data Test 2'!$X$12:$X$136,0)),1))-(INDEX('NLM Data Test 1'!$R$12:$R$136,(MATCH(NLML.ChangeInScores.PrePostDataset[[#This Row],[First Name & Last Name*\n(choose from list)]],'NLM Data Test 1'!$W$12:$W$136,0)),1))","v":{"$error":"#N/A"}},{"$f":"(INDEX('NLM Data Test 2'!$T$12:$T$136,(MATCH(NLML.ChangeInScores.PrePostDataset[[#This Row],[First Name & Last Name*\n(choose from list)]],'NLM Data Test 2'!$X$12:$X$136,0)),1))-(INDEX('NLM Data Test 1'!$S$12:$S$136,(MATCH(NLML.ChangeInScores.PrePostDataset[[#This Row],[First Name & Last Name*\n(choose from list)]],'NLM Data Test 1'!$W$12:$W$136,0)),1))","v":{"$error":"#N/A"}},{"$f":"IFERROR(INDEX('NLM Data Test 1'!$T$12:$T$136,(MATCH(NLML.ChangeInScores.PrePostDataset[[#This Row],[First Name & Last Name*\n(choose from list)]],'NLM Data Test 1'!$W$12:$W$136,0)),1),\"\")","v":""},{"$f":"IFERROR(INDEX('NLM Data Test 2'!$U$12:$U$136,(MATCH(NLML.ChangeInScores.PrePostDataset[[#This Row],[First Name & Last Name*\n(choose from list)]],'NLM Data Test 2'!$X$12:$X$136,0)),1),\"\")","v":""}]
[106,{"$f":"IFERROR(INDEX(NLML.Test1.PrePostDataset[*First Name],(MATCH(NLML.ChangeInScores.PrePostDataset[[#This Row],[First Name & Last Name*\n(choose from list)]],'NLM Data Test 1'!W117:W241,0)),1),\"\")","v":""},{"$f":"IFERROR(INDEX(NLML.Test1.PrePostDataset[*Last Name],(MATCH(NLML.ChangeInScores.PrePostDataset[[#This Row],[First Name & Last Name*\n(choose from list)]],'NLM Data Test 1'!W117:W241,0)),1),\"\")","v":""},{"$f":"'NLM Data Test 2'!D117","v":0},{"$f":"IF(IFERROR(MATCH($D121,'NLM Data Test 2'!$D$12:$D$136,0),\"Error\")=\"Error\",(INDEX('NLM Data Test 1'!$D$12:$D$136,(MATCH($D121,'NLM Data Test 1'!$W$12:$W$136,0)),1)),(INDEX('NLM Data Test 2'!$E$12:$E$136,(MATCH($D121,'NLM Data Test 2'!$D$12:$D$136,0)),1)))","v":{"$error":"#N/A"}},{"$f":"IF(IFERROR(MATCH($D121,'NLM Data Test 2'!$D$12:$D$136,0),\"Error\")=\"Error\",(INDEX('NLM Data Test 1'!$E$12:$E$136,(MATCH($D121,'NLM Data Test 1'!$W$12:$W$136,0)),1)),(INDEX('NLM Data Test 2'!$G$12:$G$136,(MATCH($D121,'NLM Data Test 2'!$D$12:$D$136,0)),1)))","v":{"$error":"#N/A"}},{"$f":"IF(IFERROR(MATCH($D121,'NLM Data Test 2'!$D$12:$D$136,0),\"Error\")=\"Error\",(INDEX('NLM Data Test 1'!$F$12:$F$136,(MATCH($D121,'NLM Data Test 1'!$W$12:$W$136,0)),1)),(INDEX('NLM Data Test 2'!$F$12:$F$136,(MATCH($D121,'NLM Data Test 2'!$D$12:$D$136,0)),1)))","v":{"$error":"#N/A"}},{"$f":"IF(INDEX('NLM Data Test 1'!$H$12:$H$136,(MATCH(NLML.ChangeInScores.PrePostDataset[[#This Row],[First Name & Last Name*\n(choose from list)]],'NLM Data Test 1'!$W$12:$W$136,0)),1)=\"\",\"\",(INDEX('NLM Data Test 1'!H$12:H$136,(MATCH(NLML.ChangeInScores.PrePostDataset[[#This Row],[First Name & Last Name*\n(choose from list)]],'NLM Data Test 1'!$W$12:$W$136,0)),1)))","v":{"$error":"#N/A"}},{"$f":"IF(INDEX('NLM Data Test 1'!$I$12:$I$136,(MATCH(NLML.ChangeInScores.PrePostDataset[[#This Row],[First Name & Last Name*\n(choose from list)]],'NLM Data Test 1'!$W$12:$W$136,0)),1)=\"\",\"\",(INDEX('NLM Data Test 1'!I$12:I$136,(MATCH(NLML.ChangeInScores.PrePostDataset[[#This Row],[First Name & Last Name*\n(choose from list)]],'NLM Data Test 1'!$W$12:$W$136,0)),1)))","v":{"$error":"#N/A"}},{"$f":"IF(INDEX('NLM Data Test 1'!$J$12:$J$136,(MATCH(NLML.ChangeInScores.PrePostDataset[[#This Row],[First Name & Last Name*\n(choose from list)]],'NLM Data Test 1'!$W$12:$W$136,0)),1)=\"\",\"\",(INDEX('NLM Data Test 1'!J$12:J$136,(MATCH(NLML.ChangeInScores.PrePostDataset[[#This Row],[First Name & Last Name*\n(choose from list)]],'NLM Data Test 1'!$W$12:$W$136,0)),1)))","v":{"$error":"#N/A"}},{"$f":"IFERROR(INDEX('NLM Data Test 1'!$M$12:$M$136,(MATCH(NLML.ChangeInScores.PrePostDataset[[#This Row],[First Name & Last Name*\n(choose from list)]],'NLM Data Test 1'!$W$12:$W$136,0)),1),\"\")","v":""},{"$f":"INDEX('NLM Data Test 2'!$I$12:$I$136,(MATCH(NLML.ChangeInScores.PrePostDataset[[#This Row],[First Name & Last Name*\n(choose from list)]],'NLM Data Test 2'!$D$12:$D$136,0)),1)","v":{"$error":"#N/A"}},{"$f":"IFERROR(INDEX('NLM Data Test 2'!$J$12:$J$136,(MATCH(NLML.ChangeInScores.PrePostDataset[[#This Row],[First Name & Last Name*\n(choose from list)]],'NLM Data Test 2'!$X$12:$X$136,0)),1),\"\")","v":""},{"$f":"IFERROR(INDEX('NLM Data Test 2'!$K$12:$K$136,(MATCH(NLML.ChangeInScores.PrePostDataset[[#This Row],[First Name & Last Name*\n(choose from list)]],'NLM Data Test 2'!$X$12:$X$136,0)),1),\"\")","v":""},{"$f":"IFERROR(INDEX('NLM Data Test 2'!$N$12:$N$136,(MATCH(NLML.ChangeInScores.PrePostDataset[[#This Row],[First Name & Last Name*\n(choose from list)]],'NLM Data Test 2'!$X$12:$X$136,0)),1),\"\")","v":""},{"$f":"(INDEX('NLM Data Test 2'!$O$12:$O$136,(MATCH(NLML.ChangeInScores.PrePostDataset[[#This Row],[First Name & Last Name*\n(choose from list)]],'NLM Data Test 2'!$X$12:$X$136,0)),1))-(INDEX('NLM Data Test 1'!$N$12:$N$136,(MATCH(NLML.ChangeInScores.PrePostDataset[[#This Row],[First Name & Last Name*\n(choose from list)]],'NLM Data Test 1'!$W$12:$W$136,0)),1))","v":{"$error":"#N/A"}},{"$f":"(INDEX('NLM Data Test 2'!$P$12:$P$136,(MATCH(NLML.ChangeInScores.PrePostDataset[[#This Row],[First Name & Last Name*\n(choose from list)]],'NLM Data Test 2'!$X$12:$X$136,0)),1))-(INDEX('NLM Data Test 1'!$O$12:$O$136,(MATCH(NLML.ChangeInScores.PrePostDataset[[#This Row],[First Name & Last Name*\n(choose from list)]],'NLM Data Test 1'!$W$12:$W$136,0)),1))","v":{"$error":"#N/A"}},{"$f":"(INDEX('NLM Data Test 2'!$Q$12:$Q$136,(MATCH(NLML.ChangeInScores.PrePostDataset[[#This Row],[First Name & Last Name*\n(choose from list)]],'NLM Data Test 2'!$X$12:$X$136,0)),1))-(INDEX('NLM Data Test 1'!$P$12:$P$136,(MATCH(NLML.ChangeInScores.PrePostDataset[[#This Row],[First Name & Last Name*\n(choose from list)]],'NLM Data Test 1'!$W$12:$W$136,0)),1))","v":{"$error":"#N/A"}},{"$f":"(INDEX('NLM Data Test 2'!$R$12:$R$136,(MATCH(NLML.ChangeInScores.PrePostDataset[[#This Row],[First Name & Last Name*\n(choose from list)]],'NLM Data Test 2'!$X$12:$X$136,0)),1))-(INDEX('NLM Data Test 1'!$Q$12:$Q$136,(MATCH(NLML.ChangeInScores.PrePostDataset[[#This Row],[First Name & Last Name*\n(choose from list)]],'NLM Data Test 1'!$W$12:$W$136,0)),1))","v":{"$error":"#N/A"}},{"$f":"(INDEX('NLM Data Test 2'!$S$12:$S$136,(MATCH(NLML.ChangeInScores.PrePostDataset[[#This Row],[First Name & Last Name*\n(choose from list)]],'NLM Data Test 2'!$X$12:$X$136,0)),1))-(INDEX('NLM Data Test 1'!$R$12:$R$136,(MATCH(NLML.ChangeInScores.PrePostDataset[[#This Row],[First Name & Last Name*\n(choose from list)]],'NLM Data Test 1'!$W$12:$W$136,0)),1))","v":{"$error":"#N/A"}},{"$f":"(INDEX('NLM Data Test 2'!$T$12:$T$136,(MATCH(NLML.ChangeInScores.PrePostDataset[[#This Row],[First Name & Last Name*\n(choose from list)]],'NLM Data Test 2'!$X$12:$X$136,0)),1))-(INDEX('NLM Data Test 1'!$S$12:$S$136,(MATCH(NLML.ChangeInScores.PrePostDataset[[#This Row],[First Name & Last Name*\n(choose from list)]],'NLM Data Test 1'!$W$12:$W$136,0)),1))","v":{"$error":"#N/A"}},{"$f":"IFERROR(INDEX('NLM Data Test 1'!$T$12:$T$136,(MATCH(NLML.ChangeInScores.PrePostDataset[[#This Row],[First Name & Last Name*\n(choose from list)]],'NLM Data Test 1'!$W$12:$W$136,0)),1),\"\")","v":""},{"$f":"IFERROR(INDEX('NLM Data Test 2'!$U$12:$U$136,(MATCH(NLML.ChangeInScores.PrePostDataset[[#This Row],[First Name & Last Name*\n(choose from list)]],'NLM Data Test 2'!$X$12:$X$136,0)),1),\"\")","v":""}]
[107,{"$f":"IFERROR(INDEX(NLML.Test1.PrePostDataset[*First Name],(MATCH(NLML.ChangeInScores.PrePostDataset[[#This Row],[First Name & Last Name*\n(choose from list)]],'NLM Data Test 1'!W118:W242,0)),1),\"\")","v":""},{"$f":"IFERROR(INDEX(NLML.Test1.PrePostDataset[*Last Name],(MATCH(NLML.ChangeInScores.PrePostDataset[[#This Row],[First Name & Last Name*\n(choose from list)]],'NLM Data Test 1'!W118:W242,0)),1),\"\")","v":""},{"$f":"'NLM Data Test 2'!D118","v":0},{"$f":"IF(IFERROR(MATCH($D122,'NLM Data Test 2'!$D$12:$D$136,0),\"Error\")=\"Error\",(INDEX('NLM Data Test 1'!$D$12:$D$136,(MATCH($D122,'NLM Data Test 1'!$W$12:$W$136,0)),1)),(INDEX('NLM Data Test 2'!$E$12:$E$136,(MATCH($D122,'NLM Data Test 2'!$D$12:$D$136,0)),1)))","v":{"$error":"#N/A"}},{"$f":"IF(IFERROR(MATCH($D122,'NLM Data Test 2'!$D$12:$D$136,0),\"Error\")=\"Error\",(INDEX('NLM Data Test 1'!$E$12:$E$136,(MATCH($D122,'NLM Data Test 1'!$W$12:$W$136,0)),1)),(INDEX('NLM Data Test 2'!$G$12:$G$136,(MATCH($D122,'NLM Data Test 2'!$D$12:$D$136,0)),1)))","v":{"$error":"#N/A"}},{"$f":"IF(IFERROR(MATCH($D122,'NLM Data Test 2'!$D$12:$D$136,0),\"Error\")=\"Error\",(INDEX('NLM Data Test 1'!$F$12:$F$136,(MATCH($D122,'NLM Data Test 1'!$W$12:$W$136,0)),1)),(INDEX('NLM Data Test 2'!$F$12:$F$136,(MATCH($D122,'NLM Data Test 2'!$D$12:$D$136,0)),1)))","v":{"$error":"#N/A"}},{"$f":"IF(INDEX('NLM Data Test 1'!$H$12:$H$136,(MATCH(NLML.ChangeInScores.PrePostDataset[[#This Row],[First Name & Last Name*\n(choose from list)]],'NLM Data Test 1'!$W$12:$W$136,0)),1)=\"\",\"\",(INDEX('NLM Data Test 1'!H$12:H$136,(MATCH(NLML.ChangeInScores.PrePostDataset[[#This Row],[First Name & Last Name*\n(choose from list)]],'NLM Data Test 1'!$W$12:$W$136,0)),1)))","v":{"$error":"#N/A"}},{"$f":"IF(INDEX('NLM Data Test 1'!$I$12:$I$136,(MATCH(NLML.ChangeInScores.PrePostDataset[[#This Row],[First Name & Last Name*\n(choose from list)]],'NLM Data Test 1'!$W$12:$W$136,0)),1)=\"\",\"\",(INDEX('NLM Data Test 1'!I$12:I$136,(MATCH(NLML.ChangeInScores.PrePostDataset[[#This Row],[First Name & Last Name*\n(choose from list)]],'NLM Data Test 1'!$W$12:$W$136,0)),1)))","v":{"$error":"#N/A"}},{"$f":"IF(INDEX('NLM Data Test 1'!$J$12:$J$136,(MATCH(NLML.ChangeInScores.PrePostDataset[[#This Row],[First Name & Last Name*\n(choose from list)]],'NLM Data Test 1'!$W$12:$W$136,0)),1)=\"\",\"\",(INDEX('NLM Data Test 1'!J$12:J$136,(MATCH(NLML.ChangeInScores.PrePostDataset[[#This Row],[First Name & Last Name*\n(choose from list)]],'NLM Data Test 1'!$W$12:$W$136,0)),1)))","v":{"$error":"#N/A"}},{"$f":"IFERROR(INDEX('NLM Data Test 1'!$M$12:$M$136,(MATCH(NLML.ChangeInScores.PrePostDataset[[#This Row],[First Name & Last Name*\n(choose from list)]],'NLM Data Test 1'!$W$12:$W$136,0)),1),\"\")","v":""},{"$f":"INDEX('NLM Data Test 2'!$I$12:$I$136,(MATCH(NLML.ChangeInScores.PrePostDataset[[#This Row],[First Name & Last Name*\n(choose from list)]],'NLM Data Test 2'!$D$12:$D$136,0)),1)","v":{"$error":"#N/A"}},{"$f":"IFERROR(INDEX('NLM Data Test 2'!$J$12:$J$136,(MATCH(NLML.ChangeInScores.PrePostDataset[[#This Row],[First Name & Last Name*\n(choose from list)]],'NLM Data Test 2'!$X$12:$X$136,0)),1),\"\")","v":""},{"$f":"IFERROR(INDEX('NLM Data Test 2'!$K$12:$K$136,(MATCH(NLML.ChangeInScores.PrePostDataset[[#This Row],[First Name & Last Name*\n(choose from list)]],'NLM Data Test 2'!$X$12:$X$136,0)),1),\"\")","v":""},{"$f":"IFERROR(INDEX('NLM Data Test 2'!$N$12:$N$136,(MATCH(NLML.ChangeInScores.PrePostDataset[[#This Row],[First Name & Last Name*\n(choose from list)]],'NLM Data Test 2'!$X$12:$X$136,0)),1),\"\")","v":""},{"$f":"(INDEX('NLM Data Test 2'!$O$12:$O$136,(MATCH(NLML.ChangeInScores.PrePostDataset[[#This Row],[First Name & Last Name*\n(choose from list)]],'NLM Data Test 2'!$X$12:$X$136,0)),1))-(INDEX('NLM Data Test 1'!$N$12:$N$136,(MATCH(NLML.ChangeInScores.PrePostDataset[[#This Row],[First Name & Last Name*\n(choose from list)]],'NLM Data Test 1'!$W$12:$W$136,0)),1))","v":{"$error":"#N/A"}},{"$f":"(INDEX('NLM Data Test 2'!$P$12:$P$136,(MATCH(NLML.ChangeInScores.PrePostDataset[[#This Row],[First Name & Last Name*\n(choose from list)]],'NLM Data Test 2'!$X$12:$X$136,0)),1))-(INDEX('NLM Data Test 1'!$O$12:$O$136,(MATCH(NLML.ChangeInScores.PrePostDataset[[#This Row],[First Name & Last Name*\n(choose from list)]],'NLM Data Test 1'!$W$12:$W$136,0)),1))","v":{"$error":"#N/A"}},{"$f":"(INDEX('NLM Data Test 2'!$Q$12:$Q$136,(MATCH(NLML.ChangeInScores.PrePostDataset[[#This Row],[First Name & Last Name*\n(choose from list)]],'NLM Data Test 2'!$X$12:$X$136,0)),1))-(INDEX('NLM Data Test 1'!$P$12:$P$136,(MATCH(NLML.ChangeInScores.PrePostDataset[[#This Row],[First Name & Last Name*\n(choose from list)]],'NLM Data Test 1'!$W$12:$W$136,0)),1))","v":{"$error":"#N/A"}},{"$f":"(INDEX('NLM Data Test 2'!$R$12:$R$136,(MATCH(NLML.ChangeInScores.PrePostDataset[[#This Row],[First Name & Last Name*\n(choose from list)]],'NLM Data Test 2'!$X$12:$X$136,0)),1))-(INDEX('NLM Data Test 1'!$Q$12:$Q$136,(MATCH(NLML.ChangeInScores.PrePostDataset[[#This Row],[First Name & Last Name*\n(choose from list)]],'NLM Data Test 1'!$W$12:$W$136,0)),1))","v":{"$error":"#N/A"}},{"$f":"(INDEX('NLM Data Test 2'!$S$12:$S$136,(MATCH(NLML.ChangeInScores.PrePostDataset[[#This Row],[First Name & Last Name*\n(choose from list)]],'NLM Data Test 2'!$X$12:$X$136,0)),1))-(INDEX('NLM Data Test 1'!$R$12:$R$136,(MATCH(NLML.ChangeInScores.PrePostDataset[[#This Row],[First Name & Last Name*\n(choose from list)]],'NLM Data Test 1'!$W$12:$W$136,0)),1))","v":{"$error":"#N/A"}},{"$f":"(INDEX('NLM Data Test 2'!$T$12:$T$136,(MATCH(NLML.ChangeInScores.PrePostDataset[[#This Row],[First Name & Last Name*\n(choose from list)]],'NLM Data Test 2'!$X$12:$X$136,0)),1))-(INDEX('NLM Data Test 1'!$S$12:$S$136,(MATCH(NLML.ChangeInScores.PrePostDataset[[#This Row],[First Name & Last Name*\n(choose from list)]],'NLM Data Test 1'!$W$12:$W$136,0)),1))","v":{"$error":"#N/A"}},{"$f":"IFERROR(INDEX('NLM Data Test 1'!$T$12:$T$136,(MATCH(NLML.ChangeInScores.PrePostDataset[[#This Row],[First Name & Last Name*\n(choose from list)]],'NLM Data Test 1'!$W$12:$W$136,0)),1),\"\")","v":""},{"$f":"IFERROR(INDEX('NLM Data Test 2'!$U$12:$U$136,(MATCH(NLML.ChangeInScores.PrePostDataset[[#This Row],[First Name & Last Name*\n(choose from list)]],'NLM Data Test 2'!$X$12:$X$136,0)),1),\"\")","v":""}]
[108,{"$f":"IFERROR(INDEX(NLML.Test1.PrePostDataset[*First Name],(MATCH(NLML.ChangeInScores.PrePostDataset[[#This Row],[First Name & Last Name*\n(choose from list)]],'NLM Data Test 1'!W119:W243,0)),1),\"\")","v":""},{"$f":"IFERROR(INDEX(NLML.Test1.PrePostDataset[*Last Name],(MATCH(NLML.ChangeInScores.PrePostDataset[[#This Row],[First Name & Last Name*\n(choose from list)]],'NLM Data Test 1'!W119:W243,0)),1),\"\")","v":""},{"$f":"'NLM Data Test 2'!D119","v":0},{"$f":"IF(IFERROR(MATCH($D123,'NLM Data Test 2'!$D$12:$D$136,0),\"Error\")=\"Error\",(INDEX('NLM Data Test 1'!$D$12:$D$136,(MATCH($D123,'NLM Data Test 1'!$W$12:$W$136,0)),1)),(INDEX('NLM Data Test 2'!$E$12:$E$136,(MATCH($D123,'NLM Data Test 2'!$D$12:$D$136,0)),1)))","v":{"$error":"#N/A"}},{"$f":"IF(IFERROR(MATCH($D123,'NLM Data Test 2'!$D$12:$D$136,0),\"Error\")=\"Error\",(INDEX('NLM Data Test 1'!$E$12:$E$136,(MATCH($D123,'NLM Data Test 1'!$W$12:$W$136,0)),1)),(INDEX('NLM Data Test 2'!$G$12:$G$136,(MATCH($D123,'NLM Data Test 2'!$D$12:$D$136,0)),1)))","v":{"$error":"#N/A"}},{"$f":"IF(IFERROR(MATCH($D123,'NLM Data Test 2'!$D$12:$D$136,0),\"Error\")=\"Error\",(INDEX('NLM Data Test 1'!$F$12:$F$136,(MATCH($D123,'NLM Data Test 1'!$W$12:$W$136,0)),1)),(INDEX('NLM Data Test 2'!$F$12:$F$136,(MATCH($D123,'NLM Data Test 2'!$D$12:$D$136,0)),1)))","v":{"$error":"#N/A"}},{"$f":"IF(INDEX('NLM Data Test 1'!$H$12:$H$136,(MATCH(NLML.ChangeInScores.PrePostDataset[[#This Row],[First Name & Last Name*\n(choose from list)]],'NLM Data Test 1'!$W$12:$W$136,0)),1)=\"\",\"\",(INDEX('NLM Data Test 1'!H$12:H$136,(MATCH(NLML.ChangeInScores.PrePostDataset[[#This Row],[First Name & Last Name*\n(choose from list)]],'NLM Data Test 1'!$W$12:$W$136,0)),1)))","v":{"$error":"#N/A"}},{"$f":"IF(INDEX('NLM Data Test 1'!$I$12:$I$136,(MATCH(NLML.ChangeInScores.PrePostDataset[[#This Row],[First Name & Last Name*\n(choose from list)]],'NLM Data Test 1'!$W$12:$W$136,0)),1)=\"\",\"\",(INDEX('NLM Data Test 1'!I$12:I$136,(MATCH(NLML.ChangeInScores.PrePostDataset[[#This Row],[First Name & Last Name*\n(choose from list)]],'NLM Data Test 1'!$W$12:$W$136,0)),1)))","v":{"$error":"#N/A"}},{"$f":"IF(INDEX('NLM Data Test 1'!$J$12:$J$136,(MATCH(NLML.ChangeInScores.PrePostDataset[[#This Row],[First Name & Last Name*\n(choose from list)]],'NLM Data Test 1'!$W$12:$W$136,0)),1)=\"\",\"\",(INDEX('NLM Data Test 1'!J$12:J$136,(MATCH(NLML.ChangeInScores.PrePostDataset[[#This Row],[First Name & Last Name*\n(choose from list)]],'NLM Data Test 1'!$W$12:$W$136,0)),1)))","v":{"$error":"#N/A"}},{"$f":"IFERROR(INDEX('NLM Data Test 1'!$M$12:$M$136,(MATCH(NLML.ChangeInScores.PrePostDataset[[#This Row],[First Name & Last Name*\n(choose from list)]],'NLM Data Test 1'!$W$12:$W$136,0)),1),\"\")","v":""},{"$f":"INDEX('NLM Data Test 2'!$I$12:$I$136,(MATCH(NLML.ChangeInScores.PrePostDataset[[#This Row],[First Name & Last Name*\n(choose from list)]],'NLM Data Test 2'!$D$12:$D$136,0)),1)","v":{"$error":"#N/A"}},{"$f":"IFERROR(INDEX('NLM Data Test 2'!$J$12:$J$136,(MATCH(NLML.ChangeInScores.PrePostDataset[[#This Row],[First Name & Last Name*\n(choose from list)]],'NLM Data Test 2'!$X$12:$X$136,0)),1),\"\")","v":""},{"$f":"IFERROR(INDEX('NLM Data Test 2'!$K$12:$K$136,(MATCH(NLML.ChangeInScores.PrePostDataset[[#This Row],[First Name & Last Name*\n(choose from list)]],'NLM Data Test 2'!$X$12:$X$136,0)),1),\"\")","v":""},{"$f":"IFERROR(INDEX('NLM Data Test 2'!$N$12:$N$136,(MATCH(NLML.ChangeInScores.PrePostDataset[[#This Row],[First Name & Last Name*\n(choose from list)]],'NLM Data Test 2'!$X$12:$X$136,0)),1),\"\")","v":""},{"$f":"(INDEX('NLM Data Test 2'!$O$12:$O$136,(MATCH(NLML.ChangeInScores.PrePostDataset[[#This Row],[First Name & Last Name*\n(choose from list)]],'NLM Data Test 2'!$X$12:$X$136,0)),1))-(INDEX('NLM Data Test 1'!$N$12:$N$136,(MATCH(NLML.ChangeInScores.PrePostDataset[[#This Row],[First Name & Last Name*\n(choose from list)]],'NLM Data Test 1'!$W$12:$W$136,0)),1))","v":{"$error":"#N/A"}},{"$f":"(INDEX('NLM Data Test 2'!$P$12:$P$136,(MATCH(NLML.ChangeInScores.PrePostDataset[[#This Row],[First Name & Last Name*\n(choose from list)]],'NLM Data Test 2'!$X$12:$X$136,0)),1))-(INDEX('NLM Data Test 1'!$O$12:$O$136,(MATCH(NLML.ChangeInScores.PrePostDataset[[#This Row],[First Name & Last Name*\n(choose from list)]],'NLM Data Test 1'!$W$12:$W$136,0)),1))","v":{"$error":"#N/A"}},{"$f":"(INDEX('NLM Data Test 2'!$Q$12:$Q$136,(MATCH(NLML.ChangeInScores.PrePostDataset[[#This Row],[First Name & Last Name*\n(choose from list)]],'NLM Data Test 2'!$X$12:$X$136,0)),1))-(INDEX('NLM Data Test 1'!$P$12:$P$136,(MATCH(NLML.ChangeInScores.PrePostDataset[[#This Row],[First Name & Last Name*\n(choose from list)]],'NLM Data Test 1'!$W$12:$W$136,0)),1))","v":{"$error":"#N/A"}},{"$f":"(INDEX('NLM Data Test 2'!$R$12:$R$136,(MATCH(NLML.ChangeInScores.PrePostDataset[[#This Row],[First Name & Last Name*\n(choose from list)]],'NLM Data Test 2'!$X$12:$X$136,0)),1))-(INDEX('NLM Data Test 1'!$Q$12:$Q$136,(MATCH(NLML.ChangeInScores.PrePostDataset[[#This Row],[First Name & Last Name*\n(choose from list)]],'NLM Data Test 1'!$W$12:$W$136,0)),1))","v":{"$error":"#N/A"}},{"$f":"(INDEX('NLM Data Test 2'!$S$12:$S$136,(MATCH(NLML.ChangeInScores.PrePostDataset[[#This Row],[First Name & Last Name*\n(choose from list)]],'NLM Data Test 2'!$X$12:$X$136,0)),1))-(INDEX('NLM Data Test 1'!$R$12:$R$136,(MATCH(NLML.ChangeInScores.PrePostDataset[[#This Row],[First Name & Last Name*\n(choose from list)]],'NLM Data Test 1'!$W$12:$W$136,0)),1))","v":{"$error":"#N/A"}},{"$f":"(INDEX('NLM Data Test 2'!$T$12:$T$136,(MATCH(NLML.ChangeInScores.PrePostDataset[[#This Row],[First Name & Last Name*\n(choose from list)]],'NLM Data Test 2'!$X$12:$X$136,0)),1))-(INDEX('NLM Data Test 1'!$S$12:$S$136,(MATCH(NLML.ChangeInScores.PrePostDataset[[#This Row],[First Name & Last Name*\n(choose from list)]],'NLM Data Test 1'!$W$12:$W$136,0)),1))","v":{"$error":"#N/A"}},{"$f":"IFERROR(INDEX('NLM Data Test 1'!$T$12:$T$136,(MATCH(NLML.ChangeInScores.PrePostDataset[[#This Row],[First Name & Last Name*\n(choose from list)]],'NLM Data Test 1'!$W$12:$W$136,0)),1),\"\")","v":""},{"$f":"IFERROR(INDEX('NLM Data Test 2'!$U$12:$U$136,(MATCH(NLML.ChangeInScores.PrePostDataset[[#This Row],[First Name & Last Name*\n(choose from list)]],'NLM Data Test 2'!$X$12:$X$136,0)),1),\"\")","v":""}]
[109,{"$f":"IFERROR(INDEX(NLML.Test1.PrePostDataset[*First Name],(MATCH(NLML.ChangeInScores.PrePostDataset[[#This Row],[First Name & Last Name*\n(choose from list)]],'NLM Data Test 1'!W120:W244,0)),1),\"\")","v":""},{"$f":"IFERROR(INDEX(NLML.Test1.PrePostDataset[*Last Name],(MATCH(NLML.ChangeInScores.PrePostDataset[[#This Row],[First Name & Last Name*\n(choose from list)]],'NLM Data Test 1'!W120:W244,0)),1),\"\")","v":""},{"$f":"'NLM Data Test 2'!D120","v":0},{"$f":"IF(IFERROR(MATCH($D124,'NLM Data Test 2'!$D$12:$D$136,0),\"Error\")=\"Error\",(INDEX('NLM Data Test 1'!$D$12:$D$136,(MATCH($D124,'NLM Data Test 1'!$W$12:$W$136,0)),1)),(INDEX('NLM Data Test 2'!$E$12:$E$136,(MATCH($D124,'NLM Data Test 2'!$D$12:$D$136,0)),1)))","v":{"$error":"#N/A"}},{"$f":"IF(IFERROR(MATCH($D124,'NLM Data Test 2'!$D$12:$D$136,0),\"Error\")=\"Error\",(INDEX('NLM Data Test 1'!$E$12:$E$136,(MATCH($D124,'NLM Data Test 1'!$W$12:$W$136,0)),1)),(INDEX('NLM Data Test 2'!$G$12:$G$136,(MATCH($D124,'NLM Data Test 2'!$D$12:$D$136,0)),1)))","v":{"$error":"#N/A"}},{"$f":"IF(IFERROR(MATCH($D124,'NLM Data Test 2'!$D$12:$D$136,0),\"Error\")=\"Error\",(INDEX('NLM Data Test 1'!$F$12:$F$136,(MATCH($D124,'NLM Data Test 1'!$W$12:$W$136,0)),1)),(INDEX('NLM Data Test 2'!$F$12:$F$136,(MATCH($D124,'NLM Data Test 2'!$D$12:$D$136,0)),1)))","v":{"$error":"#N/A"}},{"$f":"IF(INDEX('NLM Data Test 1'!$H$12:$H$136,(MATCH(NLML.ChangeInScores.PrePostDataset[[#This Row],[First Name & Last Name*\n(choose from list)]],'NLM Data Test 1'!$W$12:$W$136,0)),1)=\"\",\"\",(INDEX('NLM Data Test 1'!H$12:H$136,(MATCH(NLML.ChangeInScores.PrePostDataset[[#This Row],[First Name & Last Name*\n(choose from list)]],'NLM Data Test 1'!$W$12:$W$136,0)),1)))","v":{"$error":"#N/A"}},{"$f":"IF(INDEX('NLM Data Test 1'!$I$12:$I$136,(MATCH(NLML.ChangeInScores.PrePostDataset[[#This Row],[First Name & Last Name*\n(choose from list)]],'NLM Data Test 1'!$W$12:$W$136,0)),1)=\"\",\"\",(INDEX('NLM Data Test 1'!I$12:I$136,(MATCH(NLML.ChangeInScores.PrePostDataset[[#This Row],[First Name & Last Name*\n(choose from list)]],'NLM Data Test 1'!$W$12:$W$136,0)),1)))","v":{"$error":"#N/A"}},{"$f":"IF(INDEX('NLM Data Test 1'!$J$12:$J$136,(MATCH(NLML.ChangeInScores.PrePostDataset[[#This Row],[First Name & Last Name*\n(choose from list)]],'NLM Data Test 1'!$W$12:$W$136,0)),1)=\"\",\"\",(INDEX('NLM Data Test 1'!J$12:J$136,(MATCH(NLML.ChangeInScores.PrePostDataset[[#This Row],[First Name & Last Name*\n(choose from list)]],'NLM Data Test 1'!$W$12:$W$136,0)),1)))","v":{"$error":"#N/A"}},{"$f":"IFERROR(INDEX('NLM Data Test 1'!$M$12:$M$136,(MATCH(NLML.ChangeInScores.PrePostDataset[[#This Row],[First Name & Last Name*\n(choose from list)]],'NLM Data Test 1'!$W$12:$W$136,0)),1),\"\")","v":""},{"$f":"INDEX('NLM Data Test 2'!$I$12:$I$136,(MATCH(NLML.ChangeInScores.PrePostDataset[[#This Row],[First Name & Last Name*\n(choose from list)]],'NLM Data Test 2'!$D$12:$D$136,0)),1)","v":{"$error":"#N/A"}},{"$f":"IFERROR(INDEX('NLM Data Test 2'!$J$12:$J$136,(MATCH(NLML.ChangeInScores.PrePostDataset[[#This Row],[First Name & Last Name*\n(choose from list)]],'NLM Data Test 2'!$X$12:$X$136,0)),1),\"\")","v":""},{"$f":"IFERROR(INDEX('NLM Data Test 2'!$K$12:$K$136,(MATCH(NLML.ChangeInScores.PrePostDataset[[#This Row],[First Name & Last Name*\n(choose from list)]],'NLM Data Test 2'!$X$12:$X$136,0)),1),\"\")","v":""},{"$f":"IFERROR(INDEX('NLM Data Test 2'!$N$12:$N$136,(MATCH(NLML.ChangeInScores.PrePostDataset[[#This Row],[First Name & Last Name*\n(choose from list)]],'NLM Data Test 2'!$X$12:$X$136,0)),1),\"\")","v":""},{"$f":"(INDEX('NLM Data Test 2'!$O$12:$O$136,(MATCH(NLML.ChangeInScores.PrePostDataset[[#This Row],[First Name & Last Name*\n(choose from list)]],'NLM Data Test 2'!$X$12:$X$136,0)),1))-(INDEX('NLM Data Test 1'!$N$12:$N$136,(MATCH(NLML.ChangeInScores.PrePostDataset[[#This Row],[First Name & Last Name*\n(choose from list)]],'NLM Data Test 1'!$W$12:$W$136,0)),1))","v":{"$error":"#N/A"}},{"$f":"(INDEX('NLM Data Test 2'!$P$12:$P$136,(MATCH(NLML.ChangeInScores.PrePostDataset[[#This Row],[First Name & Last Name*\n(choose from list)]],'NLM Data Test 2'!$X$12:$X$136,0)),1))-(INDEX('NLM Data Test 1'!$O$12:$O$136,(MATCH(NLML.ChangeInScores.PrePostDataset[[#This Row],[First Name & Last Name*\n(choose from list)]],'NLM Data Test 1'!$W$12:$W$136,0)),1))","v":{"$error":"#N/A"}},{"$f":"(INDEX('NLM Data Test 2'!$Q$12:$Q$136,(MATCH(NLML.ChangeInScores.PrePostDataset[[#This Row],[First Name & Last Name*\n(choose from list)]],'NLM Data Test 2'!$X$12:$X$136,0)),1))-(INDEX('NLM Data Test 1'!$P$12:$P$136,(MATCH(NLML.ChangeInScores.PrePostDataset[[#This Row],[First Name & Last Name*\n(choose from list)]],'NLM Data Test 1'!$W$12:$W$136,0)),1))","v":{"$error":"#N/A"}},{"$f":"(INDEX('NLM Data Test 2'!$R$12:$R$136,(MATCH(NLML.ChangeInScores.PrePostDataset[[#This Row],[First Name & Last Name*\n(choose from list)]],'NLM Data Test 2'!$X$12:$X$136,0)),1))-(INDEX('NLM Data Test 1'!$Q$12:$Q$136,(MATCH(NLML.ChangeInScores.PrePostDataset[[#This Row],[First Name & Last Name*\n(choose from list)]],'NLM Data Test 1'!$W$12:$W$136,0)),1))","v":{"$error":"#N/A"}},{"$f":"(INDEX('NLM Data Test 2'!$S$12:$S$136,(MATCH(NLML.ChangeInScores.PrePostDataset[[#This Row],[First Name & Last Name*\n(choose from list)]],'NLM Data Test 2'!$X$12:$X$136,0)),1))-(INDEX('NLM Data Test 1'!$R$12:$R$136,(MATCH(NLML.ChangeInScores.PrePostDataset[[#This Row],[First Name & Last Name*\n(choose from list)]],'NLM Data Test 1'!$W$12:$W$136,0)),1))","v":{"$error":"#N/A"}},{"$f":"(INDEX('NLM Data Test 2'!$T$12:$T$136,(MATCH(NLML.ChangeInScores.PrePostDataset[[#This Row],[First Name & Last Name*\n(choose from list)]],'NLM Data Test 2'!$X$12:$X$136,0)),1))-(INDEX('NLM Data Test 1'!$S$12:$S$136,(MATCH(NLML.ChangeInScores.PrePostDataset[[#This Row],[First Name & Last Name*\n(choose from list)]],'NLM Data Test 1'!$W$12:$W$136,0)),1))","v":{"$error":"#N/A"}},{"$f":"IFERROR(INDEX('NLM Data Test 1'!$T$12:$T$136,(MATCH(NLML.ChangeInScores.PrePostDataset[[#This Row],[First Name & Last Name*\n(choose from list)]],'NLM Data Test 1'!$W$12:$W$136,0)),1),\"\")","v":""},{"$f":"IFERROR(INDEX('NLM Data Test 2'!$U$12:$U$136,(MATCH(NLML.ChangeInScores.PrePostDataset[[#This Row],[First Name & Last Name*\n(choose from list)]],'NLM Data Test 2'!$X$12:$X$136,0)),1),\"\")","v":""}]
[110,{"$f":"IFERROR(INDEX(NLML.Test1.PrePostDataset[*First Name],(MATCH(NLML.ChangeInScores.PrePostDataset[[#This Row],[First Name & Last Name*\n(choose from list)]],'NLM Data Test 1'!W121:W245,0)),1),\"\")","v":""},{"$f":"IFERROR(INDEX(NLML.Test1.PrePostDataset[*Last Name],(MATCH(NLML.ChangeInScores.PrePostDataset[[#This Row],[First Name & Last Name*\n(choose from list)]],'NLM Data Test 1'!W121:W245,0)),1),\"\")","v":""},{"$f":"'NLM Data Test 2'!D121","v":0},{"$f":"IF(IFERROR(MATCH($D125,'NLM Data Test 2'!$D$12:$D$136,0),\"Error\")=\"Error\",(INDEX('NLM Data Test 1'!$D$12:$D$136,(MATCH($D125,'NLM Data Test 1'!$W$12:$W$136,0)),1)),(INDEX('NLM Data Test 2'!$E$12:$E$136,(MATCH($D125,'NLM Data Test 2'!$D$12:$D$136,0)),1)))","v":{"$error":"#N/A"}},{"$f":"IF(IFERROR(MATCH($D125,'NLM Data Test 2'!$D$12:$D$136,0),\"Error\")=\"Error\",(INDEX('NLM Data Test 1'!$E$12:$E$136,(MATCH($D125,'NLM Data Test 1'!$W$12:$W$136,0)),1)),(INDEX('NLM Data Test 2'!$G$12:$G$136,(MATCH($D125,'NLM Data Test 2'!$D$12:$D$136,0)),1)))","v":{"$error":"#N/A"}},{"$f":"IF(IFERROR(MATCH($D125,'NLM Data Test 2'!$D$12:$D$136,0),\"Error\")=\"Error\",(INDEX('NLM Data Test 1'!$F$12:$F$136,(MATCH($D125,'NLM Data Test 1'!$W$12:$W$136,0)),1)),(INDEX('NLM Data Test 2'!$F$12:$F$136,(MATCH($D125,'NLM Data Test 2'!$D$12:$D$136,0)),1)))","v":{"$error":"#N/A"}},{"$f":"IF(INDEX('NLM Data Test 1'!$H$12:$H$136,(MATCH(NLML.ChangeInScores.PrePostDataset[[#This Row],[First Name & Last Name*\n(choose from list)]],'NLM Data Test 1'!$W$12:$W$136,0)),1)=\"\",\"\",(INDEX('NLM Data Test 1'!H$12:H$136,(MATCH(NLML.ChangeInScores.PrePostDataset[[#This Row],[First Name & Last Name*\n(choose from list)]],'NLM Data Test 1'!$W$12:$W$136,0)),1)))","v":{"$error":"#N/A"}},{"$f":"IF(INDEX('NLM Data Test 1'!$I$12:$I$136,(MATCH(NLML.ChangeInScores.PrePostDataset[[#This Row],[First Name & Last Name*\n(choose from list)]],'NLM Data Test 1'!$W$12:$W$136,0)),1)=\"\",\"\",(INDEX('NLM Data Test 1'!I$12:I$136,(MATCH(NLML.ChangeInScores.PrePostDataset[[#This Row],[First Name & Last Name*\n(choose from list)]],'NLM Data Test 1'!$W$12:$W$136,0)),1)))","v":{"$error":"#N/A"}},{"$f":"IF(INDEX('NLM Data Test 1'!$J$12:$J$136,(MATCH(NLML.ChangeInScores.PrePostDataset[[#This Row],[First Name & Last Name*\n(choose from list)]],'NLM Data Test 1'!$W$12:$W$136,0)),1)=\"\",\"\",(INDEX('NLM Data Test 1'!J$12:J$136,(MATCH(NLML.ChangeInScores.PrePostDataset[[#This Row],[First Name & Last Name*\n(choose from list)]],'NLM Data Test 1'!$W$12:$W$136,0)),1)))","v":{"$error":"#N/A"}},{"$f":"IFERROR(INDEX('NLM Data Test 1'!$M$12:$M$136,(MATCH(NLML.ChangeInScores.PrePostDataset[[#This Row],[First Name & Last Name*\n(choose from list)]],'NLM Data Test 1'!$W$12:$W$136,0)),1),\"\")","v":""},{"$f":"INDEX('NLM Data Test 2'!$I$12:$I$136,(MATCH(NLML.ChangeInScores.PrePostDataset[[#This Row],[First Name & Last Name*\n(choose from list)]],'NLM Data Test 2'!$D$12:$D$136,0)),1)","v":{"$error":"#N/A"}},{"$f":"IFERROR(INDEX('NLM Data Test 2'!$J$12:$J$136,(MATCH(NLML.ChangeInScores.PrePostDataset[[#This Row],[First Name & Last Name*\n(choose from list)]],'NLM Data Test 2'!$X$12:$X$136,0)),1),\"\")","v":""},{"$f":"IFERROR(INDEX('NLM Data Test 2'!$K$12:$K$136,(MATCH(NLML.ChangeInScores.PrePostDataset[[#This Row],[First Name & Last Name*\n(choose from list)]],'NLM Data Test 2'!$X$12:$X$136,0)),1),\"\")","v":""},{"$f":"IFERROR(INDEX('NLM Data Test 2'!$N$12:$N$136,(MATCH(NLML.ChangeInScores.PrePostDataset[[#This Row],[First Name & Last Name*\n(choose from list)]],'NLM Data Test 2'!$X$12:$X$136,0)),1),\"\")","v":""},{"$f":"(INDEX('NLM Data Test 2'!$O$12:$O$136,(MATCH(NLML.ChangeInScores.PrePostDataset[[#This Row],[First Name & Last Name*\n(choose from list)]],'NLM Data Test 2'!$X$12:$X$136,0)),1))-(INDEX('NLM Data Test 1'!$N$12:$N$136,(MATCH(NLML.ChangeInScores.PrePostDataset[[#This Row],[First Name & Last Name*\n(choose from list)]],'NLM Data Test 1'!$W$12:$W$136,0)),1))","v":{"$error":"#N/A"}},{"$f":"(INDEX('NLM Data Test 2'!$P$12:$P$136,(MATCH(NLML.ChangeInScores.PrePostDataset[[#This Row],[First Name & Last Name*\n(choose from list)]],'NLM Data Test 2'!$X$12:$X$136,0)),1))-(INDEX('NLM Data Test 1'!$O$12:$O$136,(MATCH(NLML.ChangeInScores.PrePostDataset[[#This Row],[First Name & Last Name*\n(choose from list)]],'NLM Data Test 1'!$W$12:$W$136,0)),1))","v":{"$error":"#N/A"}},{"$f":"(INDEX('NLM Data Test 2'!$Q$12:$Q$136,(MATCH(NLML.ChangeInScores.PrePostDataset[[#This Row],[First Name & Last Name*\n(choose from list)]],'NLM Data Test 2'!$X$12:$X$136,0)),1))-(INDEX('NLM Data Test 1'!$P$12:$P$136,(MATCH(NLML.ChangeInScores.PrePostDataset[[#This Row],[First Name & Last Name*\n(choose from list)]],'NLM Data Test 1'!$W$12:$W$136,0)),1))","v":{"$error":"#N/A"}},{"$f":"(INDEX('NLM Data Test 2'!$R$12:$R$136,(MATCH(NLML.ChangeInScores.PrePostDataset[[#This Row],[First Name & Last Name*\n(choose from list)]],'NLM Data Test 2'!$X$12:$X$136,0)),1))-(INDEX('NLM Data Test 1'!$Q$12:$Q$136,(MATCH(NLML.ChangeInScores.PrePostDataset[[#This Row],[First Name & Last Name*\n(choose from list)]],'NLM Data Test 1'!$W$12:$W$136,0)),1))","v":{"$error":"#N/A"}},{"$f":"(INDEX('NLM Data Test 2'!$S$12:$S$136,(MATCH(NLML.ChangeInScores.PrePostDataset[[#This Row],[First Name & Last Name*\n(choose from list)]],'NLM Data Test 2'!$X$12:$X$136,0)),1))-(INDEX('NLM Data Test 1'!$R$12:$R$136,(MATCH(NLML.ChangeInScores.PrePostDataset[[#This Row],[First Name & Last Name*\n(choose from list)]],'NLM Data Test 1'!$W$12:$W$136,0)),1))","v":{"$error":"#N/A"}},{"$f":"(INDEX('NLM Data Test 2'!$T$12:$T$136,(MATCH(NLML.ChangeInScores.PrePostDataset[[#This Row],[First Name & Last Name*\n(choose from list)]],'NLM Data Test 2'!$X$12:$X$136,0)),1))-(INDEX('NLM Data Test 1'!$S$12:$S$136,(MATCH(NLML.ChangeInScores.PrePostDataset[[#This Row],[First Name & Last Name*\n(choose from list)]],'NLM Data Test 1'!$W$12:$W$136,0)),1))","v":{"$error":"#N/A"}},{"$f":"IFERROR(INDEX('NLM Data Test 1'!$T$12:$T$136,(MATCH(NLML.ChangeInScores.PrePostDataset[[#This Row],[First Name & Last Name*\n(choose from list)]],'NLM Data Test 1'!$W$12:$W$136,0)),1),\"\")","v":""},{"$f":"IFERROR(INDEX('NLM Data Test 2'!$U$12:$U$136,(MATCH(NLML.ChangeInScores.PrePostDataset[[#This Row],[First Name & Last Name*\n(choose from list)]],'NLM Data Test 2'!$X$12:$X$136,0)),1),\"\")","v":""}]
[111,{"$f":"IFERROR(INDEX(NLML.Test1.PrePostDataset[*First Name],(MATCH(NLML.ChangeInScores.PrePostDataset[[#This Row],[First Name & Last Name*\n(choose from list)]],'NLM Data Test 1'!W122:W246,0)),1),\"\")","v":""},{"$f":"IFERROR(INDEX(NLML.Test1.PrePostDataset[*Last Name],(MATCH(NLML.ChangeInScores.PrePostDataset[[#This Row],[First Name & Last Name*\n(choose from list)]],'NLM Data Test 1'!W122:W246,0)),1),\"\")","v":""},{"$f":"'NLM Data Test 2'!D122","v":0},{"$f":"IF(IFERROR(MATCH($D126,'NLM Data Test 2'!$D$12:$D$136,0),\"Error\")=\"Error\",(INDEX('NLM Data Test 1'!$D$12:$D$136,(MATCH($D126,'NLM Data Test 1'!$W$12:$W$136,0)),1)),(INDEX('NLM Data Test 2'!$E$12:$E$136,(MATCH($D126,'NLM Data Test 2'!$D$12:$D$136,0)),1)))","v":{"$error":"#N/A"}},{"$f":"IF(IFERROR(MATCH($D126,'NLM Data Test 2'!$D$12:$D$136,0),\"Error\")=\"Error\",(INDEX('NLM Data Test 1'!$E$12:$E$136,(MATCH($D126,'NLM Data Test 1'!$W$12:$W$136,0)),1)),(INDEX('NLM Data Test 2'!$G$12:$G$136,(MATCH($D126,'NLM Data Test 2'!$D$12:$D$136,0)),1)))","v":{"$error":"#N/A"}},{"$f":"IF(IFERROR(MATCH($D126,'NLM Data Test 2'!$D$12:$D$136,0),\"Error\")=\"Error\",(INDEX('NLM Data Test 1'!$F$12:$F$136,(MATCH($D126,'NLM Data Test 1'!$W$12:$W$136,0)),1)),(INDEX('NLM Data Test 2'!$F$12:$F$136,(MATCH($D126,'NLM Data Test 2'!$D$12:$D$136,0)),1)))","v":{"$error":"#N/A"}},{"$f":"IF(INDEX('NLM Data Test 1'!$H$12:$H$136,(MATCH(NLML.ChangeInScores.PrePostDataset[[#This Row],[First Name & Last Name*\n(choose from list)]],'NLM Data Test 1'!$W$12:$W$136,0)),1)=\"\",\"\",(INDEX('NLM Data Test 1'!H$12:H$136,(MATCH(NLML.ChangeInScores.PrePostDataset[[#This Row],[First Name & Last Name*\n(choose from list)]],'NLM Data Test 1'!$W$12:$W$136,0)),1)))","v":{"$error":"#N/A"}},{"$f":"IF(INDEX('NLM Data Test 1'!$I$12:$I$136,(MATCH(NLML.ChangeInScores.PrePostDataset[[#This Row],[First Name & Last Name*\n(choose from list)]],'NLM Data Test 1'!$W$12:$W$136,0)),1)=\"\",\"\",(INDEX('NLM Data Test 1'!I$12:I$136,(MATCH(NLML.ChangeInScores.PrePostDataset[[#This Row],[First Name & Last Name*\n(choose from list)]],'NLM Data Test 1'!$W$12:$W$136,0)),1)))","v":{"$error":"#N/A"}},{"$f":"IF(INDEX('NLM Data Test 1'!$J$12:$J$136,(MATCH(NLML.ChangeInScores.PrePostDataset[[#This Row],[First Name & Last Name*\n(choose from list)]],'NLM Data Test 1'!$W$12:$W$136,0)),1)=\"\",\"\",(INDEX('NLM Data Test 1'!J$12:J$136,(MATCH(NLML.ChangeInScores.PrePostDataset[[#This Row],[First Name & Last Name*\n(choose from list)]],'NLM Data Test 1'!$W$12:$W$136,0)),1)))","v":{"$error":"#N/A"}},{"$f":"IFERROR(INDEX('NLM Data Test 1'!$M$12:$M$136,(MATCH(NLML.ChangeInScores.PrePostDataset[[#This Row],[First Name & Last Name*\n(choose from list)]],'NLM Data Test 1'!$W$12:$W$136,0)),1),\"\")","v":""},{"$f":"INDEX('NLM Data Test 2'!$I$12:$I$136,(MATCH(NLML.ChangeInScores.PrePostDataset[[#This Row],[First Name & Last Name*\n(choose from list)]],'NLM Data Test 2'!$D$12:$D$136,0)),1)","v":{"$error":"#N/A"}},{"$f":"IFERROR(INDEX('NLM Data Test 2'!$J$12:$J$136,(MATCH(NLML.ChangeInScores.PrePostDataset[[#This Row],[First Name & Last Name*\n(choose from list)]],'NLM Data Test 2'!$X$12:$X$136,0)),1),\"\")","v":""},{"$f":"IFERROR(INDEX('NLM Data Test 2'!$K$12:$K$136,(MATCH(NLML.ChangeInScores.PrePostDataset[[#This Row],[First Name & Last Name*\n(choose from list)]],'NLM Data Test 2'!$X$12:$X$136,0)),1),\"\")","v":""},{"$f":"IFERROR(INDEX('NLM Data Test 2'!$N$12:$N$136,(MATCH(NLML.ChangeInScores.PrePostDataset[[#This Row],[First Name & Last Name*\n(choose from list)]],'NLM Data Test 2'!$X$12:$X$136,0)),1),\"\")","v":""},{"$f":"(INDEX('NLM Data Test 2'!$O$12:$O$136,(MATCH(NLML.ChangeInScores.PrePostDataset[[#This Row],[First Name & Last Name*\n(choose from list)]],'NLM Data Test 2'!$X$12:$X$136,0)),1))-(INDEX('NLM Data Test 1'!$N$12:$N$136,(MATCH(NLML.ChangeInScores.PrePostDataset[[#This Row],[First Name & Last Name*\n(choose from list)]],'NLM Data Test 1'!$W$12:$W$136,0)),1))","v":{"$error":"#N/A"}},{"$f":"(INDEX('NLM Data Test 2'!$P$12:$P$136,(MATCH(NLML.ChangeInScores.PrePostDataset[[#This Row],[First Name & Last Name*\n(choose from list)]],'NLM Data Test 2'!$X$12:$X$136,0)),1))-(INDEX('NLM Data Test 1'!$O$12:$O$136,(MATCH(NLML.ChangeInScores.PrePostDataset[[#This Row],[First Name & Last Name*\n(choose from list)]],'NLM Data Test 1'!$W$12:$W$136,0)),1))","v":{"$error":"#N/A"}},{"$f":"(INDEX('NLM Data Test 2'!$Q$12:$Q$136,(MATCH(NLML.ChangeInScores.PrePostDataset[[#This Row],[First Name & Last Name*\n(choose from list)]],'NLM Data Test 2'!$X$12:$X$136,0)),1))-(INDEX('NLM Data Test 1'!$P$12:$P$136,(MATCH(NLML.ChangeInScores.PrePostDataset[[#This Row],[First Name & Last Name*\n(choose from list)]],'NLM Data Test 1'!$W$12:$W$136,0)),1))","v":{"$error":"#N/A"}},{"$f":"(INDEX('NLM Data Test 2'!$R$12:$R$136,(MATCH(NLML.ChangeInScores.PrePostDataset[[#This Row],[First Name & Last Name*\n(choose from list)]],'NLM Data Test 2'!$X$12:$X$136,0)),1))-(INDEX('NLM Data Test 1'!$Q$12:$Q$136,(MATCH(NLML.ChangeInScores.PrePostDataset[[#This Row],[First Name & Last Name*\n(choose from list)]],'NLM Data Test 1'!$W$12:$W$136,0)),1))","v":{"$error":"#N/A"}},{"$f":"(INDEX('NLM Data Test 2'!$S$12:$S$136,(MATCH(NLML.ChangeInScores.PrePostDataset[[#This Row],[First Name & Last Name*\n(choose from list)]],'NLM Data Test 2'!$X$12:$X$136,0)),1))-(INDEX('NLM Data Test 1'!$R$12:$R$136,(MATCH(NLML.ChangeInScores.PrePostDataset[[#This Row],[First Name & Last Name*\n(choose from list)]],'NLM Data Test 1'!$W$12:$W$136,0)),1))","v":{"$error":"#N/A"}},{"$f":"(INDEX('NLM Data Test 2'!$T$12:$T$136,(MATCH(NLML.ChangeInScores.PrePostDataset[[#This Row],[First Name & Last Name*\n(choose from list)]],'NLM Data Test 2'!$X$12:$X$136,0)),1))-(INDEX('NLM Data Test 1'!$S$12:$S$136,(MATCH(NLML.ChangeInScores.PrePostDataset[[#This Row],[First Name & Last Name*\n(choose from list)]],'NLM Data Test 1'!$W$12:$W$136,0)),1))","v":{"$error":"#N/A"}},{"$f":"IFERROR(INDEX('NLM Data Test 1'!$T$12:$T$136,(MATCH(NLML.ChangeInScores.PrePostDataset[[#This Row],[First Name & Last Name*\n(choose from list)]],'NLM Data Test 1'!$W$12:$W$136,0)),1),\"\")","v":""},{"$f":"IFERROR(INDEX('NLM Data Test 2'!$U$12:$U$136,(MATCH(NLML.ChangeInScores.PrePostDataset[[#This Row],[First Name & Last Name*\n(choose from list)]],'NLM Data Test 2'!$X$12:$X$136,0)),1),\"\")","v":""}]
[112,{"$f":"IFERROR(INDEX(NLML.Test1.PrePostDataset[*First Name],(MATCH(NLML.ChangeInScores.PrePostDataset[[#This Row],[First Name & Last Name*\n(choose from list)]],'NLM Data Test 1'!W123:W247,0)),1),\"\")","v":""},{"$f":"IFERROR(INDEX(NLML.Test1.PrePostDataset[*Last Name],(MATCH(NLML.ChangeInScores.PrePostDataset[[#This Row],[First Name & Last Name*\n(choose from list)]],'NLM Data Test 1'!W123:W247,0)),1),\"\")","v":""},{"$f":"'NLM Data Test 2'!D123","v":0},{"$f":"IF(IFERROR(MATCH($D127,'NLM Data Test 2'!$D$12:$D$136,0),\"Error\")=\"Error\",(INDEX('NLM Data Test 1'!$D$12:$D$136,(MATCH($D127,'NLM Data Test 1'!$W$12:$W$136,0)),1)),(INDEX('NLM Data Test 2'!$E$12:$E$136,(MATCH($D127,'NLM Data Test 2'!$D$12:$D$136,0)),1)))","v":{"$error":"#N/A"}},{"$f":"IF(IFERROR(MATCH($D127,'NLM Data Test 2'!$D$12:$D$136,0),\"Error\")=\"Error\",(INDEX('NLM Data Test 1'!$E$12:$E$136,(MATCH($D127,'NLM Data Test 1'!$W$12:$W$136,0)),1)),(INDEX('NLM Data Test 2'!$G$12:$G$136,(MATCH($D127,'NLM Data Test 2'!$D$12:$D$136,0)),1)))","v":{"$error":"#N/A"}},{"$f":"IF(IFERROR(MATCH($D127,'NLM Data Test 2'!$D$12:$D$136,0),\"Error\")=\"Error\",(INDEX('NLM Data Test 1'!$F$12:$F$136,(MATCH($D127,'NLM Data Test 1'!$W$12:$W$136,0)),1)),(INDEX('NLM Data Test 2'!$F$12:$F$136,(MATCH($D127,'NLM Data Test 2'!$D$12:$D$136,0)),1)))","v":{"$error":"#N/A"}},{"$f":"IF(INDEX('NLM Data Test 1'!$H$12:$H$136,(MATCH(NLML.ChangeInScores.PrePostDataset[[#This Row],[First Name & Last Name*\n(choose from list)]],'NLM Data Test 1'!$W$12:$W$136,0)),1)=\"\",\"\",(INDEX('NLM Data Test 1'!H$12:H$136,(MATCH(NLML.ChangeInScores.PrePostDataset[[#This Row],[First Name & Last Name*\n(choose from list)]],'NLM Data Test 1'!$W$12:$W$136,0)),1)))","v":{"$error":"#N/A"}},{"$f":"IF(INDEX('NLM Data Test 1'!$I$12:$I$136,(MATCH(NLML.ChangeInScores.PrePostDataset[[#This Row],[First Name & Last Name*\n(choose from list)]],'NLM Data Test 1'!$W$12:$W$136,0)),1)=\"\",\"\",(INDEX('NLM Data Test 1'!I$12:I$136,(MATCH(NLML.ChangeInScores.PrePostDataset[[#This Row],[First Name & Last Name*\n(choose from list)]],'NLM Data Test 1'!$W$12:$W$136,0)),1)))","v":{"$error":"#N/A"}},{"$f":"IF(INDEX('NLM Data Test 1'!$J$12:$J$136,(MATCH(NLML.ChangeInScores.PrePostDataset[[#This Row],[First Name & Last Name*\n(choose from list)]],'NLM Data Test 1'!$W$12:$W$136,0)),1)=\"\",\"\",(INDEX('NLM Data Test 1'!J$12:J$136,(MATCH(NLML.ChangeInScores.PrePostDataset[[#This Row],[First Name & Last Name*\n(choose from list)]],'NLM Data Test 1'!$W$12:$W$136,0)),1)))","v":{"$error":"#N/A"}},{"$f":"IFERROR(INDEX('NLM Data Test 1'!$M$12:$M$136,(MATCH(NLML.ChangeInScores.PrePostDataset[[#This Row],[First Name & Last Name*\n(choose from list)]],'NLM Data Test 1'!$W$12:$W$136,0)),1),\"\")","v":""},{"$f":"INDEX('NLM Data Test 2'!$I$12:$I$136,(MATCH(NLML.ChangeInScores.PrePostDataset[[#This Row],[First Name & Last Name*\n(choose from list)]],'NLM Data Test 2'!$D$12:$D$136,0)),1)","v":{"$error":"#N/A"}},{"$f":"IFERROR(INDEX('NLM Data Test 2'!$J$12:$J$136,(MATCH(NLML.ChangeInScores.PrePostDataset[[#This Row],[First Name & Last Name*\n(choose from list)]],'NLM Data Test 2'!$X$12:$X$136,0)),1),\"\")","v":""},{"$f":"IFERROR(INDEX('NLM Data Test 2'!$K$12:$K$136,(MATCH(NLML.ChangeInScores.PrePostDataset[[#This Row],[First Name & Last Name*\n(choose from list)]],'NLM Data Test 2'!$X$12:$X$136,0)),1),\"\")","v":""},{"$f":"IFERROR(INDEX('NLM Data Test 2'!$N$12:$N$136,(MATCH(NLML.ChangeInScores.PrePostDataset[[#This Row],[First Name & Last Name*\n(choose from list)]],'NLM Data Test 2'!$X$12:$X$136,0)),1),\"\")","v":""},{"$f":"(INDEX('NLM Data Test 2'!$O$12:$O$136,(MATCH(NLML.ChangeInScores.PrePostDataset[[#This Row],[First Name & Last Name*\n(choose from list)]],'NLM Data Test 2'!$X$12:$X$136,0)),1))-(INDEX('NLM Data Test 1'!$N$12:$N$136,(MATCH(NLML.ChangeInScores.PrePostDataset[[#This Row],[First Name & Last Name*\n(choose from list)]],'NLM Data Test 1'!$W$12:$W$136,0)),1))","v":{"$error":"#N/A"}},{"$f":"(INDEX('NLM Data Test 2'!$P$12:$P$136,(MATCH(NLML.ChangeInScores.PrePostDataset[[#This Row],[First Name & Last Name*\n(choose from list)]],'NLM Data Test 2'!$X$12:$X$136,0)),1))-(INDEX('NLM Data Test 1'!$O$12:$O$136,(MATCH(NLML.ChangeInScores.PrePostDataset[[#This Row],[First Name & Last Name*\n(choose from list)]],'NLM Data Test 1'!$W$12:$W$136,0)),1))","v":{"$error":"#N/A"}},{"$f":"(INDEX('NLM Data Test 2'!$Q$12:$Q$136,(MATCH(NLML.ChangeInScores.PrePostDataset[[#This Row],[First Name & Last Name*\n(choose from list)]],'NLM Data Test 2'!$X$12:$X$136,0)),1))-(INDEX('NLM Data Test 1'!$P$12:$P$136,(MATCH(NLML.ChangeInScores.PrePostDataset[[#This Row],[First Name & Last Name*\n(choose from list)]],'NLM Data Test 1'!$W$12:$W$136,0)),1))","v":{"$error":"#N/A"}},{"$f":"(INDEX('NLM Data Test 2'!$R$12:$R$136,(MATCH(NLML.ChangeInScores.PrePostDataset[[#This Row],[First Name & Last Name*\n(choose from list)]],'NLM Data Test 2'!$X$12:$X$136,0)),1))-(INDEX('NLM Data Test 1'!$Q$12:$Q$136,(MATCH(NLML.ChangeInScores.PrePostDataset[[#This Row],[First Name & Last Name*\n(choose from list)]],'NLM Data Test 1'!$W$12:$W$136,0)),1))","v":{"$error":"#N/A"}},{"$f":"(INDEX('NLM Data Test 2'!$S$12:$S$136,(MATCH(NLML.ChangeInScores.PrePostDataset[[#This Row],[First Name & Last Name*\n(choose from list)]],'NLM Data Test 2'!$X$12:$X$136,0)),1))-(INDEX('NLM Data Test 1'!$R$12:$R$136,(MATCH(NLML.ChangeInScores.PrePostDataset[[#This Row],[First Name & Last Name*\n(choose from list)]],'NLM Data Test 1'!$W$12:$W$136,0)),1))","v":{"$error":"#N/A"}},{"$f":"(INDEX('NLM Data Test 2'!$T$12:$T$136,(MATCH(NLML.ChangeInScores.PrePostDataset[[#This Row],[First Name & Last Name*\n(choose from list)]],'NLM Data Test 2'!$X$12:$X$136,0)),1))-(INDEX('NLM Data Test 1'!$S$12:$S$136,(MATCH(NLML.ChangeInScores.PrePostDataset[[#This Row],[First Name & Last Name*\n(choose from list)]],'NLM Data Test 1'!$W$12:$W$136,0)),1))","v":{"$error":"#N/A"}},{"$f":"IFERROR(INDEX('NLM Data Test 1'!$T$12:$T$136,(MATCH(NLML.ChangeInScores.PrePostDataset[[#This Row],[First Name & Last Name*\n(choose from list)]],'NLM Data Test 1'!$W$12:$W$136,0)),1),\"\")","v":""},{"$f":"IFERROR(INDEX('NLM Data Test 2'!$U$12:$U$136,(MATCH(NLML.ChangeInScores.PrePostDataset[[#This Row],[First Name & Last Name*\n(choose from list)]],'NLM Data Test 2'!$X$12:$X$136,0)),1),\"\")","v":""}]
[113,{"$f":"IFERROR(INDEX(NLML.Test1.PrePostDataset[*First Name],(MATCH(NLML.ChangeInScores.PrePostDataset[[#This Row],[First Name & Last Name*\n(choose from list)]],'NLM Data Test 1'!W124:W248,0)),1),\"\")","v":""},{"$f":"IFERROR(INDEX(NLML.Test1.PrePostDataset[*Last Name],(MATCH(NLML.ChangeInScores.PrePostDataset[[#This Row],[First Name & Last Name*\n(choose from list)]],'NLM Data Test 1'!W124:W248,0)),1),\"\")","v":""},{"$f":"'NLM Data Test 2'!D124","v":0},{"$f":"IF(IFERROR(MATCH($D128,'NLM Data Test 2'!$D$12:$D$136,0),\"Error\")=\"Error\",(INDEX('NLM Data Test 1'!$D$12:$D$136,(MATCH($D128,'NLM Data Test 1'!$W$12:$W$136,0)),1)),(INDEX('NLM Data Test 2'!$E$12:$E$136,(MATCH($D128,'NLM Data Test 2'!$D$12:$D$136,0)),1)))","v":{"$error":"#N/A"}},{"$f":"IF(IFERROR(MATCH($D128,'NLM Data Test 2'!$D$12:$D$136,0),\"Error\")=\"Error\",(INDEX('NLM Data Test 1'!$E$12:$E$136,(MATCH($D128,'NLM Data Test 1'!$W$12:$W$136,0)),1)),(INDEX('NLM Data Test 2'!$G$12:$G$136,(MATCH($D128,'NLM Data Test 2'!$D$12:$D$136,0)),1)))","v":{"$error":"#N/A"}},{"$f":"IF(IFERROR(MATCH($D128,'NLM Data Test 2'!$D$12:$D$136,0),\"Error\")=\"Error\",(INDEX('NLM Data Test 1'!$F$12:$F$136,(MATCH($D128,'NLM Data Test 1'!$W$12:$W$136,0)),1)),(INDEX('NLM Data Test 2'!$F$12:$F$136,(MATCH($D128,'NLM Data Test 2'!$D$12:$D$136,0)),1)))","v":{"$error":"#N/A"}},{"$f":"IF(INDEX('NLM Data Test 1'!$H$12:$H$136,(MATCH(NLML.ChangeInScores.PrePostDataset[[#This Row],[First Name & Last Name*\n(choose from list)]],'NLM Data Test 1'!$W$12:$W$136,0)),1)=\"\",\"\",(INDEX('NLM Data Test 1'!H$12:H$136,(MATCH(NLML.ChangeInScores.PrePostDataset[[#This Row],[First Name & Last Name*\n(choose from list)]],'NLM Data Test 1'!$W$12:$W$136,0)),1)))","v":{"$error":"#N/A"}},{"$f":"IF(INDEX('NLM Data Test 1'!$I$12:$I$136,(MATCH(NLML.ChangeInScores.PrePostDataset[[#This Row],[First Name & Last Name*\n(choose from list)]],'NLM Data Test 1'!$W$12:$W$136,0)),1)=\"\",\"\",(INDEX('NLM Data Test 1'!I$12:I$136,(MATCH(NLML.ChangeInScores.PrePostDataset[[#This Row],[First Name & Last Name*\n(choose from list)]],'NLM Data Test 1'!$W$12:$W$136,0)),1)))","v":{"$error":"#N/A"}},{"$f":"IF(INDEX('NLM Data Test 1'!$J$12:$J$136,(MATCH(NLML.ChangeInScores.PrePostDataset[[#This Row],[First Name & Last Name*\n(choose from list)]],'NLM Data Test 1'!$W$12:$W$136,0)),1)=\"\",\"\",(INDEX('NLM Data Test 1'!J$12:J$136,(MATCH(NLML.ChangeInScores.PrePostDataset[[#This Row],[First Name & Last Name*\n(choose from list)]],'NLM Data Test 1'!$W$12:$W$136,0)),1)))","v":{"$error":"#N/A"}},{"$f":"IFERROR(INDEX('NLM Data Test 1'!$M$12:$M$136,(MATCH(NLML.ChangeInScores.PrePostDataset[[#This Row],[First Name & Last Name*\n(choose from list)]],'NLM Data Test 1'!$W$12:$W$136,0)),1),\"\")","v":""},{"$f":"INDEX('NLM Data Test 2'!$I$12:$I$136,(MATCH(NLML.ChangeInScores.PrePostDataset[[#This Row],[First Name & Last Name*\n(choose from list)]],'NLM Data Test 2'!$D$12:$D$136,0)),1)","v":{"$error":"#N/A"}},{"$f":"IFERROR(INDEX('NLM Data Test 2'!$J$12:$J$136,(MATCH(NLML.ChangeInScores.PrePostDataset[[#This Row],[First Name & Last Name*\n(choose from list)]],'NLM Data Test 2'!$X$12:$X$136,0)),1),\"\")","v":""},{"$f":"IFERROR(INDEX('NLM Data Test 2'!$K$12:$K$136,(MATCH(NLML.ChangeInScores.PrePostDataset[[#This Row],[First Name & Last Name*\n(choose from list)]],'NLM Data Test 2'!$X$12:$X$136,0)),1),\"\")","v":""},{"$f":"IFERROR(INDEX('NLM Data Test 2'!$N$12:$N$136,(MATCH(NLML.ChangeInScores.PrePostDataset[[#This Row],[First Name & Last Name*\n(choose from list)]],'NLM Data Test 2'!$X$12:$X$136,0)),1),\"\")","v":""},{"$f":"(INDEX('NLM Data Test 2'!$O$12:$O$136,(MATCH(NLML.ChangeInScores.PrePostDataset[[#This Row],[First Name & Last Name*\n(choose from list)]],'NLM Data Test 2'!$X$12:$X$136,0)),1))-(INDEX('NLM Data Test 1'!$N$12:$N$136,(MATCH(NLML.ChangeInScores.PrePostDataset[[#This Row],[First Name & Last Name*\n(choose from list)]],'NLM Data Test 1'!$W$12:$W$136,0)),1))","v":{"$error":"#N/A"}},{"$f":"(INDEX('NLM Data Test 2'!$P$12:$P$136,(MATCH(NLML.ChangeInScores.PrePostDataset[[#This Row],[First Name & Last Name*\n(choose from list)]],'NLM Data Test 2'!$X$12:$X$136,0)),1))-(INDEX('NLM Data Test 1'!$O$12:$O$136,(MATCH(NLML.ChangeInScores.PrePostDataset[[#This Row],[First Name & Last Name*\n(choose from list)]],'NLM Data Test 1'!$W$12:$W$136,0)),1))","v":{"$error":"#N/A"}},{"$f":"(INDEX('NLM Data Test 2'!$Q$12:$Q$136,(MATCH(NLML.ChangeInScores.PrePostDataset[[#This Row],[First Name & Last Name*\n(choose from list)]],'NLM Data Test 2'!$X$12:$X$136,0)),1))-(INDEX('NLM Data Test 1'!$P$12:$P$136,(MATCH(NLML.ChangeInScores.PrePostDataset[[#This Row],[First Name & Last Name*\n(choose from list)]],'NLM Data Test 1'!$W$12:$W$136,0)),1))","v":{"$error":"#N/A"}},{"$f":"(INDEX('NLM Data Test 2'!$R$12:$R$136,(MATCH(NLML.ChangeInScores.PrePostDataset[[#This Row],[First Name & Last Name*\n(choose from list)]],'NLM Data Test 2'!$X$12:$X$136,0)),1))-(INDEX('NLM Data Test 1'!$Q$12:$Q$136,(MATCH(NLML.ChangeInScores.PrePostDataset[[#This Row],[First Name & Last Name*\n(choose from list)]],'NLM Data Test 1'!$W$12:$W$136,0)),1))","v":{"$error":"#N/A"}},{"$f":"(INDEX('NLM Data Test 2'!$S$12:$S$136,(MATCH(NLML.ChangeInScores.PrePostDataset[[#This Row],[First Name & Last Name*\n(choose from list)]],'NLM Data Test 2'!$X$12:$X$136,0)),1))-(INDEX('NLM Data Test 1'!$R$12:$R$136,(MATCH(NLML.ChangeInScores.PrePostDataset[[#This Row],[First Name & Last Name*\n(choose from list)]],'NLM Data Test 1'!$W$12:$W$136,0)),1))","v":{"$error":"#N/A"}},{"$f":"(INDEX('NLM Data Test 2'!$T$12:$T$136,(MATCH(NLML.ChangeInScores.PrePostDataset[[#This Row],[First Name & Last Name*\n(choose from list)]],'NLM Data Test 2'!$X$12:$X$136,0)),1))-(INDEX('NLM Data Test 1'!$S$12:$S$136,(MATCH(NLML.ChangeInScores.PrePostDataset[[#This Row],[First Name & Last Name*\n(choose from list)]],'NLM Data Test 1'!$W$12:$W$136,0)),1))","v":{"$error":"#N/A"}},{"$f":"IFERROR(INDEX('NLM Data Test 1'!$T$12:$T$136,(MATCH(NLML.ChangeInScores.PrePostDataset[[#This Row],[First Name & Last Name*\n(choose from list)]],'NLM Data Test 1'!$W$12:$W$136,0)),1),\"\")","v":""},{"$f":"IFERROR(INDEX('NLM Data Test 2'!$U$12:$U$136,(MATCH(NLML.ChangeInScores.PrePostDataset[[#This Row],[First Name & Last Name*\n(choose from list)]],'NLM Data Test 2'!$X$12:$X$136,0)),1),\"\")","v":""}]
[114,{"$f":"IFERROR(INDEX(NLML.Test1.PrePostDataset[*First Name],(MATCH(NLML.ChangeInScores.PrePostDataset[[#This Row],[First Name & Last Name*\n(choose from list)]],'NLM Data Test 1'!W125:W249,0)),1),\"\")","v":""},{"$f":"IFERROR(INDEX(NLML.Test1.PrePostDataset[*Last Name],(MATCH(NLML.ChangeInScores.PrePostDataset[[#This Row],[First Name & Last Name*\n(choose from list)]],'NLM Data Test 1'!W125:W249,0)),1),\"\")","v":""},{"$f":"'NLM Data Test 2'!D125","v":0},{"$f":"IF(IFERROR(MATCH($D129,'NLM Data Test 2'!$D$12:$D$136,0),\"Error\")=\"Error\",(INDEX('NLM Data Test 1'!$D$12:$D$136,(MATCH($D129,'NLM Data Test 1'!$W$12:$W$136,0)),1)),(INDEX('NLM Data Test 2'!$E$12:$E$136,(MATCH($D129,'NLM Data Test 2'!$D$12:$D$136,0)),1)))","v":{"$error":"#N/A"}},{"$f":"IF(IFERROR(MATCH($D129,'NLM Data Test 2'!$D$12:$D$136,0),\"Error\")=\"Error\",(INDEX('NLM Data Test 1'!$E$12:$E$136,(MATCH($D129,'NLM Data Test 1'!$W$12:$W$136,0)),1)),(INDEX('NLM Data Test 2'!$G$12:$G$136,(MATCH($D129,'NLM Data Test 2'!$D$12:$D$136,0)),1)))","v":{"$error":"#N/A"}},{"$f":"IF(IFERROR(MATCH($D129,'NLM Data Test 2'!$D$12:$D$136,0),\"Error\")=\"Error\",(INDEX('NLM Data Test 1'!$F$12:$F$136,(MATCH($D129,'NLM Data Test 1'!$W$12:$W$136,0)),1)),(INDEX('NLM Data Test 2'!$F$12:$F$136,(MATCH($D129,'NLM Data Test 2'!$D$12:$D$136,0)),1)))","v":{"$error":"#N/A"}},{"$f":"IF(INDEX('NLM Data Test 1'!$H$12:$H$136,(MATCH(NLML.ChangeInScores.PrePostDataset[[#This Row],[First Name & Last Name*\n(choose from list)]],'NLM Data Test 1'!$W$12:$W$136,0)),1)=\"\",\"\",(INDEX('NLM Data Test 1'!H$12:H$136,(MATCH(NLML.ChangeInScores.PrePostDataset[[#This Row],[First Name & Last Name*\n(choose from list)]],'NLM Data Test 1'!$W$12:$W$136,0)),1)))","v":{"$error":"#N/A"}},{"$f":"IF(INDEX('NLM Data Test 1'!$I$12:$I$136,(MATCH(NLML.ChangeInScores.PrePostDataset[[#This Row],[First Name & Last Name*\n(choose from list)]],'NLM Data Test 1'!$W$12:$W$136,0)),1)=\"\",\"\",(INDEX('NLM Data Test 1'!I$12:I$136,(MATCH(NLML.ChangeInScores.PrePostDataset[[#This Row],[First Name & Last Name*\n(choose from list)]],'NLM Data Test 1'!$W$12:$W$136,0)),1)))","v":{"$error":"#N/A"}},{"$f":"IF(INDEX('NLM Data Test 1'!$J$12:$J$136,(MATCH(NLML.ChangeInScores.PrePostDataset[[#This Row],[First Name & Last Name*\n(choose from list)]],'NLM Data Test 1'!$W$12:$W$136,0)),1)=\"\",\"\",(INDEX('NLM Data Test 1'!J$12:J$136,(MATCH(NLML.ChangeInScores.PrePostDataset[[#This Row],[First Name & Last Name*\n(choose from list)]],'NLM Data Test 1'!$W$12:$W$136,0)),1)))","v":{"$error":"#N/A"}},{"$f":"IFERROR(INDEX('NLM Data Test 1'!$M$12:$M$136,(MATCH(NLML.ChangeInScores.PrePostDataset[[#This Row],[First Name & Last Name*\n(choose from list)]],'NLM Data Test 1'!$W$12:$W$136,0)),1),\"\")","v":""},{"$f":"INDEX('NLM Data Test 2'!$I$12:$I$136,(MATCH(NLML.ChangeInScores.PrePostDataset[[#This Row],[First Name & Last Name*\n(choose from list)]],'NLM Data Test 2'!$D$12:$D$136,0)),1)","v":{"$error":"#N/A"}},{"$f":"IFERROR(INDEX('NLM Data Test 2'!$J$12:$J$136,(MATCH(NLML.ChangeInScores.PrePostDataset[[#This Row],[First Name & Last Name*\n(choose from list)]],'NLM Data Test 2'!$X$12:$X$136,0)),1),\"\")","v":""},{"$f":"IFERROR(INDEX('NLM Data Test 2'!$K$12:$K$136,(MATCH(NLML.ChangeInScores.PrePostDataset[[#This Row],[First Name & Last Name*\n(choose from list)]],'NLM Data Test 2'!$X$12:$X$136,0)),1),\"\")","v":""},{"$f":"IFERROR(INDEX('NLM Data Test 2'!$N$12:$N$136,(MATCH(NLML.ChangeInScores.PrePostDataset[[#This Row],[First Name & Last Name*\n(choose from list)]],'NLM Data Test 2'!$X$12:$X$136,0)),1),\"\")","v":""},{"$f":"(INDEX('NLM Data Test 2'!$O$12:$O$136,(MATCH(NLML.ChangeInScores.PrePostDataset[[#This Row],[First Name & Last Name*\n(choose from list)]],'NLM Data Test 2'!$X$12:$X$136,0)),1))-(INDEX('NLM Data Test 1'!$N$12:$N$136,(MATCH(NLML.ChangeInScores.PrePostDataset[[#This Row],[First Name & Last Name*\n(choose from list)]],'NLM Data Test 1'!$W$12:$W$136,0)),1))","v":{"$error":"#N/A"}},{"$f":"(INDEX('NLM Data Test 2'!$P$12:$P$136,(MATCH(NLML.ChangeInScores.PrePostDataset[[#This Row],[First Name & Last Name*\n(choose from list)]],'NLM Data Test 2'!$X$12:$X$136,0)),1))-(INDEX('NLM Data Test 1'!$O$12:$O$136,(MATCH(NLML.ChangeInScores.PrePostDataset[[#This Row],[First Name & Last Name*\n(choose from list)]],'NLM Data Test 1'!$W$12:$W$136,0)),1))","v":{"$error":"#N/A"}},{"$f":"(INDEX('NLM Data Test 2'!$Q$12:$Q$136,(MATCH(NLML.ChangeInScores.PrePostDataset[[#This Row],[First Name & Last Name*\n(choose from list)]],'NLM Data Test 2'!$X$12:$X$136,0)),1))-(INDEX('NLM Data Test 1'!$P$12:$P$136,(MATCH(NLML.ChangeInScores.PrePostDataset[[#This Row],[First Name & Last Name*\n(choose from list)]],'NLM Data Test 1'!$W$12:$W$136,0)),1))","v":{"$error":"#N/A"}},{"$f":"(INDEX('NLM Data Test 2'!$R$12:$R$136,(MATCH(NLML.ChangeInScores.PrePostDataset[[#This Row],[First Name & Last Name*\n(choose from list)]],'NLM Data Test 2'!$X$12:$X$136,0)),1))-(INDEX('NLM Data Test 1'!$Q$12:$Q$136,(MATCH(NLML.ChangeInScores.PrePostDataset[[#This Row],[First Name & Last Name*\n(choose from list)]],'NLM Data Test 1'!$W$12:$W$136,0)),1))","v":{"$error":"#N/A"}},{"$f":"(INDEX('NLM Data Test 2'!$S$12:$S$136,(MATCH(NLML.ChangeInScores.PrePostDataset[[#This Row],[First Name & Last Name*\n(choose from list)]],'NLM Data Test 2'!$X$12:$X$136,0)),1))-(INDEX('NLM Data Test 1'!$R$12:$R$136,(MATCH(NLML.ChangeInScores.PrePostDataset[[#This Row],[First Name & Last Name*\n(choose from list)]],'NLM Data Test 1'!$W$12:$W$136,0)),1))","v":{"$error":"#N/A"}},{"$f":"(INDEX('NLM Data Test 2'!$T$12:$T$136,(MATCH(NLML.ChangeInScores.PrePostDataset[[#This Row],[First Name & Last Name*\n(choose from list)]],'NLM Data Test 2'!$X$12:$X$136,0)),1))-(INDEX('NLM Data Test 1'!$S$12:$S$136,(MATCH(NLML.ChangeInScores.PrePostDataset[[#This Row],[First Name & Last Name*\n(choose from list)]],'NLM Data Test 1'!$W$12:$W$136,0)),1))","v":{"$error":"#N/A"}},{"$f":"IFERROR(INDEX('NLM Data Test 1'!$T$12:$T$136,(MATCH(NLML.ChangeInScores.PrePostDataset[[#This Row],[First Name & Last Name*\n(choose from list)]],'NLM Data Test 1'!$W$12:$W$136,0)),1),\"\")","v":""},{"$f":"IFERROR(INDEX('NLM Data Test 2'!$U$12:$U$136,(MATCH(NLML.ChangeInScores.PrePostDataset[[#This Row],[First Name & Last Name*\n(choose from list)]],'NLM Data Test 2'!$X$12:$X$136,0)),1),\"\")","v":""}]
[115,{"$f":"IFERROR(INDEX(NLML.Test1.PrePostDataset[*First Name],(MATCH(NLML.ChangeInScores.PrePostDataset[[#This Row],[First Name & Last Name*\n(choose from list)]],'NLM Data Test 1'!W126:W250,0)),1),\"\")","v":""},{"$f":"IFERROR(INDEX(NLML.Test1.PrePostDataset[*Last Name],(MATCH(NLML.ChangeInScores.PrePostDataset[[#This Row],[First Name & Last Name*\n(choose from list)]],'NLM Data Test 1'!W126:W250,0)),1),\"\")","v":""},{"$f":"'NLM Data Test 2'!D126","v":0},{"$f":"IF(IFERROR(MATCH($D130,'NLM Data Test 2'!$D$12:$D$136,0),\"Error\")=\"Error\",(INDEX('NLM Data Test 1'!$D$12:$D$136,(MATCH($D130,'NLM Data Test 1'!$W$12:$W$136,0)),1)),(INDEX('NLM Data Test 2'!$E$12:$E$136,(MATCH($D130,'NLM Data Test 2'!$D$12:$D$136,0)),1)))","v":{"$error":"#N/A"}},{"$f":"IF(IFERROR(MATCH($D130,'NLM Data Test 2'!$D$12:$D$136,0),\"Error\")=\"Error\",(INDEX('NLM Data Test 1'!$E$12:$E$136,(MATCH($D130,'NLM Data Test 1'!$W$12:$W$136,0)),1)),(INDEX('NLM Data Test 2'!$G$12:$G$136,(MATCH($D130,'NLM Data Test 2'!$D$12:$D$136,0)),1)))","v":{"$error":"#N/A"}},{"$f":"IF(IFERROR(MATCH($D130,'NLM Data Test 2'!$D$12:$D$136,0),\"Error\")=\"Error\",(INDEX('NLM Data Test 1'!$F$12:$F$136,(MATCH($D130,'NLM Data Test 1'!$W$12:$W$136,0)),1)),(INDEX('NLM Data Test 2'!$F$12:$F$136,(MATCH($D130,'NLM Data Test 2'!$D$12:$D$136,0)),1)))","v":{"$error":"#N/A"}},{"$f":"IF(INDEX('NLM Data Test 1'!$H$12:$H$136,(MATCH(NLML.ChangeInScores.PrePostDataset[[#This Row],[First Name & Last Name*\n(choose from list)]],'NLM Data Test 1'!$W$12:$W$136,0)),1)=\"\",\"\",(INDEX('NLM Data Test 1'!H$12:H$136,(MATCH(NLML.ChangeInScores.PrePostDataset[[#This Row],[First Name & Last Name*\n(choose from list)]],'NLM Data Test 1'!$W$12:$W$136,0)),1)))","v":{"$error":"#N/A"}},{"$f":"IF(INDEX('NLM Data Test 1'!$I$12:$I$136,(MATCH(NLML.ChangeInScores.PrePostDataset[[#This Row],[First Name & Last Name*\n(choose from list)]],'NLM Data Test 1'!$W$12:$W$136,0)),1)=\"\",\"\",(INDEX('NLM Data Test 1'!I$12:I$136,(MATCH(NLML.ChangeInScores.PrePostDataset[[#This Row],[First Name & Last Name*\n(choose from list)]],'NLM Data Test 1'!$W$12:$W$136,0)),1)))","v":{"$error":"#N/A"}},{"$f":"IF(INDEX('NLM Data Test 1'!$J$12:$J$136,(MATCH(NLML.ChangeInScores.PrePostDataset[[#This Row],[First Name & Last Name*\n(choose from list)]],'NLM Data Test 1'!$W$12:$W$136,0)),1)=\"\",\"\",(INDEX('NLM Data Test 1'!J$12:J$136,(MATCH(NLML.ChangeInScores.PrePostDataset[[#This Row],[First Name & Last Name*\n(choose from list)]],'NLM Data Test 1'!$W$12:$W$136,0)),1)))","v":{"$error":"#N/A"}},{"$f":"IFERROR(INDEX('NLM Data Test 1'!$M$12:$M$136,(MATCH(NLML.ChangeInScores.PrePostDataset[[#This Row],[First Name & Last Name*\n(choose from list)]],'NLM Data Test 1'!$W$12:$W$136,0)),1),\"\")","v":""},{"$f":"INDEX('NLM Data Test 2'!$I$12:$I$136,(MATCH(NLML.ChangeInScores.PrePostDataset[[#This Row],[First Name & Last Name*\n(choose from list)]],'NLM Data Test 2'!$D$12:$D$136,0)),1)","v":{"$error":"#N/A"}},{"$f":"IFERROR(INDEX('NLM Data Test 2'!$J$12:$J$136,(MATCH(NLML.ChangeInScores.PrePostDataset[[#This Row],[First Name & Last Name*\n(choose from list)]],'NLM Data Test 2'!$X$12:$X$136,0)),1),\"\")","v":""},{"$f":"IFERROR(INDEX('NLM Data Test 2'!$K$12:$K$136,(MATCH(NLML.ChangeInScores.PrePostDataset[[#This Row],[First Name & Last Name*\n(choose from list)]],'NLM Data Test 2'!$X$12:$X$136,0)),1),\"\")","v":""},{"$f":"IFERROR(INDEX('NLM Data Test 2'!$N$12:$N$136,(MATCH(NLML.ChangeInScores.PrePostDataset[[#This Row],[First Name & Last Name*\n(choose from list)]],'NLM Data Test 2'!$X$12:$X$136,0)),1),\"\")","v":""},{"$f":"(INDEX('NLM Data Test 2'!$O$12:$O$136,(MATCH(NLML.ChangeInScores.PrePostDataset[[#This Row],[First Name & Last Name*\n(choose from list)]],'NLM Data Test 2'!$X$12:$X$136,0)),1))-(INDEX('NLM Data Test 1'!$N$12:$N$136,(MATCH(NLML.ChangeInScores.PrePostDataset[[#This Row],[First Name & Last Name*\n(choose from list)]],'NLM Data Test 1'!$W$12:$W$136,0)),1))","v":{"$error":"#N/A"}},{"$f":"(INDEX('NLM Data Test 2'!$P$12:$P$136,(MATCH(NLML.ChangeInScores.PrePostDataset[[#This Row],[First Name & Last Name*\n(choose from list)]],'NLM Data Test 2'!$X$12:$X$136,0)),1))-(INDEX('NLM Data Test 1'!$O$12:$O$136,(MATCH(NLML.ChangeInScores.PrePostDataset[[#This Row],[First Name & Last Name*\n(choose from list)]],'NLM Data Test 1'!$W$12:$W$136,0)),1))","v":{"$error":"#N/A"}},{"$f":"(INDEX('NLM Data Test 2'!$Q$12:$Q$136,(MATCH(NLML.ChangeInScores.PrePostDataset[[#This Row],[First Name & Last Name*\n(choose from list)]],'NLM Data Test 2'!$X$12:$X$136,0)),1))-(INDEX('NLM Data Test 1'!$P$12:$P$136,(MATCH(NLML.ChangeInScores.PrePostDataset[[#This Row],[First Name & Last Name*\n(choose from list)]],'NLM Data Test 1'!$W$12:$W$136,0)),1))","v":{"$error":"#N/A"}},{"$f":"(INDEX('NLM Data Test 2'!$R$12:$R$136,(MATCH(NLML.ChangeInScores.PrePostDataset[[#This Row],[First Name & Last Name*\n(choose from list)]],'NLM Data Test 2'!$X$12:$X$136,0)),1))-(INDEX('NLM Data Test 1'!$Q$12:$Q$136,(MATCH(NLML.ChangeInScores.PrePostDataset[[#This Row],[First Name & Last Name*\n(choose from list)]],'NLM Data Test 1'!$W$12:$W$136,0)),1))","v":{"$error":"#N/A"}},{"$f":"(INDEX('NLM Data Test 2'!$S$12:$S$136,(MATCH(NLML.ChangeInScores.PrePostDataset[[#This Row],[First Name & Last Name*\n(choose from list)]],'NLM Data Test 2'!$X$12:$X$136,0)),1))-(INDEX('NLM Data Test 1'!$R$12:$R$136,(MATCH(NLML.ChangeInScores.PrePostDataset[[#This Row],[First Name & Last Name*\n(choose from list)]],'NLM Data Test 1'!$W$12:$W$136,0)),1))","v":{"$error":"#N/A"}},{"$f":"(INDEX('NLM Data Test 2'!$T$12:$T$136,(MATCH(NLML.ChangeInScores.PrePostDataset[[#This Row],[First Name & Last Name*\n(choose from list)]],'NLM Data Test 2'!$X$12:$X$136,0)),1))-(INDEX('NLM Data Test 1'!$S$12:$S$136,(MATCH(NLML.ChangeInScores.PrePostDataset[[#This Row],[First Name & Last Name*\n(choose from list)]],'NLM Data Test 1'!$W$12:$W$136,0)),1))","v":{"$error":"#N/A"}},{"$f":"IFERROR(INDEX('NLM Data Test 1'!$T$12:$T$136,(MATCH(NLML.ChangeInScores.PrePostDataset[[#This Row],[First Name & Last Name*\n(choose from list)]],'NLM Data Test 1'!$W$12:$W$136,0)),1),\"\")","v":""},{"$f":"IFERROR(INDEX('NLM Data Test 2'!$U$12:$U$136,(MATCH(NLML.ChangeInScores.PrePostDataset[[#This Row],[First Name & Last Name*\n(choose from list)]],'NLM Data Test 2'!$X$12:$X$136,0)),1),\"\")","v":""}]
[116,{"$f":"IFERROR(INDEX(NLML.Test1.PrePostDataset[*First Name],(MATCH(NLML.ChangeInScores.PrePostDataset[[#This Row],[First Name & Last Name*\n(choose from list)]],'NLM Data Test 1'!W127:W251,0)),1),\"\")","v":""},{"$f":"IFERROR(INDEX(NLML.Test1.PrePostDataset[*Last Name],(MATCH(NLML.ChangeInScores.PrePostDataset[[#This Row],[First Name & Last Name*\n(choose from list)]],'NLM Data Test 1'!W127:W251,0)),1),\"\")","v":""},{"$f":"'NLM Data Test 2'!D127","v":0},{"$f":"IF(IFERROR(MATCH($D131,'NLM Data Test 2'!$D$12:$D$136,0),\"Error\")=\"Error\",(INDEX('NLM Data Test 1'!$D$12:$D$136,(MATCH($D131,'NLM Data Test 1'!$W$12:$W$136,0)),1)),(INDEX('NLM Data Test 2'!$E$12:$E$136,(MATCH($D131,'NLM Data Test 2'!$D$12:$D$136,0)),1)))","v":{"$error":"#N/A"}},{"$f":"IF(IFERROR(MATCH($D131,'NLM Data Test 2'!$D$12:$D$136,0),\"Error\")=\"Error\",(INDEX('NLM Data Test 1'!$E$12:$E$136,(MATCH($D131,'NLM Data Test 1'!$W$12:$W$136,0)),1)),(INDEX('NLM Data Test 2'!$G$12:$G$136,(MATCH($D131,'NLM Data Test 2'!$D$12:$D$136,0)),1)))","v":{"$error":"#N/A"}},{"$f":"IF(IFERROR(MATCH($D131,'NLM Data Test 2'!$D$12:$D$136,0),\"Error\")=\"Error\",(INDEX('NLM Data Test 1'!$F$12:$F$136,(MATCH($D131,'NLM Data Test 1'!$W$12:$W$136,0)),1)),(INDEX('NLM Data Test 2'!$F$12:$F$136,(MATCH($D131,'NLM Data Test 2'!$D$12:$D$136,0)),1)))","v":{"$error":"#N/A"}},{"$f":"IF(INDEX('NLM Data Test 1'!$H$12:$H$136,(MATCH(NLML.ChangeInScores.PrePostDataset[[#This Row],[First Name & Last Name*\n(choose from list)]],'NLM Data Test 1'!$W$12:$W$136,0)),1)=\"\",\"\",(INDEX('NLM Data Test 1'!H$12:H$136,(MATCH(NLML.ChangeInScores.PrePostDataset[[#This Row],[First Name & Last Name*\n(choose from list)]],'NLM Data Test 1'!$W$12:$W$136,0)),1)))","v":{"$error":"#N/A"}},{"$f":"IF(INDEX('NLM Data Test 1'!$I$12:$I$136,(MATCH(NLML.ChangeInScores.PrePostDataset[[#This Row],[First Name & Last Name*\n(choose from list)]],'NLM Data Test 1'!$W$12:$W$136,0)),1)=\"\",\"\",(INDEX('NLM Data Test 1'!I$12:I$136,(MATCH(NLML.ChangeInScores.PrePostDataset[[#This Row],[First Name & Last Name*\n(choose from list)]],'NLM Data Test 1'!$W$12:$W$136,0)),1)))","v":{"$error":"#N/A"}},{"$f":"IF(INDEX('NLM Data Test 1'!$J$12:$J$136,(MATCH(NLML.ChangeInScores.PrePostDataset[[#This Row],[First Name & Last Name*\n(choose from list)]],'NLM Data Test 1'!$W$12:$W$136,0)),1)=\"\",\"\",(INDEX('NLM Data Test 1'!J$12:J$136,(MATCH(NLML.ChangeInScores.PrePostDataset[[#This Row],[First Name & Last Name*\n(choose from list)]],'NLM Data Test 1'!$W$12:$W$136,0)),1)))","v":{"$error":"#N/A"}},{"$f":"IFERROR(INDEX('NLM Data Test 1'!$M$12:$M$136,(MATCH(NLML.ChangeInScores.PrePostDataset[[#This Row],[First Name & Last Name*\n(choose from list)]],'NLM Data Test 1'!$W$12:$W$136,0)),1),\"\")","v":""},{"$f":"INDEX('NLM Data Test 2'!$I$12:$I$136,(MATCH(NLML.ChangeInScores.PrePostDataset[[#This Row],[First Name & Last Name*\n(choose from list)]],'NLM Data Test 2'!$D$12:$D$136,0)),1)","v":{"$error":"#N/A"}},{"$f":"IFERROR(INDEX('NLM Data Test 2'!$J$12:$J$136,(MATCH(NLML.ChangeInScores.PrePostDataset[[#This Row],[First Name & Last Name*\n(choose from list)]],'NLM Data Test 2'!$X$12:$X$136,0)),1),\"\")","v":""},{"$f":"IFERROR(INDEX('NLM Data Test 2'!$K$12:$K$136,(MATCH(NLML.ChangeInScores.PrePostDataset[[#This Row],[First Name & Last Name*\n(choose from list)]],'NLM Data Test 2'!$X$12:$X$136,0)),1),\"\")","v":""},{"$f":"IFERROR(INDEX('NLM Data Test 2'!$N$12:$N$136,(MATCH(NLML.ChangeInScores.PrePostDataset[[#This Row],[First Name & Last Name*\n(choose from list)]],'NLM Data Test 2'!$X$12:$X$136,0)),1),\"\")","v":""},{"$f":"(INDEX('NLM Data Test 2'!$O$12:$O$136,(MATCH(NLML.ChangeInScores.PrePostDataset[[#This Row],[First Name & Last Name*\n(choose from list)]],'NLM Data Test 2'!$X$12:$X$136,0)),1))-(INDEX('NLM Data Test 1'!$N$12:$N$136,(MATCH(NLML.ChangeInScores.PrePostDataset[[#This Row],[First Name & Last Name*\n(choose from list)]],'NLM Data Test 1'!$W$12:$W$136,0)),1))","v":{"$error":"#N/A"}},{"$f":"(INDEX('NLM Data Test 2'!$P$12:$P$136,(MATCH(NLML.ChangeInScores.PrePostDataset[[#This Row],[First Name & Last Name*\n(choose from list)]],'NLM Data Test 2'!$X$12:$X$136,0)),1))-(INDEX('NLM Data Test 1'!$O$12:$O$136,(MATCH(NLML.ChangeInScores.PrePostDataset[[#This Row],[First Name & Last Name*\n(choose from list)]],'NLM Data Test 1'!$W$12:$W$136,0)),1))","v":{"$error":"#N/A"}},{"$f":"(INDEX('NLM Data Test 2'!$Q$12:$Q$136,(MATCH(NLML.ChangeInScores.PrePostDataset[[#This Row],[First Name & Last Name*\n(choose from list)]],'NLM Data Test 2'!$X$12:$X$136,0)),1))-(INDEX('NLM Data Test 1'!$P$12:$P$136,(MATCH(NLML.ChangeInScores.PrePostDataset[[#This Row],[First Name & Last Name*\n(choose from list)]],'NLM Data Test 1'!$W$12:$W$136,0)),1))","v":{"$error":"#N/A"}},{"$f":"(INDEX('NLM Data Test 2'!$R$12:$R$136,(MATCH(NLML.ChangeInScores.PrePostDataset[[#This Row],[First Name & Last Name*\n(choose from list)]],'NLM Data Test 2'!$X$12:$X$136,0)),1))-(INDEX('NLM Data Test 1'!$Q$12:$Q$136,(MATCH(NLML.ChangeInScores.PrePostDataset[[#This Row],[First Name & Last Name*\n(choose from list)]],'NLM Data Test 1'!$W$12:$W$136,0)),1))","v":{"$error":"#N/A"}},{"$f":"(INDEX('NLM Data Test 2'!$S$12:$S$136,(MATCH(NLML.ChangeInScores.PrePostDataset[[#This Row],[First Name & Last Name*\n(choose from list)]],'NLM Data Test 2'!$X$12:$X$136,0)),1))-(INDEX('NLM Data Test 1'!$R$12:$R$136,(MATCH(NLML.ChangeInScores.PrePostDataset[[#This Row],[First Name & Last Name*\n(choose from list)]],'NLM Data Test 1'!$W$12:$W$136,0)),1))","v":{"$error":"#N/A"}},{"$f":"(INDEX('NLM Data Test 2'!$T$12:$T$136,(MATCH(NLML.ChangeInScores.PrePostDataset[[#This Row],[First Name & Last Name*\n(choose from list)]],'NLM Data Test 2'!$X$12:$X$136,0)),1))-(INDEX('NLM Data Test 1'!$S$12:$S$136,(MATCH(NLML.ChangeInScores.PrePostDataset[[#This Row],[First Name & Last Name*\n(choose from list)]],'NLM Data Test 1'!$W$12:$W$136,0)),1))","v":{"$error":"#N/A"}},{"$f":"IFERROR(INDEX('NLM Data Test 1'!$T$12:$T$136,(MATCH(NLML.ChangeInScores.PrePostDataset[[#This Row],[First Name & Last Name*\n(choose from list)]],'NLM Data Test 1'!$W$12:$W$136,0)),1),\"\")","v":""},{"$f":"IFERROR(INDEX('NLM Data Test 2'!$U$12:$U$136,(MATCH(NLML.ChangeInScores.PrePostDataset[[#This Row],[First Name & Last Name*\n(choose from list)]],'NLM Data Test 2'!$X$12:$X$136,0)),1),\"\")","v":""}]
[117,{"$f":"IFERROR(INDEX(NLML.Test1.PrePostDataset[*First Name],(MATCH(NLML.ChangeInScores.PrePostDataset[[#This Row],[First Name & Last Name*\n(choose from list)]],'NLM Data Test 1'!W128:W252,0)),1),\"\")","v":""},{"$f":"IFERROR(INDEX(NLML.Test1.PrePostDataset[*Last Name],(MATCH(NLML.ChangeInScores.PrePostDataset[[#This Row],[First Name & Last Name*\n(choose from list)]],'NLM Data Test 1'!W128:W252,0)),1),\"\")","v":""},{"$f":"'NLM Data Test 2'!D128","v":0},{"$f":"IF(IFERROR(MATCH($D132,'NLM Data Test 2'!$D$12:$D$136,0),\"Error\")=\"Error\",(INDEX('NLM Data Test 1'!$D$12:$D$136,(MATCH($D132,'NLM Data Test 1'!$W$12:$W$136,0)),1)),(INDEX('NLM Data Test 2'!$E$12:$E$136,(MATCH($D132,'NLM Data Test 2'!$D$12:$D$136,0)),1)))","v":{"$error":"#N/A"}},{"$f":"IF(IFERROR(MATCH($D132,'NLM Data Test 2'!$D$12:$D$136,0),\"Error\")=\"Error\",(INDEX('NLM Data Test 1'!$E$12:$E$136,(MATCH($D132,'NLM Data Test 1'!$W$12:$W$136,0)),1)),(INDEX('NLM Data Test 2'!$G$12:$G$136,(MATCH($D132,'NLM Data Test 2'!$D$12:$D$136,0)),1)))","v":{"$error":"#N/A"}},{"$f":"IF(IFERROR(MATCH($D132,'NLM Data Test 2'!$D$12:$D$136,0),\"Error\")=\"Error\",(INDEX('NLM Data Test 1'!$F$12:$F$136,(MATCH($D132,'NLM Data Test 1'!$W$12:$W$136,0)),1)),(INDEX('NLM Data Test 2'!$F$12:$F$136,(MATCH($D132,'NLM Data Test 2'!$D$12:$D$136,0)),1)))","v":{"$error":"#N/A"}},{"$f":"IF(INDEX('NLM Data Test 1'!$H$12:$H$136,(MATCH(NLML.ChangeInScores.PrePostDataset[[#This Row],[First Name & Last Name*\n(choose from list)]],'NLM Data Test 1'!$W$12:$W$136,0)),1)=\"\",\"\",(INDEX('NLM Data Test 1'!H$12:H$136,(MATCH(NLML.ChangeInScores.PrePostDataset[[#This Row],[First Name & Last Name*\n(choose from list)]],'NLM Data Test 1'!$W$12:$W$136,0)),1)))","v":{"$error":"#N/A"}},{"$f":"IF(INDEX('NLM Data Test 1'!$I$12:$I$136,(MATCH(NLML.ChangeInScores.PrePostDataset[[#This Row],[First Name & Last Name*\n(choose from list)]],'NLM Data Test 1'!$W$12:$W$136,0)),1)=\"\",\"\",(INDEX('NLM Data Test 1'!I$12:I$136,(MATCH(NLML.ChangeInScores.PrePostDataset[[#This Row],[First Name & Last Name*\n(choose from list)]],'NLM Data Test 1'!$W$12:$W$136,0)),1)))","v":{"$error":"#N/A"}},{"$f":"IF(INDEX('NLM Data Test 1'!$J$12:$J$136,(MATCH(NLML.ChangeInScores.PrePostDataset[[#This Row],[First Name & Last Name*\n(choose from list)]],'NLM Data Test 1'!$W$12:$W$136,0)),1)=\"\",\"\",(INDEX('NLM Data Test 1'!J$12:J$136,(MATCH(NLML.ChangeInScores.PrePostDataset[[#This Row],[First Name & Last Name*\n(choose from list)]],'NLM Data Test 1'!$W$12:$W$136,0)),1)))","v":{"$error":"#N/A"}},{"$f":"IFERROR(INDEX('NLM Data Test 1'!$M$12:$M$136,(MATCH(NLML.ChangeInScores.PrePostDataset[[#This Row],[First Name & Last Name*\n(choose from list)]],'NLM Data Test 1'!$W$12:$W$136,0)),1),\"\")","v":""},{"$f":"INDEX('NLM Data Test 2'!$I$12:$I$136,(MATCH(NLML.ChangeInScores.PrePostDataset[[#This Row],[First Name & Last Name*\n(choose from list)]],'NLM Data Test 2'!$D$12:$D$136,0)),1)","v":{"$error":"#N/A"}},{"$f":"IFERROR(INDEX('NLM Data Test 2'!$J$12:$J$136,(MATCH(NLML.ChangeInScores.PrePostDataset[[#This Row],[First Name & Last Name*\n(choose from list)]],'NLM Data Test 2'!$X$12:$X$136,0)),1),\"\")","v":""},{"$f":"IFERROR(INDEX('NLM Data Test 2'!$K$12:$K$136,(MATCH(NLML.ChangeInScores.PrePostDataset[[#This Row],[First Name & Last Name*\n(choose from list)]],'NLM Data Test 2'!$X$12:$X$136,0)),1),\"\")","v":""},{"$f":"IFERROR(INDEX('NLM Data Test 2'!$N$12:$N$136,(MATCH(NLML.ChangeInScores.PrePostDataset[[#This Row],[First Name & Last Name*\n(choose from list)]],'NLM Data Test 2'!$X$12:$X$136,0)),1),\"\")","v":""},{"$f":"(INDEX('NLM Data Test 2'!$O$12:$O$136,(MATCH(NLML.ChangeInScores.PrePostDataset[[#This Row],[First Name & Last Name*\n(choose from list)]],'NLM Data Test 2'!$X$12:$X$136,0)),1))-(INDEX('NLM Data Test 1'!$N$12:$N$136,(MATCH(NLML.ChangeInScores.PrePostDataset[[#This Row],[First Name & Last Name*\n(choose from list)]],'NLM Data Test 1'!$W$12:$W$136,0)),1))","v":{"$error":"#N/A"}},{"$f":"(INDEX('NLM Data Test 2'!$P$12:$P$136,(MATCH(NLML.ChangeInScores.PrePostDataset[[#This Row],[First Name & Last Name*\n(choose from list)]],'NLM Data Test 2'!$X$12:$X$136,0)),1))-(INDEX('NLM Data Test 1'!$O$12:$O$136,(MATCH(NLML.ChangeInScores.PrePostDataset[[#This Row],[First Name & Last Name*\n(choose from list)]],'NLM Data Test 1'!$W$12:$W$136,0)),1))","v":{"$error":"#N/A"}},{"$f":"(INDEX('NLM Data Test 2'!$Q$12:$Q$136,(MATCH(NLML.ChangeInScores.PrePostDataset[[#This Row],[First Name & Last Name*\n(choose from list)]],'NLM Data Test 2'!$X$12:$X$136,0)),1))-(INDEX('NLM Data Test 1'!$P$12:$P$136,(MATCH(NLML.ChangeInScores.PrePostDataset[[#This Row],[First Name & Last Name*\n(choose from list)]],'NLM Data Test 1'!$W$12:$W$136,0)),1))","v":{"$error":"#N/A"}},{"$f":"(INDEX('NLM Data Test 2'!$R$12:$R$136,(MATCH(NLML.ChangeInScores.PrePostDataset[[#This Row],[First Name & Last Name*\n(choose from list)]],'NLM Data Test 2'!$X$12:$X$136,0)),1))-(INDEX('NLM Data Test 1'!$Q$12:$Q$136,(MATCH(NLML.ChangeInScores.PrePostDataset[[#This Row],[First Name & Last Name*\n(choose from list)]],'NLM Data Test 1'!$W$12:$W$136,0)),1))","v":{"$error":"#N/A"}},{"$f":"(INDEX('NLM Data Test 2'!$S$12:$S$136,(MATCH(NLML.ChangeInScores.PrePostDataset[[#This Row],[First Name & Last Name*\n(choose from list)]],'NLM Data Test 2'!$X$12:$X$136,0)),1))-(INDEX('NLM Data Test 1'!$R$12:$R$136,(MATCH(NLML.ChangeInScores.PrePostDataset[[#This Row],[First Name & Last Name*\n(choose from list)]],'NLM Data Test 1'!$W$12:$W$136,0)),1))","v":{"$error":"#N/A"}},{"$f":"(INDEX('NLM Data Test 2'!$T$12:$T$136,(MATCH(NLML.ChangeInScores.PrePostDataset[[#This Row],[First Name & Last Name*\n(choose from list)]],'NLM Data Test 2'!$X$12:$X$136,0)),1))-(INDEX('NLM Data Test 1'!$S$12:$S$136,(MATCH(NLML.ChangeInScores.PrePostDataset[[#This Row],[First Name & Last Name*\n(choose from list)]],'NLM Data Test 1'!$W$12:$W$136,0)),1))","v":{"$error":"#N/A"}},{"$f":"IFERROR(INDEX('NLM Data Test 1'!$T$12:$T$136,(MATCH(NLML.ChangeInScores.PrePostDataset[[#This Row],[First Name & Last Name*\n(choose from list)]],'NLM Data Test 1'!$W$12:$W$136,0)),1),\"\")","v":""},{"$f":"IFERROR(INDEX('NLM Data Test 2'!$U$12:$U$136,(MATCH(NLML.ChangeInScores.PrePostDataset[[#This Row],[First Name & Last Name*\n(choose from list)]],'NLM Data Test 2'!$X$12:$X$136,0)),1),\"\")","v":""}]
[118,{"$f":"IFERROR(INDEX(NLML.Test1.PrePostDataset[*First Name],(MATCH(NLML.ChangeInScores.PrePostDataset[[#This Row],[First Name & Last Name*\n(choose from list)]],'NLM Data Test 1'!W129:W253,0)),1),\"\")","v":""},{"$f":"IFERROR(INDEX(NLML.Test1.PrePostDataset[*Last Name],(MATCH(NLML.ChangeInScores.PrePostDataset[[#This Row],[First Name & Last Name*\n(choose from list)]],'NLM Data Test 1'!W129:W253,0)),1),\"\")","v":""},{"$f":"'NLM Data Test 2'!D129","v":0},{"$f":"IF(IFERROR(MATCH($D133,'NLM Data Test 2'!$D$12:$D$136,0),\"Error\")=\"Error\",(INDEX('NLM Data Test 1'!$D$12:$D$136,(MATCH($D133,'NLM Data Test 1'!$W$12:$W$136,0)),1)),(INDEX('NLM Data Test 2'!$E$12:$E$136,(MATCH($D133,'NLM Data Test 2'!$D$12:$D$136,0)),1)))","v":{"$error":"#N/A"}},{"$f":"IF(IFERROR(MATCH($D133,'NLM Data Test 2'!$D$12:$D$136,0),\"Error\")=\"Error\",(INDEX('NLM Data Test 1'!$E$12:$E$136,(MATCH($D133,'NLM Data Test 1'!$W$12:$W$136,0)),1)),(INDEX('NLM Data Test 2'!$G$12:$G$136,(MATCH($D133,'NLM Data Test 2'!$D$12:$D$136,0)),1)))","v":{"$error":"#N/A"}},{"$f":"IF(IFERROR(MATCH($D133,'NLM Data Test 2'!$D$12:$D$136,0),\"Error\")=\"Error\",(INDEX('NLM Data Test 1'!$F$12:$F$136,(MATCH($D133,'NLM Data Test 1'!$W$12:$W$136,0)),1)),(INDEX('NLM Data Test 2'!$F$12:$F$136,(MATCH($D133,'NLM Data Test 2'!$D$12:$D$136,0)),1)))","v":{"$error":"#N/A"}},{"$f":"IF(INDEX('NLM Data Test 1'!$H$12:$H$136,(MATCH(NLML.ChangeInScores.PrePostDataset[[#This Row],[First Name & Last Name*\n(choose from list)]],'NLM Data Test 1'!$W$12:$W$136,0)),1)=\"\",\"\",(INDEX('NLM Data Test 1'!H$12:H$136,(MATCH(NLML.ChangeInScores.PrePostDataset[[#This Row],[First Name & Last Name*\n(choose from list)]],'NLM Data Test 1'!$W$12:$W$136,0)),1)))","v":{"$error":"#N/A"}},{"$f":"IF(INDEX('NLM Data Test 1'!$I$12:$I$136,(MATCH(NLML.ChangeInScores.PrePostDataset[[#This Row],[First Name & Last Name*\n(choose from list)]],'NLM Data Test 1'!$W$12:$W$136,0)),1)=\"\",\"\",(INDEX('NLM Data Test 1'!I$12:I$136,(MATCH(NLML.ChangeInScores.PrePostDataset[[#This Row],[First Name & Last Name*\n(choose from list)]],'NLM Data Test 1'!$W$12:$W$136,0)),1)))","v":{"$error":"#N/A"}},{"$f":"IF(INDEX('NLM Data Test 1'!$J$12:$J$136,(MATCH(NLML.ChangeInScores.PrePostDataset[[#This Row],[First Name & Last Name*\n(choose from list)]],'NLM Data Test 1'!$W$12:$W$136,0)),1)=\"\",\"\",(INDEX('NLM Data Test 1'!J$12:J$136,(MATCH(NLML.ChangeInScores.PrePostDataset[[#This Row],[First Name & Last Name*\n(choose from list)]],'NLM Data Test 1'!$W$12:$W$136,0)),1)))","v":{"$error":"#N/A"}},{"$f":"IFERROR(INDEX('NLM Data Test 1'!$M$12:$M$136,(MATCH(NLML.ChangeInScores.PrePostDataset[[#This Row],[First Name & Last Name*\n(choose from list)]],'NLM Data Test 1'!$W$12:$W$136,0)),1),\"\")","v":""},{"$f":"INDEX('NLM Data Test 2'!$I$12:$I$136,(MATCH(NLML.ChangeInScores.PrePostDataset[[#This Row],[First Name & Last Name*\n(choose from list)]],'NLM Data Test 2'!$D$12:$D$136,0)),1)","v":{"$error":"#N/A"}},{"$f":"IFERROR(INDEX('NLM Data Test 2'!$J$12:$J$136,(MATCH(NLML.ChangeInScores.PrePostDataset[[#This Row],[First Name & Last Name*\n(choose from list)]],'NLM Data Test 2'!$X$12:$X$136,0)),1),\"\")","v":""},{"$f":"IFERROR(INDEX('NLM Data Test 2'!$K$12:$K$136,(MATCH(NLML.ChangeInScores.PrePostDataset[[#This Row],[First Name & Last Name*\n(choose from list)]],'NLM Data Test 2'!$X$12:$X$136,0)),1),\"\")","v":""},{"$f":"IFERROR(INDEX('NLM Data Test 2'!$N$12:$N$136,(MATCH(NLML.ChangeInScores.PrePostDataset[[#This Row],[First Name & Last Name*\n(choose from list)]],'NLM Data Test 2'!$X$12:$X$136,0)),1),\"\")","v":""},{"$f":"(INDEX('NLM Data Test 2'!$O$12:$O$136,(MATCH(NLML.ChangeInScores.PrePostDataset[[#This Row],[First Name & Last Name*\n(choose from list)]],'NLM Data Test 2'!$X$12:$X$136,0)),1))-(INDEX('NLM Data Test 1'!$N$12:$N$136,(MATCH(NLML.ChangeInScores.PrePostDataset[[#This Row],[First Name & Last Name*\n(choose from list)]],'NLM Data Test 1'!$W$12:$W$136,0)),1))","v":{"$error":"#N/A"}},{"$f":"(INDEX('NLM Data Test 2'!$P$12:$P$136,(MATCH(NLML.ChangeInScores.PrePostDataset[[#This Row],[First Name & Last Name*\n(choose from list)]],'NLM Data Test 2'!$X$12:$X$136,0)),1))-(INDEX('NLM Data Test 1'!$O$12:$O$136,(MATCH(NLML.ChangeInScores.PrePostDataset[[#This Row],[First Name & Last Name*\n(choose from list)]],'NLM Data Test 1'!$W$12:$W$136,0)),1))","v":{"$error":"#N/A"}},{"$f":"(INDEX('NLM Data Test 2'!$Q$12:$Q$136,(MATCH(NLML.ChangeInScores.PrePostDataset[[#This Row],[First Name & Last Name*\n(choose from list)]],'NLM Data Test 2'!$X$12:$X$136,0)),1))-(INDEX('NLM Data Test 1'!$P$12:$P$136,(MATCH(NLML.ChangeInScores.PrePostDataset[[#This Row],[First Name & Last Name*\n(choose from list)]],'NLM Data Test 1'!$W$12:$W$136,0)),1))","v":{"$error":"#N/A"}},{"$f":"(INDEX('NLM Data Test 2'!$R$12:$R$136,(MATCH(NLML.ChangeInScores.PrePostDataset[[#This Row],[First Name & Last Name*\n(choose from list)]],'NLM Data Test 2'!$X$12:$X$136,0)),1))-(INDEX('NLM Data Test 1'!$Q$12:$Q$136,(MATCH(NLML.ChangeInScores.PrePostDataset[[#This Row],[First Name & Last Name*\n(choose from list)]],'NLM Data Test 1'!$W$12:$W$136,0)),1))","v":{"$error":"#N/A"}},{"$f":"(INDEX('NLM Data Test 2'!$S$12:$S$136,(MATCH(NLML.ChangeInScores.PrePostDataset[[#This Row],[First Name & Last Name*\n(choose from list)]],'NLM Data Test 2'!$X$12:$X$136,0)),1))-(INDEX('NLM Data Test 1'!$R$12:$R$136,(MATCH(NLML.ChangeInScores.PrePostDataset[[#This Row],[First Name & Last Name*\n(choose from list)]],'NLM Data Test 1'!$W$12:$W$136,0)),1))","v":{"$error":"#N/A"}},{"$f":"(INDEX('NLM Data Test 2'!$T$12:$T$136,(MATCH(NLML.ChangeInScores.PrePostDataset[[#This Row],[First Name & Last Name*\n(choose from list)]],'NLM Data Test 2'!$X$12:$X$136,0)),1))-(INDEX('NLM Data Test 1'!$S$12:$S$136,(MATCH(NLML.ChangeInScores.PrePostDataset[[#This Row],[First Name & Last Name*\n(choose from list)]],'NLM Data Test 1'!$W$12:$W$136,0)),1))","v":{"$error":"#N/A"}},{"$f":"IFERROR(INDEX('NLM Data Test 1'!$T$12:$T$136,(MATCH(NLML.ChangeInScores.PrePostDataset[[#This Row],[First Name & Last Name*\n(choose from list)]],'NLM Data Test 1'!$W$12:$W$136,0)),1),\"\")","v":""},{"$f":"IFERROR(INDEX('NLM Data Test 2'!$U$12:$U$136,(MATCH(NLML.ChangeInScores.PrePostDataset[[#This Row],[First Name & Last Name*\n(choose from list)]],'NLM Data Test 2'!$X$12:$X$136,0)),1),\"\")","v":""}]
[119,{"$f":"IFERROR(INDEX(NLML.Test1.PrePostDataset[*First Name],(MATCH(NLML.ChangeInScores.PrePostDataset[[#This Row],[First Name & Last Name*\n(choose from list)]],'NLM Data Test 1'!W130:W254,0)),1),\"\")","v":""},{"$f":"IFERROR(INDEX(NLML.Test1.PrePostDataset[*Last Name],(MATCH(NLML.ChangeInScores.PrePostDataset[[#This Row],[First Name & Last Name*\n(choose from list)]],'NLM Data Test 1'!W130:W254,0)),1),\"\")","v":""},{"$f":"'NLM Data Test 2'!D130","v":0},{"$f":"IF(IFERROR(MATCH($D134,'NLM Data Test 2'!$D$12:$D$136,0),\"Error\")=\"Error\",(INDEX('NLM Data Test 1'!$D$12:$D$136,(MATCH($D134,'NLM Data Test 1'!$W$12:$W$136,0)),1)),(INDEX('NLM Data Test 2'!$E$12:$E$136,(MATCH($D134,'NLM Data Test 2'!$D$12:$D$136,0)),1)))","v":{"$error":"#N/A"}},{"$f":"IF(IFERROR(MATCH($D134,'NLM Data Test 2'!$D$12:$D$136,0),\"Error\")=\"Error\",(INDEX('NLM Data Test 1'!$E$12:$E$136,(MATCH($D134,'NLM Data Test 1'!$W$12:$W$136,0)),1)),(INDEX('NLM Data Test 2'!$G$12:$G$136,(MATCH($D134,'NLM Data Test 2'!$D$12:$D$136,0)),1)))","v":{"$error":"#N/A"}},{"$f":"IF(IFERROR(MATCH($D134,'NLM Data Test 2'!$D$12:$D$136,0),\"Error\")=\"Error\",(INDEX('NLM Data Test 1'!$F$12:$F$136,(MATCH($D134,'NLM Data Test 1'!$W$12:$W$136,0)),1)),(INDEX('NLM Data Test 2'!$F$12:$F$136,(MATCH($D134,'NLM Data Test 2'!$D$12:$D$136,0)),1)))","v":{"$error":"#N/A"}},{"$f":"IF(INDEX('NLM Data Test 1'!$H$12:$H$136,(MATCH(NLML.ChangeInScores.PrePostDataset[[#This Row],[First Name & Last Name*\n(choose from list)]],'NLM Data Test 1'!$W$12:$W$136,0)),1)=\"\",\"\",(INDEX('NLM Data Test 1'!H$12:H$136,(MATCH(NLML.ChangeInScores.PrePostDataset[[#This Row],[First Name & Last Name*\n(choose from list)]],'NLM Data Test 1'!$W$12:$W$136,0)),1)))","v":{"$error":"#N/A"}},{"$f":"IF(INDEX('NLM Data Test 1'!$I$12:$I$136,(MATCH(NLML.ChangeInScores.PrePostDataset[[#This Row],[First Name & Last Name*\n(choose from list)]],'NLM Data Test 1'!$W$12:$W$136,0)),1)=\"\",\"\",(INDEX('NLM Data Test 1'!I$12:I$136,(MATCH(NLML.ChangeInScores.PrePostDataset[[#This Row],[First Name & Last Name*\n(choose from list)]],'NLM Data Test 1'!$W$12:$W$136,0)),1)))","v":{"$error":"#N/A"}},{"$f":"IF(INDEX('NLM Data Test 1'!$J$12:$J$136,(MATCH(NLML.ChangeInScores.PrePostDataset[[#This Row],[First Name & Last Name*\n(choose from list)]],'NLM Data Test 1'!$W$12:$W$136,0)),1)=\"\",\"\",(INDEX('NLM Data Test 1'!J$12:J$136,(MATCH(NLML.ChangeInScores.PrePostDataset[[#This Row],[First Name & Last Name*\n(choose from list)]],'NLM Data Test 1'!$W$12:$W$136,0)),1)))","v":{"$error":"#N/A"}},{"$f":"IFERROR(INDEX('NLM Data Test 1'!$M$12:$M$136,(MATCH(NLML.ChangeInScores.PrePostDataset[[#This Row],[First Name & Last Name*\n(choose from list)]],'NLM Data Test 1'!$W$12:$W$136,0)),1),\"\")","v":""},{"$f":"INDEX('NLM Data Test 2'!$I$12:$I$136,(MATCH(NLML.ChangeInScores.PrePostDataset[[#This Row],[First Name & Last Name*\n(choose from list)]],'NLM Data Test 2'!$D$12:$D$136,0)),1)","v":{"$error":"#N/A"}},{"$f":"IFERROR(INDEX('NLM Data Test 2'!$J$12:$J$136,(MATCH(NLML.ChangeInScores.PrePostDataset[[#This Row],[First Name & Last Name*\n(choose from list)]],'NLM Data Test 2'!$X$12:$X$136,0)),1),\"\")","v":""},{"$f":"IFERROR(INDEX('NLM Data Test 2'!$K$12:$K$136,(MATCH(NLML.ChangeInScores.PrePostDataset[[#This Row],[First Name & Last Name*\n(choose from list)]],'NLM Data Test 2'!$X$12:$X$136,0)),1),\"\")","v":""},{"$f":"IFERROR(INDEX('NLM Data Test 2'!$N$12:$N$136,(MATCH(NLML.ChangeInScores.PrePostDataset[[#This Row],[First Name & Last Name*\n(choose from list)]],'NLM Data Test 2'!$X$12:$X$136,0)),1),\"\")","v":""},{"$f":"(INDEX('NLM Data Test 2'!$O$12:$O$136,(MATCH(NLML.ChangeInScores.PrePostDataset[[#This Row],[First Name & Last Name*\n(choose from list)]],'NLM Data Test 2'!$X$12:$X$136,0)),1))-(INDEX('NLM Data Test 1'!$N$12:$N$136,(MATCH(NLML.ChangeInScores.PrePostDataset[[#This Row],[First Name & Last Name*\n(choose from list)]],'NLM Data Test 1'!$W$12:$W$136,0)),1))","v":{"$error":"#N/A"}},{"$f":"(INDEX('NLM Data Test 2'!$P$12:$P$136,(MATCH(NLML.ChangeInScores.PrePostDataset[[#This Row],[First Name & Last Name*\n(choose from list)]],'NLM Data Test 2'!$X$12:$X$136,0)),1))-(INDEX('NLM Data Test 1'!$O$12:$O$136,(MATCH(NLML.ChangeInScores.PrePostDataset[[#This Row],[First Name & Last Name*\n(choose from list)]],'NLM Data Test 1'!$W$12:$W$136,0)),1))","v":{"$error":"#N/A"}},{"$f":"(INDEX('NLM Data Test 2'!$Q$12:$Q$136,(MATCH(NLML.ChangeInScores.PrePostDataset[[#This Row],[First Name & Last Name*\n(choose from list)]],'NLM Data Test 2'!$X$12:$X$136,0)),1))-(INDEX('NLM Data Test 1'!$P$12:$P$136,(MATCH(NLML.ChangeInScores.PrePostDataset[[#This Row],[First Name & Last Name*\n(choose from list)]],'NLM Data Test 1'!$W$12:$W$136,0)),1))","v":{"$error":"#N/A"}},{"$f":"(INDEX('NLM Data Test 2'!$R$12:$R$136,(MATCH(NLML.ChangeInScores.PrePostDataset[[#This Row],[First Name & Last Name*\n(choose from list)]],'NLM Data Test 2'!$X$12:$X$136,0)),1))-(INDEX('NLM Data Test 1'!$Q$12:$Q$136,(MATCH(NLML.ChangeInScores.PrePostDataset[[#This Row],[First Name & Last Name*\n(choose from list)]],'NLM Data Test 1'!$W$12:$W$136,0)),1))","v":{"$error":"#N/A"}},{"$f":"(INDEX('NLM Data Test 2'!$S$12:$S$136,(MATCH(NLML.ChangeInScores.PrePostDataset[[#This Row],[First Name & Last Name*\n(choose from list)]],'NLM Data Test 2'!$X$12:$X$136,0)),1))-(INDEX('NLM Data Test 1'!$R$12:$R$136,(MATCH(NLML.ChangeInScores.PrePostDataset[[#This Row],[First Name & Last Name*\n(choose from list)]],'NLM Data Test 1'!$W$12:$W$136,0)),1))","v":{"$error":"#N/A"}},{"$f":"(INDEX('NLM Data Test 2'!$T$12:$T$136,(MATCH(NLML.ChangeInScores.PrePostDataset[[#This Row],[First Name & Last Name*\n(choose from list)]],'NLM Data Test 2'!$X$12:$X$136,0)),1))-(INDEX('NLM Data Test 1'!$S$12:$S$136,(MATCH(NLML.ChangeInScores.PrePostDataset[[#This Row],[First Name & Last Name*\n(choose from list)]],'NLM Data Test 1'!$W$12:$W$136,0)),1))","v":{"$error":"#N/A"}},{"$f":"IFERROR(INDEX('NLM Data Test 1'!$T$12:$T$136,(MATCH(NLML.ChangeInScores.PrePostDataset[[#This Row],[First Name & Last Name*\n(choose from list)]],'NLM Data Test 1'!$W$12:$W$136,0)),1),\"\")","v":""},{"$f":"IFERROR(INDEX('NLM Data Test 2'!$U$12:$U$136,(MATCH(NLML.ChangeInScores.PrePostDataset[[#This Row],[First Name & Last Name*\n(choose from list)]],'NLM Data Test 2'!$X$12:$X$136,0)),1),\"\")","v":""}]
[120,{"$f":"IFERROR(INDEX(NLML.Test1.PrePostDataset[*First Name],(MATCH(NLML.ChangeInScores.PrePostDataset[[#This Row],[First Name & Last Name*\n(choose from list)]],'NLM Data Test 1'!W131:W255,0)),1),\"\")","v":""},{"$f":"IFERROR(INDEX(NLML.Test1.PrePostDataset[*Last Name],(MATCH(NLML.ChangeInScores.PrePostDataset[[#This Row],[First Name & Last Name*\n(choose from list)]],'NLM Data Test 1'!W131:W255,0)),1),\"\")","v":""},{"$f":"'NLM Data Test 2'!D131","v":0},{"$f":"IF(IFERROR(MATCH($D135,'NLM Data Test 2'!$D$12:$D$136,0),\"Error\")=\"Error\",(INDEX('NLM Data Test 1'!$D$12:$D$136,(MATCH($D135,'NLM Data Test 1'!$W$12:$W$136,0)),1)),(INDEX('NLM Data Test 2'!$E$12:$E$136,(MATCH($D135,'NLM Data Test 2'!$D$12:$D$136,0)),1)))","v":{"$error":"#N/A"}},{"$f":"IF(IFERROR(MATCH($D135,'NLM Data Test 2'!$D$12:$D$136,0),\"Error\")=\"Error\",(INDEX('NLM Data Test 1'!$E$12:$E$136,(MATCH($D135,'NLM Data Test 1'!$W$12:$W$136,0)),1)),(INDEX('NLM Data Test 2'!$G$12:$G$136,(MATCH($D135,'NLM Data Test 2'!$D$12:$D$136,0)),1)))","v":{"$error":"#N/A"}},{"$f":"IF(IFERROR(MATCH($D135,'NLM Data Test 2'!$D$12:$D$136,0),\"Error\")=\"Error\",(INDEX('NLM Data Test 1'!$F$12:$F$136,(MATCH($D135,'NLM Data Test 1'!$W$12:$W$136,0)),1)),(INDEX('NLM Data Test 2'!$F$12:$F$136,(MATCH($D135,'NLM Data Test 2'!$D$12:$D$136,0)),1)))","v":{"$error":"#N/A"}},{"$f":"IF(INDEX('NLM Data Test 1'!$H$12:$H$136,(MATCH(NLML.ChangeInScores.PrePostDataset[[#This Row],[First Name & Last Name*\n(choose from list)]],'NLM Data Test 1'!$W$12:$W$136,0)),1)=\"\",\"\",(INDEX('NLM Data Test 1'!H$12:H$136,(MATCH(NLML.ChangeInScores.PrePostDataset[[#This Row],[First Name & Last Name*\n(choose from list)]],'NLM Data Test 1'!$W$12:$W$136,0)),1)))","v":{"$error":"#N/A"}},{"$f":"IF(INDEX('NLM Data Test 1'!$I$12:$I$136,(MATCH(NLML.ChangeInScores.PrePostDataset[[#This Row],[First Name & Last Name*\n(choose from list)]],'NLM Data Test 1'!$W$12:$W$136,0)),1)=\"\",\"\",(INDEX('NLM Data Test 1'!I$12:I$136,(MATCH(NLML.ChangeInScores.PrePostDataset[[#This Row],[First Name & Last Name*\n(choose from list)]],'NLM Data Test 1'!$W$12:$W$136,0)),1)))","v":{"$error":"#N/A"}},{"$f":"IF(INDEX('NLM Data Test 1'!$J$12:$J$136,(MATCH(NLML.ChangeInScores.PrePostDataset[[#This Row],[First Name & Last Name*\n(choose from list)]],'NLM Data Test 1'!$W$12:$W$136,0)),1)=\"\",\"\",(INDEX('NLM Data Test 1'!J$12:J$136,(MATCH(NLML.ChangeInScores.PrePostDataset[[#This Row],[First Name & Last Name*\n(choose from list)]],'NLM Data Test 1'!$W$12:$W$136,0)),1)))","v":{"$error":"#N/A"}},{"$f":"IFERROR(INDEX('NLM Data Test 1'!$M$12:$M$136,(MATCH(NLML.ChangeInScores.PrePostDataset[[#This Row],[First Name & Last Name*\n(choose from list)]],'NLM Data Test 1'!$W$12:$W$136,0)),1),\"\")","v":""},{"$f":"INDEX('NLM Data Test 2'!$I$12:$I$136,(MATCH(NLML.ChangeInScores.PrePostDataset[[#This Row],[First Name & Last Name*\n(choose from list)]],'NLM Data Test 2'!$D$12:$D$136,0)),1)","v":{"$error":"#N/A"}},{"$f":"IFERROR(INDEX('NLM Data Test 2'!$J$12:$J$136,(MATCH(NLML.ChangeInScores.PrePostDataset[[#This Row],[First Name & Last Name*\n(choose from list)]],'NLM Data Test 2'!$X$12:$X$136,0)),1),\"\")","v":""},{"$f":"IFERROR(INDEX('NLM Data Test 2'!$K$12:$K$136,(MATCH(NLML.ChangeInScores.PrePostDataset[[#This Row],[First Name & Last Name*\n(choose from list)]],'NLM Data Test 2'!$X$12:$X$136,0)),1),\"\")","v":""},{"$f":"IFERROR(INDEX('NLM Data Test 2'!$N$12:$N$136,(MATCH(NLML.ChangeInScores.PrePostDataset[[#This Row],[First Name & Last Name*\n(choose from list)]],'NLM Data Test 2'!$X$12:$X$136,0)),1),\"\")","v":""},{"$f":"(INDEX('NLM Data Test 2'!$O$12:$O$136,(MATCH(NLML.ChangeInScores.PrePostDataset[[#This Row],[First Name & Last Name*\n(choose from list)]],'NLM Data Test 2'!$X$12:$X$136,0)),1))-(INDEX('NLM Data Test 1'!$N$12:$N$136,(MATCH(NLML.ChangeInScores.PrePostDataset[[#This Row],[First Name & Last Name*\n(choose from list)]],'NLM Data Test 1'!$W$12:$W$136,0)),1))","v":{"$error":"#N/A"}},{"$f":"(INDEX('NLM Data Test 2'!$P$12:$P$136,(MATCH(NLML.ChangeInScores.PrePostDataset[[#This Row],[First Name & Last Name*\n(choose from list)]],'NLM Data Test 2'!$X$12:$X$136,0)),1))-(INDEX('NLM Data Test 1'!$O$12:$O$136,(MATCH(NLML.ChangeInScores.PrePostDataset[[#This Row],[First Name & Last Name*\n(choose from list)]],'NLM Data Test 1'!$W$12:$W$136,0)),1))","v":{"$error":"#N/A"}},{"$f":"(INDEX('NLM Data Test 2'!$Q$12:$Q$136,(MATCH(NLML.ChangeInScores.PrePostDataset[[#This Row],[First Name & Last Name*\n(choose from list)]],'NLM Data Test 2'!$X$12:$X$136,0)),1))-(INDEX('NLM Data Test 1'!$P$12:$P$136,(MATCH(NLML.ChangeInScores.PrePostDataset[[#This Row],[First Name & Last Name*\n(choose from list)]],'NLM Data Test 1'!$W$12:$W$136,0)),1))","v":{"$error":"#N/A"}},{"$f":"(INDEX('NLM Data Test 2'!$R$12:$R$136,(MATCH(NLML.ChangeInScores.PrePostDataset[[#This Row],[First Name & Last Name*\n(choose from list)]],'NLM Data Test 2'!$X$12:$X$136,0)),1))-(INDEX('NLM Data Test 1'!$Q$12:$Q$136,(MATCH(NLML.ChangeInScores.PrePostDataset[[#This Row],[First Name & Last Name*\n(choose from list)]],'NLM Data Test 1'!$W$12:$W$136,0)),1))","v":{"$error":"#N/A"}},{"$f":"(INDEX('NLM Data Test 2'!$S$12:$S$136,(MATCH(NLML.ChangeInScores.PrePostDataset[[#This Row],[First Name & Last Name*\n(choose from list)]],'NLM Data Test 2'!$X$12:$X$136,0)),1))-(INDEX('NLM Data Test 1'!$R$12:$R$136,(MATCH(NLML.ChangeInScores.PrePostDataset[[#This Row],[First Name & Last Name*\n(choose from list)]],'NLM Data Test 1'!$W$12:$W$136,0)),1))","v":{"$error":"#N/A"}},{"$f":"(INDEX('NLM Data Test 2'!$T$12:$T$136,(MATCH(NLML.ChangeInScores.PrePostDataset[[#This Row],[First Name & Last Name*\n(choose from list)]],'NLM Data Test 2'!$X$12:$X$136,0)),1))-(INDEX('NLM Data Test 1'!$S$12:$S$136,(MATCH(NLML.ChangeInScores.PrePostDataset[[#This Row],[First Name & Last Name*\n(choose from list)]],'NLM Data Test 1'!$W$12:$W$136,0)),1))","v":{"$error":"#N/A"}},{"$f":"IFERROR(INDEX('NLM Data Test 1'!$T$12:$T$136,(MATCH(NLML.ChangeInScores.PrePostDataset[[#This Row],[First Name & Last Name*\n(choose from list)]],'NLM Data Test 1'!$W$12:$W$136,0)),1),\"\")","v":""},{"$f":"IFERROR(INDEX('NLM Data Test 2'!$U$12:$U$136,(MATCH(NLML.ChangeInScores.PrePostDataset[[#This Row],[First Name & Last Name*\n(choose from list)]],'NLM Data Test 2'!$X$12:$X$136,0)),1),\"\")","v":""}]
[121,{"$f":"IFERROR(INDEX(NLML.Test1.PrePostDataset[*First Name],(MATCH(NLML.ChangeInScores.PrePostDataset[[#This Row],[First Name & Last Name*\n(choose from list)]],'NLM Data Test 1'!W132:W256,0)),1),\"\")","v":""},{"$f":"IFERROR(INDEX(NLML.Test1.PrePostDataset[*Last Name],(MATCH(NLML.ChangeInScores.PrePostDataset[[#This Row],[First Name & Last Name*\n(choose from list)]],'NLM Data Test 1'!W132:W256,0)),1),\"\")","v":""},{"$f":"'NLM Data Test 2'!D132","v":0},{"$f":"IF(IFERROR(MATCH($D136,'NLM Data Test 2'!$D$12:$D$136,0),\"Error\")=\"Error\",(INDEX('NLM Data Test 1'!$D$12:$D$136,(MATCH($D136,'NLM Data Test 1'!$W$12:$W$136,0)),1)),(INDEX('NLM Data Test 2'!$E$12:$E$136,(MATCH($D136,'NLM Data Test 2'!$D$12:$D$136,0)),1)))","v":{"$error":"#N/A"}},{"$f":"IF(IFERROR(MATCH($D136,'NLM Data Test 2'!$D$12:$D$136,0),\"Error\")=\"Error\",(INDEX('NLM Data Test 1'!$E$12:$E$136,(MATCH($D136,'NLM Data Test 1'!$W$12:$W$136,0)),1)),(INDEX('NLM Data Test 2'!$G$12:$G$136,(MATCH($D136,'NLM Data Test 2'!$D$12:$D$136,0)),1)))","v":{"$error":"#N/A"}},{"$f":"IF(IFERROR(MATCH($D136,'NLM Data Test 2'!$D$12:$D$136,0),\"Error\")=\"Error\",(INDEX('NLM Data Test 1'!$F$12:$F$136,(MATCH($D136,'NLM Data Test 1'!$W$12:$W$136,0)),1)),(INDEX('NLM Data Test 2'!$F$12:$F$136,(MATCH($D136,'NLM Data Test 2'!$D$12:$D$136,0)),1)))","v":{"$error":"#N/A"}},{"$f":"IF(INDEX('NLM Data Test 1'!$H$12:$H$136,(MATCH(NLML.ChangeInScores.PrePostDataset[[#This Row],[First Name & Last Name*\n(choose from list)]],'NLM Data Test 1'!$W$12:$W$136,0)),1)=\"\",\"\",(INDEX('NLM Data Test 1'!H$12:H$136,(MATCH(NLML.ChangeInScores.PrePostDataset[[#This Row],[First Name & Last Name*\n(choose from list)]],'NLM Data Test 1'!$W$12:$W$136,0)),1)))","v":{"$error":"#N/A"}},{"$f":"IF(INDEX('NLM Data Test 1'!$I$12:$I$136,(MATCH(NLML.ChangeInScores.PrePostDataset[[#This Row],[First Name & Last Name*\n(choose from list)]],'NLM Data Test 1'!$W$12:$W$136,0)),1)=\"\",\"\",(INDEX('NLM Data Test 1'!I$12:I$136,(MATCH(NLML.ChangeInScores.PrePostDataset[[#This Row],[First Name & Last Name*\n(choose from list)]],'NLM Data Test 1'!$W$12:$W$136,0)),1)))","v":{"$error":"#N/A"}},{"$f":"IF(INDEX('NLM Data Test 1'!$J$12:$J$136,(MATCH(NLML.ChangeInScores.PrePostDataset[[#This Row],[First Name & Last Name*\n(choose from list)]],'NLM Data Test 1'!$W$12:$W$136,0)),1)=\"\",\"\",(INDEX('NLM Data Test 1'!J$12:J$136,(MATCH(NLML.ChangeInScores.PrePostDataset[[#This Row],[First Name & Last Name*\n(choose from list)]],'NLM Data Test 1'!$W$12:$W$136,0)),1)))","v":{"$error":"#N/A"}},{"$f":"IFERROR(INDEX('NLM Data Test 1'!$M$12:$M$136,(MATCH(NLML.ChangeInScores.PrePostDataset[[#This Row],[First Name & Last Name*\n(choose from list)]],'NLM Data Test 1'!$W$12:$W$136,0)),1),\"\")","v":""},{"$f":"INDEX('NLM Data Test 2'!$I$12:$I$136,(MATCH(NLML.ChangeInScores.PrePostDataset[[#This Row],[First Name & Last Name*\n(choose from list)]],'NLM Data Test 2'!$D$12:$D$136,0)),1)","v":{"$error":"#N/A"}},{"$f":"IFERROR(INDEX('NLM Data Test 2'!$J$12:$J$136,(MATCH(NLML.ChangeInScores.PrePostDataset[[#This Row],[First Name & Last Name*\n(choose from list)]],'NLM Data Test 2'!$X$12:$X$136,0)),1),\"\")","v":""},{"$f":"IFERROR(INDEX('NLM Data Test 2'!$K$12:$K$136,(MATCH(NLML.ChangeInScores.PrePostDataset[[#This Row],[First Name & Last Name*\n(choose from list)]],'NLM Data Test 2'!$X$12:$X$136,0)),1),\"\")","v":""},{"$f":"IFERROR(INDEX('NLM Data Test 2'!$N$12:$N$136,(MATCH(NLML.ChangeInScores.PrePostDataset[[#This Row],[First Name & Last Name*\n(choose from list)]],'NLM Data Test 2'!$X$12:$X$136,0)),1),\"\")","v":""},{"$f":"(INDEX('NLM Data Test 2'!$O$12:$O$136,(MATCH(NLML.ChangeInScores.PrePostDataset[[#This Row],[First Name & Last Name*\n(choose from list)]],'NLM Data Test 2'!$X$12:$X$136,0)),1))-(INDEX('NLM Data Test 1'!$N$12:$N$136,(MATCH(NLML.ChangeInScores.PrePostDataset[[#This Row],[First Name & Last Name*\n(choose from list)]],'NLM Data Test 1'!$W$12:$W$136,0)),1))","v":{"$error":"#N/A"}},{"$f":"(INDEX('NLM Data Test 2'!$P$12:$P$136,(MATCH(NLML.ChangeInScores.PrePostDataset[[#This Row],[First Name & Last Name*\n(choose from list)]],'NLM Data Test 2'!$X$12:$X$136,0)),1))-(INDEX('NLM Data Test 1'!$O$12:$O$136,(MATCH(NLML.ChangeInScores.PrePostDataset[[#This Row],[First Name & Last Name*\n(choose from list)]],'NLM Data Test 1'!$W$12:$W$136,0)),1))","v":{"$error":"#N/A"}},{"$f":"(INDEX('NLM Data Test 2'!$Q$12:$Q$136,(MATCH(NLML.ChangeInScores.PrePostDataset[[#This Row],[First Name & Last Name*\n(choose from list)]],'NLM Data Test 2'!$X$12:$X$136,0)),1))-(INDEX('NLM Data Test 1'!$P$12:$P$136,(MATCH(NLML.ChangeInScores.PrePostDataset[[#This Row],[First Name & Last Name*\n(choose from list)]],'NLM Data Test 1'!$W$12:$W$136,0)),1))","v":{"$error":"#N/A"}},{"$f":"(INDEX('NLM Data Test 2'!$R$12:$R$136,(MATCH(NLML.ChangeInScores.PrePostDataset[[#This Row],[First Name & Last Name*\n(choose from list)]],'NLM Data Test 2'!$X$12:$X$136,0)),1))-(INDEX('NLM Data Test 1'!$Q$12:$Q$136,(MATCH(NLML.ChangeInScores.PrePostDataset[[#This Row],[First Name & Last Name*\n(choose from list)]],'NLM Data Test 1'!$W$12:$W$136,0)),1))","v":{"$error":"#N/A"}},{"$f":"(INDEX('NLM Data Test 2'!$S$12:$S$136,(MATCH(NLML.ChangeInScores.PrePostDataset[[#This Row],[First Name & Last Name*\n(choose from list)]],'NLM Data Test 2'!$X$12:$X$136,0)),1))-(INDEX('NLM Data Test 1'!$R$12:$R$136,(MATCH(NLML.ChangeInScores.PrePostDataset[[#This Row],[First Name & Last Name*\n(choose from list)]],'NLM Data Test 1'!$W$12:$W$136,0)),1))","v":{"$error":"#N/A"}},{"$f":"(INDEX('NLM Data Test 2'!$T$12:$T$136,(MATCH(NLML.ChangeInScores.PrePostDataset[[#This Row],[First Name & Last Name*\n(choose from list)]],'NLM Data Test 2'!$X$12:$X$136,0)),1))-(INDEX('NLM Data Test 1'!$S$12:$S$136,(MATCH(NLML.ChangeInScores.PrePostDataset[[#This Row],[First Name & Last Name*\n(choose from list)]],'NLM Data Test 1'!$W$12:$W$136,0)),1))","v":{"$error":"#N/A"}},{"$f":"IFERROR(INDEX('NLM Data Test 1'!$T$12:$T$136,(MATCH(NLML.ChangeInScores.PrePostDataset[[#This Row],[First Name & Last Name*\n(choose from list)]],'NLM Data Test 1'!$W$12:$W$136,0)),1),\"\")","v":""},{"$f":"IFERROR(INDEX('NLM Data Test 2'!$U$12:$U$136,(MATCH(NLML.ChangeInScores.PrePostDataset[[#This Row],[First Name & Last Name*\n(choose from list)]],'NLM Data Test 2'!$X$12:$X$136,0)),1),\"\")","v":""}]
[122,{"$f":"IFERROR(INDEX(NLML.Test1.PrePostDataset[*First Name],(MATCH(NLML.ChangeInScores.PrePostDataset[[#This Row],[First Name & Last Name*\n(choose from list)]],'NLM Data Test 1'!W133:W257,0)),1),\"\")","v":""},{"$f":"IFERROR(INDEX(NLML.Test1.PrePostDataset[*Last Name],(MATCH(NLML.ChangeInScores.PrePostDataset[[#This Row],[First Name & Last Name*\n(choose from list)]],'NLM Data Test 1'!W133:W257,0)),1),\"\")","v":""},{"$f":"'NLM Data Test 2'!D133","v":0},{"$f":"IF(IFERROR(MATCH($D137,'NLM Data Test 2'!$D$12:$D$136,0),\"Error\")=\"Error\",(INDEX('NLM Data Test 1'!$D$12:$D$136,(MATCH($D137,'NLM Data Test 1'!$W$12:$W$136,0)),1)),(INDEX('NLM Data Test 2'!$E$12:$E$136,(MATCH($D137,'NLM Data Test 2'!$D$12:$D$136,0)),1)))","v":{"$error":"#N/A"}},{"$f":"IF(IFERROR(MATCH($D137,'NLM Data Test 2'!$D$12:$D$136,0),\"Error\")=\"Error\",(INDEX('NLM Data Test 1'!$E$12:$E$136,(MATCH($D137,'NLM Data Test 1'!$W$12:$W$136,0)),1)),(INDEX('NLM Data Test 2'!$G$12:$G$136,(MATCH($D137,'NLM Data Test 2'!$D$12:$D$136,0)),1)))","v":{"$error":"#N/A"}},{"$f":"IF(IFERROR(MATCH($D137,'NLM Data Test 2'!$D$12:$D$136,0),\"Error\")=\"Error\",(INDEX('NLM Data Test 1'!$F$12:$F$136,(MATCH($D137,'NLM Data Test 1'!$W$12:$W$136,0)),1)),(INDEX('NLM Data Test 2'!$F$12:$F$136,(MATCH($D137,'NLM Data Test 2'!$D$12:$D$136,0)),1)))","v":{"$error":"#N/A"}},{"$f":"IF(INDEX('NLM Data Test 1'!$H$12:$H$136,(MATCH(NLML.ChangeInScores.PrePostDataset[[#This Row],[First Name & Last Name*\n(choose from list)]],'NLM Data Test 1'!$W$12:$W$136,0)),1)=\"\",\"\",(INDEX('NLM Data Test 1'!H$12:H$136,(MATCH(NLML.ChangeInScores.PrePostDataset[[#This Row],[First Name & Last Name*\n(choose from list)]],'NLM Data Test 1'!$W$12:$W$136,0)),1)))","v":{"$error":"#N/A"}},{"$f":"IF(INDEX('NLM Data Test 1'!$I$12:$I$136,(MATCH(NLML.ChangeInScores.PrePostDataset[[#This Row],[First Name & Last Name*\n(choose from list)]],'NLM Data Test 1'!$W$12:$W$136,0)),1)=\"\",\"\",(INDEX('NLM Data Test 1'!I$12:I$136,(MATCH(NLML.ChangeInScores.PrePostDataset[[#This Row],[First Name & Last Name*\n(choose from list)]],'NLM Data Test 1'!$W$12:$W$136,0)),1)))","v":{"$error":"#N/A"}},{"$f":"IF(INDEX('NLM Data Test 1'!$J$12:$J$136,(MATCH(NLML.ChangeInScores.PrePostDataset[[#This Row],[First Name & Last Name*\n(choose from list)]],'NLM Data Test 1'!$W$12:$W$136,0)),1)=\"\",\"\",(INDEX('NLM Data Test 1'!J$12:J$136,(MATCH(NLML.ChangeInScores.PrePostDataset[[#This Row],[First Name & Last Name*\n(choose from list)]],'NLM Data Test 1'!$W$12:$W$136,0)),1)))","v":{"$error":"#N/A"}},{"$f":"IFERROR(INDEX('NLM Data Test 1'!$M$12:$M$136,(MATCH(NLML.ChangeInScores.PrePostDataset[[#This Row],[First Name & Last Name*\n(choose from list)]],'NLM Data Test 1'!$W$12:$W$136,0)),1),\"\")","v":""},{"$f":"INDEX('NLM Data Test 2'!$I$12:$I$136,(MATCH(NLML.ChangeInScores.PrePostDataset[[#This Row],[First Name & Last Name*\n(choose from list)]],'NLM Data Test 2'!$D$12:$D$136,0)),1)","v":{"$error":"#N/A"}},{"$f":"IFERROR(INDEX('NLM Data Test 2'!$J$12:$J$136,(MATCH(NLML.ChangeInScores.PrePostDataset[[#This Row],[First Name & Last Name*\n(choose from list)]],'NLM Data Test 2'!$X$12:$X$136,0)),1),\"\")","v":""},{"$f":"IFERROR(INDEX('NLM Data Test 2'!$K$12:$K$136,(MATCH(NLML.ChangeInScores.PrePostDataset[[#This Row],[First Name & Last Name*\n(choose from list)]],'NLM Data Test 2'!$X$12:$X$136,0)),1),\"\")","v":""},{"$f":"IFERROR(INDEX('NLM Data Test 2'!$N$12:$N$136,(MATCH(NLML.ChangeInScores.PrePostDataset[[#This Row],[First Name & Last Name*\n(choose from list)]],'NLM Data Test 2'!$X$12:$X$136,0)),1),\"\")","v":""},{"$f":"(INDEX('NLM Data Test 2'!$O$12:$O$136,(MATCH(NLML.ChangeInScores.PrePostDataset[[#This Row],[First Name & Last Name*\n(choose from list)]],'NLM Data Test 2'!$X$12:$X$136,0)),1))-(INDEX('NLM Data Test 1'!$N$12:$N$136,(MATCH(NLML.ChangeInScores.PrePostDataset[[#This Row],[First Name & Last Name*\n(choose from list)]],'NLM Data Test 1'!$W$12:$W$136,0)),1))","v":{"$error":"#N/A"}},{"$f":"(INDEX('NLM Data Test 2'!$P$12:$P$136,(MATCH(NLML.ChangeInScores.PrePostDataset[[#This Row],[First Name & Last Name*\n(choose from list)]],'NLM Data Test 2'!$X$12:$X$136,0)),1))-(INDEX('NLM Data Test 1'!$O$12:$O$136,(MATCH(NLML.ChangeInScores.PrePostDataset[[#This Row],[First Name & Last Name*\n(choose from list)]],'NLM Data Test 1'!$W$12:$W$136,0)),1))","v":{"$error":"#N/A"}},{"$f":"(INDEX('NLM Data Test 2'!$Q$12:$Q$136,(MATCH(NLML.ChangeInScores.PrePostDataset[[#This Row],[First Name & Last Name*\n(choose from list)]],'NLM Data Test 2'!$X$12:$X$136,0)),1))-(INDEX('NLM Data Test 1'!$P$12:$P$136,(MATCH(NLML.ChangeInScores.PrePostDataset[[#This Row],[First Name & Last Name*\n(choose from list)]],'NLM Data Test 1'!$W$12:$W$136,0)),1))","v":{"$error":"#N/A"}},{"$f":"(INDEX('NLM Data Test 2'!$R$12:$R$136,(MATCH(NLML.ChangeInScores.PrePostDataset[[#This Row],[First Name & Last Name*\n(choose from list)]],'NLM Data Test 2'!$X$12:$X$136,0)),1))-(INDEX('NLM Data Test 1'!$Q$12:$Q$136,(MATCH(NLML.ChangeInScores.PrePostDataset[[#This Row],[First Name & Last Name*\n(choose from list)]],'NLM Data Test 1'!$W$12:$W$136,0)),1))","v":{"$error":"#N/A"}},{"$f":"(INDEX('NLM Data Test 2'!$S$12:$S$136,(MATCH(NLML.ChangeInScores.PrePostDataset[[#This Row],[First Name & Last Name*\n(choose from list)]],'NLM Data Test 2'!$X$12:$X$136,0)),1))-(INDEX('NLM Data Test 1'!$R$12:$R$136,(MATCH(NLML.ChangeInScores.PrePostDataset[[#This Row],[First Name & Last Name*\n(choose from list)]],'NLM Data Test 1'!$W$12:$W$136,0)),1))","v":{"$error":"#N/A"}},{"$f":"(INDEX('NLM Data Test 2'!$T$12:$T$136,(MATCH(NLML.ChangeInScores.PrePostDataset[[#This Row],[First Name & Last Name*\n(choose from list)]],'NLM Data Test 2'!$X$12:$X$136,0)),1))-(INDEX('NLM Data Test 1'!$S$12:$S$136,(MATCH(NLML.ChangeInScores.PrePostDataset[[#This Row],[First Name & Last Name*\n(choose from list)]],'NLM Data Test 1'!$W$12:$W$136,0)),1))","v":{"$error":"#N/A"}},{"$f":"IFERROR(INDEX('NLM Data Test 1'!$T$12:$T$136,(MATCH(NLML.ChangeInScores.PrePostDataset[[#This Row],[First Name & Last Name*\n(choose from list)]],'NLM Data Test 1'!$W$12:$W$136,0)),1),\"\")","v":""},{"$f":"IFERROR(INDEX('NLM Data Test 2'!$U$12:$U$136,(MATCH(NLML.ChangeInScores.PrePostDataset[[#This Row],[First Name & Last Name*\n(choose from list)]],'NLM Data Test 2'!$X$12:$X$136,0)),1),\"\")","v":""}]
[123,{"$f":"IFERROR(INDEX(NLML.Test1.PrePostDataset[*First Name],(MATCH(NLML.ChangeInScores.PrePostDataset[[#This Row],[First Name & Last Name*\n(choose from list)]],'NLM Data Test 1'!W134:W258,0)),1),\"\")","v":""},{"$f":"IFERROR(INDEX(NLML.Test1.PrePostDataset[*Last Name],(MATCH(NLML.ChangeInScores.PrePostDataset[[#This Row],[First Name & Last Name*\n(choose from list)]],'NLM Data Test 1'!W134:W258,0)),1),\"\")","v":""},{"$f":"'NLM Data Test 2'!D134","v":0},{"$f":"IF(IFERROR(MATCH($D138,'NLM Data Test 2'!$D$12:$D$136,0),\"Error\")=\"Error\",(INDEX('NLM Data Test 1'!$D$12:$D$136,(MATCH($D138,'NLM Data Test 1'!$W$12:$W$136,0)),1)),(INDEX('NLM Data Test 2'!$E$12:$E$136,(MATCH($D138,'NLM Data Test 2'!$D$12:$D$136,0)),1)))","v":{"$error":"#N/A"}},{"$f":"IF(IFERROR(MATCH($D138,'NLM Data Test 2'!$D$12:$D$136,0),\"Error\")=\"Error\",(INDEX('NLM Data Test 1'!$E$12:$E$136,(MATCH($D138,'NLM Data Test 1'!$W$12:$W$136,0)),1)),(INDEX('NLM Data Test 2'!$G$12:$G$136,(MATCH($D138,'NLM Data Test 2'!$D$12:$D$136,0)),1)))","v":{"$error":"#N/A"}},{"$f":"IF(IFERROR(MATCH($D138,'NLM Data Test 2'!$D$12:$D$136,0),\"Error\")=\"Error\",(INDEX('NLM Data Test 1'!$F$12:$F$136,(MATCH($D138,'NLM Data Test 1'!$W$12:$W$136,0)),1)),(INDEX('NLM Data Test 2'!$F$12:$F$136,(MATCH($D138,'NLM Data Test 2'!$D$12:$D$136,0)),1)))","v":{"$error":"#N/A"}},{"$f":"IF(INDEX('NLM Data Test 1'!$H$12:$H$136,(MATCH(NLML.ChangeInScores.PrePostDataset[[#This Row],[First Name & Last Name*\n(choose from list)]],'NLM Data Test 1'!$W$12:$W$136,0)),1)=\"\",\"\",(INDEX('NLM Data Test 1'!H$12:H$136,(MATCH(NLML.ChangeInScores.PrePostDataset[[#This Row],[First Name & Last Name*\n(choose from list)]],'NLM Data Test 1'!$W$12:$W$136,0)),1)))","v":{"$error":"#N/A"}},{"$f":"IF(INDEX('NLM Data Test 1'!$I$12:$I$136,(MATCH(NLML.ChangeInScores.PrePostDataset[[#This Row],[First Name & Last Name*\n(choose from list)]],'NLM Data Test 1'!$W$12:$W$136,0)),1)=\"\",\"\",(INDEX('NLM Data Test 1'!I$12:I$136,(MATCH(NLML.ChangeInScores.PrePostDataset[[#This Row],[First Name & Last Name*\n(choose from list)]],'NLM Data Test 1'!$W$12:$W$136,0)),1)))","v":{"$error":"#N/A"}},{"$f":"IF(INDEX('NLM Data Test 1'!$J$12:$J$136,(MATCH(NLML.ChangeInScores.PrePostDataset[[#This Row],[First Name & Last Name*\n(choose from list)]],'NLM Data Test 1'!$W$12:$W$136,0)),1)=\"\",\"\",(INDEX('NLM Data Test 1'!J$12:J$136,(MATCH(NLML.ChangeInScores.PrePostDataset[[#This Row],[First Name & Last Name*\n(choose from list)]],'NLM Data Test 1'!$W$12:$W$136,0)),1)))","v":{"$error":"#N/A"}},{"$f":"IFERROR(INDEX('NLM Data Test 1'!$M$12:$M$136,(MATCH(NLML.ChangeInScores.PrePostDataset[[#This Row],[First Name & Last Name*\n(choose from list)]],'NLM Data Test 1'!$W$12:$W$136,0)),1),\"\")","v":""},{"$f":"INDEX('NLM Data Test 2'!$I$12:$I$136,(MATCH(NLML.ChangeInScores.PrePostDataset[[#This Row],[First Name & Last Name*\n(choose from list)]],'NLM Data Test 2'!$D$12:$D$136,0)),1)","v":{"$error":"#N/A"}},{"$f":"IFERROR(INDEX('NLM Data Test 2'!$J$12:$J$136,(MATCH(NLML.ChangeInScores.PrePostDataset[[#This Row],[First Name & Last Name*\n(choose from list)]],'NLM Data Test 2'!$X$12:$X$136,0)),1),\"\")","v":""},{"$f":"IFERROR(INDEX('NLM Data Test 2'!$K$12:$K$136,(MATCH(NLML.ChangeInScores.PrePostDataset[[#This Row],[First Name & Last Name*\n(choose from list)]],'NLM Data Test 2'!$X$12:$X$136,0)),1),\"\")","v":""},{"$f":"IFERROR(INDEX('NLM Data Test 2'!$N$12:$N$136,(MATCH(NLML.ChangeInScores.PrePostDataset[[#This Row],[First Name & Last Name*\n(choose from list)]],'NLM Data Test 2'!$X$12:$X$136,0)),1),\"\")","v":""},{"$f":"(INDEX('NLM Data Test 2'!$O$12:$O$136,(MATCH(NLML.ChangeInScores.PrePostDataset[[#This Row],[First Name & Last Name*\n(choose from list)]],'NLM Data Test 2'!$X$12:$X$136,0)),1))-(INDEX('NLM Data Test 1'!$N$12:$N$136,(MATCH(NLML.ChangeInScores.PrePostDataset[[#This Row],[First Name & Last Name*\n(choose from list)]],'NLM Data Test 1'!$W$12:$W$136,0)),1))","v":{"$error":"#N/A"}},{"$f":"(INDEX('NLM Data Test 2'!$P$12:$P$136,(MATCH(NLML.ChangeInScores.PrePostDataset[[#This Row],[First Name & Last Name*\n(choose from list)]],'NLM Data Test 2'!$X$12:$X$136,0)),1))-(INDEX('NLM Data Test 1'!$O$12:$O$136,(MATCH(NLML.ChangeInScores.PrePostDataset[[#This Row],[First Name & Last Name*\n(choose from list)]],'NLM Data Test 1'!$W$12:$W$136,0)),1))","v":{"$error":"#N/A"}},{"$f":"(INDEX('NLM Data Test 2'!$Q$12:$Q$136,(MATCH(NLML.ChangeInScores.PrePostDataset[[#This Row],[First Name & Last Name*\n(choose from list)]],'NLM Data Test 2'!$X$12:$X$136,0)),1))-(INDEX('NLM Data Test 1'!$P$12:$P$136,(MATCH(NLML.ChangeInScores.PrePostDataset[[#This Row],[First Name & Last Name*\n(choose from list)]],'NLM Data Test 1'!$W$12:$W$136,0)),1))","v":{"$error":"#N/A"}},{"$f":"(INDEX('NLM Data Test 2'!$R$12:$R$136,(MATCH(NLML.ChangeInScores.PrePostDataset[[#This Row],[First Name & Last Name*\n(choose from list)]],'NLM Data Test 2'!$X$12:$X$136,0)),1))-(INDEX('NLM Data Test 1'!$Q$12:$Q$136,(MATCH(NLML.ChangeInScores.PrePostDataset[[#This Row],[First Name & Last Name*\n(choose from list)]],'NLM Data Test 1'!$W$12:$W$136,0)),1))","v":{"$error":"#N/A"}},{"$f":"(INDEX('NLM Data Test 2'!$S$12:$S$136,(MATCH(NLML.ChangeInScores.PrePostDataset[[#This Row],[First Name & Last Name*\n(choose from list)]],'NLM Data Test 2'!$X$12:$X$136,0)),1))-(INDEX('NLM Data Test 1'!$R$12:$R$136,(MATCH(NLML.ChangeInScores.PrePostDataset[[#This Row],[First Name & Last Name*\n(choose from list)]],'NLM Data Test 1'!$W$12:$W$136,0)),1))","v":{"$error":"#N/A"}},{"$f":"(INDEX('NLM Data Test 2'!$T$12:$T$136,(MATCH(NLML.ChangeInScores.PrePostDataset[[#This Row],[First Name & Last Name*\n(choose from list)]],'NLM Data Test 2'!$X$12:$X$136,0)),1))-(INDEX('NLM Data Test 1'!$S$12:$S$136,(MATCH(NLML.ChangeInScores.PrePostDataset[[#This Row],[First Name & Last Name*\n(choose from list)]],'NLM Data Test 1'!$W$12:$W$136,0)),1))","v":{"$error":"#N/A"}},{"$f":"IFERROR(INDEX('NLM Data Test 1'!$T$12:$T$136,(MATCH(NLML.ChangeInScores.PrePostDataset[[#This Row],[First Name & Last Name*\n(choose from list)]],'NLM Data Test 1'!$W$12:$W$136,0)),1),\"\")","v":""},{"$f":"IFERROR(INDEX('NLM Data Test 2'!$U$12:$U$136,(MATCH(NLML.ChangeInScores.PrePostDataset[[#This Row],[First Name & Last Name*\n(choose from list)]],'NLM Data Test 2'!$X$12:$X$136,0)),1),\"\")","v":""}]
[124,{"$f":"IFERROR(INDEX(NLML.Test1.PrePostDataset[*First Name],(MATCH(NLML.ChangeInScores.PrePostDataset[[#This Row],[First Name & Last Name*\n(choose from list)]],'NLM Data Test 1'!W135:W259,0)),1),\"\")","v":""},{"$f":"IFERROR(INDEX(NLML.Test1.PrePostDataset[*Last Name],(MATCH(NLML.ChangeInScores.PrePostDataset[[#This Row],[First Name & Last Name*\n(choose from list)]],'NLM Data Test 1'!W135:W259,0)),1),\"\")","v":""},{"$f":"'NLM Data Test 2'!D135","v":0},{"$f":"IF(IFERROR(MATCH($D139,'NLM Data Test 2'!$D$12:$D$136,0),\"Error\")=\"Error\",(INDEX('NLM Data Test 1'!$D$12:$D$136,(MATCH($D139,'NLM Data Test 1'!$W$12:$W$136,0)),1)),(INDEX('NLM Data Test 2'!$E$12:$E$136,(MATCH($D139,'NLM Data Test 2'!$D$12:$D$136,0)),1)))","v":{"$error":"#N/A"}},{"$f":"IF(IFERROR(MATCH($D139,'NLM Data Test 2'!$D$12:$D$136,0),\"Error\")=\"Error\",(INDEX('NLM Data Test 1'!$E$12:$E$136,(MATCH($D139,'NLM Data Test 1'!$W$12:$W$136,0)),1)),(INDEX('NLM Data Test 2'!$G$12:$G$136,(MATCH($D139,'NLM Data Test 2'!$D$12:$D$136,0)),1)))","v":{"$error":"#N/A"}},{"$f":"IF(IFERROR(MATCH($D139,'NLM Data Test 2'!$D$12:$D$136,0),\"Error\")=\"Error\",(INDEX('NLM Data Test 1'!$F$12:$F$136,(MATCH($D139,'NLM Data Test 1'!$W$12:$W$136,0)),1)),(INDEX('NLM Data Test 2'!$F$12:$F$136,(MATCH($D139,'NLM Data Test 2'!$D$12:$D$136,0)),1)))","v":{"$error":"#N/A"}},{"$f":"IF(INDEX('NLM Data Test 1'!$H$12:$H$136,(MATCH(NLML.ChangeInScores.PrePostDataset[[#This Row],[First Name & Last Name*\n(choose from list)]],'NLM Data Test 1'!$W$12:$W$136,0)),1)=\"\",\"\",(INDEX('NLM Data Test 1'!H$12:H$136,(MATCH(NLML.ChangeInScores.PrePostDataset[[#This Row],[First Name & Last Name*\n(choose from list)]],'NLM Data Test 1'!$W$12:$W$136,0)),1)))","v":{"$error":"#N/A"}},{"$f":"IF(INDEX('NLM Data Test 1'!$I$12:$I$136,(MATCH(NLML.ChangeInScores.PrePostDataset[[#This Row],[First Name & Last Name*\n(choose from list)]],'NLM Data Test 1'!$W$12:$W$136,0)),1)=\"\",\"\",(INDEX('NLM Data Test 1'!I$12:I$136,(MATCH(NLML.ChangeInScores.PrePostDataset[[#This Row],[First Name & Last Name*\n(choose from list)]],'NLM Data Test 1'!$W$12:$W$136,0)),1)))","v":{"$error":"#N/A"}},{"$f":"IF(INDEX('NLM Data Test 1'!$J$12:$J$136,(MATCH(NLML.ChangeInScores.PrePostDataset[[#This Row],[First Name & Last Name*\n(choose from list)]],'NLM Data Test 1'!$W$12:$W$136,0)),1)=\"\",\"\",(INDEX('NLM Data Test 1'!J$12:J$136,(MATCH(NLML.ChangeInScores.PrePostDataset[[#This Row],[First Name & Last Name*\n(choose from list)]],'NLM Data Test 1'!$W$12:$W$136,0)),1)))","v":{"$error":"#N/A"}},{"$f":"IFERROR(INDEX('NLM Data Test 1'!$M$12:$M$136,(MATCH(NLML.ChangeInScores.PrePostDataset[[#This Row],[First Name & Last Name*\n(choose from list)]],'NLM Data Test 1'!$W$12:$W$136,0)),1),\"\")","v":""},{"$f":"INDEX('NLM Data Test 2'!$I$12:$I$136,(MATCH(NLML.ChangeInScores.PrePostDataset[[#This Row],[First Name & Last Name*\n(choose from list)]],'NLM Data Test 2'!$D$12:$D$136,0)),1)","v":{"$error":"#N/A"}},{"$f":"IFERROR(INDEX('NLM Data Test 2'!$J$12:$J$136,(MATCH(NLML.ChangeInScores.PrePostDataset[[#This Row],[First Name & Last Name*\n(choose from list)]],'NLM Data Test 2'!$X$12:$X$136,0)),1),\"\")","v":""},{"$f":"IFERROR(INDEX('NLM Data Test 2'!$K$12:$K$136,(MATCH(NLML.ChangeInScores.PrePostDataset[[#This Row],[First Name & Last Name*\n(choose from list)]],'NLM Data Test 2'!$X$12:$X$136,0)),1),\"\")","v":""},{"$f":"IFERROR(INDEX('NLM Data Test 2'!$N$12:$N$136,(MATCH(NLML.ChangeInScores.PrePostDataset[[#This Row],[First Name & Last Name*\n(choose from list)]],'NLM Data Test 2'!$X$12:$X$136,0)),1),\"\")","v":""},{"$f":"(INDEX('NLM Data Test 2'!$O$12:$O$136,(MATCH(NLML.ChangeInScores.PrePostDataset[[#This Row],[First Name & Last Name*\n(choose from list)]],'NLM Data Test 2'!$X$12:$X$136,0)),1))-(INDEX('NLM Data Test 1'!$N$12:$N$136,(MATCH(NLML.ChangeInScores.PrePostDataset[[#This Row],[First Name & Last Name*\n(choose from list)]],'NLM Data Test 1'!$W$12:$W$136,0)),1))","v":{"$error":"#N/A"}},{"$f":"(INDEX('NLM Data Test 2'!$P$12:$P$136,(MATCH(NLML.ChangeInScores.PrePostDataset[[#This Row],[First Name & Last Name*\n(choose from list)]],'NLM Data Test 2'!$X$12:$X$136,0)),1))-(INDEX('NLM Data Test 1'!$O$12:$O$136,(MATCH(NLML.ChangeInScores.PrePostDataset[[#This Row],[First Name & Last Name*\n(choose from list)]],'NLM Data Test 1'!$W$12:$W$136,0)),1))","v":{"$error":"#N/A"}},{"$f":"(INDEX('NLM Data Test 2'!$Q$12:$Q$136,(MATCH(NLML.ChangeInScores.PrePostDataset[[#This Row],[First Name & Last Name*\n(choose from list)]],'NLM Data Test 2'!$X$12:$X$136,0)),1))-(INDEX('NLM Data Test 1'!$P$12:$P$136,(MATCH(NLML.ChangeInScores.PrePostDataset[[#This Row],[First Name & Last Name*\n(choose from list)]],'NLM Data Test 1'!$W$12:$W$136,0)),1))","v":{"$error":"#N/A"}},{"$f":"(INDEX('NLM Data Test 2'!$R$12:$R$136,(MATCH(NLML.ChangeInScores.PrePostDataset[[#This Row],[First Name & Last Name*\n(choose from list)]],'NLM Data Test 2'!$X$12:$X$136,0)),1))-(INDEX('NLM Data Test 1'!$Q$12:$Q$136,(MATCH(NLML.ChangeInScores.PrePostDataset[[#This Row],[First Name & Last Name*\n(choose from list)]],'NLM Data Test 1'!$W$12:$W$136,0)),1))","v":{"$error":"#N/A"}},{"$f":"(INDEX('NLM Data Test 2'!$S$12:$S$136,(MATCH(NLML.ChangeInScores.PrePostDataset[[#This Row],[First Name & Last Name*\n(choose from list)]],'NLM Data Test 2'!$X$12:$X$136,0)),1))-(INDEX('NLM Data Test 1'!$R$12:$R$136,(MATCH(NLML.ChangeInScores.PrePostDataset[[#This Row],[First Name & Last Name*\n(choose from list)]],'NLM Data Test 1'!$W$12:$W$136,0)),1))","v":{"$error":"#N/A"}},{"$f":"(INDEX('NLM Data Test 2'!$T$12:$T$136,(MATCH(NLML.ChangeInScores.PrePostDataset[[#This Row],[First Name & Last Name*\n(choose from list)]],'NLM Data Test 2'!$X$12:$X$136,0)),1))-(INDEX('NLM Data Test 1'!$S$12:$S$136,(MATCH(NLML.ChangeInScores.PrePostDataset[[#This Row],[First Name & Last Name*\n(choose from list)]],'NLM Data Test 1'!$W$12:$W$136,0)),1))","v":{"$error":"#N/A"}},{"$f":"IFERROR(INDEX('NLM Data Test 1'!$T$12:$T$136,(MATCH(NLML.ChangeInScores.PrePostDataset[[#This Row],[First Name & Last Name*\n(choose from list)]],'NLM Data Test 1'!$W$12:$W$136,0)),1),\"\")","v":""},{"$f":"IFERROR(INDEX('NLM Data Test 2'!$U$12:$U$136,(MATCH(NLML.ChangeInScores.PrePostDataset[[#This Row],[First Name & Last Name*\n(choose from list)]],'NLM Data Test 2'!$X$12:$X$136,0)),1),\"\")","v":""}]
[125,null,{"$f":"IFERROR(INDEX(NLML.Test1.PrePostDataset[*Last Name],(MATCH(NLML.ChangeInScores.PrePostDataset[[#This Row],[First Name & Last Name*\n(choose from list)]],'NLM Data Test 1'!W136:W260,0)),1),\"\")","v":""},{"$f":"'NLM Data Test 2'!D136","v":0},{"$f":"IF(IFERROR(MATCH($D$16,'NLM Data Test 2'!$D$12:$D$136,0),\"Error\")=\"Error\",(INDEX('NLM Data Test 1'!$E$12:$E$136,(MATCH($D$16,'NLM Data Test 1'!$W$12:$W$136,0)),1)),(INDEX('NLM Data Test 2'!$G$12:$G$136,(MATCH($D$16,'NLM Data Test 2'!$D$12:$D$136,0)),1)))","v":{"$error":"#N/A"}},{"$f":"IF(IFERROR(MATCH($D$16,'NLM Data Test 2'!$D$12:$D$136,0),\"Error\")=\"Error\",(INDEX('NLM Data Test 1'!$F$12:$F$136,(MATCH($D$16,'NLM Data Test 1'!$W$12:$W$136,0)),1)),(INDEX('NLM Data Test 2'!$F$12:$F$136,(MATCH($D$16,'NLM Data Test 2'!$D$12:$D$136,0)),1)))","v":{"$error":"#N/A"}},null,{"$f":"IF(INDEX('NLM Data Test 1'!$H$12:$H$136,(MATCH(#REF!,'NLM Data Test 1'!$W$12:$W$136,0)),1)=\"\",\"\",(INDEX('NLM Data Test 1'!H$12:H$136,(MATCH(#REF!,'NLM Data Test 1'!$W$12:$W$136,0)),1)))","v":{"$error":"#REF!"}},{"$f":"IF(INDEX('NLM Data Test 1'!$I$12:$I$136,(MATCH(#REF!,'NLM Data Test 1'!$W$12:$W$136,0)),1)=\"\",\"\",(INDEX('NLM Data Test 1'!I$12:I$136,(MATCH(#REF!,'NLM Data Test 1'!$W$12:$W$136,0)),1)))","v":{"$error":"#REF!"}},{"$f":"IF(INDEX('NLM Data Test 1'!$J$12:$J$136,(MATCH(#REF!,'NLM Data Test 1'!$W$12:$W$136,0)),1)=\"\",\"\",(INDEX('NLM Data Test 1'!J$12:J$136,(MATCH(#REF!,'NLM Data Test 1'!$W$12:$W$136,0)),1)))","v":{"$error":"#REF!"}},{"$f":"IFERROR(INDEX('NLM Data Test 1'!$M$12:$M$136,(MATCH($D140,'NLM Data Test 1'!$W$12:$W$136,0)),1),\"\")","v":""},{"$f":"INDEX('NLM Data Test 2'!$I$12:$I$136,(MATCH($D140,'NLM Data Test 2'!$D$12:$D$136,0)),1)","v":{"$error":"#N/A"}},{"$f":"IFERROR(INDEX('NLM Data Test 2'!$J$12:$J$136,(MATCH(#REF!,'NLM Data Test 2'!$X$12:$X$136,0)),1),\"\")","v":""},{"$f":"IFERROR(INDEX('NLM Data Test 2'!$K$12:$K$136,(MATCH(#REF!,'NLM Data Test 2'!$X$12:$X$136,0)),1),\"\")","v":""},{"$f":"IFERROR(INDEX('NLM Data Test 2'!$N$12:$N$136,(MATCH($D140,'NLM Data Test 2'!$X$12:$X$136,0)),1),\"\")","v":""},{"$f":"(INDEX('NLM Data Test 2'!$O$12:$O$136,(MATCH(#REF!,'NLM Data Test 2'!$X$12:$X$136,0)),1))-(INDEX('NLM Data Test 1'!$N$12:$N$136,(MATCH(#REF!,'NLM Data Test 1'!$W$12:$W$136,0)),1))","v":{"$error":"#REF!"}},{"$f":"(INDEX('NLM Data Test 2'!$P$12:$P$136,(MATCH(#REF!,'NLM Data Test 2'!$X$12:$X$136,0)),1))-(INDEX('NLM Data Test 1'!$O$12:$O$136,(MATCH(#REF!,'NLM Data Test 1'!$W$12:$W$136,0)),1))","v":{"$error":"#REF!"}},{"$f":"(INDEX('NLM Data Test 2'!$Q$12:$Q$136,(MATCH(#REF!,'NLM Data Test 2'!$X$12:$X$136,0)),1))-(INDEX('NLM Data Test 1'!$P$12:$P$136,(MATCH(#REF!,'NLM Data Test 1'!$W$12:$W$136,0)),1))","v":{"$error":"#REF!"}},{"$f":"(INDEX('NLM Data Test 2'!$R$12:$R$136,(MATCH(#REF!,'NLM Data Test 2'!$X$12:$X$136,0)),1))-(INDEX('NLM Data Test 1'!$Q$12:$Q$136,(MATCH(#REF!,'NLM Data Test 1'!$W$12:$W$136,0)),1))","v":{"$error":"#REF!"}},{"$f":"(INDEX('NLM Data Test 2'!$S$12:$S$136,(MATCH(#REF!,'NLM Data Test 2'!$X$12:$X$136,0)),1))-(INDEX('NLM Data Test 1'!$R$12:$R$136,(MATCH(#REF!,'NLM Data Test 1'!$W$12:$W$136,0)),1))","v":{"$error":"#REF!"}},{"$f":"(INDEX('NLM Data Test 2'!$T$12:$T$136,(MATCH(#REF!,'NLM Data Test 2'!$X$12:$X$136,0)),1))-(INDEX('NLM Data Test 1'!$S$12:$S$136,(MATCH(#REF!,'NLM Data Test 1'!$W$12:$W$136,0)),1))","v":{"$error":"#REF!"}},{"$f":"IFERROR(INDEX('NLM Data Test 1'!$T$12:$T$136,(MATCH($D140,'NLM Data Test 1'!$W$12:$W$136,0)),1),\"\")","v":""},{"$f":"IFERROR(INDEX('NLM Data Test 2'!$U$12:$U$136,(MATCH($D140,'NLM Data Test 2'!$X$12:$X$136,0)),1),\"\")","v":""}]
[{"$nulls":21},{"$f":"SUM(COUNTIF($V$16:$V$140,K5),COUNTIF($V$16:$V$140,L5),COUNTIF($V$16:$V$140,M5),COUNTIF($V$16:$V$140,N5))","v":0},{"$f":"SUM(COUNTIF($W$16:$W$140,K5),COUNTIF($W$16:$W$140,L5),COUNTIF($W$16:$W$140,M5),COUNTIF($W$16:$W$140,N5))","v":0}]

{"sheet":"Graphs","index":4,"n_rows":2,"n_cols":1,"rows_kept":2,"merged":[[0,0,0,20],[1,0,1,20]]}
["Narrative Language Measures - Listening"]
["Group Summary Graphs"]

{"sheet":"Graph Data","index":5,"n_rows":13,"n_cols":7,"rows_kept":13,"merged":[[0,0,0,6],[1,0,1,6],[3,0,3,5],[9,0,9,6]]}
["Narrative Language Measures - Listening"]
["Group Summary Data"]
[]
["% of Students Falling in…"]
["Time Point","High Risk","Moderate Risk","Benchmark","Advanced","Most Common Benchmark\n(Lowest if two)"]
["Time 2",{"$f":"'NLM Data Change'!K11","v":""},{"$f":"'NLM Data Change'!L11","v":""},{"$f":"'NLM Data Change'!M11","v":""},{"$f":"'NLM Data Change'!N11","v":""},{"$f":"'NLM Data Change'!H7","v":"No data"}]
["Time 1",{"$f":"'NLM Data Change'!K10","v":""},{"$f":"'NLM Data Change'!L10","v":""},{"$f":"'NLM Data Change'!M10","v":""},{"$f":"'NLM Data Change'!N10","v":""},{"$f":"'NLM Data Change'!H6","v":"No data"}]
[]
[]
["Cohort Average Scores"]
["Time Point","Story Questions","Vocabulary Questions","Story Grammar","Language Complexity","Episode","Listening Retell TOTAL SCORE"]
["Time 1",{"$f":"'NLM Data Test 1'!N6","v":"No data"},{"$f":"'NLM Data Test 1'!O6","v":"No data"},{"$f":"'NLM Data Test 1'!P6","v":"No data"},{"$f":"'NLM Data Test 1'!Q6","v":"No data"},{"$f":"'NLM Data Test 1'!R6","v":"No data"},{"$f":"'NLM Data Test 1'!S6","v":"No data"}]
["Time 2",{"$f":"'NLM Data Test 2'!O6","v":"No data"},{"$f":"'NLM Data Test 2'!P6","v":"No data"},{"$f":"'NLM Data Test 2'!Q6","v":"No data"},{"$f":"'NLM Data Test 2'!R6","v":"No data"},{"$f":"'NLM Data Test 2'!S6","v":"No data"},{"$f":"'NLM Data Test 2'!T6","v":"No data"}]

{"sheet":"Data for lookup","index":6,"n_rows":757,"n_cols":7,"rows_kept":757,"hidden":true,"merged":[[0,6,0,8]]}
["Code","WA Year Group","Type of Assessment\n(benchmark or progress)","Time of Administration \n(Season)","Listening Retell TOTAL SCORE","Benchmark","Note - white = added in after the fact (not in manual)"]
[{"$f":"B2&C2&D2&E2","v":"Kindy (US Preschool)BenchmarkUS Fall (WA Term 1 equivalent)0"},{"$f":"'Drop Downs'!$A$2","v":"Kindy (US Preschool)"},{"$f":"'Drop Downs'!$B$2","v":"Benchmark"},{"$f":"'Drop Downs'!$C$2","v":"US Fall (WA Term 1 equivalent)"},0,"High Risk est."]
[{"$f":"B3&C3&D3&E3","v":"Kindy (US Preschool)BenchmarkUS Fall (WA Term 1 equivalent)1"},{"$f":"'Drop Downs'!$A$2","v":"Kindy (US Preschool)"},{"$f":"'Drop Downs'!$B$2","v":"Benchmark"},{"$f":"'Drop Downs'!$C$2","v":"US Fall (WA Term 1 equivalent)"},1,"High Risk est."]
["Kindy (US Preschool)BenchmarkUS Fall (WA Term 1 equivalent)2",{"$f":"'Drop Downs'!$A$2","v":"Kindy (US Preschool)"},{"$f":"'Drop Downs'!$B$2","v":"Benchmark"},{"$f":"'Drop Downs'!$C$2","v":"US Fall (WA Term 1 equivalent)"},2,"High Risk est."]
["Kindy (US Preschool)BenchmarkUS Fall (WA Term 1 equivalent)3",{"$f":"'Drop Downs'!$A$2","v":"Kindy (US Preschool)"},{"$f":"'Drop Downs'!$B$2","v":"Benchmark"},{"$f":"'Drop Downs'!$C$2","v":"US Fall (WA Term 1 equivalent)"},3,"Moderate Risk est."]
["Kindy (US Preschool)BenchmarkUS Fall (WA Term 1 equivalent)4",{"$f":"'Drop Downs'!$A$2","v":"Kindy (US Preschool)"},{"$f":"'Drop Downs'!$B$2","v":"Benchmark"},{"$f":"'Drop Downs'!$C$2","v":"US Fall (WA Term 1 equivalent)"},4,"Moderate Risk est."]
["Kindy (US Preschool)BenchmarkUS Fall (WA Term 1 equivalent)5",{"$f":"'Drop Downs'!$A$2","v":"Kindy (US Preschool)"},{"$f":"'Drop Downs'!$B$2","v":"Benchmark"},{"$f":"'Drop Downs'!$C$2","v":"US Fall (WA Term 1 equivalent)"},5,"Moderate Risk est."]
["Kindy (US Preschool)BenchmarkUS Fall (WA Term 1 equivalent)6",{"$f":"'Drop Downs'!$A$2","v":"Kindy (US Preschool)"},{"$f":"'Drop Downs'!$B$2","v":"Benchmark"},{"$f":"'Drop Downs'!$C$2","v":"US Fall (WA Term 1 equivalent)"},6,"Benchmark est."]
["Kindy (US Preschool)BenchmarkUS Fall (WA Term 1 equivalent)7",{"$f":"'Drop Downs'!$A$2","v":"Kindy (US Preschool)"},{"$f":"'Drop Downs'!$B$2","v":"Benchmark"},{"$f":"'Drop Downs'!$C$2","v":"US Fall (WA Term 1 equivalent)"},7,"Benchmark est."]
["Kindy (US Preschool)BenchmarkUS Fall (WA Term 1 equivalent)8",{"$f":"'Drop Downs'!$A$2","v":"Kindy (US Preschool)"},{"$f":"'Drop Downs'!$B$2","v":"Benchmark"},{"$f":"'Drop Downs'!$C$2","v":"US Fall (WA Term 1 equivalent)"},8,"Benchmark est."]
["Kindy (US Preschool)BenchmarkUS Fall (WA Term 1 equivalent)9",{"$f":"'Drop Downs'!$A$2","v":"Kindy (US Preschool)"},{"$f":"'Drop Downs'!$B$2","v":"Benchmark"},{"$f":"'Drop Downs'!$C$2","v":"US Fall (WA Term 1 equivalent)"},9,"Benchmark est."]
["Kindy (US Preschool)BenchmarkUS Fall (WA Term 1 equivalent)10",{"$f":"'Drop Downs'!$A$2","v":"Kindy (US Preschool)"},{"$f":"'Drop Downs'!$B$2","v":"Benchmark"},{"$f":"'Drop Downs'!$C$2","v":"US Fall (WA Term 1 equivalent)"},10,"Benchmark est."]
["Kindy (US Preschool)BenchmarkUS Fall (WA Term 1 equivalent)11",{"$f":"'Drop Downs'!$A$2","v":"Kindy (US Preschool)"},{"$f":"'Drop Downs'!$B$2","v":"Benchmark"},{"$f":"'Drop Downs'!$C$2","v":"US Fall (WA Term 1 equivalent)"},11,"Benchmark est."]
["Kindy (US Preschool)BenchmarkUS Fall (WA Term 1 equivalent)12",{"$f":"'Drop Downs'!$A$2","v":"Kindy (US Preschool)"},{"$f":"'Drop Downs'!$B$2","v":"Benchmark"},{"$f":"'Drop Downs'!$C$2","v":"US Fall (WA Term 1 equivalent)"},12,"Benchmark est."]
["Kindy (US Preschool)BenchmarkUS Fall (WA Term 1 equivalent)13",{"$f":"'Drop Downs'!$A$2","v":"Kindy (US Preschool)"},{"$f":"'Drop Downs'!$B$2","v":"Benchmark"},{"$f":"'Drop Downs'!$C$2","v":"US Fall (WA Term 1 equivalent)"},13,"Benchmark est."]
["Kindy (US Preschool)BenchmarkUS Fall (WA Term 1 equivalent)14",{"$f":"'Drop Downs'!$A$2","v":"Kindy (US Preschool)"},{"$f":"'Drop Downs'!$B$2","v":"Benchmark"},{"$f":"'Drop Downs'!$C$2","v":"US Fall (WA Term 1 equivalent)"},14,"Benchmark est."]
["Kindy (US Preschool)BenchmarkUS Fall (WA Term 1 equivalent)15",{"$f":"'Drop Downs'!$A$2","v":"Kindy (US Preschool)"},{"$f":"'Drop Downs'!$B$2","v":"Benchmark"},{"$f":"'Drop Downs'!$C$2","v":"US Fall (WA Term 1 equivalent)"},15,"Benchmark est."]
["Kindy (US Preschool)BenchmarkUS Fall (WA Term 1 equivalent)16",{"$f":"'Drop Downs'!$A$2","v":"Kindy (US Preschool)"},{"$f":"'Drop Downs'!$B$2","v":"Benchmark"},{"$f":"'Drop Downs'!$C$2","v":"US Fall (WA Term 1 equivalent)"},16,"Benchmark est."]
["Kindy (US Preschool)BenchmarkUS Fall (WA Term 1 equivalent)17",{"$f":"'Drop Downs'!$A$2","v":"Kindy (US Preschool)"},{"$f":"'Drop Downs'!$B$2","v":"Benchmark"},{"$f":"'Drop Downs'!$C$2","v":"US Fall (WA Term 1 equivalent)"},17,"Benchmark est."]
["Kindy (US Preschool)BenchmarkUS Fall (WA Term 1 equivalent)18",{"$f":"'Drop Downs'!$A$2","v":"Kindy (US Preschool)"},{"$f":"'Drop Downs'!$B$2","v":"Benchmark"},{"$f":"'Drop Downs'!$C$2","v":"US Fall (WA Term 1 equivalent)"},18,"Benchmark est."]
["Kindy (US Preschool)BenchmarkUS Fall (WA Term 1 equivalent)19",{"$f":"'Drop Downs'!$A$2","v":"Kindy (US Preschool)"},{"$f":"'Drop Downs'!$B$2","v":"Benchmark"},{"$f":"'Drop Downs'!$C$2","v":"US Fall (WA Term 1 equivalent)"},19,"Benchmark est."]
["Kindy (US Preschool)BenchmarkUS Fall (WA Term 1 equivalent)20",{"$f":"'Drop Downs'!$A$2","v":"Kindy (US Preschool)"},{"$f":"'Drop Downs'!$B$2","v":"Benchmark"},{"$f":"'Drop Downs'!$C$2","v":"US Fall (WA Term 1 equivalent)"},20,"Benchmark est."]
["Kindy (US Preschool)BenchmarkUS Fall (WA Term 1 equivalent)21",{"$f":"'Drop Downs'!$A$2","v":"Kindy (US Preschool)"},{"$f":"'Drop Downs'!$B$2","v":"Benchmark"},{"$f":"'Drop Downs'!$C$2","v":"US Fall (WA Term 1 equivalent)"},21,"Benchmark est."]
["Kindy (US Preschool)BenchmarkUS Fall (WA Term 1 equivalent)22",{"$f":"'Drop Downs'!$A$2","v":"Kindy (US Preschool)"},{"$f":"'Drop Downs'!$B$2","v":"Benchmark"},{"$f":"'Drop Downs'!$C$2","v":"US Fall (WA Term 1 equivalent)"},22,"Benchmark est."]
["Kindy (US Preschool)BenchmarkUS Fall (WA Term 1 equivalent)23",{"$f":"'Drop Downs'!$A$2","v":"Kindy (US Preschool)"},{"$f":"'Drop Downs'!$B$2","v":"Benchmark"},{"$f":"'Drop Downs'!$C$2","v":"US Fall (WA Term 1 equivalent)"},23,"Benchmark est."]
["Kindy (US Preschool)BenchmarkUS Fall (WA Term 1 equivalent)24",{"$f":"'Drop Downs'!$A$2","v":"Kindy (US Preschool)"},{"$f":"'Drop Downs'!$B$2","v":"Benchmark"},{"$f":"'Drop Downs'!$C$2","v":"US Fall (WA Term 1 equivalent)"},24,"Benchmark est."]
["Kindy (US Preschool)BenchmarkUS Fall (WA Term 1 equivalent)25",{"$f":"'Drop Downs'!$A$2","v":"Kindy (US Preschool)"},{"$f":"'Drop Downs'!$B$2","v":"Benchmark"},{"$f":"'Drop Downs'!$C$2","v":"US Fall (WA Term 1 equivalent)"},25,"Benchmark est."]
["Kindy (US Preschool)BenchmarkUS Fall (WA Term 1 equivalent)26",{"$f":"'Drop Downs'!$A$2","v":"Kindy (US Preschool)"},{"$f":"'Drop Downs'!$B$2","v":"Benchmark"},{"$f":"'Drop Downs'!$C$2","v":"US Fall (WA Term 1 equivalent)"},26,"Benchmark est."]
["Kindy (US Preschool)BenchmarkUS Fall (WA Term 1 equivalent)27",{"$f":"'Drop Downs'!$A$2","v":"Kindy (US Preschool)"},{"$f":"'Drop Downs'!$B$2","v":"Benchmark"},{"$f":"'Drop Downs'!$C$2","v":"US Fall (WA Term 1 equivalent)"},27,"Benchmark est."]
["Kindy (US Preschool)BenchmarkUS Fall (WA Term 1 equivalent)28",{"$f":"'Drop Downs'!$A$2","v":"Kindy (US Preschool)"},{"$f":"'Drop Downs'!$B$2","v":"Benchmark"},{"$f":"'Drop Downs'!$C$2","v":"US Fall (WA Term 1 equivalent)"},28,"Benchmark est."]
["Kindy (US Preschool)BenchmarkUS Fall (WA Term 1 equivalent)29",{"$f":"'Drop Downs'!$A$2","v":"Kindy (US Preschool)"},{"$f":"'Drop Downs'!$B$2","v":"Benchmark"},{"$f":"'Drop Downs'!$C$2","v":"US Fall (WA Term 1 equivalent)"},29,"Benchmark est."]
["Kindy (US Preschool)BenchmarkUS Fall (WA Term 1 equivalent)30",{"$f":"'Drop Downs'!$A$2","v":"Kindy (US Preschool)"},{"$f":"'Drop Downs'!$B$2","v":"Benchmark"},{"$f":"'Drop Downs'!$C$2","v":"US Fall (WA Term 1 equivalent)"},30,"Benchmark est."]
["Kindy (US Preschool)BenchmarkUS Fall (WA Term 1 equivalent)31",{"$f":"'Drop Downs'!$A$2","v":"Kindy (US Preschool)"},{"$f":"'Drop Downs'!$B$2","v":"Benchmark"},{"$f":"'Drop Downs'!$C$2","v":"US Fall (WA Term 1 equivalent)"},{"$f":"E32+1","v":31},"Benchmark est."]
["Kindy (US Preschool)BenchmarkUS Fall (WA Term 1 equivalent)32",{"$f":"'Drop Downs'!$A$2","v":"Kindy (US Preschool)"},{"$f":"'Drop Downs'!$B$2","v":"Benchmark"},{"$f":"'Drop Downs'!$C$2","v":"US Fall (WA Term 1 equivalent)"},{"$f":"E33+1","v":32},"Benchmark est."]
["Kindy (US Preschool)BenchmarkUS Fall (WA Term 1 equivalent)33",{"$f":"'Drop Downs'!$A$2","v":"Kindy (US Preschool)"},{"$f":"'Drop Downs'!$B$2","v":"Benchmark"},{"$f":"'Drop Downs'!$C$2","v":"US Fall (WA Term 1 equivalent)"},33,"Benchmark est."]
["Kindy (US Preschool)BenchmarkUS Fall (WA Term 1 equivalent)34",{"$f":"'Drop Downs'!$A$2","v":"Kindy (US Preschool)"},{"$f":"'Drop Downs'!$B$2","v":"Benchmark"},{"$f":"'Drop Downs'!$C$2","v":"US Fall (WA Term 1 equivalent)"},34,"Benchmark est."]
["Kindy (US Preschool)BenchmarkUS Fall (WA Term 1 equivalent)35",{"$f":"'Drop Downs'!$A$2","v":"Kindy (US Preschool)"},{"$f":"'Drop Downs'!$B$2","v":"Benchmark"},{"$f":"'Drop Downs'!$C$2","v":"US Fall (WA Term 1 equivalent)"},35,"Benchmark est."]
["Kindy (US Preschool)BenchmarkUS Fall (WA Term 1 equivalent)36",{"$f":"'Drop Downs'!$A$2","v":"Kindy (US Preschool)"},{"$f":"'Drop Downs'!$B$2","v":"Benchmark"},{"$f":"'Drop Downs'!$C$2","v":"US Fall (WA Term 1 equivalent)"},36,"Benchmark est."]
["Kindy (US Preschool)BenchmarkUS Fall (WA Term 1 equivalent)37",{"$f":"'Drop Downs'!$A$2","v":"Kindy (US Preschool)"},{"$f":"'Drop Downs'!$B$2","v":"Benchmark"},{"$f":"'Drop Downs'!$C$2","v":"US Fall (WA Term 1 equivalent)"},37,"Benchmark est."]
["Kindy (US Preschool)BenchmarkUS Fall (WA Term 1 equivalent)38",{"$f":"'Drop Downs'!$A$2","v":"Kindy (US Preschool)"},{"$f":"'Drop Downs'!$B$2","v":"Benchmark"},{"$f":"'Drop Downs'!$C$2","v":"US Fall (WA Term 1 equivalent)"},38,"Benchmark est."]
["Kindy (US Preschool)BenchmarkUS Fall (WA Term 1 equivalent)39",{"$f":"'Drop Downs'!$A$2","v":"Kindy (US Preschool)"},{"$f":"'Drop Downs'!$B$2","v":"Benchmark"},{"$f":"'Drop Downs'!$C$2","v":"US Fall (WA Term 1 equivalent)"},39,"Benchmark est."]
["Kindy (US Preschool)BenchmarkUS Fall (WA Term 1 equivalent)40",{"$f":"'Drop Downs'!$A$2","v":"Kindy (US Preschool)"},{"$f":"'Drop Downs'!$B$2","v":"Benchmark"},{"$f":"'Drop Downs'!$C$2","v":"US Fall (WA Term 1 equivalent)"},40,"Benchmark est."]
["Kindy (US Preschool)BenchmarkUS Fall (WA Term 1 equivalent)41",{"$f":"'Drop Downs'!$A$2","v":"Kindy (US Preschool)"},{"$f":"'Drop Downs'!$B$2","v":"Benchmark"},{"$f":"'Drop Downs'!$C$2","v":"US Fall (WA Term 1 equivalent)"},41,"Benchmark est."]
["Kindy (US Preschool)BenchmarkUS Fall (WA Term 1 equivalent)42",{"$f":"'Drop Downs'!$A$2","v":"Kindy (US Preschool)"},{"$f":"'Drop Downs'!$B$2","v":"Benchmark"},{"$f":"'Drop Downs'!$C$2","v":"US Fall (WA Term 1 equivalent)"},42,"Benchmark est."]
["Kindy (US Preschool)BenchmarkUS Fall (WA Term 1 equivalent)43",{"$f":"'Drop Downs'!$A$2","v":"Kindy (US Preschool)"},{"$f":"'Drop Downs'!$B$2","v":"Benchmark"},{"$f":"'Drop Downs'!$C$2","v":"US Fall (WA Term 1 equivalent)"},43,"Benchmark est."]
["Kindy (US Preschool)BenchmarkUS Fall (WA Term 1 equivalent)44",{"$f":"'Drop Downs'!$A$2","v":"Kindy (US Preschool)"},{"$f":"'Drop Downs'!$B$2","v":"Benchmark"},{"$f":"'Drop Downs'!$C$2","v":"US Fall (WA Term 1 equivalent)"},44,"Benchmark est."]
["Kindy (US Preschool)BenchmarkUS Fall (WA Term 1 equivalent)45",{"$f":"'Drop Downs'!$A$2","v":"Kindy (US Preschool)"},{"$f":"'Drop Downs'!$B$2","v":"Benchmark"},{"$f":"'Drop Downs'!$C$2","v":"US Fall (WA Term 1 equivalent)"},45,"Benchmark est."]
["Kindy (US Preschool)BenchmarkUS Fall (WA Term 1 equivalent)46",{"$f":"'Drop Downs'!$A$2","v":"Kindy (US Preschool)"},{"$f":"'Drop Downs'!$B$2","v":"Benchmark"},{"$f":"'Drop Downs'!$C$2","v":"US Fall (WA Term 1 equivalent)"},46,"Benchmark est."]
["Kindy (US Preschool)BenchmarkUS Fall (WA Term 1 equivalent)47",{"$f":"'Drop Downs'!$A$2","v":"Kindy (US Preschool)"},{"$f":"'Drop Downs'!$B$2","v":"Benchmark"},{"$f":"'Drop Downs'!$C$2","v":"US Fall (WA Term 1 equivalent)"},47,"Benchmark est."]
["Kindy (US Preschool)BenchmarkUS Fall (WA Term 1 equivalent)48",{"$f":"'Drop Downs'!$A$2","v":"Kindy (US Preschool)"},{"$f":"'Drop Downs'!$B$2","v":"Benchmark"},{"$f":"'Drop Downs'!$C$2","v":"US Fall (WA Term 1 equivalent)"},48,"Benchmark est."]
["Kindy (US Preschool)BenchmarkUS Fall (WA Term 1 equivalent)49",{"$f":"'Drop Downs'!$A$2","v":"Kindy (US Preschool)"},{"$f":"'Drop Downs'!$B$2","v":"Benchmark"},{"$f":"'Drop Downs'!$C$2","v":"US Fall (WA Term 1 equivalent)"},49,"Benchmark est."]
["Kindy (US Preschool)BenchmarkUS Fall (WA Term 1 equivalent)50",{"$f":"'Drop Downs'!$A$2","v":"Kindy (US Preschool)"},{"$f":"'Drop Downs'!$B$2","v":"Benchmark"},{"$f":"'Drop Downs'!$C$2","v":"US Fall (WA Term 1 equivalent)"},50,"Benchmark est."]
[{"$f":"B53&C53&D53&E53","v":"Kindy (US Preschool)BenchmarkUS Winter (WA Term 2 equivalent)0"},{"$f":"'Drop Downs'!$A$2","v":"Kindy (US Preschool)"},{"$f":"'Drop Downs'!$B$2","v":"Benchmark"},{"$f":"'Drop Downs'!$C$3","v":"US Winter (WA Term 2 equivalent)"},0,"High Risk est."]
[{"$f":"B54&C54&D54&E54","v":"Kindy (US Preschool)BenchmarkUS Winter (WA Term 2 equivalent)1"},{"$f":"'Drop Downs'!$A$2","v":"Kindy (US Preschool)"},{"$f":"'Drop Downs'!$B$2","v":"Benchmark"},{"$f":"'Drop Downs'!$C$3","v":"US Winter (WA Term 2 equivalent)"},1,"High Risk est."]
["Kindy (US Preschool)BenchmarkUS Winter (WA Term 2 equivalent)2",{"$f":"'Drop Downs'!$A$2","v":"Kindy (US Preschool)"},{"$f":"'Drop Downs'!$B$2","v":"Benchmark"},{"$f":"'Drop Downs'!$C$3","v":"US Winter (WA Term 2 equivalent)"},2,"High Risk est."]
["Kindy (US Preschool)BenchmarkUS Winter (WA Term 2 equivalent)3",{"$f":"'Drop Downs'!$A$2","v":"Kindy (US Preschool)"},{"$f":"'Drop Downs'!$B$2","v":"Benchmark"},{"$f":"'Drop Downs'!$C$3","v":"US Winter (WA Term 2 equivalent)"},3,"High Risk est."]
["Kindy (US Preschool)BenchmarkUS Winter (WA Term 2 equivalent)4",{"$f":"'Drop Downs'!$A$2","v":"Kindy (US Preschool)"},{"$f":"'Drop Downs'!$B$2","v":"Benchmark"},{"$f":"'Drop Downs'!$C$3","v":"US Winter (WA Term 2 equivalent)"},4,"Moderate Risk est."]
["Kindy (US Preschool)BenchmarkUS Winter (WA Term 2 equivalent)5",{"$f":"'Drop Downs'!$A$2","v":"Kindy (US Preschool)"},{"$f":"'Drop Downs'!$B$2","v":"Benchmark"},{"$f":"'Drop Downs'!$C$3","v":"US Winter (WA Term 2 equivalent)"},5,"Moderate Risk est."]
["Kindy (US Preschool)BenchmarkUS Winter (WA Term 2 equivalent)6",{"$f":"'Drop Downs'!$A$2","v":"Kindy (US Preschool)"},{"$f":"'Drop Downs'!$B$2","v":"Benchmark"},{"$f":"'Drop Downs'!$C$3","v":"US Winter (WA Term 2 equivalent)"},6,"Moderate Risk est."]
["Kindy (US Preschool)BenchmarkUS Winter (WA Term 2 equivalent)7",{"$f":"'Drop Downs'!$A$2","v":"Kindy (US Preschool)"},{"$f":"'Drop Downs'!$B$2","v":"Benchmark"},{"$f":"'Drop Downs'!$C$3","v":"US Winter (WA Term 2 equivalent)"},7,"Benchmark est."]
["Kindy (US Preschool)BenchmarkUS Winter (WA Term 2 equivalent)8",{"$f":"'Drop Downs'!$A$2","v":"Kindy (US Preschool)"},{"$f":"'Drop Downs'!$B$2","v":"Benchmark"},{"$f":"'Drop Downs'!$C$3","v":"US Winter (WA Term 2 equivalent)"},8,"Benchmark est."]
["Kindy (US Preschool)BenchmarkUS Winter (WA Term 2 equivalent)9",{"$f":"'Drop Downs'!$A$2","v":"Kindy (US Preschool)"},{"$f":"'Drop Downs'!$B$2","v":"Benchmark"},{"$f":"'Drop Downs'!$C$3","v":"US Winter (WA Term 2 equivalent)"},9,"Benchmark est."]
["Kindy (US Preschool)BenchmarkUS Winter (WA Term 2 equivalent)10",{"$f":"'Drop Downs'!$A$2","v":"Kindy (US Preschool)"},{"$f":"'Drop Downs'!$B$2","v":"Benchmark"},{"$f":"'Drop Downs'!$C$3","v":"US Winter (WA Term 2 equivalent)"},10,"Benchmark est."]
["Kindy (US Preschool)BenchmarkUS Winter (WA Term 2 equivalent)11",{"$f":"'Drop Downs'!$A$2","v":"Kindy (US Preschool)"},{"$f":"'Drop Downs'!$B$2","v":"Benchmark"},{"$f":"'Drop Downs'!$C$3","v":"US Winter (WA Term 2 equivalent)"},11,"Benchmark est."]
["Kindy (US Preschool)BenchmarkUS Winter (WA Term 2 equivalent)12",{"$f":"'Drop Downs'!$A$2","v":"Kindy (US Preschool)"},{"$f":"'Drop Downs'!$B$2","v":"Benchmark"},{"$f":"'Drop Downs'!$C$3","v":"US Winter (WA Term 2 equivalent)"},12,"Benchmark est."]
["Kindy (US Preschool)BenchmarkUS Winter (WA Term 2 equivalent)13",{"$f":"'Drop Downs'!$A$2","v":"Kindy (US Preschool)"},{"$f":"'Drop Downs'!$B$2","v":"Benchmark"},{"$f":"'Drop Downs'!$C$3","v":"US Winter (WA Term 2 equivalent)"},13,"Benchmark est."]
["Kindy (US Preschool)BenchmarkUS Winter (WA Term 2 equivalent)14",{"$f":"'Drop Downs'!$A$2","v":"Kindy (US Preschool)"},{"$f":"'Drop Downs'!$B$2","v":"Benchmark"},{"$f":"'Drop Downs'!$C$3","v":"US Winter (WA Term 2 equivalent)"},14,"Benchmark est."]
["Kindy (US Preschool)BenchmarkUS Winter (WA Term 2 equivalent)15",{"$f":"'Drop Downs'!$A$2","v":"Kindy (US Preschool)"},{"$f":"'Drop Downs'!$B$2","v":"Benchmark"},{"$f":"'Drop Downs'!$C$3","v":"US Winter (WA Term 2 equivalent)"},15,"Benchmark est."]
["Kindy (US Preschool)BenchmarkUS Winter (WA Term 2 equivalent)16",{"$f":"'Drop Downs'!$A$2","v":"Kindy (US Preschool)"},{"$f":"'Drop Downs'!$B$2","v":"Benchmark"},{"$f":"'Drop Downs'!$C$3","v":"US Winter (WA Term 2 equivalent)"},16,"Benchmark est."]
["Kindy (US Preschool)BenchmarkUS Winter (WA Term 2 equivalent)17",{"$f":"'Drop Downs'!$A$2","v":"Kindy (US Preschool)"},{"$f":"'Drop Downs'!$B$2","v":"Benchmark"},{"$f":"'Drop Downs'!$C$3","v":"US Winter (WA Term 2 equivalent)"},17,"Benchmark est."]
["Kindy (US Preschool)BenchmarkUS Winter (WA Term 2 equivalent)18",{"$f":"'Drop Downs'!$A$2","v":"Kindy (US Preschool)"},{"$f":"'Drop Downs'!$B$2","v":"Benchmark"},{"$f":"'Drop Downs'!$C$3","v":"US Winter (WA Term 2 equivalent)"},18,"Benchmark est."]
["Kindy (US Preschool)BenchmarkUS Winter (WA Term 2 equivalent)19",{"$f":"'Drop Downs'!$A$2","v":"Kindy (US Preschool)"},{"$f":"'Drop Downs'!$B$2","v":"Benchmark"},{"$f":"'Drop Downs'!$C$3","v":"US Winter (WA Term 2 equivalent)"},19,"Benchmark est."]
["Kindy (US Preschool)BenchmarkUS Winter (WA Term 2 equivalent)20",{"$f":"'Drop Downs'!$A$2","v":"Kindy (US Preschool)"},{"$f":"'Drop Downs'!$B$2","v":"Benchmark"},{"$f":"'Drop Downs'!$C$3","v":"US Winter (WA Term 2 equivalent)"},20,"Benchmark est."]
["Kindy (US Preschool)BenchmarkUS Winter (WA Term 2 equivalent)21",{"$f":"'Drop Downs'!$A$2","v":"Kindy (US Preschool)"},{"$f":"'Drop Downs'!$B$2","v":"Benchmark"},{"$f":"'Drop Downs'!$C$3","v":"US Winter (WA Term 2 equivalent)"},21,"Benchmark est."]
["Kindy (US Preschool)BenchmarkUS Winter (WA Term 2 equivalent)22",{"$f":"'Drop Downs'!$A$2","v":"Kindy (US Preschool)"},{"$f":"'Drop Downs'!$B$2","v":"Benchmark"},{"$f":"'Drop Downs'!$C$3","v":"US Winter (WA Term 2 equivalent)"},22,"Benchmark est."]
["Kindy (US Preschool)BenchmarkUS Winter (WA Term 2 equivalent)23",{"$f":"'Drop Downs'!$A$2","v":"Kindy (US Preschool)"},{"$f":"'Drop Downs'!$B$2","v":"Benchmark"},{"$f":"'Drop Downs'!$C$3","v":"US Winter (WA Term 2 equivalent)"},23,"Benchmark est."]
["Kindy (US Preschool)BenchmarkUS Winter (WA Term 2 equivalent)24",{"$f":"'Drop Downs'!$A$2","v":"Kindy (US Preschool)"},{"$f":"'Drop Downs'!$B$2","v":"Benchmark"},{"$f":"'Drop Downs'!$C$3","v":"US Winter (WA Term 2 equivalent)"},24,"Benchmark est."]
["Kindy (US Preschool)BenchmarkUS Winter (WA Term 2 equivalent)25",{"$f":"'Drop Downs'!$A$2","v":"Kindy (US Preschool)"},{"$f":"'Drop Downs'!$B$2","v":"Benchmark"},{"$f":"'Drop Downs'!$C$3","v":"US Winter (WA Term 2 equivalent)"},25,"Benchmark est."]
["Kindy (US Preschool)BenchmarkUS Winter (WA Term 2 equivalent)26",{"$f":"'Drop Downs'!$A$2","v":"Kindy (US Preschool)"},{"$f":"'Drop Downs'!$B$2","v":"Benchmark"},{"$f":"'Drop Downs'!$C$3","v":"US Winter (WA Term 2 equivalent)"},26,"Benchmark est."]
["Kindy (US Preschool)BenchmarkUS Winter (WA Term 2 equivalent)27",{"$f":"'Drop Downs'!$A$2","v":"Kindy (US Preschool)"},{"$f":"'Drop Downs'!$B$2","v":"Benchmark"},{"$f":"'Drop Downs'!$C$3","v":"US Winter (WA Term 2 equivalent)"},27,"Benchmark est."]
["Kindy (US Preschool)BenchmarkUS Winter (WA Term 2 equivalent)28",{"$f":"'Drop Downs'!$A$2","v":"Kindy (US Preschool)"},{"$f":"'Drop Downs'!$B$2","v":"Benchmark"},{"$f":"'Drop Downs'!$C$3","v":"US Winter (WA Term 2 equivalent)"},28,"Benchmark est."]
["Kindy (US Preschool)BenchmarkUS Winter (WA Term 2 equivalent)29",{"$f":"'Drop Downs'!$A$2","v":"Kindy (US Preschool)"},{"$f":"'Drop Downs'!$B$2","v":"Benchmark"},{"$f":"'Drop Downs'!$C$3","v":"US Winter (WA Term 2 equivalent)"},29,"Benchmark est."]
["Kindy (US Preschool)BenchmarkUS Winter (WA Term 2 equivalent)30",{"$f":"'Drop Downs'!$A$2","v":"Kindy (US Preschool)"},{"$f":"'Drop Downs'!$B$2","v":"Benchmark"},{"$f":"'Drop Downs'!$C$3","v":"US Winter (WA Term 2 equivalent)"},30,"Benchmark est."]
["Kindy (US Preschool)BenchmarkUS Winter (WA Term 2 equivalent)31",{"$f":"'Drop Downs'!$A$2","v":"Kindy (US Preschool)"},{"$f":"'Drop Downs'!$B$2","v":"Benchmark"},{"$f":"'Drop Downs'!$C$3","v":"US Winter (WA Term 2 equivalent)"},{"$f":"E83+1","v":31},"Benchmark est."]
["Kindy (US Preschool)BenchmarkUS Winter (WA Term 2 equivalent)32",{"$f":"'Drop Downs'!$A$2","v":"Kindy (US Preschool)"},{"$f":"'Drop Downs'!$B$2","v":"Benchmark"},{"$f":"'Drop Downs'!$C$3","v":"US Winter (WA Term 2 equivalent)"},{"$f":"E84+1","v":32},"Benchmark est."]
["Kindy (US Preschool)BenchmarkUS Winter (WA Term 2 equivalent)33",{"$f":"'Drop Downs'!$A$2","v":"Kindy (US Preschool)"},{"$f":"'Drop Downs'!$B$2","v":"Benchmark"},{"$f":"'Drop Downs'!$C$3","v":"US Winter (WA Term 2 equivalent)"},33,"Benchmark est."]
["Kindy (US Preschool)BenchmarkUS Winter (WA Term 2 equivalent)34",{"$f":"'Drop Downs'!$A$2","v":"Kindy (US Preschool)"},{"$f":"'Drop Downs'!$B$2","v":"Benchmark"},{"$f":"'Drop Downs'!$C$3","v":"US Winter (WA Term 2 equivalent)"},34,"Benchmark est."]
["Kindy (US Preschool)BenchmarkUS Winter (WA Term 2 equivalent)35",{"$f":"'Drop Downs'!$A$2","v":"Kindy (US Preschool)"},{"$f":"'Drop Downs'!$B$2","v":"Benchmark"},{"$f":"'Drop Downs'!$C$3","v":"US Winter (WA Term 2 equivalent)"},35,"Benchmark est."]
["Kindy (US Preschool)BenchmarkUS Winter (WA Term 2 equivalent)36",{"$f":"'Drop Downs'!$A$2","v":"Kindy (US Preschool)"},{"$f":"'Drop Downs'!$B$2","v":"Benchmark"},{"$f":"'Drop Downs'!$C$3","v":"US Winter (WA Term 2 equivalent)"},36,"Benchmark est."]
["Kindy (US Preschool)BenchmarkUS Winter (WA Term 2 equivalent)37",{"$f":"'Drop Downs'!$A$2","v":"Kindy (US Preschool)"},{"$f":"'Drop Downs'!$B$2","v":"Benchmark"},{"$f":"'Drop Downs'!$C$3","v":"US Winter (WA Term 2 equivalent)"},37,"Benchmark est."]
["Kindy (US Preschool)BenchmarkUS Winter (WA Term 2 equivalent)38",{"$f":"'Drop Downs'!$A$2","v":"Kindy (US Preschool)"},{"$f":"'Drop Downs'!$B$2","v":"Benchmark"},{"$f":"'Drop Downs'!$C$3","v":"US Winter (WA Term 2 equivalent)"},38,"Benchmark est."]
["Kindy (US Preschool)BenchmarkUS Winter (WA Term 2 equivalent)39",{"$f":"'Drop Downs'!$A$2","v":"Kindy (US Preschool)"},{"$f":"'Drop Downs'!$B$2","v":"Benchmark"},{"$f":"'Drop Downs'!$C$3","v":"US Winter (WA Term 2 equivalent)"},39,"Benchmark est."]
["Kindy (US Preschool)BenchmarkUS Winter (WA Term 2 equivalent)40",{"$f":"'Drop Downs'!$A$2","v":"Kindy (US Preschool)"},{"$f":"'Drop Downs'!$B$2","v":"Benchmark"},{"$f":"'Drop Downs'!$C$3","v":"US Winter (WA Term 2 equivalent)"},40,"Benchmark est."]
["Kindy (US Preschool)BenchmarkUS Winter (WA Term 2 equivalent)41",{"$f":"'Drop Downs'!$A$2","v":"Kindy (US Preschool)"},{"$f":"'Drop Downs'!$B$2","v":"Benchmark"},{"$f":"'Drop Downs'!$C$3","v":"US Winter (WA Term 2 equivalent)"},41,"Benchmark est."]
["Kindy (US Preschool)BenchmarkUS Winter (WA Term 2 equivalent)42",{"$f":"'Drop Downs'!$A$2","v":"Kindy (US Preschool)"},{"$f":"'Drop Downs'!$B$2","v":"Benchmark"},{"$f":"'Drop Downs'!$C$3","v":"US Winter (WA Term 2 equivalent)"},42,"Benchmark est."]
["Kindy (US Preschool)BenchmarkUS Winter (WA Term 2 equivalent)43",{"$f":"'Drop Downs'!$A$2","v":"Kindy (US Preschool)"},{"$f":"'Drop Downs'!$B$2","v":"Benchmark"},{"$f":"'Drop Downs'!$C$3","v":"US Winter (WA Term 2 equivalent)"},43,"Benchmark est."]
["Kindy (US Preschool)BenchmarkUS Winter (WA Term 2 equivalent)44",{"$f":"'Drop Downs'!$A$2","v":"Kindy (US Preschool)"},{"$f":"'Drop Downs'!$B$2","v":"Benchmark"},{"$f":"'Drop Downs'!$C$3","v":"US Winter (WA Term 2 equivalent)"},44,"Benchmark est."]
["Kindy (US Preschool)BenchmarkUS Winter (WA Term 2 equivalent)45",{"$f":"'Drop Downs'!$A$2","v":"Kindy (US Preschool)"},{"$f":"'Drop Downs'!$B$2","v":"Benchmark"},{"$f":"'Drop Downs'!$C$3","v":"US Winter (WA Term 2 equivalent)"},45,"Benchmark est."]
["Kindy (US Preschool)BenchmarkUS Winter (WA Term 2 equivalent)46",{"$f":"'Drop Downs'!$A$2","v":"Kindy (US Preschool)"},{"$f":"'Drop Downs'!$B$2","v":"Benchmark"},{"$f":"'Drop Downs'!$C$3","v":"US Winter (WA Term 2 equivalent)"},46,"Benchmark est."]
["Kindy (US Preschool)BenchmarkUS Winter (WA Term 2 equivalent)47",{"$f":"'Drop Downs'!$A$2","v":"Kindy (US Preschool)"},{"$f":"'Drop Downs'!$B$2","v":"Benchmark"},{"$f":"'Drop Downs'!$C$3","v":"US Winter (WA Term 2 equivalent)"},47,"Benchmark est."]
["Kindy (US Preschool)BenchmarkUS Winter (WA Term 2 equivalent)48",{"$f":"'Drop Downs'!$A$2","v":"Kindy (US Preschool)"},{"$f":"'Drop Downs'!$B$2","v":"Benchmark"},{"$f":"'Drop Downs'!$C$3","v":"US Winter (WA Term 2 equivalent)"},48,"Benchmark est."]
["Kindy (US Preschool)BenchmarkUS Winter (WA Term 2 equivalent)49",{"$f":"'Drop Downs'!$A$2","v":"Kindy (US Preschool)"},{"$f":"'Drop Downs'!$B$2","v":"Benchmark"},{"$f":"'Drop Downs'!$C$3","v":"US Winter (WA Term 2 equivalent)"},49,"Benchmark est."]
["Kindy (US Preschool)BenchmarkUS Winter (WA Term 2 equivalent)50",{"$f":"'Drop Downs'!$A$2","v":"Kindy (US Preschool)"},{"$f":"'Drop Downs'!$B$2","v":"Benchmark"},{"$f":"'Drop Downs'!$C$3","v":"US Winter (WA Term 2 equivalent)"},50,"Benchmark est."]
[{"$f":"B104&C104&D104&E104","v":"Kindy (US Preschool)BenchmarkUS Spring (WA Term 3 equivalent)0"},{"$f":"'Drop Downs'!$A$2","v":"Kindy (US Preschool)"},{"$f":"'Drop Downs'!$B$2","v":"Benchmark"},{"$f":"'Drop Downs'!$C$4","v":"US Spring (WA Term 3 equivalent)"},0,"High Risk"]
[{"$f":"B105&C105&D105&E105","v":"Kindy (US Preschool)BenchmarkUS Spring (WA Term 3 equivalent)1"},{"$f":"'Drop Downs'!$A$2","v":"Kindy (US Preschool)"},{"$f":"'Drop Downs'!$B$2","v":"Benchmark"},{"$f":"'Drop Downs'!$C$4","v":"US Spring (WA Term 3 equivalent)"},1,"High Risk"]
["Kindy (US Preschool)BenchmarkUS Spring (WA Term 3 equivalent)2",{"$f":"'Drop Downs'!$A$2","v":"Kindy (US Preschool)"},{"$f":"'Drop Downs'!$B$2","v":"Benchmark"},{"$f":"'Drop Downs'!$C$4","v":"US Spring (WA Term 3 equivalent)"},2,"High Risk"]
["Kindy (US Preschool)BenchmarkUS Spring (WA Term 3 equivalent)3",{"$f":"'Drop Downs'!$A$2","v":"Kindy (US Preschool)"},{"$f":"'Drop Downs'!$B$2","v":"Benchmark"},{"$f":"'Drop Downs'!$C$4","v":"US Spring (WA Term 3 equivalent)"},3,"High Risk"]
["Kindy (US Preschool)BenchmarkUS Spring (WA Term 3 equivalent)4",{"$f":"'Drop Downs'!$A$2","v":"Kindy (US Preschool)"},{"$f":"'Drop Downs'!$B$2","v":"Benchmark"},{"$f":"'Drop Downs'!$C$4","v":"US Spring (WA Term 3 equivalent)"},4,"High Risk"]
["Kindy (US Preschool)BenchmarkUS Spring (WA Term 3 equivalent)5",{"$f":"'Drop Downs'!$A$2","v":"Kindy (US Preschool)"},{"$f":"'Drop Downs'!$B$2","v":"Benchmark"},{"$f":"'Drop Downs'!$C$4","v":"US Spring (WA Term 3 equivalent)"},5,"Moderate Risk"]
["Kindy (US Preschool)BenchmarkUS Spring (WA Term 3 equivalent)6",{"$f":"'Drop Downs'!$A$2","v":"Kindy (US Preschool)"},{"$f":"'Drop Downs'!$B$2","v":"Benchmark"},{"$f":"'Drop Downs'!$C$4","v":"US Spring (WA Term 3 equivalent)"},6,"Moderate Risk"]
["Kindy (US Preschool)BenchmarkUS Spring (WA Term 3 equivalent)7",{"$f":"'Drop Downs'!$A$2","v":"Kindy (US Preschool)"},{"$f":"'Drop Downs'!$B$2","v":"Benchmark"},{"$f":"'Drop Downs'!$C$4","v":"US Spring (WA Term 3 equivalent)"},7,"Moderate Risk"]
["Kindy (US Preschool)BenchmarkUS Spring (WA Term 3 equivalent)8",{"$f":"'Drop Downs'!$A$2","v":"Kindy (US Preschool)"},{"$f":"'Drop Downs'!$B$2","v":"Benchmark"},{"$f":"'Drop Downs'!$C$4","v":"US Spring (WA Term 3 equivalent)"},8,"Benchmark"]
["Kindy (US Preschool)BenchmarkUS Spring (WA Term 3 equivalent)9",{"$f":"'Drop Downs'!$A$2","v":"Kindy (US Preschool)"},{"$f":"'Drop Downs'!$B$2","v":"Benchmark"},{"$f":"'Drop Downs'!$C$4","v":"US Spring (WA Term 3 equivalent)"},9,"Benchmark"]
["Kindy (US Preschool)BenchmarkUS Spring (WA Term 3 equivalent)10",{"$f":"'Drop Downs'!$A$2","v":"Kindy (US Preschool)"},{"$f":"'Drop Downs'!$B$2","v":"Benchmark"},{"$f":"'Drop Downs'!$C$4","v":"US Spring (WA Term 3 equivalent)"},10,"Benchmark"]
["Kindy (US Preschool)BenchmarkUS Spring (WA Term 3 equivalent)11",{"$f":"'Drop Downs'!$A$2","v":"Kindy (US Preschool)"},{"$f":"'Drop Downs'!$B$2","v":"Benchmark"},{"$f":"'Drop Downs'!$C$4","v":"US Spring (WA Term 3 equivalent)"},11,"Benchmark"]
["Kindy (US Preschool)BenchmarkUS Spring (WA Term 3 equivalent)12",{"$f":"'Drop Downs'!$A$2","v":"Kindy (US Preschool)"},{"$f":"'Drop Downs'!$B$2","v":"Benchmark"},{"$f":"'Drop Downs'!$C$4","v":"US Spring (WA Term 3 equivalent)"},12,"Benchmark"]
["Kindy (US Preschool)BenchmarkUS Spring (WA Term 3 equivalent)13",{"$f":"'Drop Downs'!$A$2","v":"Kindy (US Preschool)"},{"$f":"'Drop Downs'!$B$2","v":"Benchmark"},{"$f":"'Drop Downs'!$C$4","v":"US Spring (WA Term 3 equivalent)"},13,"Benchmark"]
["Kindy (US Preschool)BenchmarkUS Spring (WA Term 3 equivalent)14",{"$f":"'Drop Downs'!$A$2","v":"Kindy (US Preschool)"},{"$f":"'Drop Downs'!$B$2","v":"Benchmark"},{"$f":"'Drop Downs'!$C$4","v":"US Spring (WA Term 3 equivalent)"},14,"Benchmark"]
["Kindy (US Preschool)BenchmarkUS Spring (WA Term 3 equivalent)15",{"$f":"'Drop Downs'!$A$2","v":"Kindy (US Preschool)"},{"$f":"'Drop Downs'!$B$2","v":"Benchmark"},{"$f":"'Drop Downs'!$C$4","v":"US Spring (WA Term 3 equivalent)"},15,"Benchmark"]
["Kindy (US Preschool)BenchmarkUS Spring (WA Term 3 equivalent)16",{"$f":"'Drop Downs'!$A$2","v":"Kindy (US Preschool)"},{"$f":"'Drop Downs'!$B$2","v":"Benchmark"},{"$f":"'Drop Downs'!$C$4","v":"US Spring (WA Term 3 equivalent)"},16,"Benchmark"]
["Kindy (US Preschool)BenchmarkUS Spring (WA Term 3 equivalent)17",{"$f":"'Drop Downs'!$A$2","v":"Kindy (US Preschool)"},{"$f":"'Drop Downs'!$B$2","v":"Benchmark"},{"$f":"'Drop Downs'!$C$4","v":"US Spring (WA Term 3 equivalent)"},17,"Benchmark"]
["Kindy (US Preschool)BenchmarkUS Spring (WA Term 3 equivalent)18",{"$f":"'Drop Downs'!$A$2","v":"Kindy (US Preschool)"},{"$f":"'Drop Downs'!$B$2","v":"Benchmark"},{"$f":"'Drop Downs'!$C$4","v":"US Spring (WA Term 3 equivalent)"},18,"Benchmark"]
["Kindy (US Preschool)BenchmarkUS Spring (WA Term 3 equivalent)19",{"$f":"'Drop Downs'!$A$2","v":"Kindy (US Preschool)"},{"$f":"'Drop Downs'!$B$2","v":"Benchmark"},{"$f":"'Drop Downs'!$C$4","v":"US Spring (WA Term 3 equivalent)"},19,"Benchmark"]
["Kindy (US Preschool)BenchmarkUS Spring (WA Term 3 equivalent)20",{"$f":"'Drop Downs'!$A$2","v":"Kindy (US Preschool)"},{"$f":"'Drop Downs'!$B$2","v":"Benchmark"},{"$f":"'Drop Downs'!$C$4","v":"US Spring (WA Term 3 equivalent)"},20,"Benchmark"]
["Kindy (US Preschool)BenchmarkUS Spring (WA Term 3 equivalent)21",{"$f":"'Drop Downs'!$A$2","v":"Kindy (US Preschool)"},{"$f":"'Drop Downs'!$B$2","v":"Benchmark"},{"$f":"'Drop Downs'!$C$4","v":"US Spring (WA Term 3 equivalent)"},21,"Benchmark"]
["Kindy (US Preschool)BenchmarkUS Spring (WA Term 3 equivalent)22",{"$f":"'Drop Downs'!$A$2","v":"Kindy (US Preschool)"},{"$f":"'Drop Downs'!$B$2","v":"Benchmark"},{"$f":"'Drop Downs'!$C$4","v":"US Spring (WA Term 3 equivalent)"},22,"Benchmark"]
["Kindy (US Preschool)BenchmarkUS Spring (WA Term 3 equivalent)23",{"$f":"'Drop Downs'!$A$2","v":"Kindy (US Preschool)"},{"$f":"'Drop Downs'!$B$2","v":"Benchmark"},{"$f":"'Drop Downs'!$C$4","v":"US Spring (WA Term 3 equivalent)"},23,"Benchmark"]
["Kindy (US Preschool)BenchmarkUS Spring (WA Term 3 equivalent)24",{"$f":"'Drop Downs'!$A$2","v":"Kindy (US Preschool)"},{"$f":"'Drop Downs'!$B$2","v":"Benchmark"},{"$f":"'Drop Downs'!$C$4","v":"US Spring (WA Term 3 equivalent)"},24,"Benchmark"]
["Kindy (US Preschool)BenchmarkUS Spring (WA Term 3 equivalent)25",{"$f":"'Drop Downs'!$A$2","v":"Kindy (US Preschool)"},{"$f":"'Drop Downs'!$B$2","v":"Benchmark"},{"$f":"'Drop Downs'!$C$4","v":"US Spring (WA Term 3 equivalent)"},25,"Benchmark"]
["Kindy (US Preschool)BenchmarkUS Spring (WA Term 3 equivalent)26",{"$f":"'Drop Downs'!$A$2","v":"Kindy (US Preschool)"},{"$f":"'Drop Downs'!$B$2","v":"Benchmark"},{"$f":"'Drop Downs'!$C$4","v":"US Spring (WA Term 3 equivalent)"},26,"Benchmark"]
["Kindy (US Preschool)BenchmarkUS Spring (WA Term 3 equivalent)27",{"$f":"'Drop Downs'!$A$2","v":"Kindy (US Preschool)"},{"$f":"'Drop Downs'!$B$2","v":"Benchmark"},{"$f":"'Drop Downs'!$C$4","v":"US Spring (WA Term 3 equivalent)"},27,"Benchmark"]
["Kindy (US Preschool)BenchmarkUS Spring (WA Term 3 equivalent)28",{"$f":"'Drop Downs'!$A$2","v":"Kindy (US Preschool)"},{"$f":"'Drop Downs'!$B$2","v":"Benchmark"},{"$f":"'Drop Downs'!$C$4","v":"US Spring (WA Term 3 equivalent)"},28,"Benchmark"]
["Kindy (US Preschool)BenchmarkUS Spring (WA Term 3 equivalent)29",{"$f":"'Drop Downs'!$A$2","v":"Kindy (US Preschool)"},{"$f":"'Drop Downs'!$B$2","v":"Benchmark"},{"$f":"'Drop Downs'!$C$4","v":"US Spring (WA Term 3 equivalent)"},29,"Benchmark"]
["Kindy (US Preschool)BenchmarkUS Spring (WA Term 3 equivalent)30",{"$f":"'Drop Downs'!$A$2","v":"Kindy (US Preschool)"},{"$f":"'Drop Downs'!$B$2","v":"Benchmark"},{"$f":"'Drop Downs'!$C$4","v":"US Spring (WA Term 3 equivalent)"},30,"Benchmark"]
[{"$f":"B135&C135&D135&E135","v":"Kindy (US Preschool)BenchmarkUS Spring (WA Term 3 equivalent)31"},{"$f":"'Drop Downs'!$A$2","v":"Kindy (US Preschool)"},{"$f":"'Drop Downs'!$B$2","v":"Benchmark"},{"$f":"'Drop Downs'!$C$4","v":"US Spring (WA Term 3 equivalent)"},{"$f":"E134+1","v":31},"Benchmark"]
["Kindy (US Preschool)BenchmarkUS Spring (WA Term 3 equivalent)32",{"$f":"'Drop Downs'!$A$2","v":"Kindy (US Preschool)"},{"$f":"'Drop Downs'!$B$2","v":"Benchmark"},{"$f":"'Drop Downs'!$C$4","v":"US Spring (WA Term 3 equivalent)"},{"$f":"E135+1","v":32},"Benchmark"]
["Kindy (US Preschool)BenchmarkUS Spring (WA Term 3 equivalent)33",{"$f":"'Drop Downs'!$A$2","v":"Kindy (US Preschool)"},{"$f":"'Drop Downs'!$B$2","v":"Benchmark"},{"$f":"'Drop Downs'!$C$4","v":"US Spring (WA Term 3 equivalent)"},33,"Benchmark"]
["Kindy (US Preschool)BenchmarkUS Spring (WA Term 3 equivalent)34",{"$f":"'Drop Downs'!$A$2","v":"Kindy (US Preschool)"},{"$f":"'Drop Downs'!$B$2","v":"Benchmark"},{"$f":"'Drop Downs'!$C$4","v":"US Spring (WA Term 3 equivalent)"},34,"Benchmark"]
["Kindy (US Preschool)BenchmarkUS Spring (WA Term 3 equivalent)35",{"$f":"'Drop Downs'!$A$2","v":"Kindy (US Preschool)"},{"$f":"'Drop Downs'!$B$2","v":"Benchmark"},{"$f":"'Drop Downs'!$C$4","v":"US Spring (WA Term 3 equivalent)"},35,"Benchmark"]
["Kindy (US Preschool)BenchmarkUS Spring (WA Term 3 equivalent)36",{"$f":"'Drop Downs'!$A$2","v":"Kindy (US Preschool)"},{"$f":"'Drop Downs'!$B$2","v":"Benchmark"},{"$f":"'Drop Downs'!$C$4","v":"US Spring (WA Term 3 equivalent)"},36,"Benchmark"]
["Kindy (US Preschool)BenchmarkUS Spring (WA Term 3 equivalent)37",{"$f":"'Drop Downs'!$A$2","v":"Kindy (US Preschool)"},{"$f":"'Drop Downs'!$B$2","v":"Benchmark"},{"$f":"'Drop Downs'!$C$4","v":"US Spring (WA Term 3 equivalent)"},37,"Benchmark"]
["Kindy (US Preschool)BenchmarkUS Spring (WA Term 3 equivalent)38",{"$f":"'Drop Downs'!$A$2","v":"Kindy (US Preschool)"},{"$f":"'Drop Downs'!$B$2","v":"Benchmark"},{"$f":"'Drop Downs'!$C$4","v":"US Spring (WA Term 3 equivalent)"},38,"Benchmark"]
["Kindy (US Preschool)BenchmarkUS Spring (WA Term 3 equivalent)39",{"$f":"'Drop Downs'!$A$2","v":"Kindy (US Preschool)"},{"$f":"'Drop Downs'!$B$2","v":"Benchmark"},{"$f":"'Drop Downs'!$C$4","v":"US Spring (WA Term 3 equivalent)"},39,"Benchmark"]
["Kindy (US Preschool)BenchmarkUS Spring (WA Term 3 equivalent)40",{"$f":"'Drop Downs'!$A$2","v":"Kindy (US Preschool)"},{"$f":"'Drop Downs'!$B$2","v":"Benchmark"},{"$f":"'Drop Downs'!$C$4","v":"US Spring (WA Term 3 equivalent)"},40,"Benchmark"]
["Kindy (US Preschool)BenchmarkUS Spring (WA Term 3 equivalent)41",{"$f":"'Drop Downs'!$A$2","v":"Kindy (US Preschool)"},{"$f":"'Drop Downs'!$B$2","v":"Benchmark"},{"$f":"'Drop Downs'!$C$4","v":"US Spring (WA Term 3 equivalent)"},41,"Benchmark"]
["Kindy (US Preschool)BenchmarkUS Spring (WA Term 3 equivalent)42",{"$f":"'Drop Downs'!$A$2","v":"Kindy (US Preschool)"},{"$f":"'Drop Downs'!$B$2","v":"Benchmark"},{"$f":"'Drop Downs'!$C$4","v":"US Spring (WA Term 3 equivalent)"},42,"Benchmark"]
["Kindy (US Preschool)BenchmarkUS Spring (WA Term 3 equivalent)43",{"$f":"'Drop Downs'!$A$2","v":"Kindy (US Preschool)"},{"$f":"'Drop Downs'!$B$2","v":"Benchmark"},{"$f":"'Drop Downs'!$C$4","v":"US Spring (WA Term 3 equivalent)"},43,"Benchmark"]
["Kindy (US Preschool)BenchmarkUS Spring (WA Term 3 equivalent)44",{"$f":"'Drop Downs'!$A$2","v":"Kindy (US Preschool)"},{"$f":"'Drop Downs'!$B$2","v":"Benchmark"},{"$f":"'Drop Downs'!$C$4","v":"US Spring (WA Term 3 equivalent)"},44,"Benchmark"]
["Kindy (US Preschool)BenchmarkUS Spring (WA Term 3 equivalent)45",{"$f":"'Drop Downs'!$A$2","v":"Kindy (US Preschool)"},{"$f":"'Drop Downs'!$B$2","v":"Benchmark"},{"$f":"'Drop Downs'!$C$4","v":"US Spring (WA Term 3 equivalent)"},45,"Benchmark"]
["Kindy (US Preschool)BenchmarkUS Spring (WA Term 3 equivalent)46",{"$f":"'Drop Downs'!$A$2","v":"Kindy (US Preschool)"},{"$f":"'Drop Downs'!$B$2","v":"Benchmark"},{"$f":"'Drop Downs'!$C$4","v":"US Spring (WA Term 3 equivalent)"},46,"Benchmark"]
["Kindy (US Preschool)BenchmarkUS Spring (WA Term 3 equivalent)47",{"$f":"'Drop Downs'!$A$2","v":"Kindy (US Preschool)"},{"$f":"'Drop Downs'!$B$2","v":"Benchmark"},{"$f":"'Drop Downs'!$C$4","v":"US Spring (WA Term 3 equivalent)"},47,"Benchmark"]
["Kindy (US Preschool)BenchmarkUS Spring (WA Term 3 equivalent)48",{"$f":"'Drop Downs'!$A$2","v":"Kindy (US Preschool)"},{"$f":"'Drop Downs'!$B$2","v":"Benchmark"},{"$f":"'Drop Downs'!$C$4","v":"US Spring (WA Term 3 equivalent)"},48,"Benchmark"]
["Kindy (US Preschool)BenchmarkUS Spring (WA Term 3 equivalent)49",{"$f":"'Drop Downs'!$A$2","v":"Kindy (US Preschool)"},{"$f":"'Drop Downs'!$B$2","v":"Benchmark"},{"$f":"'Drop Downs'!$C$4","v":"US Spring (WA Term 3 equivalent)"},49,"Benchmark"]
["Kindy (US Preschool)BenchmarkUS Spring (WA Term 3 equivalent)50",{"$f":"'Drop Downs'!$A$2","v":"Kindy (US Preschool)"},{"$f":"'Drop Downs'!$B$2","v":"Benchmark"},{"$f":"'Drop Downs'!$C$4","v":"US Spring (WA Term 3 equivalent)"},50,"Benchmark"]
["Pre-Primary (US Kindergarten)BenchmarkUS Fall (WA Term 1 equivalent)0",{"$f":"'Drop Downs'!$A$3","v":"Pre-Primary (US Kindergarten)"},{"$f":"'Drop Downs'!$B$2","v":"Benchmark"},{"$f":"'Drop Downs'!$C$2","v":"US Fall (WA Term 1 equivalent)"},0,"High Risk"]
[{"$f":"B156&C156&D156&E156","v":"Pre-Primary (US Kindergarten)BenchmarkUS Fall (WA Term 1 equivalent)1"},{"$f":"'Drop Downs'!$A$3","v":"Pre-Primary (US Kindergarten)"},{"$f":"'Drop Downs'!$B$2","v":"Benchmark"},{"$f":"'Drop Downs'!$C$2","v":"US Fall (WA Term 1 equivalent)"},1,"High Risk"]
["Pre-Primary (US Kindergarten)BenchmarkUS Fall (WA Term 1 equivalent)2",{"$f":"'Drop Downs'!$A$3","v":"Pre-Primary (US Kindergarten)"},{"$f":"'Drop Downs'!$B$2","v":"Benchmark"},{"$f":"'Drop Downs'!$C$2","v":"US Fall (WA Term 1 equivalent)"},2,"High Risk"]
["Pre-Primary (US Kindergarten)BenchmarkUS Fall (WA Term 1 equivalent)3",{"$f":"'Drop Downs'!$A$3","v":"Pre-Primary (US Kindergarten)"},{"$f":"'Drop Downs'!$B$2","v":"Benchmark"},{"$f":"'Drop Downs'!$C$2","v":"US Fall (WA Term 1 equivalent)"},3,"High Risk"]
["Pre-Primary (US Kindergarten)BenchmarkUS Fall (WA Term 1 equivalent)4",{"$f":"'Drop Downs'!$A$3","v":"Pre-Primary (US Kindergarten)"},{"$f":"'Drop Downs'!$B$2","v":"Benchmark"},{"$f":"'Drop Downs'!$C$2","v":"US Fall (WA Term 1 equivalent)"},4,"High Risk"]
["Pre-Primary (US Kindergarten)BenchmarkUS Fall (WA Term 1 equivalent)5",{"$f":"'Drop Downs'!$A$3","v":"Pre-Primary (US Kindergarten)"},{"$f":"'Drop Downs'!$B$2","v":"Benchmark"},{"$f":"'Drop Downs'!$C$2","v":"US Fall (WA Term 1 equivalent)"},5,"High Risk"]
["Pre-Primary (US Kindergarten)BenchmarkUS Fall (WA Term 1 equivalent)6",{"$f":"'Drop Downs'!$A$3","v":"Pre-Primary (US Kindergarten)"},{"$f":"'Drop Downs'!$B$2","v":"Benchmark"},{"$f":"'Drop Downs'!$C$2","v":"US Fall (WA Term 1 equivalent)"},6,"High Risk"]
["Pre-Primary (US Kindergarten)BenchmarkUS Fall (WA Term 1 equivalent)7",{"$f":"'Drop Downs'!$A$3","v":"Pre-Primary (US Kindergarten)"},{"$f":"'Drop Downs'!$B$2","v":"Benchmark"},{"$f":"'Drop Downs'!$C$2","v":"US Fall (WA Term 1 equivalent)"},7,"High Risk"]
["Pre-Primary (US Kindergarten)BenchmarkUS Fall (WA Term 1 equivalent)8",{"$f":"'Drop Downs'!$A$3","v":"Pre-Primary (US Kindergarten)"},{"$f":"'Drop Downs'!$B$2","v":"Benchmark"},{"$f":"'Drop Downs'!$C$2","v":"US Fall (WA Term 1 equivalent)"},8,"Moderate Risk"]
["Pre-Primary (US Kindergarten)BenchmarkUS Fall (WA Term 1 equivalent)9",{"$f":"'Drop Downs'!$A$3","v":"Pre-Primary (US Kindergarten)"},{"$f":"'Drop Downs'!$B$2","v":"Benchmark"},{"$f":"'Drop Downs'!$C$2","v":"US Fall (WA Term 1 equivalent)"},9,"Moderate Risk"]
["Pre-Primary (US Kindergarten)BenchmarkUS Fall (WA Term 1 equivalent)10",{"$f":"'Drop Downs'!$A$3","v":"Pre-Primary (US Kindergarten)"},{"$f":"'Drop Downs'!$B$2","v":"Benchmark"},{"$f":"'Drop Downs'!$C$2","v":"US Fall (WA Term 1 equivalent)"},10,"Moderate Risk"]
["Pre-Primary (US Kindergarten)BenchmarkUS Fall (WA Term 1 equivalent)11",{"$f":"'Drop Downs'!$A$3","v":"Pre-Primary (US Kindergarten)"},{"$f":"'Drop Downs'!$B$2","v":"Benchmark"},{"$f":"'Drop Downs'!$C$2","v":"US Fall (WA Term 1 equivalent)"},11,"Benchmark"]
["Pre-Primary (US Kindergarten)BenchmarkUS Fall (WA Term 1 equivalent)12",{"$f":"'Drop Downs'!$A$3","v":"Pre-Primary (US Kindergarten)"},{"$f":"'Drop Downs'!$B$2","v":"Benchmark"},{"$f":"'Drop Downs'!$C$2","v":"US Fall (WA Term 1 equivalent)"},12,"Benchmark"]
["Pre-Primary (US Kindergarten)BenchmarkUS Fall (WA Term 1 equivalent)13",{"$f":"'Drop Downs'!$A$3","v":"Pre-Primary (US Kindergarten)"},{"$f":"'Drop Downs'!$B$2","v":"Benchmark"},{"$f":"'Drop Downs'!$C$2","v":"US Fall (WA Term 1 equivalent)"},13,"Benchmark"]
["Pre-Primary (US Kindergarten)BenchmarkUS Fall (WA Term 1 equivalent)14",{"$f":"'Drop Downs'!$A$3","v":"Pre-Primary (US Kindergarten)"},{"$f":"'Drop Downs'!$B$2","v":"Benchmark"},{"$f":"'Drop Downs'!$C$2","v":"US Fall (WA Term 1 equivalent)"},14,"Benchmark"]
["Pre-Primary (US Kindergarten)BenchmarkUS Fall (WA Term 1 equivalent)15",{"$f":"'Drop Downs'!$A$3","v":"Pre-Primary (US Kindergarten)"},{"$f":"'Drop Downs'!$B$2","v":"Benchmark"},{"$f":"'Drop Downs'!$C$2","v":"US Fall (WA Term 1 equivalent)"},15,"Benchmark"]
["Pre-Primary (US Kindergarten)BenchmarkUS Fall (WA Term 1 equivalent)16",{"$f":"'Drop Downs'!$A$3","v":"Pre-Primary (US Kindergarten)"},{"$f":"'Drop Downs'!$B$2","v":"Benchmark"},{"$f":"'Drop Downs'!$C$2","v":"US Fall (WA Term 1 equivalent)"},16,"Benchmark"]
["Pre-Primary (US Kindergarten)BenchmarkUS Fall (WA Term 1 equivalent)17",{"$f":"'Drop Downs'!$A$3","v":"Pre-Primary (US Kindergarten)"},{"$f":"'Drop Downs'!$B$2","v":"Benchmark"},{"$f":"'Drop Downs'!$C$2","v":"US Fall (WA Term 1 equivalent)"},17,"Advanced"]
[{"$f":"B173&C173&D173&E173","v":"Pre-Primary (US Kindergarten)BenchmarkUS Fall (WA Term 1 equivalent)18"},{"$f":"'Drop Downs'!$A$3","v":"Pre-Primary (US Kindergarten)"},{"$f":"'Drop Downs'!$B$2","v":"Benchmark"},{"$f":"'Drop Downs'!$C$2","v":"US Fall (WA Term 1 equivalent)"},18,"Advanced"]
["Pre-Primary (US Kindergarten)BenchmarkUS Fall (WA Term 1 equivalent)19",{"$f":"'Drop Downs'!$A$3","v":"Pre-Primary (US Kindergarten)"},{"$f":"'Drop Downs'!$B$2","v":"Benchmark"},{"$f":"'Drop Downs'!$C$2","v":"US Fall (WA Term 1 equivalent)"},19,"Advanced"]
["Pre-Primary (US Kindergarten)BenchmarkUS Fall (WA Term 1 equivalent)20",{"$f":"'Drop Downs'!$A$3","v":"Pre-Primary (US Kindergarten)"},{"$f":"'Drop Downs'!$B$2","v":"Benchmark"},{"$f":"'Drop Downs'!$C$2","v":"US Fall (WA Term 1 equivalent)"},20,"Advanced"]
["Pre-Primary (US Kindergarten)BenchmarkUS Fall (WA Term 1 equivalent)21",{"$f":"'Drop Downs'!$A$3","v":"Pre-Primary (US Kindergarten)"},{"$f":"'Drop Downs'!$B$2","v":"Benchmark"},{"$f":"'Drop Downs'!$C$2","v":"US Fall (WA Term 1 equivalent)"},21,"Advanced"]
["Pre-Primary (US Kindergarten)BenchmarkUS Fall (WA Term 1 equivalent)22",{"$f":"'Drop Downs'!$A$3","v":"Pre-Primary (US Kindergarten)"},{"$f":"'Drop Downs'!$B$2","v":"Benchmark"},{"$f":"'Drop Downs'!$C$2","v":"US Fall (WA Term 1 equivalent)"},22,"Advanced"]
["Pre-Primary (US Kindergarten)BenchmarkUS Fall (WA Term 1 equivalent)23",{"$f":"'Drop Downs'!$A$3","v":"Pre-Primary (US Kindergarten)"},{"$f":"'Drop Downs'!$B$2","v":"Benchmark"},{"$f":"'Drop Downs'!$C$2","v":"US Fall (WA Term 1 equivalent)"},23,"Advanced"]
["Pre-Primary (US Kindergarten)BenchmarkUS Fall (WA Term 1 equivalent)24",{"$f":"'Drop Downs'!$A$3","v":"Pre-Primary (US Kindergarten)"},{"$f":"'Drop Downs'!$B$2","v":"Benchmark"},{"$f":"'Drop Downs'!$C$2","v":"US Fall (WA Term 1 equivalent)"},24,"Advanced"]
["Pre-Primary (US Kindergarten)BenchmarkUS Fall (WA Term 1 equivalent)25",{"$f":"'Drop Downs'!$A$3","v":"Pre-Primary (US Kindergarten)"},{"$f":"'Drop Downs'!$B$2","v":"Benchmark"},{"$f":"'Drop Downs'!$C$2","v":"US Fall (WA Term 1 equivalent)"},25,"Advanced"]
["Pre-Primary (US Kindergarten)BenchmarkUS Fall (WA Term 1 equivalent)26",{"$f":"'Drop Downs'!$A$3","v":"Pre-Primary (US Kindergarten)"},{"$f":"'Drop Downs'!$B$2","v":"Benchmark"},{"$f":"'Drop Downs'!$C$2","v":"US Fall (WA Term 1 equivalent)"},26,"Advanced"]
["Pre-Primary (US Kindergarten)BenchmarkUS Fall (WA Term 1 equivalent)27",{"$f":"'Drop Downs'!$A$3","v":"Pre-Primary (US Kindergarten)"},{"$f":"'Drop Downs'!$B$2","v":"Benchmark"},{"$f":"'Drop Downs'!$C$2","v":"US Fall (WA Term 1 equivalent)"},27,"Advanced"]
["Pre-Primary (US Kindergarten)BenchmarkUS Fall (WA Term 1 equivalent)28",{"$f":"'Drop Downs'!$A$3","v":"Pre-Primary (US Kindergarten)"},{"$f":"'Drop Downs'!$B$2","v":"Benchmark"},{"$f":"'Drop Downs'!$C$2","v":"US Fall (WA Term 1 equivalent)"},28,"Advanced"]
["Pre-Primary (US Kindergarten)BenchmarkUS Fall (WA Term 1 equivalent)29",{"$f":"'Drop Downs'!$A$3","v":"Pre-Primary (US Kindergarten)"},{"$f":"'Drop Downs'!$B$2","v":"Benchmark"},{"$f":"'Drop Downs'!$C$2","v":"US Fall (WA Term 1 equivalent)"},29,"Advanced"]
["Pre-Primary (US Kindergarten)BenchmarkUS Fall (WA Term 1 equivalent)30",{"$f":"'Drop Downs'!$A$3","v":"Pre-Primary (US Kindergarten)"},{"$f":"'Drop Downs'!$B$2","v":"Benchmark"},{"$f":"'Drop Downs'!$C$2","v":"US Fall (WA Term 1 equivalent)"},30,"Advanced"]
["Pre-Primary (US Kindergarten)BenchmarkUS Fall (WA Term 1 equivalent)31",{"$f":"'Drop Downs'!$A$3","v":"Pre-Primary (US Kindergarten)"},{"$f":"'Drop Downs'!$B$2","v":"Benchmark"},{"$f":"'Drop Downs'!$C$2","v":"US Fall (WA Term 1 equivalent)"},31,"Advanced"]
["Pre-Primary (US Kindergarten)BenchmarkUS Fall (WA Term 1 equivalent)32",{"$f":"'Drop Downs'!$A$3","v":"Pre-Primary (US Kindergarten)"},{"$f":"'Drop Downs'!$B$2","v":"Benchmark"},{"$f":"'Drop Downs'!$C$2","v":"US Fall (WA Term 1 equivalent)"},32,"Advanced"]
[{"$f":"B188&C188&D188&E188","v":"Pre-Primary (US Kindergarten)BenchmarkUS Fall (WA Term 1 equivalent)33"},{"$f":"'Drop Downs'!$A$3","v":"Pre-Primary (US Kindergarten)"},{"$f":"'Drop Downs'!$B$2","v":"Benchmark"},{"$f":"'Drop Downs'!$C$2","v":"US Fall (WA Term 1 equivalent)"},{"$f":"E187+1","v":33},"Advanced"]
[{"$f":"B189&C189&D189&E189","v":"Pre-Primary (US Kindergarten)BenchmarkUS Fall (WA Term 1 equivalent)34"},{"$f":"'Drop Downs'!$A$3","v":"Pre-Primary (US Kindergarten)"},{"$f":"'Drop Downs'!$B$2","v":"Benchmark"},{"$f":"'Drop Downs'!$C$2","v":"US Fall (WA Term 1 equivalent)"},{"$f":"E188+1","v":34},"Advanced"]
["Pre-Primary (US Kindergarten)BenchmarkUS Fall (WA Term 1 equivalent)35",{"$f":"'Drop Downs'!$A$3","v":"Pre-Primary (US Kindergarten)"},{"$f":"'Drop Downs'!$B$2","v":"Benchmark"},{"$f":"'Drop Downs'!$C$2","v":"US Fall (WA Term 1 equivalent)"},35,"Advanced"]
["Pre-Primary (US Kindergarten)BenchmarkUS Fall (WA Term 1 equivalent)36",{"$f":"'Drop Downs'!$A$3","v":"Pre-Primary (US Kindergarten)"},{"$f":"'Drop Downs'!$B$2","v":"Benchmark"},{"$f":"'Drop Downs'!$C$2","v":"US Fall (WA Term 1 equivalent)"},36,"Advanced"]
["Pre-Primary (US Kindergarten)BenchmarkUS Fall (WA Term 1 equivalent)37",{"$f":"'Drop Downs'!$A$3","v":"Pre-Primary (US Kindergarten)"},{"$f":"'Drop Downs'!$B$2","v":"Benchmark"},{"$f":"'Drop Downs'!$C$2","v":"US Fall (WA Term 1 equivalent)"},37,"Advanced"]
["Pre-Primary (US Kindergarten)BenchmarkUS Fall (WA Term 1 equivalent)38",{"$f":"'Drop Downs'!$A$3","v":"Pre-Primary (US Kindergarten)"},{"$f":"'Drop Downs'!$B$2","v":"Benchmark"},{"$f":"'Drop Downs'!$C$2","v":"US Fall (WA Term 1 equivalent)"},38,"Advanced"]
["Pre-Primary (US Kindergarten)BenchmarkUS Fall (WA Term 1 equivalent)39",{"$f":"'Drop Downs'!$A$3","v":"Pre-Primary (US Kindergarten)"},{"$f":"'Drop Downs'!$B$2","v":"Benchmark"},{"$f":"'Drop Downs'!$C$2","v":"US Fall (WA Term 1 equivalent)"},39,"Advanced"]
["Pre-Primary (US Kindergarten)BenchmarkUS Fall (WA Term 1 equivalent)40",{"$f":"'Drop Downs'!$A$3","v":"Pre-Primary (US Kindergarten)"},{"$f":"'Drop Downs'!$B$2","v":"Benchmark"},{"$f":"'Drop Downs'!$C$2","v":"US Fall (WA Term 1 equivalent)"},40,"Advanced"]
["Pre-Primary (US Kindergarten)BenchmarkUS Fall (WA Term 1 equivalent)41",{"$f":"'Drop Downs'!$A$3","v":"Pre-Primary (US Kindergarten)"},{"$f":"'Drop Downs'!$B$2","v":"Benchmark"},{"$f":"'Drop Downs'!$C$2","v":"US Fall (WA Term 1 equivalent)"},41,"Advanced"]
["Pre-Primary (US Kindergarten)BenchmarkUS Fall (WA Term 1 equivalent)42",{"$f":"'Drop Downs'!$A$3","v":"Pre-Primary (US Kindergarten)"},{"$f":"'Drop Downs'!$B$2","v":"Benchmark"},{"$f":"'Drop Downs'!$C$2","v":"US Fall (WA Term 1 equivalent)"},42,"Advanced"]
["Pre-Primary (US Kindergarten)BenchmarkUS Fall (WA Term 1 equivalent)43",{"$f":"'Drop Downs'!$A$3","v":"Pre-Primary (US Kindergarten)"},{"$f":"'Drop Downs'!$B$2","v":"Benchmark"},{"$f":"'Drop Downs'!$C$2","v":"US Fall (WA Term 1 equivalent)"},43,"Advanced"]
["Pre-Primary (US Kindergarten)BenchmarkUS Fall (WA Term 1 equivalent)44",{"$f":"'Drop Downs'!$A$3","v":"Pre-Primary (US Kindergarten)"},{"$f":"'Drop Downs'!$B$2","v":"Benchmark"},{"$f":"'Drop Downs'!$C$2","v":"US Fall (WA Term 1 equivalent)"},44,"Advanced"]
[{"$f":"B200&C200&D200&E200","v":"Pre-Primary (US Kindergarten)BenchmarkUS Fall (WA Term 1 equivalent)45"},{"$f":"'Drop Downs'!$A$3","v":"Pre-Primary (US Kindergarten)"},{"$f":"'Drop Downs'!$B$2","v":"Benchmark"},{"$f":"'Drop Downs'!$C$2","v":"US Fall (WA Term 1 equivalent)"},45,"Advanced"]
["Pre-Primary (US Kindergarten)BenchmarkUS Fall (WA Term 1 equivalent)46",{"$f":"'Drop Downs'!$A$3","v":"Pre-Primary (US Kindergarten)"},{"$f":"'Drop Downs'!$B$2","v":"Benchmark"},{"$f":"'Drop Downs'!$C$2","v":"US Fall (WA Term 1 equivalent)"},46,"Advanced"]
["Pre-Primary (US Kindergarten)BenchmarkUS Fall (WA Term 1 equivalent)47",{"$f":"'Drop Downs'!$A$3","v":"Pre-Primary (US Kindergarten)"},{"$f":"'Drop Downs'!$B$2","v":"Benchmark"},{"$f":"'Drop Downs'!$C$2","v":"US Fall (WA Term 1 equivalent)"},47,"Advanced"]
["Pre-Primary (US Kindergarten)BenchmarkUS Fall (WA Term 1 equivalent)48",{"$f":"'Drop Downs'!$A$3","v":"Pre-Primary (US Kindergarten)"},{"$f":"'Drop Downs'!$B$2","v":"Benchmark"},{"$f":"'Drop Downs'!$C$2","v":"US Fall (WA Term 1 equivalent)"},48,"Advanced"]
["Pre-Primary (US Kindergarten)BenchmarkUS Fall (WA Term 1 equivalent)49",{"$f":"'Drop Downs'!$A$3","v":"Pre-Primary (US Kindergarten)"},{"$f":"'Drop Downs'!$B$2","v":"Benchmark"},{"$f":"'Drop Downs'!$C$2","v":"US Fall (WA Term 1 equivalent)"},49,"Advanced"]
["Pre-Primary (US Kindergarten)BenchmarkUS Fall (WA Term 1 equivalent)50",{"$f":"'Drop Downs'!$A$3","v":"Pre-Primary (US Kindergarten)"},{"$f":"'Drop Downs'!$B$2","v":"Benchmark"},{"$f":"'Drop Downs'!$C$2","v":"US Fall (WA Term 1 equivalent)"},50,"Advanced"]
["Pre-Primary (US Kindergarten)BenchmarkUS Winter (WA Term 2 equivalent)0",{"$f":"'Drop Downs'!$A$3","v":"Pre-Primary (US Kindergarten)"},{"$f":"'Drop Downs'!$B$2","v":"Benchmark"},{"$f":"'Drop Downs'!$C$3","v":"US Winter (WA Term 2 equivalent)"},0,"High Risk"]
[{"$f":"B207&C207&D207&E207","v":"Pre-Primary (US Kindergarten)BenchmarkUS Winter (WA Term 2 equivalent)1"},{"$f":"'Drop Downs'!$A$3","v":"Pre-Primary (US Kindergarten)"},{"$f":"'Drop Downs'!$B$2","v":"Benchmark"},{"$f":"'Drop Downs'!$C$3","v":"US Winter (WA Term 2 equivalent)"},1,"High Risk"]
["Pre-Primary (US Kindergarten)BenchmarkUS Winter (WA Term 2 equivalent)2",{"$f":"'Drop Downs'!$A$3","v":"Pre-Primary (US Kindergarten)"},{"$f":"'Drop Downs'!$B$2","v":"Benchmark"},{"$f":"'Drop Downs'!$C$3","v":"US Winter (WA Term 2 equivalent)"},2,"High Risk"]
["Pre-Primary (US Kindergarten)BenchmarkUS Winter (WA Term 2 equivalent)3",{"$f":"'Drop Downs'!$A$3","v":"Pre-Primary (US Kindergarten)"},{"$f":"'Drop Downs'!$B$2","v":"Benchmark"},{"$f":"'Drop Downs'!$C$3","v":"US Winter (WA Term 2 equivalent)"},3,"High Risk"]
["Pre-Primary (US Kindergarten)BenchmarkUS Winter (WA Term 2 equivalent)4",{"$f":"'Drop Downs'!$A$3","v":"Pre-Primary (US Kindergarten)"},{"$f":"'Drop Downs'!$B$2","v":"Benchmark"},{"$f":"'Drop Downs'!$C$3","v":"US Winter (WA Term 2 equivalent)"},4,"High Risk"]
["Pre-Primary (US Kindergarten)BenchmarkUS Winter (WA Term 2 equivalent)5",{"$f":"'Drop Downs'!$A$3","v":"Pre-Primary (US Kindergarten)"},{"$f":"'Drop Downs'!$B$2","v":"Benchmark"},{"$f":"'Drop Downs'!$C$3","v":"US Winter (WA Term 2 equivalent)"},5,"High Risk"]
["Pre-Primary (US Kindergarten)BenchmarkUS Winter (WA Term 2 equivalent)6",{"$f":"'Drop Downs'!$A$3","v":"Pre-Primary (US Kindergarten)"},{"$f":"'Drop Downs'!$B$2","v":"Benchmark"},{"$f":"'Drop Downs'!$C$3","v":"US Winter (WA Term 2 equivalent)"},6,"High Risk"]
["Pre-Primary (US Kindergarten)BenchmarkUS Winter (WA Term 2 equivalent)7",{"$f":"'Drop Downs'!$A$3","v":"Pre-Primary (US Kindergarten)"},{"$f":"'Drop Downs'!$B$2","v":"Benchmark"},{"$f":"'Drop Downs'!$C$3","v":"US Winter (WA Term 2 equivalent)"},7,"High Risk"]
["Pre-Primary (US Kindergarten)BenchmarkUS Winter (WA Term 2 equivalent)8",{"$f":"'Drop Downs'!$A$3","v":"Pre-Primary (US Kindergarten)"},{"$f":"'Drop Downs'!$B$2","v":"Benchmark"},{"$f":"'Drop Downs'!$C$3","v":"US Winter (WA Term 2 equivalent)"},8,"High Risk"]
["Pre-Primary (US Kindergarten)BenchmarkUS Winter (WA Term 2 equivalent)9",{"$f":"'Drop Downs'!$A$3","v":"Pre-Primary (US Kindergarten)"},{"$f":"'Drop Downs'!$B$2","v":"Benchmark"},{"$f":"'Drop Downs'!$C$3","v":"US Winter (WA Term 2 equivalent)"},9,"Moderate Risk"]
["Pre-Primary (US Kindergarten)BenchmarkUS Winter (WA Term 2 equivalent)10",{"$f":"'Drop Downs'!$A$3","v":"Pre-Primary (US Kindergarten)"},{"$f":"'Drop Downs'!$B$2","v":"Benchmark"},{"$f":"'Drop Downs'!$C$3","v":"US Winter (WA Term 2 equivalent)"},10,"Moderate Risk"]
["Pre-Primary (US Kindergarten)BenchmarkUS Winter (WA Term 2 equivalent)11",{"$f":"'Drop Downs'!$A$3","v":"Pre-Primary (US Kindergarten)"},{"$f":"'Drop Downs'!$B$2","v":"Benchmark"},{"$f":"'Drop Downs'!$C$3","v":"US Winter (WA Term 2 equivalent)"},11,"Moderate Risk"]
["Pre-Primary (US Kindergarten)BenchmarkUS Winter (WA Term 2 equivalent)12",{"$f":"'Drop Downs'!$A$3","v":"Pre-Primary (US Kindergarten)"},{"$f":"'Drop Downs'!$B$2","v":"Benchmark"},{"$f":"'Drop Downs'!$C$3","v":"US Winter (WA Term 2 equivalent)"},12,"Moderate Risk"]
["Pre-Primary (US Kindergarten)BenchmarkUS Winter (WA Term 2 equivalent)13",{"$f":"'Drop Downs'!$A$3","v":"Pre-Primary (US Kindergarten)"},{"$f":"'Drop Downs'!$B$2","v":"Benchmark"},{"$f":"'Drop Downs'!$C$3","v":"US Winter (WA Term 2 equivalent)"},13,"Benchmark"]
["Pre-Primary (US Kindergarten)BenchmarkUS Winter (WA Term 2 equivalent)14",{"$f":"'Drop Downs'!$A$3","v":"Pre-Primary (US Kindergarten)"},{"$f":"'Drop Downs'!$B$2","v":"Benchmark"},{"$f":"'Drop Downs'!$C$3","v":"US Winter (WA Term 2 equivalent)"},14,"Benchmark"]
["Pre-Primary (US Kindergarten)BenchmarkUS Winter (WA Term 2 equivalent)15",{"$f":"'Drop Downs'!$A$3","v":"Pre-Primary (US Kindergarten)"},{"$f":"'Drop Downs'!$B$2","v":"Benchmark"},{"$f":"'Drop Downs'!$C$3","v":"US Winter (WA Term 2 equivalent)"},15,"Benchmark"]
["Pre-Primary (US Kindergarten)BenchmarkUS Winter (WA Term 2 equivalent)16",{"$f":"'Drop Downs'!$A$3","v":"Pre-Primary (US Kindergarten)"},{"$f":"'Drop Downs'!$B$2","v":"Benchmark"},{"$f":"'Drop Downs'!$C$3","v":"US Winter (WA Term 2 equivalent)"},16,"Benchmark"]
["Pre-Primary (US Kindergarten)BenchmarkUS Winter (WA Term 2 equivalent)17",{"$f":"'Drop Downs'!$A$3","v":"Pre-Primary (US Kindergarten)"},{"$f":"'Drop Downs'!$B$2","v":"Benchmark"},{"$f":"'Drop Downs'!$C$3","v":"US Winter (WA Term 2 equivalent)"},17,"Benchmark"]
["Pre-Primary (US Kindergarten)BenchmarkUS Winter (WA Term 2 equivalent)18",{"$f":"'Drop Downs'!$A$3","v":"Pre-Primary (US Kindergarten)"},{"$f":"'Drop Downs'!$B$2","v":"Benchmark"},{"$f":"'Drop Downs'!$C$3","v":"US Winter (WA Term 2 equivalent)"},18,"Advanced"]
[{"$f":"B225&C225&D225&E225","v":"Pre-Primary (US Kindergarten)BenchmarkUS Winter (WA Term 2 equivalent)19"},{"$f":"'Drop Downs'!$A$3","v":"Pre-Primary (US Kindergarten)"},{"$f":"'Drop Downs'!$B$2","v":"Benchmark"},{"$f":"'Drop Downs'!$C$3","v":"US Winter (WA Term 2 equivalent)"},{"$f":"E224+1","v":19},"Advanced"]
[{"$f":"B226&C226&D226&E226","v":"Pre-Primary (US Kindergarten)BenchmarkUS Winter (WA Term 2 equivalent)20"},{"$f":"'Drop Downs'!$A$3","v":"Pre-Primary (US Kindergarten)"},{"$f":"'Drop Downs'!$B$2","v":"Benchmark"},{"$f":"'Drop Downs'!$C$3","v":"US Winter (WA Term 2 equivalent)"},{"$f":"E225+1","v":20},"Advanced"]
["Pre-Primary (US Kindergarten)BenchmarkUS Winter (WA Term 2 equivalent)21",{"$f":"'Drop Downs'!$A$3","v":"Pre-Primary (US Kindergarten)"},{"$f":"'Drop Downs'!$B$2","v":"Benchmark"},{"$f":"'Drop Downs'!$C$3","v":"US Winter (WA Term 2 equivalent)"},21,"Advanced"]
["Pre-Primary (US Kindergarten)BenchmarkUS Winter (WA Term 2 equivalent)22",{"$f":"'Drop Downs'!$A$3","v":"Pre-Primary (US Kindergarten)"},{"$f":"'Drop Downs'!$B$2","v":"Benchmark"},{"$f":"'Drop Downs'!$C$3","v":"US Winter (WA Term 2 equivalent)"},22,"Advanced"]
["Pre-Primary (US Kindergarten)BenchmarkUS Winter (WA Term 2 equivalent)23",{"$f":"'Drop Downs'!$A$3","v":"Pre-Primary (US Kindergarten)"},{"$f":"'Drop Downs'!$B$2","v":"Benchmark"},{"$f":"'Drop Downs'!$C$3","v":"US Winter (WA Term 2 equivalent)"},23,"Advanced"]
["Pre-Primary (US Kindergarten)BenchmarkUS Winter (WA Term 2 equivalent)24",{"$f":"'Drop Downs'!$A$3","v":"Pre-Primary (US Kindergarten)"},{"$f":"'Drop Downs'!$B$2","v":"Benchmark"},{"$f":"'Drop Downs'!$C$3","v":"US Winter (WA Term 2 equivalent)"},24,"Advanced"]
["Pre-Primary (US Kindergarten)BenchmarkUS Winter (WA Term 2 equivalent)25",{"$f":"'Drop Downs'!$A$3","v":"Pre-Primary (US Kindergarten)"},{"$f":"'Drop Downs'!$B$2","v":"Benchmark"},{"$f":"'Drop Downs'!$C$3","v":"US Winter (WA Term 2 equivalent)"},25,"Advanced"]
["Pre-Primary (US Kindergarten)BenchmarkUS Winter (WA Term 2 equivalent)26",{"$f":"'Drop Downs'!$A$3","v":"Pre-Primary (US Kindergarten)"},{"$f":"'Drop Downs'!$B$2","v":"Benchmark"},{"$f":"'Drop Downs'!$C$3","v":"US Winter (WA Term 2 equivalent)"},26,"Advanced"]
["Pre-Primary (US Kindergarten)BenchmarkUS Winter (WA Term 2 equivalent)27",{"$f":"'Drop Downs'!$A$3","v":"Pre-Primary (US Kindergarten)"},{"$f":"'Drop Downs'!$B$2","v":"Benchmark"},{"$f":"'Drop Downs'!$C$3","v":"US Winter (WA Term 2 equivalent)"},27,"Advanced"]
["Pre-Primary (US Kindergarten)BenchmarkUS Winter (WA Term 2 equivalent)28",{"$f":"'Drop Downs'!$A$3","v":"Pre-Primary (US Kindergarten)"},{"$f":"'Drop Downs'!$B$2","v":"Benchmark"},{"$f":"'Drop Downs'!$C$3","v":"US Winter (WA Term 2 equivalent)"},28,"Advanced"]
["Pre-Primary (US Kindergarten)BenchmarkUS Winter (WA Term 2 equivalent)29",{"$f":"'Drop Downs'!$A$3","v":"Pre-Primary (US Kindergarten)"},{"$f":"'Drop Downs'!$B$2","v":"Benchmark"},{"$f":"'Drop Downs'!$C$3","v":"US Winter (WA Term 2 equivalent)"},29,"Advanced"]
["Pre-Primary (US Kindergarten)BenchmarkUS Winter (WA Term 2 equivalent)30",{"$f":"'Drop Downs'!$A$3","v":"Pre-Primary (US Kindergarten)"},{"$f":"'Drop Downs'!$B$2","v":"Benchmark"},{"$f":"'Drop Downs'!$C$3","v":"US Winter (WA Term 2 equivalent)"},30,"Advanced"]
["Pre-Primary (US Kindergarten)BenchmarkUS Winter (WA Term 2 equivalent)31",{"$f":"'Drop Downs'!$A$3","v":"Pre-Primary (US Kindergarten)"},{"$f":"'Drop Downs'!$B$2","v":"Benchmark"},{"$f":"'Drop Downs'!$C$3","v":"US Winter (WA Term 2 equivalent)"},31,"Advanced"]
["Pre-Primary (US Kindergarten)BenchmarkUS Winter (WA Term 2 equivalent)32",{"$f":"'Drop Downs'!$A$3","v":"Pre-Primary (US Kindergarten)"},{"$f":"'Drop Downs'!$B$2","v":"Benchmark"},{"$f":"'Drop Downs'!$C$3","v":"US Winter (WA Term 2 equivalent)"},32,"Advanced"]
["Pre-Primary (US Kindergarten)BenchmarkUS Winter (WA Term 2 equivalent)33",{"$f":"'Drop Downs'!$A$3","v":"Pre-Primary (US Kindergarten)"},{"$f":"'Drop Downs'!$B$2","v":"Benchmark"},{"$f":"'Drop Downs'!$C$3","v":"US Winter (WA Term 2 equivalent)"},33,"Advanced"]
["Pre-Primary (US Kindergarten)BenchmarkUS Winter (WA Term 2 equivalent)34",{"$f":"'Drop Downs'!$A$3","v":"Pre-Primary (US Kindergarten)"},{"$f":"'Drop Downs'!$B$2","v":"Benchmark"},{"$f":"'Drop Downs'!$C$3","v":"US Winter (WA Term 2 equivalent)"},34,"Advanced"]
["Pre-Primary (US Kindergarten)BenchmarkUS Winter (WA Term 2 equivalent)35",{"$f":"'Drop Downs'!$A$3","v":"Pre-Primary (US Kindergarten)"},{"$f":"'Drop Downs'!$B$2","v":"Benchmark"},{"$f":"'Drop Downs'!$C$3","v":"US Winter (WA Term 2 equivalent)"},35,"Advanced"]
["Pre-Primary (US Kindergarten)BenchmarkUS Winter (WA Term 2 equivalent)36",{"$f":"'Drop Downs'!$A$3","v":"Pre-Primary (US Kindergarten)"},{"$f":"'Drop Downs'!$B$2","v":"Benchmark"},{"$f":"'Drop Downs'!$C$3","v":"US Winter (WA Term 2 equivalent)"},36,"Advanced"]
["Pre-Primary (US Kindergarten)BenchmarkUS Winter (WA Term 2 equivalent)37",{"$f":"'Drop Downs'!$A$3","v":"Pre-Primary (US Kindergarten)"},{"$f":"'Drop Downs'!$B$2","v":"Benchmark"},{"$f":"'Drop Downs'!$C$3","v":"US Winter (WA Term 2 equivalent)"},37,"Advanced"]
["Pre-Primary (US Kindergarten)BenchmarkUS Winter (WA Term 2 equivalent)38",{"$f":"'Drop Downs'!$A$3","v":"Pre-Primary (US Kindergarten)"},{"$f":"'Drop Downs'!$B$2","v":"Benchmark"},{"$f":"'Drop Downs'!$C$3","v":"US Winter (WA Term 2 equivalent)"},38,"Advanced"]
["Pre-Primary (US Kindergarten)BenchmarkUS Winter (WA Term 2 equivalent)39",{"$f":"'Drop Downs'!$A$3","v":"Pre-Primary (US Kindergarten)"},{"$f":"'Drop Downs'!$B$2","v":"Benchmark"},{"$f":"'Drop Downs'!$C$3","v":"US Winter (WA Term 2 equivalent)"},39,"Advanced"]
["Pre-Primary (US Kindergarten)BenchmarkUS Winter (WA Term 2 equivalent)40",{"$f":"'Drop Downs'!$A$3","v":"Pre-Primary (US Kindergarten)"},{"$f":"'Drop Downs'!$B$2","v":"Benchmark"},{"$f":"'Drop Downs'!$C$3","v":"US Winter (WA Term 2 equivalent)"},{"$f":"E245+1","v":40},"Advanced"]
[{"$f":"B247&C247&D247&E247","v":"Pre-Primary (US Kindergarten)BenchmarkUS Winter (WA Term 2 equivalent)41"},{"$f":"'Drop Downs'!$A$3","v":"Pre-Primary (US Kindergarten)"},{"$f":"'Drop Downs'!$B$2","v":"Benchmark"},{"$f":"'Drop Downs'!$C$3","v":"US Winter (WA Term 2 equivalent)"},{"$f":"E246+1","v":41},"Advanced"]
["Pre-Primary (US Kindergarten)BenchmarkUS Winter (WA Term 2 equivalent)42",{"$f":"'Drop Downs'!$A$3","v":"Pre-Primary (US Kindergarten)"},{"$f":"'Drop Downs'!$B$2","v":"Benchmark"},{"$f":"'Drop Downs'!$C$3","v":"US Winter (WA Term 2 equivalent)"},42,"Advanced"]
["Pre-Primary (US Kindergarten)BenchmarkUS Winter (WA Term 2 equivalent)43",{"$f":"'Drop Downs'!$A$3","v":"Pre-Primary (US Kindergarten)"},{"$f":"'Drop Downs'!$B$2","v":"Benchmark"},{"$f":"'Drop Downs'!$C$3","v":"US Winter (WA Term 2 equivalent)"},43,"Advanced"]
["Pre-Primary (US Kindergarten)BenchmarkUS Winter (WA Term 2 equivalent)44",{"$f":"'Drop Downs'!$A$3","v":"Pre-Primary (US Kindergarten)"},{"$f":"'Drop Downs'!$B$2","v":"Benchmark"},{"$f":"'Drop Downs'!$C$3","v":"US Winter (WA Term 2 equivalent)"},44,"Advanced"]
["Pre-Primary (US Kindergarten)BenchmarkUS Winter (WA Term 2 equivalent)45",{"$f":"'Drop Downs'!$A$3","v":"Pre-Primary (US Kindergarten)"},{"$f":"'Drop Downs'!$B$2","v":"Benchmark"},{"$f":"'Drop Downs'!$C$3","v":"US Winter (WA Term 2 equivalent)"},45,"Advanced"]
["Pre-Primary (US Kindergarten)BenchmarkUS Winter (WA Term 2 equivalent)46",{"$f":"'Drop Downs'!$A$3","v":"Pre-Primary (US Kindergarten)"},{"$f":"'Drop Downs'!$B$2","v":"Benchmark"},{"$f":"'Drop Downs'!$C$3","v":"US Winter (WA Term 2 equivalent)"},46,"Advanced"]
["Pre-Primary (US Kindergarten)BenchmarkUS Winter (WA Term 2 equivalent)47",{"$f":"'Drop Downs'!$A$3","v":"Pre-Primary (US Kindergarten)"},{"$f":"'Drop Downs'!$B$2","v":"Benchmark"},{"$f":"'Drop Downs'!$C$3","v":"US Winter (WA Term 2 equivalent)"},47,"Advanced"]
["Pre-Primary (US Kindergarten)BenchmarkUS Winter (WA Term 2 equivalent)48",{"$f":"'Drop Downs'!$A$3","v":"Pre-Primary (US Kindergarten)"},{"$f":"'Drop Downs'!$B$2","v":"Benchmark"},{"$f":"'Drop Downs'!$C$3","v":"US Winter (WA Term 2 equivalent)"},48,"Advanced"]
["Pre-Primary (US Kindergarten)BenchmarkUS Winter (WA Term 2 equivalent)49",{"$f":"'Drop Downs'!$A$3","v":"Pre-Primary (US Kindergarten)"},{"$f":"'Drop Downs'!$B$2","v":"Benchmark"},{"$f":"'Drop Downs'!$C$3","v":"US Winter (WA Term 2 equivalent)"},49,"Advanced"]
["Pre-Primary (US Kindergarten)BenchmarkUS Winter (WA Term 2 equivalent)50",{"$f":"'Drop Downs'!$A$3","v":"Pre-Primary (US Kindergarten)"},{"$f":"'Drop Downs'!$B$2","v":"Benchmark"},{"$f":"'Drop Downs'!$C$3","v":"US Winter (WA Term 2 equivalent)"},50,"Advanced"]
[{"$f":"B257&C257&D257&E257","v":"Pre-Primary (US Kindergarten)BenchmarkUS Spring (WA Term 3 equivalent)0"},{"$f":"'Drop Downs'!$A$3","v":"Pre-Primary (US Kindergarten)"},{"$f":"'Drop Downs'!$B$2","v":"Benchmark"},{"$f":"'Drop Downs'!$C$4","v":"US Spring (WA Term 3 equivalent)"},0,"High Risk"]
["Pre-Primary (US Kindergarten)BenchmarkUS Spring (WA Term 3 equivalent)1",{"$f":"'Drop Downs'!$A$3","v":"Pre-Primary (US Kindergarten)"},{"$f":"'Drop Downs'!$B$2","v":"Benchmark"},{"$f":"'Drop Downs'!$C$4","v":"US Spring (WA Term 3 equivalent)"},1,"High Risk"]
["Pre-Primary (US Kindergarten)BenchmarkUS Spring (WA Term 3 equivalent)2",{"$f":"'Drop Downs'!$A$3","v":"Pre-Primary (US Kindergarten)"},{"$f":"'Drop Downs'!$B$2","v":"Benchmark"},{"$f":"'Drop Downs'!$C$4","v":"US Spring (WA Term 3 equivalent)"},2,"High Risk"]
["Pre-Primary (US Kindergarten)BenchmarkUS Spring (WA Term 3 equivalent)3",{"$f":"'Drop Downs'!$A$3","v":"Pre-Primary (US Kindergarten)"},{"$f":"'Drop Downs'!$B$2","v":"Benchmark"},{"$f":"'Drop Downs'!$C$4","v":"US Spring (WA Term 3 equivalent)"},3,"High Risk"]
["Pre-Primary (US Kindergarten)BenchmarkUS Spring (WA Term 3 equivalent)4",{"$f":"'Drop Downs'!$A$3","v":"Pre-Primary (US Kindergarten)"},{"$f":"'Drop Downs'!$B$2","v":"Benchmark"},{"$f":"'Drop Downs'!$C$4","v":"US Spring (WA Term 3 equivalent)"},4,"High Risk"]
["Pre-Primary (US Kindergarten)BenchmarkUS Spring (WA Term 3 equivalent)5",{"$f":"'Drop Downs'!$A$3","v":"Pre-Primary (US Kindergarten)"},{"$f":"'Drop Downs'!$B$2","v":"Benchmark"},{"$f":"'Drop Downs'!$C$4","v":"US Spring (WA Term 3 equivalent)"},5,"High Risk"]
["Pre-Primary (US Kindergarten)BenchmarkUS Spring (WA Term 3 equivalent)6",{"$f":"'Drop Downs'!$A$3","v":"Pre-Primary (US Kindergarten)"},{"$f":"'Drop Downs'!$B$2","v":"Benchmark"},{"$f":"'Drop Downs'!$C$4","v":"US Spring (WA Term 3 equivalent)"},6,"High Risk"]
["Pre-Primary (US Kindergarten)BenchmarkUS Spring (WA Term 3 equivalent)7",{"$f":"'Drop Downs'!$A$3","v":"Pre-Primary (US Kindergarten)"},{"$f":"'Drop Downs'!$B$2","v":"Benchmark"},{"$f":"'Drop Downs'!$C$4","v":"US Spring (WA Term 3 equivalent)"},7,"High Risk"]
["Pre-Primary (US Kindergarten)BenchmarkUS Spring (WA Term 3 equivalent)8",{"$f":"'Drop Downs'!$A$3","v":"Pre-Primary (US Kindergarten)"},{"$f":"'Drop Downs'!$B$2","v":"Benchmark"},{"$f":"'Drop Downs'!$C$4","v":"US Spring (WA Term 3 equivalent)"},8,"High Risk"]
["Pre-Primary (US Kindergarten)BenchmarkUS Spring (WA Term 3 equivalent)9",{"$f":"'Drop Downs'!$A$3","v":"Pre-Primary (US Kindergarten)"},{"$f":"'Drop Downs'!$B$2","v":"Benchmark"},{"$f":"'Drop Downs'!$C$4","v":"US Spring (WA Term 3 equivalent)"},9,"High Risk"]
["Pre-Primary (US Kindergarten)BenchmarkUS Spring (WA Term 3 equivalent)10",{"$f":"'Drop Downs'!$A$3","v":"Pre-Primary (US Kindergarten)"},{"$f":"'Drop Downs'!$B$2","v":"Benchmark"},{"$f":"'Drop Downs'!$C$4","v":"US Spring (WA Term 3 equivalent)"},10,"Moderate Risk"]
["Pre-Primary (US Kindergarten)BenchmarkUS Spring (WA Term 3 equivalent)11",{"$f":"'Drop Downs'!$A$3","v":"Pre-Primary (US Kindergarten)"},{"$f":"'Drop Downs'!$B$2","v":"Benchmark"},{"$f":"'Drop Downs'!$C$4","v":"US Spring (WA Term 3 equivalent)"},11,"Moderate Risk"]
["Pre-Primary (US Kindergarten)BenchmarkUS Spring (WA Term 3 equivalent)12",{"$f":"'Drop Downs'!$A$3","v":"Pre-Primary (US Kindergarten)"},{"$f":"'Drop Downs'!$B$2","v":"Benchmark"},{"$f":"'Drop Downs'!$C$4","v":"US Spring (WA Term 3 equivalent)"},12,"Moderate Risk"]
["Pre-Primary (US Kindergarten)BenchmarkUS Spring (WA Term 3 equivalent)13",{"$f":"'Drop Downs'!$A$3","v":"Pre-Primary (US Kindergarten)"},{"$f":"'Drop Downs'!$B$2","v":"Benchmark"},{"$f":"'Drop Downs'!$C$4","v":"US Spring (WA Term 3 equivalent)"},13,"Moderate Risk"]
["Pre-Primary (US Kindergarten)BenchmarkUS Spring (WA Term 3 equivalent)14",{"$f":"'Drop Downs'!$A$3","v":"Pre-Primary (US Kindergarten)"},{"$f":"'Drop Downs'!$B$2","v":"Benchmark"},{"$f":"'Drop Downs'!$C$4","v":"US Spring (WA Term 3 equivalent)"},14,"Benchmark"]
["Pre-Primary (US Kindergarten)BenchmarkUS Spring (WA Term 3 equivalent)15",{"$f":"'Drop Downs'!$A$3","v":"Pre-Primary (US Kindergarten)"},{"$f":"'Drop Downs'!$B$2","v":"Benchmark"},{"$f":"'Drop Downs'!$C$4","v":"US Spring (WA Term 3 equivalent)"},15,"Benchmark"]
["Pre-Primary (US Kindergarten)BenchmarkUS Spring (WA Term 3 equivalent)16",{"$f":"'Drop Downs'!$A$3","v":"Pre-Primary (US Kindergarten)"},{"$f":"'Drop Downs'!$B$2","v":"Benchmark"},{"$f":"'Drop Downs'!$C$4","v":"US Spring (WA Term 3 equivalent)"},16,"Benchmark"]
["Pre-Primary (US Kindergarten)BenchmarkUS Spring (WA Term 3 equivalent)17",{"$f":"'Drop Downs'!$A$3","v":"Pre-Primary (US Kindergarten)"},{"$f":"'Drop Downs'!$B$2","v":"Benchmark"},{"$f":"'Drop Downs'!$C$4","v":"US Spring (WA Term 3 equivalent)"},17,"Benchmark"]
["Pre-Primary (US Kindergarten)BenchmarkUS Spring (WA Term 3 equivalent)18",{"$f":"'Drop Downs'!$A$3","v":"Pre-Primary (US Kindergarten)"},{"$f":"'Drop Downs'!$B$2","v":"Benchmark"},{"$f":"'Drop Downs'!$C$4","v":"US Spring (WA Term 3 equivalent)"},18,"Benchmark"]
["Pre-Primary (US Kindergarten)BenchmarkUS Spring (WA Term 3 equivalent)19",{"$f":"'Drop Downs'!$A$3","v":"Pre-Primary (US Kindergarten)"},{"$f":"'Drop Downs'!$B$2","v":"Benchmark"},{"$f":"'Drop Downs'!$C$4","v":"US Spring (WA Term 3 equivalent)"},19,"Advanced"]
[{"$f":"B277&C277&D277&E277","v":"Pre-Primary (US Kindergarten)BenchmarkUS Spring (WA Term 3 equivalent)20"},{"$f":"'Drop Downs'!$A$3","v":"Pre-Primary (US Kindergarten)"},{"$f":"'Drop Downs'!$B$2","v":"Benchmark"},{"$f":"'Drop Downs'!$C$4","v":"US Spring (WA Term 3 equivalent)"},{"$f":"E276+1","v":20},"Advanced"]
["Pre-Primary (US Kindergarten)BenchmarkUS Spring (WA Term 3 equivalent)21",{"$f":"'Drop Downs'!$A$3","v":"Pre-Primary (US Kindergarten)"},{"$f":"'Drop Downs'!$B$2","v":"Benchmark"},{"$f":"'Drop Downs'!$C$4","v":"US Spring (WA Term 3 equivalent)"},{"$f":"E277+1","v":21},"Advanced"]
["Pre-Primary (US Kindergarten)BenchmarkUS Spring (WA Term 3 equivalent)22",{"$f":"'Drop Downs'!$A$3","v":"Pre-Primary (US Kindergarten)"},{"$f":"'Drop Downs'!$B$2","v":"Benchmark"},{"$f":"'Drop Downs'!$C$4","v":"US Spring (WA Term 3 equivalent)"},22,"Advanced"]
["Pre-Primary (US Kindergarten)BenchmarkUS Spring (WA Term 3 equivalent)23",{"$f":"'Drop Downs'!$A$3","v":"Pre-Primary (US Kindergarten)"},{"$f":"'Drop Downs'!$B$2","v":"Benchmark"},{"$f":"'Drop Downs'!$C$4","v":"US Spring (WA Term 3 equivalent)"},23,"Advanced"]
["Pre-Primary (US Kindergarten)BenchmarkUS Spring (WA Term 3 equivalent)24",{"$f":"'Drop Downs'!$A$3","v":"Pre-Primary (US Kindergarten)"},{"$f":"'Drop Downs'!$B$2","v":"Benchmark"},{"$f":"'Drop Downs'!$C$4","v":"US Spring (WA Term 3 equivalent)"},24,"Advanced"]
["Pre-Primary (US Kindergarten)BenchmarkUS Spring (WA Term 3 equivalent)25",{"$f":"'Drop Downs'!$A$3","v":"Pre-Primary (US Kindergarten)"},{"$f":"'Drop Downs'!$B$2","v":"Benchmark"},{"$f":"'Drop Downs'!$C$4","v":"US Spring (WA Term 3 equivalent)"},25,"Advanced"]
["Pre-Primary (US Kindergarten)BenchmarkUS Spring (WA Term 3 equivalent)26",{"$f":"'Drop Downs'!$A$3","v":"Pre-Primary (US Kindergarten)"},{"$f":"'Drop Downs'!$B$2","v":"Benchmark"},{"$f":"'Drop Downs'!$C$4","v":"US Spring (WA Term 3 equivalent)"},26,"Advanced"]
["Pre-Primary (US Kindergarten)BenchmarkUS Spring (WA Term 3 equivalent)27",{"$f":"'Drop Downs'!$A$3","v":"Pre-Primary (US Kindergarten)"},{"$f":"'Drop Downs'!$B$2","v":"Benchmark"},{"$f":"'Drop Downs'!$C$4","v":"US Spring (WA Term 3 equivalent)"},27,"Advanced"]
["Pre-Primary (US Kindergarten)BenchmarkUS Spring (WA Term 3 equivalent)28",{"$f":"'Drop Downs'!$A$3","v":"Pre-Primary (US Kindergarten)"},{"$f":"'Drop Downs'!$B$2","v":"Benchmark"},{"$f":"'Drop Downs'!$C$4","v":"US Spring (WA Term 3 equivalent)"},28,"Advanced"]
["Pre-Primary (US Kindergarten)BenchmarkUS Spring (WA Term 3 equivalent)29",{"$f":"'Drop Downs'!$A$3","v":"Pre-Primary (US Kindergarten)"},{"$f":"'Drop Downs'!$B$2","v":"Benchmark"},{"$f":"'Drop Downs'!$C$4","v":"US Spring (WA Term 3 equivalent)"},29,"Advanced"]
["Pre-Primary (US Kindergarten)BenchmarkUS Spring (WA Term 3 equivalent)30",{"$f":"'Drop Downs'!$A$3","v":"Pre-Primary (US Kindergarten)"},{"$f":"'Drop Downs'!$B$2","v":"Benchmark"},{"$f":"'Drop Downs'!$C$4","v":"US Spring (WA Term 3 equivalent)"},30,"Advanced"]
["Pre-Primary (US Kindergarten)BenchmarkUS Spring (WA Term 3 equivalent)31",{"$f":"'Drop Downs'!$A$3","v":"Pre-Primary (US Kindergarten)"},{"$f":"'Drop Downs'!$B$2","v":"Benchmark"},{"$f":"'Drop Downs'!$C$4","v":"US Spring (WA Term 3 equivalent)"},31,"Advanced"]
["Pre-Primary (US Kindergarten)BenchmarkUS Spring (WA Term 3 equivalent)32",{"$f":"'Drop Downs'!$A$3","v":"Pre-Primary (US Kindergarten)"},{"$f":"'Drop Downs'!$B$2","v":"Benchmark"},{"$f":"'Drop Downs'!$C$4","v":"US Spring (WA Term 3 equivalent)"},32,"Advanced"]
["Pre-Primary (US Kindergarten)BenchmarkUS Spring (WA Term 3 equivalent)33",{"$f":"'Drop Downs'!$A$3","v":"Pre-Primary (US Kindergarten)"},{"$f":"'Drop Downs'!$B$2","v":"Benchmark"},{"$f":"'Drop Downs'!$C$4","v":"US Spring (WA Term 3 equivalent)"},33,"Advanced"]
["Pre-Primary (US Kindergarten)BenchmarkUS Spring (WA Term 3 equivalent)34",{"$f":"'Drop Downs'!$A$3","v":"Pre-Primary (US Kindergarten)"},{"$f":"'Drop Downs'!$B$2","v":"Benchmark"},{"$f":"'Drop Downs'!$C$4","v":"US Spring (WA Term 3 equivalent)"},34,"Advanced"]
["Pre-Primary (US Kindergarten)BenchmarkUS Spring (WA Term 3 equivalent)35",{"$f":"'Drop Downs'!$A$3","v":"Pre-Primary (US Kindergarten)"},{"$f":"'Drop Downs'!$B$2","v":"Benchmark"},{"$f":"'Drop Downs'!$C$4","v":"US Spring (WA Term 3 equivalent)"},35,"Advanced"]
["Pre-Primary (US Kindergarten)BenchmarkUS Spring (WA Term 3 equivalent)36",{"$f":"'Drop Downs'!$A$3","v":"Pre-Primary (US Kindergarten)"},{"$f":"'Drop Downs'!$B$2","v":"Benchmark"},{"$f":"'Drop Downs'!$C$4","v":"US Spring (WA Term 3 equivalent)"},36,"Advanced"]
["Pre-Primary (US Kindergarten)BenchmarkUS Spring (WA Term 3 equivalent)37",{"$f":"'Drop Downs'!$A$3","v":"Pre-Primary (US Kindergarten)"},{"$f":"'Drop Downs'!$B$2","v":"Benchmark"},{"$f":"'Drop Downs'!$C$4","v":"US Spring (WA Term 3 equivalent)"},37,"Advanced"]
[{"$f":"B295&C295&D295&E295","v":"Pre-Primary (US Kindergarten)BenchmarkUS Spring (WA Term 3 equivalent)38"},{"$f":"'Drop Downs'!$A$3","v":"Pre-Primary (US Kindergarten)"},{"$f":"'Drop Downs'!$B$2","v":"Benchmark"},{"$f":"'Drop Downs'!$C$4","v":"US Spring (WA Term 3 equivalent)"},{"$f":"E294+1","v":38},"Advanced"]
["Pre-Primary (US Kindergarten)BenchmarkUS Spring (WA Term 3 equivalent)39",{"$f":"'Drop Downs'!$A$3","v":"Pre-Primary (US Kindergarten)"},{"$f":"'Drop Downs'!$B$2","v":"Benchmark"},{"$f":"'Drop Downs'!$C$4","v":"US Spring (WA Term 3 equivalent)"},39,"Advanced"]
["Pre-Primary (US Kindergarten)BenchmarkUS Spring (WA Term 3 equivalent)40",{"$f":"'Drop Downs'!$A$3","v":"Pre-Primary (US Kindergarten)"},{"$f":"'Drop Downs'!$B$2","v":"Benchmark"},{"$f":"'Drop Downs'!$C$4","v":"US Spring (WA Term 3 equivalent)"},40,"Advanced"]
[{"$f":"B298&C298&D298&E298","v":"Pre-Primary (US Kindergarten)BenchmarkUS Spring (WA Term 3 equivalent)41"},{"$f":"'Drop Downs'!$A$3","v":"Pre-Primary (US Kindergarten)"},{"$f":"'Drop Downs'!$B$2","v":"Benchmark"},{"$f":"'Drop Downs'!$C$4","v":"US Spring (WA Term 3 equivalent)"},41,"Advanced"]
["Pre-Primary (US Kindergarten)BenchmarkUS Spring (WA Term 3 equivalent)42",{"$f":"'Drop Downs'!$A$3","v":"Pre-Primary (US Kindergarten)"},{"$f":"'Drop Downs'!$B$2","v":"Benchmark"},{"$f":"'Drop Downs'!$C$4","v":"US Spring (WA Term 3 equivalent)"},42,"Advanced"]
["Pre-Primary (US Kindergarten)BenchmarkUS Spring (WA Term 3 equivalent)43",{"$f":"'Drop Downs'!$A$3","v":"Pre-Primary (US Kindergarten)"},{"$f":"'Drop Downs'!$B$2","v":"Benchmark"},{"$f":"'Drop Downs'!$C$4","v":"US Spring (WA Term 3 equivalent)"},43,"Advanced"]
["Pre-Primary (US Kindergarten)BenchmarkUS Spring (WA Term 3 equivalent)44",{"$f":"'Drop Downs'!$A$3","v":"Pre-Primary (US Kindergarten)"},{"$f":"'Drop Downs'!$B$2","v":"Benchmark"},{"$f":"'Drop Downs'!$C$4","v":"US Spring (WA Term 3 equivalent)"},44,"Advanced"]
["Pre-Primary (US Kindergarten)BenchmarkUS Spring (WA Term 3 equivalent)45",{"$f":"'Drop Downs'!$A$3","v":"Pre-Primary (US Kindergarten)"},{"$f":"'Drop Downs'!$B$2","v":"Benchmark"},{"$f":"'Drop Downs'!$C$4","v":"US Spring (WA Term 3 equivalent)"},45,"Advanced"]
["Pre-Primary (US Kindergarten)BenchmarkUS Spring (WA Term 3 equivalent)46",{"$f":"'Drop Downs'!$A$3","v":"Pre-Primary (US Kindergarten)"},{"$f":"'Drop Downs'!$B$2","v":"Benchmark"},{"$f":"'Drop Downs'!$C$4","v":"US Spring (WA Term 3 equivalent)"},46,"Advanced"]
["Pre-Primary (US Kindergarten)BenchmarkUS Spring (WA Term 3 equivalent)47",{"$f":"'Drop Downs'!$A$3","v":"Pre-Primary (US Kindergarten)"},{"$f":"'Drop Downs'!$B$2","v":"Benchmark"},{"$f":"'Drop Downs'!$C$4","v":"US Spring (WA Term 3 equivalent)"},47,"Advanced"]
["Pre-Primary (US Kindergarten)BenchmarkUS Spring (WA Term 3 equivalent)48",{"$f":"'Drop Downs'!$A$3","v":"Pre-Primary (US Kindergarten)"},{"$f":"'Drop Downs'!$B$2","v":"Benchmark"},{"$f":"'Drop Downs'!$C$4","v":"US Spring (WA Term 3 equivalent)"},48,"Advanced"]
["Pre-Primary (US Kindergarten)BenchmarkUS Spring (WA Term 3 equivalent)49",{"$f":"'Drop Downs'!$A$3","v":"Pre-Primary (US Kindergarten)"},{"$f":"'Drop Downs'!$B$2","v":"Benchmark"},{"$f":"'Drop Downs'!$C$4","v":"US Spring (WA Term 3 equivalent)"},49,"Advanced"]
["Pre-Primary (US Kindergarten)BenchmarkUS Spring (WA Term 3 equivalent)50",{"$f":"'Drop Downs'!$A$3","v":"Pre-Primary (US Kindergarten)"},{"$f":"'Drop Downs'!$B$2","v":"Benchmark"},{"$f":"'Drop Downs'!$C$4","v":"US Spring (WA Term 3 equivalent)"},50,"Advanced"]
["Year 1 (US Grade 1)BenchmarkUS Fall (WA Term 1 equivalent)0",{"$f":"'Drop Downs'!$A$4","v":"Year 1 (US Grade 1)"},{"$f":"'Drop Downs'!$B$2","v":"Benchmark"},{"$f":"'Drop Downs'!$C$2","v":"US Fall (WA Term 1 equivalent)"},0,"High Risk"]
[{"$f":"B309&C309&D309&E309","v":"Year 1 (US Grade 1)BenchmarkUS Fall (WA Term 1 equivalent)1"},{"$f":"'Drop Downs'!$A$4","v":"Year 1 (US Grade 1)"},{"$f":"'Drop Downs'!$B$2","v":"Benchmark"},{"$f":"'Drop Downs'!$C$2","v":"US Fall (WA Term 1 equivalent)"},1,"High Risk"]
["Year 1 (US Grade 1)BenchmarkUS Fall (WA Term 1 equivalent)2",{"$f":"'Drop Downs'!$A$4","v":"Year 1 (US Grade 1)"},{"$f":"'Drop Downs'!$B$2","v":"Benchmark"},{"$f":"'Drop Downs'!$C$2","v":"US Fall (WA Term 1 equivalent)"},2,"High Risk"]
["Year 1 (US Grade 1)BenchmarkUS Fall (WA Term 1 equivalent)3",{"$f":"'Drop Downs'!$A$4","v":"Year 1 (US Grade 1)"},{"$f":"'Drop Downs'!$B$2","v":"Benchmark"},{"$f":"'Drop Downs'!$C$2","v":"US Fall (WA Term 1 equivalent)"},3,"High Risk"]
["Year 1 (US Grade 1)BenchmarkUS Fall (WA Term 1 equivalent)4",{"$f":"'Drop Downs'!$A$4","v":"Year 1 (US Grade 1)"},{"$f":"'Drop Downs'!$B$2","v":"Benchmark"},{"$f":"'Drop Downs'!$C$2","v":"US Fall (WA Term 1 equivalent)"},4,"High Risk"]
["Year 1 (US Grade 1)BenchmarkUS Fall (WA Term 1 equivalent)5",{"$f":"'Drop Downs'!$A$4","v":"Year 1 (US Grade 1)"},{"$f":"'Drop Downs'!$B$2","v":"Benchmark"},{"$f":"'Drop Downs'!$C$2","v":"US Fall (WA Term 1 equivalent)"},5,"High Risk"]
["Year 1 (US Grade 1)BenchmarkUS Fall (WA Term 1 equivalent)6",{"$f":"'Drop Downs'!$A$4","v":"Year 1 (US Grade 1)"},{"$f":"'Drop Downs'!$B$2","v":"Benchmark"},{"$f":"'Drop Downs'!$C$2","v":"US Fall (WA Term 1 equivalent)"},6,"High Risk"]
["Year 1 (US Grade 1)BenchmarkUS Fall (WA Term 1 equivalent)7",{"$f":"'Drop Downs'!$A$4","v":"Year 1 (US Grade 1)"},{"$f":"'Drop Downs'!$B$2","v":"Benchmark"},{"$f":"'Drop Downs'!$C$2","v":"US Fall (WA Term 1 equivalent)"},7,"High Risk"]
["Year 1 (US Grade 1)BenchmarkUS Fall (WA Term 1 equivalent)8",{"$f":"'Drop Downs'!$A$4","v":"Year 1 (US Grade 1)"},{"$f":"'Drop Downs'!$B$2","v":"Benchmark"},{"$f":"'Drop Downs'!$C$2","v":"US Fall (WA Term 1 equivalent)"},8,"High Risk"]
["Year 1 (US Grade 1)BenchmarkUS Fall (WA Term 1 equivalent)9",{"$f":"'Drop Downs'!$A$4","v":"Year 1 (US Grade 1)"},{"$f":"'Drop Downs'!$B$2","v":"Benchmark"},{"$f":"'Drop Downs'!$C$2","v":"US Fall (WA Term 1 equivalent)"},9,"High Risk"]
["Year 1 (US Grade 1)BenchmarkUS Fall (WA Term 1 equivalent)10",{"$f":"'Drop Downs'!$A$4","v":"Year 1 (US Grade 1)"},{"$f":"'Drop Downs'!$B$2","v":"Benchmark"},{"$f":"'Drop Downs'!$C$2","v":"US Fall (WA Term 1 equivalent)"},10,"High Risk"]
["Year 1 (US Grade 1)BenchmarkUS Fall (WA Term 1 equivalent)11",{"$f":"'Drop Downs'!$A$4","v":"Year 1 (US Grade 1)"},{"$f":"'Drop Downs'!$B$2","v":"Benchmark"},{"$f":"'Drop Downs'!$C$2","v":"US Fall (WA Term 1 equivalent)"},11,"High Risk"]
["Year 1 (US Grade 1)BenchmarkUS Fall (WA Term 1 equivalent)12",{"$f":"'Drop Downs'!$A$4","v":"Year 1 (US Grade 1)"},{"$f":"'Drop Downs'!$B$2","v":"Benchmark"},{"$f":"'Drop Downs'!$C$2","v":"US Fall (WA Term 1 equivalent)"},12,"High Risk"]
["Year 1 (US Grade 1)BenchmarkUS Fall (WA Term 1 equivalent)13",{"$f":"'Drop Downs'!$A$4","v":"Year 1 (US Grade 1)"},{"$f":"'Drop Downs'!$B$2","v":"Benchmark"},{"$f":"'Drop Downs'!$C$2","v":"US Fall (WA Term 1 equivalent)"},13,"High Risk"]
["Year 1 (US Grade 1)BenchmarkUS Fall (WA Term 1 equivalent)14",{"$f":"'Drop Downs'!$A$4","v":"Year 1 (US Grade 1)"},{"$f":"'Drop Downs'!$B$2","v":"Benchmark"},{"$f":"'Drop Downs'!$C$2","v":"US Fall (WA Term 1 equivalent)"},14,"Moderate Risk"]
["Year 1 (US Grade 1)BenchmarkUS Fall (WA Term 1 equivalent)15",{"$f":"'Drop Downs'!$A$4","v":"Year 1 (US Grade 1)"},{"$f":"'Drop Downs'!$B$2","v":"Benchmark"},{"$f":"'Drop Downs'!$C$2","v":"US Fall (WA Term 1 equivalent)"},15,"Benchmark"]
["Year 1 (US Grade 1)BenchmarkUS Fall (WA Term 1 equivalent)16",{"$f":"'Drop Downs'!$A$4","v":"Year 1 (US Grade 1)"},{"$f":"'Drop Downs'!$B$2","v":"Benchmark"},{"$f":"'Drop Downs'!$C$2","v":"US Fall (WA Term 1 equivalent)"},16,"Benchmark"]
["Year 1 (US Grade 1)BenchmarkUS Fall (WA Term 1 equivalent)17",{"$f":"'Drop Downs'!$A$4","v":"Year 1 (US Grade 1)"},{"$f":"'Drop Downs'!$B$2","v":"Benchmark"},{"$f":"'Drop Downs'!$C$2","v":"US Fall (WA Term 1 equivalent)"},17,"Benchmark"]
["Year 1 (US Grade 1)BenchmarkUS Fall (WA Term 1 equivalent)18",{"$f":"'Drop Downs'!$A$4","v":"Year 1 (US Grade 1)"},{"$f":"'Drop Downs'!$B$2","v":"Benchmark"},{"$f":"'Drop Downs'!$C$2","v":"US Fall (WA Term 1 equivalent)"},18,"Benchmark"]
["Year 1 (US Grade 1)BenchmarkUS Fall (WA Term 1 equivalent)19",{"$f":"'Drop Downs'!$A$4","v":"Year 1 (US Grade 1)"},{"$f":"'Drop Downs'!$B$2","v":"Benchmark"},{"$f":"'Drop Downs'!$C$2","v":"US Fall (WA Term 1 equivalent)"},19,"Benchmark"]
["Year 1 (US Grade 1)BenchmarkUS Fall (WA Term 1 equivalent)20",{"$f":"'Drop Downs'!$A$4","v":"Year 1 (US Grade 1)"},{"$f":"'Drop Downs'!$B$2","v":"Benchmark"},{"$f":"'Drop Downs'!$C$2","v":"US Fall (WA Term 1 equivalent)"},20,"Advanced"]
["Year 1 (US Grade 1)BenchmarkUS Fall (WA Term 1 equivalent)21",{"$f":"'Drop Downs'!$A$4","v":"Year 1 (US Grade 1)"},{"$f":"'Drop Downs'!$B$2","v":"Benchmark"},{"$f":"'Drop Downs'!$C$2","v":"US Fall (WA Term 1 equivalent)"},21,"Advanced"]
["Year 1 (US Grade 1)BenchmarkUS Fall (WA Term 1 equivalent)22",{"$f":"'Drop Downs'!$A$4","v":"Year 1 (US Grade 1)"},{"$f":"'Drop Downs'!$B$2","v":"Benchmark"},{"$f":"'Drop Downs'!$C$2","v":"US Fall (WA Term 1 equivalent)"},22,"Advanced"]
["Year 1 (US Grade 1)BenchmarkUS Fall (WA Term 1 equivalent)23",{"$f":"'Drop Downs'!$A$4","v":"Year 1 (US Grade 1)"},{"$f":"'Drop Downs'!$B$2","v":"Benchmark"},{"$f":"'Drop Downs'!$C$2","v":"US Fall (WA Term 1 equivalent)"},23,"Advanced"]
["Year 1 (US Grade 1)BenchmarkUS Fall (WA Term 1 equivalent)24",{"$f":"'Drop Downs'!$A$4","v":"Year 1 (US Grade 1)"},{"$f":"'Drop Downs'!$B$2","v":"Benchmark"},{"$f":"'Drop Downs'!$C$2","v":"US Fall (WA Term 1 equivalent)"},24,"Advanced"]
[{"$f":"B333&C333&D333&E333","v":"Year 1 (US Grade 1)BenchmarkUS Fall (WA Term 1 equivalent)25"},{"$f":"'Drop Downs'!$A$4","v":"Year 1 (US Grade 1)"},{"$f":"'Drop Downs'!$B$2","v":"Benchmark"},{"$f":"'Drop Downs'!$C$2","v":"US Fall (WA Term 1 equivalent)"},25,"Advanced"]
["Year 1 (US Grade 1)BenchmarkUS Fall (WA Term 1 equivalent)26",{"$f":"'Drop Downs'!$A$4","v":"Year 1 (US Grade 1)"},{"$f":"'Drop Downs'!$B$2","v":"Benchmark"},{"$f":"'Drop Downs'!$C$2","v":"US Fall (WA Term 1 equivalent)"},26,"Advanced"]
["Year 1 (US Grade 1)BenchmarkUS Fall (WA Term 1 equivalent)27",{"$f":"'Drop Downs'!$A$4","v":"Year 1 (US Grade 1)"},{"$f":"'Drop Downs'!$B$2","v":"Benchmark"},{"$f":"'Drop Downs'!$C$2","v":"US Fall (WA Term 1 equivalent)"},27,"Advanced"]
["Year 1 (US Grade 1)BenchmarkUS Fall (WA Term 1 equivalent)28",{"$f":"'Drop Downs'!$A$4","v":"Year 1 (US Grade 1)"},{"$f":"'Drop Downs'!$B$2","v":"Benchmark"},{"$f":"'Drop Downs'!$C$2","v":"US Fall (WA Term 1 equivalent)"},28,"Advanced"]
["Year 1 (US Grade 1)BenchmarkUS Fall (WA Term 1 equivalent)29",{"$f":"'Drop Downs'!$A$4","v":"Year 1 (US Grade 1)"},{"$f":"'Drop Downs'!$B$2","v":"Benchmark"},{"$f":"'Drop Downs'!$C$2","v":"US Fall (WA Term 1 equivalent)"},29,"Advanced"]
["Year 1 (US Grade 1)BenchmarkUS Fall (WA Term 1 equivalent)30",{"$f":"'Drop Downs'!$A$4","v":"Year 1 (US Grade 1)"},{"$f":"'Drop Downs'!$B$2","v":"Benchmark"},{"$f":"'Drop Downs'!$C$2","v":"US Fall (WA Term 1 equivalent)"},30,"Advanced"]
[{"$f":"B339&C339&D339&E339","v":"Year 1 (US Grade 1)BenchmarkUS Fall (WA Term 1 equivalent)31"},{"$f":"'Drop Downs'!$A$4","v":"Year 1 (US Grade 1)"},{"$f":"'Drop Downs'!$B$2","v":"Benchmark"},{"$f":"'Drop Downs'!$C$2","v":"US Fall (WA Term 1 equivalent)"},31,"Advanced"]
["Year 1 (US Grade 1)BenchmarkUS Fall (WA Term 1 equivalent)32",{"$f":"'Drop Downs'!$A$4","v":"Year 1 (US Grade 1)"},{"$f":"'Drop Downs'!$B$2","v":"Benchmark"},{"$f":"'Drop Downs'!$C$2","v":"US Fall (WA Term 1 equivalent)"},32,"Advanced"]
["Year 1 (US Grade 1)BenchmarkUS Fall (WA Term 1 equivalent)33",{"$f":"'Drop Downs'!$A$4","v":"Year 1 (US Grade 1)"},{"$f":"'Drop Downs'!$B$2","v":"Benchmark"},{"$f":"'Drop Downs'!$C$2","v":"US Fall (WA Term 1 equivalent)"},33,"Advanced"]
["Year 1 (US Grade 1)BenchmarkUS Fall (WA Term 1 equivalent)34",{"$f":"'Drop Downs'!$A$4","v":"Year 1 (US Grade 1)"},{"$f":"'Drop Downs'!$B$2","v":"Benchmark"},{"$f":"'Drop Downs'!$C$2","v":"US Fall (WA Term 1 equivalent)"},34,"Advanced"]
["Year 1 (US Grade 1)BenchmarkUS Fall (WA Term 1 equivalent)35",{"$f":"'Drop Downs'!$A$4","v":"Year 1 (US Grade 1)"},{"$f":"'Drop Downs'!$B$2","v":"Benchmark"},{"$f":"'Drop Downs'!$C$2","v":"US Fall (WA Term 1 equivalent)"},35,"Advanced"]
["Year 1 (US Grade 1)BenchmarkUS Fall (WA Term 1 equivalent)36",{"$f":"'Drop Downs'!$A$4","v":"Year 1 (US Grade 1)"},{"$f":"'Drop Downs'!$B$2","v":"Benchmark"},{"$f":"'Drop Downs'!$C$2","v":"US Fall (WA Term 1 equivalent)"},36,"Advanced"]
["Year 1 (US Grade 1)BenchmarkUS Fall (WA Term 1 equivalent)37",{"$f":"'Drop Downs'!$A$4","v":"Year 1 (US Grade 1)"},{"$f":"'Drop Downs'!$B$2","v":"Benchmark"},{"$f":"'Drop Downs'!$C$2","v":"US Fall (WA Term 1 equivalent)"},37,"Advanced"]
["Year 1 (US Grade 1)BenchmarkUS Fall (WA Term 1 equivalent)38",{"$f":"'Drop Downs'!$A$4","v":"Year 1 (US Grade 1)"},{"$f":"'Drop Downs'!$B$2","v":"Benchmark"},{"$f":"'Drop Downs'!$C$2","v":"US Fall (WA Term 1 equivalent)"},38,"Advanced"]
["Year 1 (US Grade 1)BenchmarkUS Fall (WA Term 1 equivalent)39",{"$f":"'Drop Downs'!$A$4","v":"Year 1 (US Grade 1)"},{"$f":"'Drop Downs'!$B$2","v":"Benchmark"},{"$f":"'Drop Downs'!$C$2","v":"US Fall (WA Term 1 equivalent)"},39,"Advanced"]
["Year 1 (US Grade 1)BenchmarkUS Fall (WA Term 1 equivalent)40",{"$f":"'Drop Downs'!$A$4","v":"Year 1 (US Grade 1)"},{"$f":"'Drop Downs'!$B$2","v":"Benchmark"},{"$f":"'Drop Downs'!$C$2","v":"US Fall (WA Term 1 equivalent)"},40,"Advanced"]
[{"$f":"B349&C349&D349&E349","v":"Year 1 (US Grade 1)BenchmarkUS Fall (WA Term 1 equivalent)41"},{"$f":"'Drop Downs'!$A$4","v":"Year 1 (US Grade 1)"},{"$f":"'Drop Downs'!$B$2","v":"Benchmark"},{"$f":"'Drop Downs'!$C$2","v":"US Fall (WA Term 1 equivalent)"},{"$f":"E348+1","v":41},"Advanced"]
["Year 1 (US Grade 1)BenchmarkUS Fall (WA Term 1 equivalent)42",{"$f":"'Drop Downs'!$A$4","v":"Year 1 (US Grade 1)"},{"$f":"'Drop Downs'!$B$2","v":"Benchmark"},{"$f":"'Drop Downs'!$C$2","v":"US Fall (WA Term 1 equivalent)"},{"$f":"E349+1","v":42},"Advanced"]
["Year 1 (US Grade 1)BenchmarkUS Fall (WA Term 1 equivalent)43",{"$f":"'Drop Downs'!$A$4","v":"Year 1 (US Grade 1)"},{"$f":"'Drop Downs'!$B$2","v":"Benchmark"},{"$f":"'Drop Downs'!$C$2","v":"US Fall (WA Term 1 equivalent)"},43,"Advanced"]
["Year 1 (US Grade 1)BenchmarkUS Fall (WA Term 1 equivalent)44",{"$f":"'Drop Downs'!$A$4","v":"Year 1 (US Grade 1)"},{"$f":"'Drop Downs'!$B$2","v":"Benchmark"},{"$f":"'Drop Downs'!$C$2","v":"US Fall (WA Term 1 equivalent)"},44,"Advanced"]
["Year 1 (US Grade 1)BenchmarkUS Fall (WA Term 1 equivalent)45",{"$f":"'Drop Downs'!$A$4","v":"Year 1 (US Grade 1)"},{"$f":"'Drop Downs'!$B$2","v":"Benchmark"},{"$f":"'Drop Downs'!$C$2","v":"US Fall (WA Term 1 equivalent)"},45,"Advanced"]
["Year 1 (US Grade 1)BenchmarkUS Fall (WA Term 1 equivalent)46",{"$f":"'Drop Downs'!$A$4","v":"Year 1 (US Grade 1)"},{"$f":"'Drop Downs'!$B$2","v":"Benchmark"},{"$f":"'Drop Downs'!$C$2","v":"US Fall (WA Term 1 equivalent)"},46,"Advanced"]
["Year 1 (US Grade 1)BenchmarkUS Fall (WA Term 1 equivalent)47",{"$f":"'Drop Downs'!$A$4","v":"Year 1 (US Grade 1)"},{"$f":"'Drop Downs'!$B$2","v":"Benchmark"},{"$f":"'Drop Downs'!$C$2","v":"US Fall (WA Term 1 equivalent)"},47,"Advanced"]
["Year 1 (US Grade 1)BenchmarkUS Fall (WA Term 1 equivalent)48",{"$f":"'Drop Downs'!$A$4","v":"Year 1 (US Grade 1)"},{"$f":"'Drop Downs'!$B$2","v":"Benchmark"},{"$f":"'Drop Downs'!$C$2","v":"US Fall (WA Term 1 equivalent)"},48,"Advanced"]
["Year 1 (US Grade 1)BenchmarkUS Fall (WA Term 1 equivalent)49",{"$f":"'Drop Downs'!$A$4","v":"Year 1 (US Grade 1)"},{"$f":"'Drop Downs'!$B$2","v":"Benchmark"},{"$f":"'Drop Downs'!$C$2","v":"US Fall (WA Term 1 equivalent)"},49,"Advanced"]
["Year 1 (US Grade 1)BenchmarkUS Fall (WA Term 1 equivalent)50",{"$f":"'Drop Downs'!$A$4","v":"Year 1 (US Grade 1)"},{"$f":"'Drop Downs'!$B$2","v":"Benchmark"},{"$f":"'Drop Downs'!$C$2","v":"US Fall (WA Term 1 equivalent)"},50,"Advanced"]
["Year 1 (US Grade 1)BenchmarkUS Winter (WA Term 2 equivalent)0",{"$f":"'Drop Downs'!$A$4","v":"Year 1 (US Grade 1)"},{"$f":"'Drop Downs'!$B$2","v":"Benchmark"},{"$f":"'Drop Downs'!$C$3","v":"US Winter (WA Term 2 equivalent)"},0,"High Risk"]
[{"$f":"B360&C360&D360&E360","v":"Year 1 (US Grade 1)BenchmarkUS Winter (WA Term 2 equivalent)1"},{"$f":"'Drop Downs'!$A$4","v":"Year 1 (US Grade 1)"},{"$f":"'Drop Downs'!$B$2","v":"Benchmark"},{"$f":"'Drop Downs'!$C$3","v":"US Winter (WA Term 2 equivalent)"},1,"High Risk"]
["Year 1 (US Grade 1)BenchmarkUS Winter (WA Term 2 equivalent)2",{"$f":"'Drop Downs'!$A$4","v":"Year 1 (US Grade 1)"},{"$f":"'Drop Downs'!$B$2","v":"Benchmark"},{"$f":"'Drop Downs'!$C$3","v":"US Winter (WA Term 2 equivalent)"},2,"High Risk"]
["Year 1 (US Grade 1)BenchmarkUS Winter (WA Term 2 equivalent)3",{"$f":"'Drop Downs'!$A$4","v":"Year 1 (US Grade 1)"},{"$f":"'Drop Downs'!$B$2","v":"Benchmark"},{"$f":"'Drop Downs'!$C$3","v":"US Winter (WA Term 2 equivalent)"},3,"High Risk"]
["Year 1 (US Grade 1)BenchmarkUS Winter (WA Term 2 equivalent)4",{"$f":"'Drop Downs'!$A$4","v":"Year 1 (US Grade 1)"},{"$f":"'Drop Downs'!$B$2","v":"Benchmark"},{"$f":"'Drop Downs'!$C$3","v":"US Winter (WA Term 2 equivalent)"},4,"High Risk"]
["Year 1 (US Grade 1)BenchmarkUS Winter (WA Term 2 equivalent)5",{"$f":"'Drop Downs'!$A$4","v":"Year 1 (US Grade 1)"},{"$f":"'Drop Downs'!$B$2","v":"Benchmark"},{"$f":"'Drop Downs'!$C$3","v":"US Winter (WA Term 2 equivalent)"},5,"High Risk"]
["Year 1 (US Grade 1)BenchmarkUS Winter (WA Term 2 equivalent)6",{"$f":"'Drop Downs'!$A$4","v":"Year 1 (US Grade 1)"},{"$f":"'Drop Downs'!$B$2","v":"Benchmark"},{"$f":"'Drop Downs'!$C$3","v":"US Winter (WA Term 2 equivalent)"},6,"High Risk"]
["Year 1 (US Grade 1)BenchmarkUS Winter (WA Term 2 equivalent)7",{"$f":"'Drop Downs'!$A$4","v":"Year 1 (US Grade 1)"},{"$f":"'Drop Downs'!$B$2","v":"Benchmark"},{"$f":"'Drop Downs'!$C$3","v":"US Winter (WA Term 2 equivalent)"},7,"High Risk"]
["Year 1 (US Grade 1)BenchmarkUS Winter (WA Term 2 equivalent)8",{"$f":"'Drop Downs'!$A$4","v":"Year 1 (US Grade 1)"},{"$f":"'Drop Downs'!$B$2","v":"Benchmark"},{"$f":"'Drop Downs'!$C$3","v":"US Winter (WA Term 2 equivalent)"},8,"High Risk"]
["Year 1 (US Grade 1)BenchmarkUS Winter (WA Term 2 equivalent)9",{"$f":"'Drop Downs'!$A$4","v":"Year 1 (US Grade 1)"},{"$f":"'Drop Downs'!$B$2","v":"Benchmark"},{"$f":"'Drop Downs'!$C$3","v":"US Winter (WA Term 2 equivalent)"},9,"High Risk"]
["Year 1 (US Grade 1)BenchmarkUS Winter (WA Term 2 equivalent)10",{"$f":"'Drop Downs'!$A$4","v":"Year 1 (US Grade 1)"},{"$f":"'Drop Downs'!$B$2","v":"Benchmark"},{"$f":"'Drop Downs'!$C$3","v":"US Winter (WA Term 2 equivalent)"},10,"High Risk"]
["Year 1 (US Grade 1)BenchmarkUS Winter (WA Term 2 equivalent)11",{"$f":"'Drop Downs'!$A$4","v":"Year 1 (US Grade 1)"},{"$f":"'Drop Downs'!$B$2","v":"Benchmark"},{"$f":"'Drop Downs'!$C$3","v":"US Winter (WA Term 2 equivalent)"},11,"High Risk"]
["Year 1 (US Grade 1)BenchmarkUS Winter (WA Term 2 equivalent)12",{"$f":"'Drop Downs'!$A$4","v":"Year 1 (US Grade 1)"},{"$f":"'Drop Downs'!$B$2","v":"Benchmark"},{"$f":"'Drop Downs'!$C$3","v":"US Winter (WA Term 2 equivalent)"},12,"High Risk"]
["Year 1 (US Grade 1)BenchmarkUS Winter (WA Term 2 equivalent)13",{"$f":"'Drop Downs'!$A$4","v":"Year 1 (US Grade 1)"},{"$f":"'Drop Downs'!$B$2","v":"Benchmark"},{"$f":"'Drop Downs'!$C$3","v":"US Winter (WA Term 2 equivalent)"},13,"High Risk"]
["Year 1 (US Grade 1)BenchmarkUS Winter (WA Term 2 equivalent)14",{"$f":"'Drop Downs'!$A$4","v":"Year 1 (US Grade 1)"},{"$f":"'Drop Downs'!$B$2","v":"Benchmark"},{"$f":"'Drop Downs'!$C$3","v":"US Winter (WA Term 2 equivalent)"},14,"High Risk"]
["Year 1 (US Grade 1)BenchmarkUS Winter (WA Term 2 equivalent)15",{"$f":"'Drop Downs'!$A$4","v":"Year 1 (US Grade 1)"},{"$f":"'Drop Downs'!$B$2","v":"Benchmark"},{"$f":"'Drop Downs'!$C$3","v":"US Winter (WA Term 2 equivalent)"},15,"Moderate Risk"]
["Year 1 (US Grade 1)BenchmarkUS Winter (WA Term 2 equivalent)16",{"$f":"'Drop Downs'!$A$4","v":"Year 1 (US Grade 1)"},{"$f":"'Drop Downs'!$B$2","v":"Benchmark"},{"$f":"'Drop Downs'!$C$3","v":"US Winter (WA Term 2 equivalent)"},16,"Moderate Risk"]
["Year 1 (US Grade 1)BenchmarkUS Winter (WA Term 2 equivalent)17",{"$f":"'Drop Downs'!$A$4","v":"Year 1 (US Grade 1)"},{"$f":"'Drop Downs'!$B$2","v":"Benchmark"},{"$f":"'Drop Downs'!$C$3","v":"US Winter (WA Term 2 equivalent)"},17,"Benchmark"]
["Year 1 (US Grade 1)BenchmarkUS Winter (WA Term 2 equivalent)18",{"$f":"'Drop Downs'!$A$4","v":"Year 1 (US Grade 1)"},{"$f":"'Drop Downs'!$B$2","v":"Benchmark"},{"$f":"'Drop Downs'!$C$3","v":"US Winter (WA Term 2 equivalent)"},18,"Benchmark"]
["Year 1 (US Grade 1)BenchmarkUS Winter (WA Term 2 equivalent)19",{"$f":"'Drop Downs'!$A$4","v":"Year 1 (US Grade 1)"},{"$f":"'Drop Downs'!$B$2","v":"Benchmark"},{"$f":"'Drop Downs'!$C$3","v":"US Winter (WA Term 2 equivalent)"},19,"Benchmark"]
["Year 1 (US Grade 1)BenchmarkUS Winter (WA Term 2 equivalent)20",{"$f":"'Drop Downs'!$A$4","v":"Year 1 (US Grade 1)"},{"$f":"'Drop Downs'!$B$2","v":"Benchmark"},{"$f":"'Drop Downs'!$C$3","v":"US Winter (WA Term 2 equivalent)"},20,"Benchmark"]
["Year 1 (US Grade 1)BenchmarkUS Winter (WA Term 2 equivalent)21",{"$f":"'Drop Downs'!$A$4","v":"Year 1 (US Grade 1)"},{"$f":"'Drop Downs'!$B$2","v":"Benchmark"},{"$f":"'Drop Downs'!$C$3","v":"US Winter (WA Term 2 equivalent)"},21,"Advanced"]
["Year 1 (US Grade 1)BenchmarkUS Winter (WA Term 2 equivalent)22",{"$f":"'Drop Downs'!$A$4","v":"Year 1 (US Grade 1)"},{"$f":"'Drop Downs'!$B$2","v":"Benchmark"},{"$f":"'Drop Downs'!$C$3","v":"US Winter (WA Term 2 equivalent)"},22,"Advanced"]
["Year 1 (US Grade 1)BenchmarkUS Winter (WA Term 2 equivalent)23",{"$f":"'Drop Downs'!$A$4","v":"Year 1 (US Grade 1)"},{"$f":"'Drop Downs'!$B$2","v":"Benchmark"},{"$f":"'Drop Downs'!$C$3","v":"US Winter (WA Term 2 equivalent)"},23,"Advanced"]
["Year 1 (US Grade 1)BenchmarkUS Winter (WA Term 2 equivalent)24",{"$f":"'Drop Downs'!$A$4","v":"Year 1 (US Grade 1)"},{"$f":"'Drop Downs'!$B$2","v":"Benchmark"},{"$f":"'Drop Downs'!$C$3","v":"US Winter (WA Term 2 equivalent)"},24,"Advanced"]
["Year 1 (US Grade 1)BenchmarkUS Winter (WA Term 2 equivalent)25",{"$f":"'Drop Downs'!$A$4","v":"Year 1 (US Grade 1)"},{"$f":"'Drop Downs'!$B$2","v":"Benchmark"},{"$f":"'Drop Downs'!$C$3","v":"US Winter (WA Term 2 equivalent)"},25,"Advanced"]
["Year 1 (US Grade 1)BenchmarkUS Winter (WA Term 2 equivalent)26",{"$f":"'Drop Downs'!$A$4","v":"Year 1 (US Grade 1)"},{"$f":"'Drop Downs'!$B$2","v":"Benchmark"},{"$f":"'Drop Downs'!$C$3","v":"US Winter (WA Term 2 equivalent)"},26,"Advanced"]
["Year 1 (US Grade 1)BenchmarkUS Winter (WA Term 2 equivalent)27",{"$f":"'Drop Downs'!$A$4","v":"Year 1 (US Grade 1)"},{"$f":"'Drop Downs'!$B$2","v":"Benchmark"},{"$f":"'Drop Downs'!$C$3","v":"US Winter (WA Term 2 equivalent)"},27,"Advanced"]
["Year 1 (US Grade 1)BenchmarkUS Winter (WA Term 2 equivalent)28",{"$f":"'Drop Downs'!$A$4","v":"Year 1 (US Grade 1)"},{"$f":"'Drop Downs'!$B$2","v":"Benchmark"},{"$f":"'Drop Downs'!$C$3","v":"US Winter (WA Term 2 equivalent)"},28,"Advanced"]
["Year 1 (US Grade 1)BenchmarkUS Winter (WA Term 2 equivalent)29",{"$f":"'Drop Downs'!$A$4","v":"Year 1 (US Grade 1)"},{"$f":"'Drop Downs'!$B$2","v":"Benchmark"},{"$f":"'Drop Downs'!$C$3","v":"US Winter (WA Term 2 equivalent)"},29,"Advanced"]
["Year 1 (US Grade 1)BenchmarkUS Winter (WA Term 2 equivalent)30",{"$f":"'Drop Downs'!$A$4","v":"Year 1 (US Grade 1)"},{"$f":"'Drop Downs'!$B$2","v":"Benchmark"},{"$f":"'Drop Downs'!$C$3","v":"US Winter (WA Term 2 equivalent)"},30,"Advanced"]
["Year 1 (US Grade 1)BenchmarkUS Winter (WA Term 2 equivalent)31",{"$f":"'Drop Downs'!$A$4","v":"Year 1 (US Grade 1)"},{"$f":"'Drop Downs'!$B$2","v":"Benchmark"},{"$f":"'Drop Downs'!$C$3","v":"US Winter (WA Term 2 equivalent)"},31,"Advanced"]
["Year 1 (US Grade 1)BenchmarkUS Winter (WA Term 2 equivalent)32",{"$f":"'Drop Downs'!$A$4","v":"Year 1 (US Grade 1)"},{"$f":"'Drop Downs'!$B$2","v":"Benchmark"},{"$f":"'Drop Downs'!$C$3","v":"US Winter (WA Term 2 equivalent)"},32,"Advanced"]
["Year 1 (US Grade 1)BenchmarkUS Winter (WA Term 2 equivalent)33",{"$f":"'Drop Downs'!$A$4","v":"Year 1 (US Grade 1)"},{"$f":"'Drop Downs'!$B$2","v":"Benchmark"},{"$f":"'Drop Downs'!$C$3","v":"US Winter (WA Term 2 equivalent)"},33,"Advanced"]
["Year 1 (US Grade 1)BenchmarkUS Winter (WA Term 2 equivalent)34",{"$f":"'Drop Downs'!$A$4","v":"Year 1 (US Grade 1)"},{"$f":"'Drop Downs'!$B$2","v":"Benchmark"},{"$f":"'Drop Downs'!$C$3","v":"US Winter (WA Term 2 equivalent)"},34,"Advanced"]
["Year 1 (US Grade 1)BenchmarkUS Winter (WA Term 2 equivalent)35",{"$f":"'Drop Downs'!$A$4","v":"Year 1 (US Grade 1)"},{"$f":"'Drop Downs'!$B$2","v":"Benchmark"},{"$f":"'Drop Downs'!$C$3","v":"US Winter (WA Term 2 equivalent)"},35,"Advanced"]
["Year 1 (US Grade 1)BenchmarkUS Winter (WA Term 2 equivalent)36",{"$f":"'Drop Downs'!$A$4","v":"Year 1 (US Grade 1)"},{"$f":"'Drop Downs'!$B$2","v":"Benchmark"},{"$f":"'Drop Downs'!$C$3","v":"US Winter (WA Term 2 equivalent)"},36,"Advanced"]
["Year 1 (US Grade 1)BenchmarkUS Winter (WA Term 2 equivalent)37",{"$f":"'Drop Downs'!$A$4","v":"Year 1 (US Grade 1)"},{"$f":"'Drop Downs'!$B$2","v":"Benchmark"},{"$f":"'Drop Downs'!$C$3","v":"US Winter (WA Term 2 equivalent)"},37,"Advanced"]
["Year 1 (US Grade 1)BenchmarkUS Winter (WA Term 2 equivalent)38",{"$f":"'Drop Downs'!$A$4","v":"Year 1 (US Grade 1)"},{"$f":"'Drop Downs'!$B$2","v":"Benchmark"},{"$f":"'Drop Downs'!$C$3","v":"US Winter (WA Term 2 equivalent)"},38,"Advanced"]
["Year 1 (US Grade 1)BenchmarkUS Winter (WA Term 2 equivalent)39",{"$f":"'Drop Downs'!$A$4","v":"Year 1 (US Grade 1)"},{"$f":"'Drop Downs'!$B$2","v":"Benchmark"},{"$f":"'Drop Downs'!$C$3","v":"US Winter (WA Term 2 equivalent)"},39,"Advanced"]
["Year 1 (US Grade 1)BenchmarkUS Winter (WA Term 2 equivalent)40",{"$f":"'Drop Downs'!$A$4","v":"Year 1 (US Grade 1)"},{"$f":"'Drop Downs'!$B$2","v":"Benchmark"},{"$f":"'Drop Downs'!$C$3","v":"US Winter (WA Term 2 equivalent)"},40,"Advanced"]
[{"$f":"B400&C400&D400&E400","v":"Year 1 (US Grade 1)BenchmarkUS Winter (WA Term 2 equivalent)41"},{"$f":"'Drop Downs'!$A$4","v":"Year 1 (US Grade 1)"},{"$f":"'Drop Downs'!$B$2","v":"Benchmark"},{"$f":"'Drop Downs'!$C$3","v":"US Winter (WA Term 2 equivalent)"},{"$f":"E399+1","v":41},"Advanced"]
["Year 1 (US Grade 1)BenchmarkUS Winter (WA Term 2 equivalent)42",{"$f":"'Drop Downs'!$A$4","v":"Year 1 (US Grade 1)"},{"$f":"'Drop Downs'!$B$2","v":"Benchmark"},{"$f":"'Drop Downs'!$C$3","v":"US Winter (WA Term 2 equivalent)"},{"$f":"E400+1","v":42},"Advanced"]
["Year 1 (US Grade 1)BenchmarkUS Winter (WA Term 2 equivalent)43",{"$f":"'Drop Downs'!$A$4","v":"Year 1 (US Grade 1)"},{"$f":"'Drop Downs'!$B$2","v":"Benchmark"},{"$f":"'Drop Downs'!$C$3","v":"US Winter (WA Term 2 equivalent)"},43,"Advanced"]
["Year 1 (US Grade 1)BenchmarkUS Winter (WA Term 2 equivalent)44",{"$f":"'Drop Downs'!$A$4","v":"Year 1 (US Grade 1)"},{"$f":"'Drop Downs'!$B$2","v":"Benchmark"},{"$f":"'Drop Downs'!$C$3","v":"US Winter (WA Term 2 equivalent)"},44,"Advanced"]
["Year 1 (US Grade 1)BenchmarkUS Winter (WA Term 2 equivalent)45",{"$f":"'Drop Downs'!$A$4","v":"Year 1 (US Grade 1)"},{"$f":"'Drop Downs'!$B$2","v":"Benchmark"},{"$f":"'Drop Downs'!$C$3","v":"US Winter (WA Term 2 equivalent)"},45,"Advanced"]
["Year 1 (US Grade 1)BenchmarkUS Winter (WA Term 2 equivalent)46",{"$f":"'Drop Downs'!$A$4","v":"Year 1 (US Grade 1)"},{"$f":"'Drop Downs'!$B$2","v":"Benchmark"},{"$f":"'Drop Downs'!$C$3","v":"US Winter (WA Term 2 equivalent)"},46,"Advanced"]
["Year 1 (US Grade 1)BenchmarkUS Winter (WA Term 2 equivalent)47",{"$f":"'Drop Downs'!$A$4","v":"Year 1 (US Grade 1)"},{"$f":"'Drop Downs'!$B$2","v":"Benchmark"},{"$f":"'Drop Downs'!$C$3","v":"US Winter (WA Term 2 equivalent)"},47,"Advanced"]
["Year 1 (US Grade 1)BenchmarkUS Winter (WA Term 2 equivalent)48",{"$f":"'Drop Downs'!$A$4","v":"Year 1 (US Grade 1)"},{"$f":"'Drop Downs'!$B$2","v":"Benchmark"},{"$f":"'Drop Downs'!$C$3","v":"US Winter (WA Term 2 equivalent)"},48,"Advanced"]
["Year 1 (US Grade 1)BenchmarkUS Winter (WA Term 2 equivalent)49",{"$f":"'Drop Downs'!$A$4","v":"Year 1 (US Grade 1)"},{"$f":"'Drop Downs'!$B$2","v":"Benchmark"},{"$f":"'Drop Downs'!$C$3","v":"US Winter (WA Term 2 equivalent)"},49,"Advanced"]
["Year 1 (US Grade 1)BenchmarkUS Winter (WA Term 2 equivalent)50",{"$f":"'Drop Downs'!$A$4","v":"Year 1 (US Grade 1)"},{"$f":"'Drop Downs'!$B$2","v":"Benchmark"},{"$f":"'Drop Downs'!$C$3","v":"US Winter (WA Term 2 equivalent)"},50,"Advanced"]
[{"$f":"B410&C410&D410&E410","v":"Year 1 (US Grade 1)BenchmarkUS Spring (WA Term 3 equivalent)0"},{"$f":"'Drop Downs'!$A$4","v":"Year 1 (US Grade 1)"},{"$f":"'Drop Downs'!$B$2","v":"Benchmark"},{"$f":"'Drop Downs'!$C$4","v":"US Spring (WA Term 3 equivalent)"},0,"High Risk"]
[{"$f":"B411&C411&D411&E411","v":"Year 1 (US Grade 1)BenchmarkUS Spring (WA Term 3 equivalent)1"},{"$f":"'Drop Downs'!$A$4","v":"Year 1 (US Grade 1)"},{"$f":"'Drop Downs'!$B$2","v":"Benchmark"},{"$f":"'Drop Downs'!$C$4","v":"US Spring (WA Term 3 equivalent)"},1,"High Risk"]
["Year 1 (US Grade 1)BenchmarkUS Spring (WA Term 3 equivalent)2",{"$f":"'Drop Downs'!$A$4","v":"Year 1 (US Grade 1)"},{"$f":"'Drop Downs'!$B$2","v":"Benchmark"},{"$f":"'Drop Downs'!$C$4","v":"US Spring (WA Term 3 equivalent)"},2,"High Risk"]
["Year 1 (US Grade 1)BenchmarkUS Spring (WA Term 3 equivalent)3",{"$f":"'Drop Downs'!$A$4","v":"Year 1 (US Grade 1)"},{"$f":"'Drop Downs'!$B$2","v":"Benchmark"},{"$f":"'Drop Downs'!$C$4","v":"US Spring (WA Term 3 equivalent)"},3,"High Risk"]
["Year 1 (US Grade 1)BenchmarkUS Spring (WA Term 3 equivalent)4",{"$f":"'Drop Downs'!$A$4","v":"Year 1 (US Grade 1)"},{"$f":"'Drop Downs'!$B$2","v":"Benchmark"},{"$f":"'Drop Downs'!$C$4","v":"US Spring (WA Term 3 equivalent)"},4,"High Risk"]
["Year 1 (US Grade 1)BenchmarkUS Spring (WA Term 3 equivalent)5",{"$f":"'Drop Downs'!$A$4","v":"Year 1 (US Grade 1)"},{"$f":"'Drop Downs'!$B$2","v":"Benchmark"},{"$f":"'Drop Downs'!$C$4","v":"US Spring (WA Term 3 equivalent)"},5,"High Risk"]
["Year 1 (US Grade 1)BenchmarkUS Spring (WA Term 3 equivalent)6",{"$f":"'Drop Downs'!$A$4","v":"Year 1 (US Grade 1)"},{"$f":"'Drop Downs'!$B$2","v":"Benchmark"},{"$f":"'Drop Downs'!$C$4","v":"US Spring (WA Term 3 equivalent)"},6,"High Risk"]
["Year 1 (US Grade 1)BenchmarkUS Spring (WA Term 3 equivalent)7",{"$f":"'Drop Downs'!$A$4","v":"Year 1 (US Grade 1)"},{"$f":"'Drop Downs'!$B$2","v":"Benchmark"},{"$f":"'Drop Downs'!$C$4","v":"US Spring (WA Term 3 equivalent)"},7,"High Risk"]
["Year 1 (US Grade 1)BenchmarkUS Spring (WA Term 3 equivalent)8",{"$f":"'Drop Downs'!$A$4","v":"Year 1 (US Grade 1)"},{"$f":"'Drop Downs'!$B$2","v":"Benchmark"},{"$f":"'Drop Downs'!$C$4","v":"US Spring (WA Term 3 equivalent)"},8,"High Risk"]
["Year 1 (US Grade 1)BenchmarkUS Spring (WA Term 3 equivalent)9",{"$f":"'Drop Downs'!$A$4","v":"Year 1 (US Grade 1)"},{"$f":"'Drop Downs'!$B$2","v":"Benchmark"},{"$f":"'Drop Downs'!$C$4","v":"US Spring (WA Term 3 equivalent)"},9,"High Risk"]
["Year 1 (US Grade 1)BenchmarkUS Spring (WA Term 3 equivalent)10",{"$f":"'Drop Downs'!$A$4","v":"Year 1 (US Grade 1)"},{"$f":"'Drop Downs'!$B$2","v":"Benchmark"},{"$f":"'Drop Downs'!$C$4","v":"US Spring (WA Term 3 equivalent)"},10,"High Risk"]
["Year 1 (US Grade 1)BenchmarkUS Spring (WA Term 3 equivalent)11",{"$f":"'Drop Downs'!$A$4","v":"Year 1 (US Grade 1)"},{"$f":"'Drop Downs'!$B$2","v":"Benchmark"},{"$f":"'Drop Downs'!$C$4","v":"US Spring (WA Term 3 equivalent)"},11,"High Risk"]
["Year 1 (US Grade 1)BenchmarkUS Spring (WA Term 3 equivalent)12",{"$f":"'Drop Downs'!$A$4","v":"Year 1 (US Grade 1)"},{"$f":"'Drop Downs'!$B$2","v":"Benchmark"},{"$f":"'Drop Downs'!$C$4","v":"US Spring (WA Term 3 equivalent)"},12,"High Risk"]
["Year 1 (US Grade 1)BenchmarkUS Spring (WA Term 3 equivalent)13",{"$f":"'Drop Downs'!$A$4","v":"Year 1 (US Grade 1)"},{"$f":"'Drop Downs'!$B$2","v":"Benchmark"},{"$f":"'Drop Downs'!$C$4","v":"US Spring (WA Term 3 equivalent)"},13,"High Risk"]
["Year 1 (US Grade 1)BenchmarkUS Spring (WA Term 3 equivalent)14",{"$f":"'Drop Downs'!$A$4","v":"Year 1 (US Grade 1)"},{"$f":"'Drop Downs'!$B$2","v":"Benchmark"},{"$f":"'Drop Downs'!$C$4","v":"US Spring (WA Term 3 equivalent)"},14,"High Risk"]
["Year 1 (US Grade 1)BenchmarkUS Spring (WA Term 3 equivalent)15",{"$f":"'Drop Downs'!$A$4","v":"Year 1 (US Grade 1)"},{"$f":"'Drop Downs'!$B$2","v":"Benchmark"},{"$f":"'Drop Downs'!$C$4","v":"US Spring (WA Term 3 equivalent)"},15,"High Risk"]
["Year 1 (US Grade 1)BenchmarkUS Spring (WA Term 3 equivalent)16",{"$f":"'Drop Downs'!$A$4","v":"Year 1 (US Grade 1)"},{"$f":"'Drop Downs'!$B$2","v":"Benchmark"},{"$f":"'Drop Downs'!$C$4","v":"US Spring (WA Term 3 equivalent)"},16,"Moderate Risk"]
["Year 1 (US Grade 1)BenchmarkUS Spring (WA Term 3 equivalent)17",{"$f":"'Drop Downs'!$A$4","v":"Year 1 (US Grade 1)"},{"$f":"'Drop Downs'!$B$2","v":"Benchmark"},{"$f":"'Drop Downs'!$C$4","v":"US Spring (WA Term 3 equivalent)"},17,"Moderate Risk"]
["Year 1 (US Grade 1)BenchmarkUS Spring (WA Term 3 equivalent)18",{"$f":"'Drop Downs'!$A$4","v":"Year 1 (US Grade 1)"},{"$f":"'Drop Downs'!$B$2","v":"Benchmark"},{"$f":"'Drop Downs'!$C$4","v":"US Spring (WA Term 3 equivalent)"},18,"Moderate Risk"]
["Year 1 (US Grade 1)BenchmarkUS Spring (WA Term 3 equivalent)19",{"$f":"'Drop Downs'!$A$4","v":"Year 1 (US Grade 1)"},{"$f":"'Drop Downs'!$B$2","v":"Benchmark"},{"$f":"'Drop Downs'!$C$4","v":"US Spring (WA Term 3 equivalent)"},19,"Benchmark"]
["Year 1 (US Grade 1)BenchmarkUS Spring (WA Term 3 equivalent)20",{"$f":"'Drop Downs'!$A$4","v":"Year 1 (US Grade 1)"},{"$f":"'Drop Downs'!$B$2","v":"Benchmark"},{"$f":"'Drop Downs'!$C$4","v":"US Spring (WA Term 3 equivalent)"},20,"Benchmark"]
["Year 1 (US Grade 1)BenchmarkUS Spring (WA Term 3 equivalent)21",{"$f":"'Drop Downs'!$A$4","v":"Year 1 (US Grade 1)"},{"$f":"'Drop Downs'!$B$2","v":"Benchmark"},{"$f":"'Drop Downs'!$C$4","v":"US Spring (WA Term 3 equivalent)"},21,"Benchmark"]
["Year 1 (US Grade 1)BenchmarkUS Spring (WA Term 3 equivalent)22",{"$f":"'Drop Downs'!$A$4","v":"Year 1 (US Grade 1)"},{"$f":"'Drop Downs'!$B$2","v":"Benchmark"},{"$f":"'Drop Downs'!$C$4","v":"US Spring (WA Term 3 equivalent)"},22,"Advanced"]
["Year 1 (US Grade 1)BenchmarkUS Spring (WA Term 3 equivalent)23",{"$f":"'Drop Downs'!$A$4","v":"Year 1 (US Grade 1)"},{"$f":"'Drop Downs'!$B$2","v":"Benchmark"},{"$f":"'Drop Downs'!$C$4","v":"US Spring (WA Term 3 equivalent)"},23,"Advanced"]
["Year 1 (US Grade 1)BenchmarkUS Spring (WA Term 3 equivalent)24",{"$f":"'Drop Downs'!$A$4","v":"Year 1 (US Grade 1)"},{"$f":"'Drop Downs'!$B$2","v":"Benchmark"},{"$f":"'Drop Downs'!$C$4","v":"US Spring (WA Term 3 equivalent)"},24,"Advanced"]
["Year 1 (US Grade 1)BenchmarkUS Spring (WA Term 3 equivalent)25",{"$f":"'Drop Downs'!$A$4","v":"Year 1 (US Grade 1)"},{"$f":"'Drop Downs'!$B$2","v":"Benchmark"},{"$f":"'Drop Downs'!$C$4","v":"US Spring (WA Term 3 equivalent)"},25,"Advanced"]
["Year 1 (US Grade 1)BenchmarkUS Spring (WA Term 3 equivalent)26",{"$f":"'Drop Downs'!$A$4","v":"Year 1 (US Grade 1)"},{"$f":"'Drop Downs'!$B$2","v":"Benchmark"},{"$f":"'Drop Downs'!$C$4","v":"US Spring (WA Term 3 equivalent)"},26,"Advanced"]
["Year 1 (US Grade 1)BenchmarkUS Spring (WA Term 3 equivalent)27",{"$f":"'Drop Downs'!$A$4","v":"Year 1 (US Grade 1)"},{"$f":"'Drop Downs'!$B$2","v":"Benchmark"},{"$f":"'Drop Downs'!$C$4","v":"US Spring (WA Term 3 equivalent)"},27,"Advanced"]
["Year 1 (US Grade 1)BenchmarkUS Spring (WA Term 3 equivalent)28",{"$f":"'Drop Downs'!$A$4","v":"Year 1 (US Grade 1)"},{"$f":"'Drop Downs'!$B$2","v":"Benchmark"},{"$f":"'Drop Downs'!$C$4","v":"US Spring (WA Term 3 equivalent)"},28,"Advanced"]
["Year 1 (US Grade 1)BenchmarkUS Spring (WA Term 3 equivalent)29",{"$f":"'Drop Downs'!$A$4","v":"Year 1 (US Grade 1)"},{"$f":"'Drop Downs'!$B$2","v":"Benchmark"},{"$f":"'Drop Downs'!$C$4","v":"US Spring (WA Term 3 equivalent)"},29,"Advanced"]
["Year 1 (US Grade 1)BenchmarkUS Spring (WA Term 3 equivalent)30",{"$f":"'Drop Downs'!$A$4","v":"Year 1 (US Grade 1)"},{"$f":"'Drop Downs'!$B$2","v":"Benchmark"},{"$f":"'Drop Downs'!$C$4","v":"US Spring (WA Term 3 equivalent)"},30,"Advanced"]
["Year 1 (US Grade 1)BenchmarkUS Spring (WA Term 3 equivalent)31",{"$f":"'Drop Downs'!$A$4","v":"Year 1 (US Grade 1)"},{"$f":"'Drop Downs'!$B$2","v":"Benchmark"},{"$f":"'Drop Downs'!$C$4","v":"US Spring (WA Term 3 equivalent)"},31,"Advanced"]
["Year 1 (US Grade 1)BenchmarkUS Spring (WA Term 3 equivalent)32",{"$f":"'Drop Downs'!$A$4","v":"Year 1 (US Grade 1)"},{"$f":"'Drop Downs'!$B$2","v":"Benchmark"},{"$f":"'Drop Downs'!$C$4","v":"US Spring (WA Term 3 equivalent)"},32,"Advanced"]
["Year 1 (US Grade 1)BenchmarkUS Spring (WA Term 3 equivalent)33",{"$f":"'Drop Downs'!$A$4","v":"Year 1 (US Grade 1)"},{"$f":"'Drop Downs'!$B$2","v":"Benchmark"},{"$f":"'Drop Downs'!$C$4","v":"US Spring (WA Term 3 equivalent)"},33,"Advanced"]
["Year 1 (US Grade 1)BenchmarkUS Spring (WA Term 3 equivalent)34",{"$f":"'Drop Downs'!$A$4","v":"Year 1 (US Grade 1)"},{"$f":"'Drop Downs'!$B$2","v":"Benchmark"},{"$f":"'Drop Downs'!$C$4","v":"US Spring (WA Term 3 equivalent)"},34,"Advanced"]
["Year 1 (US Grade 1)BenchmarkUS Spring (WA Term 3 equivalent)35",{"$f":"'Drop Downs'!$A$4","v":"Year 1 (US Grade 1)"},{"$f":"'Drop Downs'!$B$2","v":"Benchmark"},{"$f":"'Drop Downs'!$C$4","v":"US Spring (WA Term 3 equivalent)"},35,"Advanced"]
["Year 1 (US Grade 1)BenchmarkUS Spring (WA Term 3 equivalent)36",{"$f":"'Drop Downs'!$A$4","v":"Year 1 (US Grade 1)"},{"$f":"'Drop Downs'!$B$2","v":"Benchmark"},{"$f":"'Drop Downs'!$C$4","v":"US Spring (WA Term 3 equivalent)"},36,"Advanced"]
["Year 1 (US Grade 1)BenchmarkUS Spring (WA Term 3 equivalent)37",{"$f":"'Drop Downs'!$A$4","v":"Year 1 (US Grade 1)"},{"$f":"'Drop Downs'!$B$2","v":"Benchmark"},{"$f":"'Drop Downs'!$C$4","v":"US Spring (WA Term 3 equivalent)"},37,"Advanced"]
["Year 1 (US Grade 1)BenchmarkUS Spring (WA Term 3 equivalent)38",{"$f":"'Drop Downs'!$A$4","v":"Year 1 (US Grade 1)"},{"$f":"'Drop Downs'!$B$2","v":"Benchmark"},{"$f":"'Drop Downs'!$C$4","v":"US Spring (WA Term 3 equivalent)"},38,"Advanced"]
["Year 1 (US Grade 1)BenchmarkUS Spring (WA Term 3 equivalent)39",{"$f":"'Drop Downs'!$A$4","v":"Year 1 (US Grade 1)"},{"$f":"'Drop Downs'!$B$2","v":"Benchmark"},{"$f":"'Drop Downs'!$C$4","v":"US Spring (WA Term 3 equivalent)"},39,"Advanced"]
["Year 1 (US Grade 1)BenchmarkUS Spring (WA Term 3 equivalent)40",{"$f":"'Drop Downs'!$A$4","v":"Year 1 (US Grade 1)"},{"$f":"'Drop Downs'!$B$2","v":"Benchmark"},{"$f":"'Drop Downs'!$C$4","v":"US Spring (WA Term 3 equivalent)"},40,"Advanced"]
[{"$f":"B451&C451&D451&E451","v":"Year 1 (US Grade 1)BenchmarkUS Spring (WA Term 3 equivalent)41"},{"$f":"'Drop Downs'!$A$4","v":"Year 1 (US Grade 1)"},{"$f":"'Drop Downs'!$B$2","v":"Benchmark"},{"$f":"'Drop Downs'!$C$4","v":"US Spring (WA Term 3 equivalent)"},{"$f":"E450+1","v":41},"Advanced"]
["Year 1 (US Grade 1)BenchmarkUS Spring (WA Term 3 equivalent)42",{"$f":"'Drop Downs'!$A$4","v":"Year 1 (US Grade 1)"},{"$f":"'Drop Downs'!$B$2","v":"Benchmark"},{"$f":"'Drop Downs'!$C$4","v":"US Spring (WA Term 3 equivalent)"},{"$f":"E451+1","v":42},"Advanced"]
["Year 1 (US Grade 1)BenchmarkUS Spring (WA Term 3 equivalent)43",{"$f":"'Drop Downs'!$A$4","v":"Year 1 (US Grade 1)"},{"$f":"'Drop Downs'!$B$2","v":"Benchmark"},{"$f":"'Drop Downs'!$C$4","v":"US Spring (WA Term 3 equivalent)"},43,"Advanced"]
["Year 1 (US Grade 1)BenchmarkUS Spring (WA Term 3 equivalent)44",{"$f":"'Drop Downs'!$A$4","v":"Year 1 (US Grade 1)"},{"$f":"'Drop Downs'!$B$2","v":"Benchmark"},{"$f":"'Drop Downs'!$C$4","v":"US Spring (WA Term 3 equivalent)"},44,"Advanced"]
["Year 1 (US Grade 1)BenchmarkUS Spring (WA Term 3 equivalent)45",{"$f":"'Drop Downs'!$A$4","v":"Year 1 (US Grade 1)"},{"$f":"'Drop Downs'!$B$2","v":"Benchmark"},{"$f":"'Drop Downs'!$C$4","v":"US Spring (WA Term 3 equivalent)"},45,"Advanced"]
["Year 1 (US Grade 1)BenchmarkUS Spring (WA Term 3 equivalent)46",{"$f":"'Drop Downs'!$A$4","v":"Year 1 (US Grade 1)"},{"$f":"'Drop Downs'!$B$2","v":"Benchmark"},{"$f":"'Drop Downs'!$C$4","v":"US Spring (WA Term 3 equivalent)"},46,"Advanced"]
["Year 1 (US Grade 1)BenchmarkUS Spring (WA Term 3 equivalent)47",{"$f":"'Drop Downs'!$A$4","v":"Year 1 (US Grade 1)"},{"$f":"'Drop Downs'!$B$2","v":"Benchmark"},{"$f":"'Drop Downs'!$C$4","v":"US Spring (WA Term 3 equivalent)"},47,"Advanced"]
["Year 1 (US Grade 1)BenchmarkUS Spring (WA Term 3 equivalent)48",{"$f":"'Drop Downs'!$A$4","v":"Year 1 (US Grade 1)"},{"$f":"'Drop Downs'!$B$2","v":"Benchmark"},{"$f":"'Drop Downs'!$C$4","v":"US Spring (WA Term 3 equivalent)"},48,"Advanced"]
["Year 1 (US Grade 1)BenchmarkUS Spring (WA Term 3 equivalent)49",{"$f":"'Drop Downs'!$A$4","v":"Year 1 (US Grade 1)"},{"$f":"'Drop Downs'!$B$2","v":"Benchmark"},{"$f":"'Drop Downs'!$C$4","v":"US Spring (WA Term 3 equivalent)"},49,"Advanced"]
["Year 1 (US Grade 1)BenchmarkUS Spring (WA Term 3 equivalent)50",{"$f":"'Drop Downs'!$A$4","v":"Year 1 (US Grade 1)"},{"$f":"'Drop Downs'!$B$2","v":"Benchmark"},{"$f":"'Drop Downs'!$C$4","v":"US Spring (WA Term 3 equivalent)"},50,"Advanced"]
["Year 2 (US Grade 2)BenchmarkUS Fall (WA Term 1 equivalent)0",{"$f":"'Drop Downs'!$A$5","v":"Year 2 (US Grade 2)"},{"$f":"'Drop Downs'!$B$2","v":"Benchmark"},{"$f":"'Drop Downs'!$C$2","v":"US Fall (WA Term 1 equivalent)"},0,"High Risk"]
[{"$f":"B462&C462&D462&E462","v":"Year 2 (US Grade 2)BenchmarkUS Fall (WA Term 1 equivalent)1"},{"$f":"'Drop Downs'!$A$5","v":"Year 2 (US Grade 2)"},{"$f":"'Drop Downs'!$B$2","v":"Benchmark"},{"$f":"'Drop Downs'!$C$2","v":"US Fall (WA Term 1 equivalent)"},1,"High Risk"]
["Year 2 (US Grade 2)BenchmarkUS Fall (WA Term 1 equivalent)2",{"$f":"'Drop Downs'!$A$5","v":"Year 2 (US Grade 2)"},{"$f":"'Drop Downs'!$B$2","v":"Benchmark"},{"$f":"'Drop Downs'!$C$2","v":"US Fall (WA Term 1 equivalent)"},2,"High Risk"]
["Year 2 (US Grade 2)BenchmarkUS Fall (WA Term 1 equivalent)3",{"$f":"'Drop Downs'!$A$5","v":"Year 2 (US Grade 2)"},{"$f":"'Drop Downs'!$B$2","v":"Benchmark"},{"$f":"'Drop Downs'!$C$2","v":"US Fall (WA Term 1 equivalent)"},3,"High Risk"]
["Year 2 (US Grade 2)BenchmarkUS Fall (WA Term 1 equivalent)4",{"$f":"'Drop Downs'!$A$5","v":"Year 2 (US Grade 2)"},{"$f":"'Drop Downs'!$B$2","v":"Benchmark"},{"$f":"'Drop Downs'!$C$2","v":"US Fall (WA Term 1 equivalent)"},4,"High Risk"]
["Year 2 (US Grade 2)BenchmarkUS Fall (WA Term 1 equivalent)5",{"$f":"'Drop Downs'!$A$5","v":"Year 2 (US Grade 2)"},{"$f":"'Drop Downs'!$B$2","v":"Benchmark"},{"$f":"'Drop Downs'!$C$2","v":"US Fall (WA Term 1 equivalent)"},5,"High Risk"]
["Year 2 (US Grade 2)BenchmarkUS Fall (WA Term 1 equivalent)6",{"$f":"'Drop Downs'!$A$5","v":"Year 2 (US Grade 2)"},{"$f":"'Drop Downs'!$B$2","v":"Benchmark"},{"$f":"'Drop Downs'!$C$2","v":"US Fall (WA Term 1 equivalent)"},6,"High Risk"]
["Year 2 (US Grade 2)BenchmarkUS Fall (WA Term 1 equivalent)7",{"$f":"'Drop Downs'!$A$5","v":"Year 2 (US Grade 2)"},{"$f":"'Drop Downs'!$B$2","v":"Benchmark"},{"$f":"'Drop Downs'!$C$2","v":"US Fall (WA Term 1 equivalent)"},7,"High Risk"]
["Year 2 (US Grade 2)BenchmarkUS Fall (WA Term 1 equivalent)8",{"$f":"'Drop Downs'!$A$5","v":"Year 2 (US Grade 2)"},{"$f":"'Drop Downs'!$B$2","v":"Benchmark"},{"$f":"'Drop Downs'!$C$2","v":"US Fall (WA Term 1 equivalent)"},8,"High Risk"]
["Year 2 (US Grade 2)BenchmarkUS Fall (WA Term 1 equivalent)9",{"$f":"'Drop Downs'!$A$5","v":"Year 2 (US Grade 2)"},{"$f":"'Drop Downs'!$B$2","v":"Benchmark"},{"$f":"'Drop Downs'!$C$2","v":"US Fall (WA Term 1 equivalent)"},9,"High Risk"]
["Year 2 (US Grade 2)BenchmarkUS Fall (WA Term 1 equivalent)10",{"$f":"'Drop Downs'!$A$5","v":"Year 2 (US Grade 2)"},{"$f":"'Drop Downs'!$B$2","v":"Benchmark"},{"$f":"'Drop Downs'!$C$2","v":"US Fall (WA Term 1 equivalent)"},10,"High Risk"]
["Year 2 (US Grade 2)BenchmarkUS Fall (WA Term 1 equivalent)11",{"$f":"'Drop Downs'!$A$5","v":"Year 2 (US Grade 2)"},{"$f":"'Drop Downs'!$B$2","v":"Benchmark"},{"$f":"'Drop Downs'!$C$2","v":"US Fall (WA Term 1 equivalent)"},11,"High Risk"]
["Year 2 (US Grade 2)BenchmarkUS Fall (WA Term 1 equivalent)12",{"$f":"'Drop Downs'!$A$5","v":"Year 2 (US Grade 2)"},{"$f":"'Drop Downs'!$B$2","v":"Benchmark"},{"$f":"'Drop Downs'!$C$2","v":"US Fall (WA Term 1 equivalent)"},12,"High Risk"]
["Year 2 (US Grade 2)BenchmarkUS Fall (WA Term 1 equivalent)13",{"$f":"'Drop Downs'!$A$5","v":"Year 2 (US Grade 2)"},{"$f":"'Drop Downs'!$B$2","v":"Benchmark"},{"$f":"'Drop Downs'!$C$2","v":"US Fall (WA Term 1 equivalent)"},13,"High Risk"]
["Year 2 (US Grade 2)BenchmarkUS Fall (WA Term 1 equivalent)14",{"$f":"'Drop Downs'!$A$5","v":"Year 2 (US Grade 2)"},{"$f":"'Drop Downs'!$B$2","v":"Benchmark"},{"$f":"'Drop Downs'!$C$2","v":"US Fall (WA Term 1 equivalent)"},14,"High Risk"]
["Year 2 (US Grade 2)BenchmarkUS Fall (WA Term 1 equivalent)15",{"$f":"'Drop Downs'!$A$5","v":"Year 2 (US Grade 2)"},{"$f":"'Drop Downs'!$B$2","v":"Benchmark"},{"$f":"'Drop Downs'!$C$2","v":"US Fall (WA Term 1 equivalent)"},15,"High Risk"]
["Year 2 (US Grade 2)BenchmarkUS Fall (WA Term 1 equivalent)16",{"$f":"'Drop Downs'!$A$5","v":"Year 2 (US Grade 2)"},{"$f":"'Drop Downs'!$B$2","v":"Benchmark"},{"$f":"'Drop Downs'!$C$2","v":"US Fall (WA Term 1 equivalent)"},16,"High Risk"]
["Year 2 (US Grade 2)BenchmarkUS Fall (WA Term 1 equivalent)17",{"$f":"'Drop Downs'!$A$5","v":"Year 2 (US Grade 2)"},{"$f":"'Drop Downs'!$B$2","v":"Benchmark"},{"$f":"'Drop Downs'!$C$2","v":"US Fall (WA Term 1 equivalent)"},17,"High Risk"]
["Year 2 (US Grade 2)BenchmarkUS Fall (WA Term 1 equivalent)18",{"$f":"'Drop Downs'!$A$5","v":"Year 2 (US Grade 2)"},{"$f":"'Drop Downs'!$B$2","v":"Benchmark"},{"$f":"'Drop Downs'!$C$2","v":"US Fall (WA Term 1 equivalent)"},18,"High Risk"]
["Year 2 (US Grade 2)BenchmarkUS Fall (WA Term 1 equivalent)19",{"$f":"'Drop Downs'!$A$5","v":"Year 2 (US Grade 2)"},{"$f":"'Drop Downs'!$B$2","v":"Benchmark"},{"$f":"'Drop Downs'!$C$2","v":"US Fall (WA Term 1 equivalent)"},19,"High Risk"]
["Year 2 (US Grade 2)BenchmarkUS Fall (WA Term 1 equivalent)20",{"$f":"'Drop Downs'!$A$5","v":"Year 2 (US Grade 2)"},{"$f":"'Drop Downs'!$B$2","v":"Benchmark"},{"$f":"'Drop Downs'!$C$2","v":"US Fall (WA Term 1 equivalent)"},20,"Moderate Risk"]
["Year 2 (US Grade 2)BenchmarkUS Fall (WA Term 1 equivalent)21",{"$f":"'Drop Downs'!$A$5","v":"Year 2 (US Grade 2)"},{"$f":"'Drop Downs'!$B$2","v":"Benchmark"},{"$f":"'Drop Downs'!$C$2","v":"US Fall (WA Term 1 equivalent)"},21,"Moderate Risk"]
["Year 2 (US Grade 2)BenchmarkUS Fall (WA Term 1 equivalent)22",{"$f":"'Drop Downs'!$A$5","v":"Year 2 (US Grade 2)"},{"$f":"'Drop Downs'!$B$2","v":"Benchmark"},{"$f":"'Drop Downs'!$C$2","v":"US Fall (WA Term 1 equivalent)"},22,"Moderate Risk"]
["Year 2 (US Grade 2)BenchmarkUS Fall (WA Term 1 equivalent)23",{"$f":"'Drop Downs'!$A$5","v":"Year 2 (US Grade 2)"},{"$f":"'Drop Downs'!$B$2","v":"Benchmark"},{"$f":"'Drop Downs'!$C$2","v":"US Fall (WA Term 1 equivalent)"},23,"Moderate Risk"]
["Year 2 (US Grade 2)BenchmarkUS Fall (WA Term 1 equivalent)24",{"$f":"'Drop Downs'!$A$5","v":"Year 2 (US Grade 2)"},{"$f":"'Drop Downs'!$B$2","v":"Benchmark"},{"$f":"'Drop Downs'!$C$2","v":"US Fall (WA Term 1 equivalent)"},24,"Benchmark"]
["Year 2 (US Grade 2)BenchmarkUS Fall (WA Term 1 equivalent)25",{"$f":"'Drop Downs'!$A$5","v":"Year 2 (US Grade 2)"},{"$f":"'Drop Downs'!$B$2","v":"Benchmark"},{"$f":"'Drop Downs'!$C$2","v":"US Fall (WA Term 1 equivalent)"},25,"Benchmark"]
["Year 2 (US Grade 2)BenchmarkUS Fall (WA Term 1 equivalent)26",{"$f":"'Drop Downs'!$A$5","v":"Year 2 (US Grade 2)"},{"$f":"'Drop Downs'!$B$2","v":"Benchmark"},{"$f":"'Drop Downs'!$C$2","v":"US Fall (WA Term 1 equivalent)"},26,"Benchmark"]
["Year 2 (US Grade 2)BenchmarkUS Fall (WA Term 1 equivalent)27",{"$f":"'Drop Downs'!$A$5","v":"Year 2 (US Grade 2)"},{"$f":"'Drop Downs'!$B$2","v":"Benchmark"},{"$f":"'Drop Downs'!$C$2","v":"US Fall (WA Term 1 equivalent)"},27,"Benchmark"]
["Year 2 (US Grade 2)BenchmarkUS Fall (WA Term 1 equivalent)28",{"$f":"'Drop Downs'!$A$5","v":"Year 2 (US Grade 2)"},{"$f":"'Drop Downs'!$B$2","v":"Benchmark"},{"$f":"'Drop Downs'!$C$2","v":"US Fall (WA Term 1 equivalent)"},28,"Advanced"]
["Year 2 (US Grade 2)BenchmarkUS Fall (WA Term 1 equivalent)29",{"$f":"'Drop Downs'!$A$5","v":"Year 2 (US Grade 2)"},{"$f":"'Drop Downs'!$B$2","v":"Benchmark"},{"$f":"'Drop Downs'!$C$2","v":"US Fall (WA Term 1 equivalent)"},29,"Advanced"]
["Year 2 (US Grade 2)BenchmarkUS Fall (WA Term 1 equivalent)30",{"$f":"'Drop Downs'!$A$5","v":"Year 2 (US Grade 2)"},{"$f":"'Drop Downs'!$B$2","v":"Benchmark"},{"$f":"'Drop Downs'!$C$2","v":"US Fall (WA Term 1 equivalent)"},30,"Advanced"]
["Year 2 (US Grade 2)BenchmarkUS Fall (WA Term 1 equivalent)31",{"$f":"'Drop Downs'!$A$5","v":"Year 2 (US Grade 2)"},{"$f":"'Drop Downs'!$B$2","v":"Benchmark"},{"$f":"'Drop Downs'!$C$2","v":"US Fall (WA Term 1 equivalent)"},31,"Advanced"]
["Year 2 (US Grade 2)BenchmarkUS Fall (WA Term 1 equivalent)32",{"$f":"'Drop Downs'!$A$5","v":"Year 2 (US Grade 2)"},{"$f":"'Drop Downs'!$B$2","v":"Benchmark"},{"$f":"'Drop Downs'!$C$2","v":"US Fall (WA Term 1 equivalent)"},32,"Advanced"]
["Year 2 (US Grade 2)BenchmarkUS Fall (WA Term 1 equivalent)33",{"$f":"'Drop Downs'!$A$5","v":"Year 2 (US Grade 2)"},{"$f":"'Drop Downs'!$B$2","v":"Benchmark"},{"$f":"'Drop Downs'!$C$2","v":"US Fall (WA Term 1 equivalent)"},33,"Advanced"]
["Year 2 (US Grade 2)BenchmarkUS Fall (WA Term 1 equivalent)34",{"$f":"'Drop Downs'!$A$5","v":"Year 2 (US Grade 2)"},{"$f":"'Drop Downs'!$B$2","v":"Benchmark"},{"$f":"'Drop Downs'!$C$2","v":"US Fall (WA Term 1 equivalent)"},34,"Advanced"]
["Year 2 (US Grade 2)BenchmarkUS Fall (WA Term 1 equivalent)35",{"$f":"'Drop Downs'!$A$5","v":"Year 2 (US Grade 2)"},{"$f":"'Drop Downs'!$B$2","v":"Benchmark"},{"$f":"'Drop Downs'!$C$2","v":"US Fall (WA Term 1 equivalent)"},35,"Advanced"]
["Year 2 (US Grade 2)BenchmarkUS Fall (WA Term 1 equivalent)36",{"$f":"'Drop Downs'!$A$5","v":"Year 2 (US Grade 2)"},{"$f":"'Drop Downs'!$B$2","v":"Benchmark"},{"$f":"'Drop Downs'!$C$2","v":"US Fall (WA Term 1 equivalent)"},36,"Advanced"]
["Year 2 (US Grade 2)BenchmarkUS Fall (WA Term 1 equivalent)37",{"$f":"'Drop Downs'!$A$5","v":"Year 2 (US Grade 2)"},{"$f":"'Drop Downs'!$B$2","v":"Benchmark"},{"$f":"'Drop Downs'!$C$2","v":"US Fall (WA Term 1 equivalent)"},37,"Advanced"]
["Year 2 (US Grade 2)BenchmarkUS Fall (WA Term 1 equivalent)38",{"$f":"'Drop Downs'!$A$5","v":"Year 2 (US Grade 2)"},{"$f":"'Drop Downs'!$B$2","v":"Benchmark"},{"$f":"'Drop Downs'!$C$2","v":"US Fall (WA Term 1 equivalent)"},38,"Advanced"]
["Year 2 (US Grade 2)BenchmarkUS Fall (WA Term 1 equivalent)39",{"$f":"'Drop Downs'!$A$5","v":"Year 2 (US Grade 2)"},{"$f":"'Drop Downs'!$B$2","v":"Benchmark"},{"$f":"'Drop Downs'!$C$2","v":"US Fall (WA Term 1 equivalent)"},39,"Advanced"]
["Year 2 (US Grade 2)BenchmarkUS Fall (WA Term 1 equivalent)40",{"$f":"'Drop Downs'!$A$5","v":"Year 2 (US Grade 2)"},{"$f":"'Drop Downs'!$B$2","v":"Benchmark"},{"$f":"'Drop Downs'!$C$2","v":"US Fall (WA Term 1 equivalent)"},40,"Advanced"]
[{"$f":"B502&C502&D502&E502","v":"Year 2 (US Grade 2)BenchmarkUS Fall (WA Term 1 equivalent)41"},{"$f":"'Drop Downs'!$A$5","v":"Year 2 (US Grade 2)"},{"$f":"'Drop Downs'!$B$2","v":"Benchmark"},{"$f":"'Drop Downs'!$C$2","v":"US Fall (WA Term 1 equivalent)"},{"$f":"E501+1","v":41},"Advanced"]
["Year 2 (US Grade 2)BenchmarkUS Fall (WA Term 1 equivalent)42",{"$f":"'Drop Downs'!$A$5","v":"Year 2 (US Grade 2)"},{"$f":"'Drop Downs'!$B$2","v":"Benchmark"},{"$f":"'Drop Downs'!$C$2","v":"US Fall (WA Term 1 equivalent)"},{"$f":"E502+1","v":42},"Advanced"]
["Year 2 (US Grade 2)BenchmarkUS Fall (WA Term 1 equivalent)43",{"$f":"'Drop Downs'!$A$5","v":"Year 2 (US Grade 2)"},{"$f":"'Drop Downs'!$B$2","v":"Benchmark"},{"$f":"'Drop Downs'!$C$2","v":"US Fall (WA Term 1 equivalent)"},43,"Advanced"]
["Year 2 (US Grade 2)BenchmarkUS Fall (WA Term 1 equivalent)44",{"$f":"'Drop Downs'!$A$5","v":"Year 2 (US Grade 2)"},{"$f":"'Drop Downs'!$B$2","v":"Benchmark"},{"$f":"'Drop Downs'!$C$2","v":"US Fall (WA Term 1 equivalent)"},44,"Advanced"]
["Year 2 (US Grade 2)BenchmarkUS Fall (WA Term 1 equivalent)45",{"$f":"'Drop Downs'!$A$5","v":"Year 2 (US Grade 2)"},{"$f":"'Drop Downs'!$B$2","v":"Benchmark"},{"$f":"'Drop Downs'!$C$2","v":"US Fall (WA Term 1 equivalent)"},45,"Advanced"]
["Year 2 (US Grade 2)BenchmarkUS Fall (WA Term 1 equivalent)46",{"$f":"'Drop Downs'!$A$5","v":"Year 2 (US Grade 2)"},{"$f":"'Drop Downs'!$B$2","v":"Benchmark"},{"$f":"'Drop Downs'!$C$2","v":"US Fall (WA Term 1 equivalent)"},46,"Advanced"]
["Year 2 (US Grade 2)BenchmarkUS Fall (WA Term 1 equivalent)47",{"$f":"'Drop Downs'!$A$5","v":"Year 2 (US Grade 2)"},{"$f":"'Drop Downs'!$B$2","v":"Benchmark"},{"$f":"'Drop Downs'!$C$2","v":"US Fall (WA Term 1 equivalent)"},47,"Advanced"]
["Year 2 (US Grade 2)BenchmarkUS Fall (WA Term 1 equivalent)48",{"$f":"'Drop Downs'!$A$5","v":"Year 2 (US Grade 2)"},{"$f":"'Drop Downs'!$B$2","v":"Benchmark"},{"$f":"'Drop Downs'!$C$2","v":"US Fall (WA Term 1 equivalent)"},48,"Advanced"]
["Year 2 (US Grade 2)BenchmarkUS Fall (WA Term 1 equivalent)49",{"$f":"'Drop Downs'!$A$5","v":"Year 2 (US Grade 2)"},{"$f":"'Drop Downs'!$B$2","v":"Benchmark"},{"$f":"'Drop Downs'!$C$2","v":"US Fall (WA Term 1 equivalent)"},49,"Advanced"]
["Year 2 (US Grade 2)BenchmarkUS Fall (WA Term 1 equivalent)50",{"$f":"'Drop Downs'!$A$5","v":"Year 2 (US Grade 2)"},{"$f":"'Drop Downs'!$B$2","v":"Benchmark"},{"$f":"'Drop Downs'!$C$2","v":"US Fall (WA Term 1 equivalent)"},50,"Advanced"]
["Year 2 (US Grade 2)BenchmarkUS Fall (WA Term 1 equivalent)51",{"$f":"'Drop Downs'!$A$5","v":"Year 2 (US Grade 2)"},{"$f":"'Drop Downs'!$B$2","v":"Benchmark"},{"$f":"'Drop Downs'!$C$2","v":"US Fall (WA Term 1 equivalent)"},51,"Advanced"]
[{"$f":"B513&C513&D513&E513","v":"Year 2 (US Grade 2)BenchmarkUS Winter (WA Term 2 equivalent)0"},{"$f":"'Drop Downs'!$A$5","v":"Year 2 (US Grade 2)"},{"$f":"'Drop Downs'!$B$2","v":"Benchmark"},{"$f":"'Drop Downs'!$C$3","v":"US Winter (WA Term 2 equivalent)"},0,"High Risk"]
[{"$f":"B514&C514&D514&E514","v":"Year 2 (US Grade 2)BenchmarkUS Winter (WA Term 2 equivalent)1"},{"$f":"'Drop Downs'!$A$5","v":"Year 2 (US Grade 2)"},{"$f":"'Drop Downs'!$B$2","v":"Benchmark"},{"$f":"'Drop Downs'!$C$3","v":"US Winter (WA Term 2 equivalent)"},1,"High Risk"]
["Year 2 (US Grade 2)BenchmarkUS Winter (WA Term 2 equivalent)2",{"$f":"'Drop Downs'!$A$5","v":"Year 2 (US Grade 2)"},{"$f":"'Drop Downs'!$B$2","v":"Benchmark"},{"$f":"'Drop Downs'!$C$3","v":"US Winter (WA Term 2 equivalent)"},2,"High Risk"]
["Year 2 (US Grade 2)BenchmarkUS Winter (WA Term 2 equivalent)3",{"$f":"'Drop Downs'!$A$5","v":"Year 2 (US Grade 2)"},{"$f":"'Drop Downs'!$B$2","v":"Benchmark"},{"$f":"'Drop Downs'!$C$3","v":"US Winter (WA Term 2 equivalent)"},3,"High Risk"]
["Year 2 (US Grade 2)BenchmarkUS Winter (WA Term 2 equivalent)4",{"$f":"'Drop Downs'!$A$5","v":"Year 2 (US Grade 2)"},{"$f":"'Drop Downs'!$B$2","v":"Benchmark"},{"$f":"'Drop Downs'!$C$3","v":"US Winter (WA Term 2 equivalent)"},4,"High Risk"]
["Year 2 (US Grade 2)BenchmarkUS Winter (WA Term 2 equivalent)5",{"$f":"'Drop Downs'!$A$5","v":"Year 2 (US Grade 2)"},{"$f":"'Drop Downs'!$B$2","v":"Benchmark"},{"$f":"'Drop Downs'!$C$3","v":"US Winter (WA Term 2 equivalent)"},5,"High Risk"]
["Year 2 (US Grade 2)BenchmarkUS Winter (WA Term 2 equivalent)6",{"$f":"'Drop Downs'!$A$5","v":"Year 2 (US Grade 2)"},{"$f":"'Drop Downs'!$B$2","v":"Benchmark"},{"$f":"'Drop Downs'!$C$3","v":"US Winter (WA Term 2 equivalent)"},6,"High Risk"]
["Year 2 (US Grade 2)BenchmarkUS Winter (WA Term 2 equivalent)7",{"$f":"'Drop Downs'!$A$5","v":"Year 2 (US Grade 2)"},{"$f":"'Drop Downs'!$B$2","v":"Benchmark"},{"$f":"'Drop Downs'!$C$3","v":"US Winter (WA Term 2 equivalent)"},7,"High Risk"]
["Year 2 (US Grade 2)BenchmarkUS Winter (WA Term 2 equivalent)8",{"$f":"'Drop Downs'!$A$5","v":"Year 2 (US Grade 2)"},{"$f":"'Drop Downs'!$B$2","v":"Benchmark"},{"$f":"'Drop Downs'!$C$3","v":"US Winter (WA Term 2 equivalent)"},8,"High Risk"]
["Year 2 (US Grade 2)BenchmarkUS Winter (WA Term 2 equivalent)9",{"$f":"'Drop Downs'!$A$5","v":"Year 2 (US Grade 2)"},{"$f":"'Drop Downs'!$B$2","v":"Benchmark"},{"$f":"'Drop Downs'!$C$3","v":"US Winter (WA Term 2 equivalent)"},9,"High Risk"]
["Year 2 (US Grade 2)BenchmarkUS Winter (WA Term 2 equivalent)10",{"$f":"'Drop Downs'!$A$5","v":"Year 2 (US Grade 2)"},{"$f":"'Drop Downs'!$B$2","v":"Benchmark"},{"$f":"'Drop Downs'!$C$3","v":"US Winter (WA Term 2 equivalent)"},10,"High Risk"]
["Year 2 (US Grade 2)BenchmarkUS Winter (WA Term 2 equivalent)11",{"$f":"'Drop Downs'!$A$5","v":"Year 2 (US Grade 2)"},{"$f":"'Drop Downs'!$B$2","v":"Benchmark"},{"$f":"'Drop Downs'!$C$3","v":"US Winter (WA Term 2 equivalent)"},11,"High Risk"]
["Year 2 (US Grade 2)BenchmarkUS Winter (WA Term 2 equivalent)12",{"$f":"'Drop Downs'!$A$5","v":"Year 2 (US Grade 2)"},{"$f":"'Drop Downs'!$B$2","v":"Benchmark"},{"$f":"'Drop Downs'!$C$3","v":"US Winter (WA Term 2 equivalent)"},12,"High Risk"]
["Year 2 (US Grade 2)BenchmarkUS Winter (WA Term 2 equivalent)13",{"$f":"'Drop Downs'!$A$5","v":"Year 2 (US Grade 2)"},{"$f":"'Drop Downs'!$B$2","v":"Benchmark"},{"$f":"'Drop Downs'!$C$3","v":"US Winter (WA Term 2 equivalent)"},13,"High Risk"]
["Year 2 (US Grade 2)BenchmarkUS Winter (WA Term 2 equivalent)14",{"$f":"'Drop Downs'!$A$5","v":"Year 2 (US Grade 2)"},{"$f":"'Drop Downs'!$B$2","v":"Benchmark"},{"$f":"'Drop Downs'!$C$3","v":"US Winter (WA Term 2 equivalent)"},14,"High Risk"]
["Year 2 (US Grade 2)BenchmarkUS Winter (WA Term 2 equivalent)15",{"$f":"'Drop Downs'!$A$5","v":"Year 2 (US Grade 2)"},{"$f":"'Drop Downs'!$B$2","v":"Benchmark"},{"$f":"'Drop Downs'!$C$3","v":"US Winter (WA Term 2 equivalent)"},15,"High Risk"]
["Year 2 (US Grade 2)BenchmarkUS Winter (WA Term 2 equivalent)16",{"$f":"'Drop Downs'!$A$5","v":"Year 2 (US Grade 2)"},{"$f":"'Drop Downs'!$B$2","v":"Benchmark"},{"$f":"'Drop Downs'!$C$3","v":"US Winter (WA Term 2 equivalent)"},16,"High Risk"]
["Year 2 (US Grade 2)BenchmarkUS Winter (WA Term 2 equivalent)17",{"$f":"'Drop Downs'!$A$5","v":"Year 2 (US Grade 2)"},{"$f":"'Drop Downs'!$B$2","v":"Benchmark"},{"$f":"'Drop Downs'!$C$3","v":"US Winter (WA Term 2 equivalent)"},17,"High Risk"]
["Year 2 (US Grade 2)BenchmarkUS Winter (WA Term 2 equivalent)18",{"$f":"'Drop Downs'!$A$5","v":"Year 2 (US Grade 2)"},{"$f":"'Drop Downs'!$B$2","v":"Benchmark"},{"$f":"'Drop Downs'!$C$3","v":"US Winter (WA Term 2 equivalent)"},18,"High Risk"]
["Year 2 (US Grade 2)BenchmarkUS Winter (WA Term 2 equivalent)19",{"$f":"'Drop Downs'!$A$5","v":"Year 2 (US Grade 2)"},{"$f":"'Drop Downs'!$B$2","v":"Benchmark"},{"$f":"'Drop Downs'!$C$3","v":"US Winter (WA Term 2 equivalent)"},19,"High Risk"]
["Year 2 (US Grade 2)BenchmarkUS Winter (WA Term 2 equivalent)20",{"$f":"'Drop Downs'!$A$5","v":"Year 2 (US Grade 2)"},{"$f":"'Drop Downs'!$B$2","v":"Benchmark"},{"$f":"'Drop Downs'!$C$3","v":"US Winter (WA Term 2 equivalent)"},20,"Moderate Risk"]
["Year 2 (US Grade 2)BenchmarkUS Winter (WA Term 2 equivalent)21",{"$f":"'Drop Downs'!$A$5","v":"Year 2 (US Grade 2)"},{"$f":"'Drop Downs'!$B$2","v":"Benchmark"},{"$f":"'Drop Downs'!$C$3","v":"US Winter (WA Term 2 equivalent)"},21,"Moderate Risk"]
["Year 2 (US Grade 2)BenchmarkUS Winter (WA Term 2 equivalent)22",{"$f":"'Drop Downs'!$A$5","v":"Year 2 (US Grade 2)"},{"$f":"'Drop Downs'!$B$2","v":"Benchmark"},{"$f":"'Drop Downs'!$C$3","v":"US Winter (WA Term 2 equivalent)"},22,"Moderate Risk"]
["Year 2 (US Grade 2)BenchmarkUS Winter (WA Term 2 equivalent)23",{"$f":"'Drop Downs'!$A$5","v":"Year 2 (US Grade 2)"},{"$f":"'Drop Downs'!$B$2","v":"Benchmark"},{"$f":"'Drop Downs'!$C$3","v":"US Winter (WA Term 2 equivalent)"},23,"Moderate Risk"]
["Year 2 (US Grade 2)BenchmarkUS Winter (WA Term 2 equivalent)24",{"$f":"'Drop Downs'!$A$5","v":"Year 2 (US Grade 2)"},{"$f":"'Drop Downs'!$B$2","v":"Benchmark"},{"$f":"'Drop Downs'!$C$3","v":"US Winter (WA Term 2 equivalent)"},24,"Moderate Risk"]
["Year 2 (US Grade 2)BenchmarkUS Winter (WA Term 2 equivalent)25",{"$f":"'Drop Downs'!$A$5","v":"Year 2 (US Grade 2)"},{"$f":"'Drop Downs'!$B$2","v":"Benchmark"},{"$f":"'Drop Downs'!$C$3","v":"US Winter (WA Term 2 equivalent)"},25,"Benchmark"]
["Year 2 (US Grade 2)BenchmarkUS Winter (WA Term 2 equivalent)26",{"$f":"'Drop Downs'!$A$5","v":"Year 2 (US Grade 2)"},{"$f":"'Drop Downs'!$B$2","v":"Benchmark"},{"$f":"'Drop Downs'!$C$3","v":"US Winter (WA Term 2 equivalent)"},26,"Benchmark"]
["Year 2 (US Grade 2)BenchmarkUS Winter (WA Term 2 equivalent)27",{"$f":"'Drop Downs'!$A$5","v":"Year 2 (US Grade 2)"},{"$f":"'Drop Downs'!$B$2","v":"Benchmark"},{"$f":"'Drop Downs'!$C$3","v":"US Winter (WA Term 2 equivalent)"},27,"Benchmark"]
["Year 2 (US Grade 2)BenchmarkUS Winter (WA Term 2 equivalent)28",{"$f":"'Drop Downs'!$A$5","v":"Year 2 (US Grade 2)"},{"$f":"'Drop Downs'!$B$2","v":"Benchmark"},{"$f":"'Drop Downs'!$C$3","v":"US Winter (WA Term 2 equivalent)"},28,"Benchmark"]
["Year 2 (US Grade 2)BenchmarkUS Winter (WA Term 2 equivalent)29",{"$f":"'Drop Downs'!$A$5","v":"Year 2 (US Grade 2)"},{"$f":"'Drop Downs'!$B$2","v":"Benchmark"},{"$f":"'Drop Downs'!$C$3","v":"US Winter (WA Term 2 equivalent)"},29,"Advanced"]
["Year 2 (US Grade 2)BenchmarkUS Winter (WA Term 2 equivalent)30",{"$f":"'Drop Downs'!$A$5","v":"Year 2 (US Grade 2)"},{"$f":"'Drop Downs'!$B$2","v":"Benchmark"},{"$f":"'Drop Downs'!$C$3","v":"US Winter (WA Term 2 equivalent)"},30,"Advanced"]
["Year 2 (US Grade 2)BenchmarkUS Winter (WA Term 2 equivalent)31",{"$f":"'Drop Downs'!$A$5","v":"Year 2 (US Grade 2)"},{"$f":"'Drop Downs'!$B$2","v":"Benchmark"},{"$f":"'Drop Downs'!$C$3","v":"US Winter (WA Term 2 equivalent)"},31,"Advanced"]
["Year 2 (US Grade 2)BenchmarkUS Winter (WA Term 2 equivalent)32",{"$f":"'Drop Downs'!$A$5","v":"Year 2 (US Grade 2)"},{"$f":"'Drop Downs'!$B$2","v":"Benchmark"},{"$f":"'Drop Downs'!$C$3","v":"US Winter (WA Term 2 equivalent)"},32,"Advanced"]
["Year 2 (US Grade 2)BenchmarkUS Winter (WA Term 2 equivalent)33",{"$f":"'Drop Downs'!$A$5","v":"Year 2 (US Grade 2)"},{"$f":"'Drop Downs'!$B$2","v":"Benchmark"},{"$f":"'Drop Downs'!$C$3","v":"US Winter (WA Term 2 equivalent)"},33,"Advanced"]
["Year 2 (US Grade 2)BenchmarkUS Winter (WA Term 2 equivalent)34",{"$f":"'Drop Downs'!$A$5","v":"Year 2 (US Grade 2)"},{"$f":"'Drop Downs'!$B$2","v":"Benchmark"},{"$f":"'Drop Downs'!$C$3","v":"US Winter (WA Term 2 equivalent)"},34,"Advanced"]
["Year 2 (US Grade 2)BenchmarkUS Winter (WA Term 2 equivalent)35",{"$f":"'Drop Downs'!$A$5","v":"Year 2 (US Grade 2)"},{"$f":"'Drop Downs'!$B$2","v":"Benchmark"},{"$f":"'Drop Downs'!$C$3","v":"US Winter (WA Term 2 equivalent)"},35,"Advanced"]
["Year 2 (US Grade 2)BenchmarkUS Winter (WA Term 2 equivalent)36",{"$f":"'Drop Downs'!$A$5","v":"Year 2 (US Grade 2)"},{"$f":"'Drop Downs'!$B$2","v":"Benchmark"},{"$f":"'Drop Downs'!$C$3","v":"US Winter (WA Term 2 equivalent)"},36,"Advanced"]
["Year 2 (US Grade 2)BenchmarkUS Winter (WA Term 2 equivalent)37",{"$f":"'Drop Downs'!$A$5","v":"Year 2 (US Grade 2)"},{"$f":"'Drop Downs'!$B$2","v":"Benchmark"},{"$f":"'Drop Downs'!$C$3","v":"US Winter (WA Term 2 equivalent)"},37,"Advanced"]
["Year 2 (US Grade 2)BenchmarkUS Winter (WA Term 2 equivalent)38",{"$f":"'Drop Downs'!$A$5","v":"Year 2 (US Grade 2)"},{"$f":"'Drop Downs'!$B$2","v":"Benchmark"},{"$f":"'Drop Downs'!$C$3","v":"US Winter (WA Term 2 equivalent)"},38,"Advanced"]
["Year 2 (US Grade 2)BenchmarkUS Winter (WA Term 2 equivalent)39",{"$f":"'Drop Downs'!$A$5","v":"Year 2 (US Grade 2)"},{"$f":"'Drop Downs'!$B$2","v":"Benchmark"},{"$f":"'Drop Downs'!$C$3","v":"US Winter (WA Term 2 equivalent)"},39,"Advanced"]
["Year 2 (US Grade 2)BenchmarkUS Winter (WA Term 2 equivalent)40",{"$f":"'Drop Downs'!$A$5","v":"Year 2 (US Grade 2)"},{"$f":"'Drop Downs'!$B$2","v":"Benchmark"},{"$f":"'Drop Downs'!$C$3","v":"US Winter (WA Term 2 equivalent)"},40,"Advanced"]
[{"$f":"B554&C554&D554&E554","v":"Year 2 (US Grade 2)BenchmarkUS Winter (WA Term 2 equivalent)41"},{"$f":"'Drop Downs'!$A$5","v":"Year 2 (US Grade 2)"},{"$f":"'Drop Downs'!$B$2","v":"Benchmark"},{"$f":"'Drop Downs'!$C$3","v":"US Winter (WA Term 2 equivalent)"},{"$f":"E553+1","v":41},"Advanced"]
["Year 2 (US Grade 2)BenchmarkUS Winter (WA Term 2 equivalent)42",{"$f":"'Drop Downs'!$A$5","v":"Year 2 (US Grade 2)"},{"$f":"'Drop Downs'!$B$2","v":"Benchmark"},{"$f":"'Drop Downs'!$C$3","v":"US Winter (WA Term 2 equivalent)"},{"$f":"E554+1","v":42},"Advanced"]
["Year 2 (US Grade 2)BenchmarkUS Winter (WA Term 2 equivalent)43",{"$f":"'Drop Downs'!$A$5","v":"Year 2 (US Grade 2)"},{"$f":"'Drop Downs'!$B$2","v":"Benchmark"},{"$f":"'Drop Downs'!$C$3","v":"US Winter (WA Term 2 equivalent)"},43,"Advanced"]
["Year 2 (US Grade 2)BenchmarkUS Winter (WA Term 2 equivalent)44",{"$f":"'Drop Downs'!$A$5","v":"Year 2 (US Grade 2)"},{"$f":"'Drop Downs'!$B$2","v":"Benchmark"},{"$f":"'Drop Downs'!$C$3","v":"US Winter (WA Term 2 equivalent)"},44,"Advanced"]
["Year 2 (US Grade 2)BenchmarkUS Winter (WA Term 2 equivalent)45",{"$f":"'Drop Downs'!$A$5","v":"Year 2 (US Grade 2)"},{"$f":"'Drop Downs'!$B$2","v":"Benchmark"},{"$f":"'Drop Downs'!$C$3","v":"US Winter (WA Term 2 equivalent)"},45,"Advanced"]
["Year 2 (US Grade 2)BenchmarkUS Winter (WA Term 2 equivalent)46",{"$f":"'Drop Downs'!$A$5","v":"Year 2 (US Grade 2)"},{"$f":"'Drop Downs'!$B$2","v":"Benchmark"},{"$f":"'Drop Downs'!$C$3","v":"US Winter (WA Term 2 equivalent)"},46,"Advanced"]
["Year 2 (US Grade 2)BenchmarkUS Winter (WA Term 2 equivalent)47",{"$f":"'Drop Downs'!$A$5","v":"Year 2 (US Grade 2)"},{"$f":"'Drop Downs'!$B$2","v":"Benchmark"},{"$f":"'Drop Downs'!$C$3","v":"US Winter (WA Term 2 equivalent)"},47,"Advanced"]
["Year 2 (US Grade 2)BenchmarkUS Winter (WA Term 2 equivalent)48",{"$f":"'Drop Downs'!$A$5","v":"Year 2 (US Grade 2)"},{"$f":"'Drop Downs'!$B$2","v":"Benchmark"},{"$f":"'Drop Downs'!$C$3","v":"US Winter (WA Term 2 equivalent)"},48,"Advanced"]
["Year 2 (US Grade 2)BenchmarkUS Winter (WA Term 2 equivalent)49",{"$f":"'Drop Downs'!$A$5","v":"Year 2 (US Grade 2)"},{"$f":"'Drop Downs'!$B$2","v":"Benchmark"},{"$f":"'Drop Downs'!$C$3","v":"US Winter (WA Term 2 equivalent)"},49,"Advanced"]
["Year 2 (US Grade 2)BenchmarkUS Winter (WA Term 2 equivalent)50",{"$f":"'Drop Downs'!$A$5","v":"Year 2 (US Grade 2)"},{"$f":"'Drop Downs'!$B$2","v":"Benchmark"},{"$f":"'Drop Downs'!$C$3","v":"US Winter (WA Term 2 equivalent)"},50,"Advanced"]
[{"$f":"B564&C564&D564&E564","v":"Year 2 (US Grade 2)BenchmarkUS Spring (WA Term 3 equivalent)0"},{"$f":"'Drop Downs'!$A$5","v":"Year 2 (US Grade 2)"},{"$f":"'Drop Downs'!$B$2","v":"Benchmark"},{"$f":"'Drop Downs'!$C$4","v":"US Spring (WA Term 3 equivalent)"},0,"High Risk"]
[{"$f":"B565&C565&D565&E565","v":"Year 2 (US Grade 2)BenchmarkUS Spring (WA Term 3 equivalent)1"},{"$f":"'Drop Downs'!$A$5","v":"Year 2 (US Grade 2)"},{"$f":"'Drop Downs'!$B$2","v":"Benchmark"},{"$f":"'Drop Downs'!$C$4","v":"US Spring (WA Term 3 equivalent)"},1,"High Risk"]
["Year 2 (US Grade 2)BenchmarkUS Spring (WA Term 3 equivalent)2",{"$f":"'Drop Downs'!$A$5","v":"Year 2 (US Grade 2)"},{"$f":"'Drop Downs'!$B$2","v":"Benchmark"},{"$f":"'Drop Downs'!$C$4","v":"US Spring (WA Term 3 equivalent)"},2,"High Risk"]
["Year 2 (US Grade 2)BenchmarkUS Spring (WA Term 3 equivalent)3",{"$f":"'Drop Downs'!$A$5","v":"Year 2 (US Grade 2)"},{"$f":"'Drop Downs'!$B$2","v":"Benchmark"},{"$f":"'Drop Downs'!$C$4","v":"US Spring (WA Term 3 equivalent)"},3,"High Risk"]
["Year 2 (US Grade 2)BenchmarkUS Spring (WA Term 3 equivalent)4",{"$f":"'Drop Downs'!$A$5","v":"Year 2 (US Grade 2)"},{"$f":"'Drop Downs'!$B$2","v":"Benchmark"},{"$f":"'Drop Downs'!$C$4","v":"US Spring (WA Term 3 equivalent)"},4,"High Risk"]
["Year 2 (US Grade 2)BenchmarkUS Spring (WA Term 3 equivalent)5",{"$f":"'Drop Downs'!$A$5","v":"Year 2 (US Grade 2)"},{"$f":"'Drop Downs'!$B$2","v":"Benchmark"},{"$f":"'Drop Downs'!$C$4","v":"US Spring (WA Term 3 equivalent)"},5,"High Risk"]
["Year 2 (US Grade 2)BenchmarkUS Spring (WA Term 3 equivalent)6",{"$f":"'Drop Downs'!$A$5","v":"Year 2 (US Grade 2)"},{"$f":"'Drop Downs'!$B$2","v":"Benchmark"},{"$f":"'Drop Downs'!$C$4","v":"US Spring (WA Term 3 equivalent)"},6,"High Risk"]
["Year 2 (US Grade 2)BenchmarkUS Spring (WA Term 3 equivalent)7",{"$f":"'Drop Downs'!$A$5","v":"Year 2 (US Grade 2)"},{"$f":"'Drop Downs'!$B$2","v":"Benchmark"},{"$f":"'Drop Downs'!$C$4","v":"US Spring (WA Term 3 equivalent)"},7,"High Risk"]
["Year 2 (US Grade 2)BenchmarkUS Spring (WA Term 3 equivalent)8",{"$f":"'Drop Downs'!$A$5","v":"Year 2 (US Grade 2)"},{"$f":"'Drop Downs'!$B$2","v":"Benchmark"},{"$f":"'Drop Downs'!$C$4","v":"US Spring (WA Term 3 equivalent)"},8,"High Risk"]
["Year 2 (US Grade 2)BenchmarkUS Spring (WA Term 3 equivalent)9",{"$f":"'Drop Downs'!$A$5","v":"Year 2 (US Grade 2)"},{"$f":"'Drop Downs'!$B$2","v":"Benchmark"},{"$f":"'Drop Downs'!$C$4","v":"US Spring (WA Term 3 equivalent)"},9,"High Risk"]
["Year 2 (US Grade 2)BenchmarkUS Spring (WA Term 3 equivalent)10",{"$f":"'Drop Downs'!$A$5","v":"Year 2 (US Grade 2)"},{"$f":"'Drop Downs'!$B$2","v":"Benchmark"},{"$f":"'Drop Downs'!$C$4","v":"US Spring (WA Term 3 equivalent)"},10,"High Risk"]
["Year 2 (US Grade 2)BenchmarkUS Spring (WA Term 3 equivalent)11",{"$f":"'Drop Downs'!$A$5","v":"Year 2 (US Grade 2)"},{"$f":"'Drop Downs'!$B$2","v":"Benchmark"},{"$f":"'Drop Downs'!$C$4","v":"US Spring (WA Term 3 equivalent)"},11,"High Risk"]
["Year 2 (US Grade 2)BenchmarkUS Spring (WA Term 3 equivalent)12",{"$f":"'Drop Downs'!$A$5","v":"Year 2 (US Grade 2)"},{"$f":"'Drop Downs'!$B$2","v":"Benchmark"},{"$f":"'Drop Downs'!$C$4","v":"US Spring (WA Term 3 equivalent)"},12,"High Risk"]
["Year 2 (US Grade 2)BenchmarkUS Spring (WA Term 3 equivalent)13",{"$f":"'Drop Downs'!$A$5","v":"Year 2 (US Grade 2)"},{"$f":"'Drop Downs'!$B$2","v":"Benchmark"},{"$f":"'Drop Downs'!$C$4","v":"US Spring (WA Term 3 equivalent)"},13,"High Risk"]
["Year 2 (US Grade 2)BenchmarkUS Spring (WA Term 3 equivalent)14",{"$f":"'Drop Downs'!$A$5","v":"Year 2 (US Grade 2)"},{"$f":"'Drop Downs'!$B$2","v":"Benchmark"},{"$f":"'Drop Downs'!$C$4","v":"US Spring (WA Term 3 equivalent)"},14,"High Risk"]
["Year 2 (US Grade 2)BenchmarkUS Spring (WA Term 3 equivalent)15",{"$f":"'Drop Downs'!$A$5","v":"Year 2 (US Grade 2)"},{"$f":"'Drop Downs'!$B$2","v":"Benchmark"},{"$f":"'Drop Downs'!$C$4","v":"US Spring (WA Term 3 equivalent)"},15,"High Risk"]
["Year 2 (US Grade 2)BenchmarkUS Spring (WA Term 3 equivalent)16",{"$f":"'Drop Downs'!$A$5","v":"Year 2 (US Grade 2)"},{"$f":"'Drop Downs'!$B$2","v":"Benchmark"},{"$f":"'Drop Downs'!$C$4","v":"US Spring (WA Term 3 equivalent)"},16,"High Risk"]
["Year 2 (US Grade 2)BenchmarkUS Spring (WA Term 3 equivalent)17",{"$f":"'Drop Downs'!$A$5","v":"Year 2 (US Grade 2)"},{"$f":"'Drop Downs'!$B$2","v":"Benchmark"},{"$f":"'Drop Downs'!$C$4","v":"US Spring (WA Term 3 equivalent)"},17,"High Risk"]
["Year 2 (US Grade 2)BenchmarkUS Spring (WA Term 3 equivalent)18",{"$f":"'Drop Downs'!$A$5","v":"Year 2 (US Grade 2)"},{"$f":"'Drop Downs'!$B$2","v":"Benchmark"},{"$f":"'Drop Downs'!$C$4","v":"US Spring (WA Term 3 equivalent)"},18,"High Risk"]
["Year 2 (US Grade 2)BenchmarkUS Spring (WA Term 3 equivalent)19",{"$f":"'Drop Downs'!$A$5","v":"Year 2 (US Grade 2)"},{"$f":"'Drop Downs'!$B$2","v":"Benchmark"},{"$f":"'Drop Downs'!$C$4","v":"US Spring (WA Term 3 equivalent)"},19,"High Risk"]
["Year 2 (US Grade 2)BenchmarkUS Spring (WA Term 3 equivalent)20",{"$f":"'Drop Downs'!$A$5","v":"Year 2 (US Grade 2)"},{"$f":"'Drop Downs'!$B$2","v":"Benchmark"},{"$f":"'Drop Downs'!$C$4","v":"US Spring (WA Term 3 equivalent)"},20,"High Risk"]
["Year 2 (US Grade 2)BenchmarkUS Spring (WA Term 3 equivalent)21",{"$f":"'Drop Downs'!$A$5","v":"Year 2 (US Grade 2)"},{"$f":"'Drop Downs'!$B$2","v":"Benchmark"},{"$f":"'Drop Downs'!$C$4","v":"US Spring (WA Term 3 equivalent)"},21,"Moderate Risk"]
["Year 2 (US Grade 2)BenchmarkUS Spring (WA Term 3 equivalent)22",{"$f":"'Drop Downs'!$A$5","v":"Year 2 (US Grade 2)"},{"$f":"'Drop Downs'!$B$2","v":"Benchmark"},{"$f":"'Drop Downs'!$C$4","v":"US Spring (WA Term 3 equivalent)"},22,"Moderate Risk"]
["Year 2 (US Grade 2)BenchmarkUS Spring (WA Term 3 equivalent)23",{"$f":"'Drop Downs'!$A$5","v":"Year 2 (US Grade 2)"},{"$f":"'Drop Downs'!$B$2","v":"Benchmark"},{"$f":"'Drop Downs'!$C$4","v":"US Spring (WA Term 3 equivalent)"},23,"Moderate Risk"]
["Year 2 (US Grade 2)BenchmarkUS Spring (WA Term 3 equivalent)24",{"$f":"'Drop Downs'!$A$5","v":"Year 2 (US Grade 2)"},{"$f":"'Drop Downs'!$B$2","v":"Benchmark"},{"$f":"'Drop Downs'!$C$4","v":"US Spring (WA Term 3 equivalent)"},24,"Moderate Risk"]
["Year 2 (US Grade 2)BenchmarkUS Spring (WA Term 3 equivalent)25",{"$f":"'Drop Downs'!$A$5","v":"Year 2 (US Grade 2)"},{"$f":"'Drop Downs'!$B$2","v":"Benchmark"},{"$f":"'Drop Downs'!$C$4","v":"US Spring (WA Term 3 equivalent)"},25,"Moderate Risk"]
["Year 2 (US Grade 2)BenchmarkUS Spring (WA Term 3 equivalent)26",{"$f":"'Drop Downs'!$A$5","v":"Year 2 (US Grade 2)"},{"$f":"'Drop Downs'!$B$2","v":"Benchmark"},{"$f":"'Drop Downs'!$C$4","v":"US Spring (WA Term 3 equivalent)"},26,"Benchmark"]
["Year 2 (US Grade 2)BenchmarkUS Spring (WA Term 3 equivalent)27",{"$f":"'Drop Downs'!$A$5","v":"Year 2 (US Grade 2)"},{"$f":"'Drop Downs'!$B$2","v":"Benchmark"},{"$f":"'Drop Downs'!$C$4","v":"US Spring (WA Term 3 equivalent)"},27,"Benchmark"]
["Year 2 (US Grade 2)BenchmarkUS Spring (WA Term 3 equivalent)28",{"$f":"'Drop Downs'!$A$5","v":"Year 2 (US Grade 2)"},{"$f":"'Drop Downs'!$B$2","v":"Benchmark"},{"$f":"'Drop Downs'!$C$4","v":"US Spring (WA Term 3 equivalent)"},28,"Benchmark"]
["Year 2 (US Grade 2)BenchmarkUS Spring (WA Term 3 equivalent)29",{"$f":"'Drop Downs'!$A$5","v":"Year 2 (US Grade 2)"},{"$f":"'Drop Downs'!$B$2","v":"Benchmark"},{"$f":"'Drop Downs'!$C$4","v":"US Spring (WA Term 3 equivalent)"},29,"Benchmark"]
["Year 2 (US Grade 2)BenchmarkUS Spring (WA Term 3 equivalent)30",{"$f":"'Drop Downs'!$A$5","v":"Year 2 (US Grade 2)"},{"$f":"'Drop Downs'!$B$2","v":"Benchmark"},{"$f":"'Drop Downs'!$C$4","v":"US Spring (WA Term 3 equivalent)"},30,"Advanced"]
["Year 2 (US Grade 2)BenchmarkUS Spring (WA Term 3 equivalent)31",{"$f":"'Drop Downs'!$A$5","v":"Year 2 (US Grade 2)"},{"$f":"'Drop Downs'!$B$2","v":"Benchmark"},{"$f":"'Drop Downs'!$C$4","v":"US Spring (WA Term 3 equivalent)"},31,"Advanced"]
["Year 2 (US Grade 2)BenchmarkUS Spring (WA Term 3 equivalent)32",{"$f":"'Drop Downs'!$A$5","v":"Year 2 (US Grade 2)"},{"$f":"'Drop Downs'!$B$2","v":"Benchmark"},{"$f":"'Drop Downs'!$C$4","v":"US Spring (WA Term 3 equivalent)"},32,"Advanced"]
["Year 2 (US Grade 2)BenchmarkUS Spring (WA Term 3 equivalent)33",{"$f":"'Drop Downs'!$A$5","v":"Year 2 (US Grade 2)"},{"$f":"'Drop Downs'!$B$2","v":"Benchmark"},{"$f":"'Drop Downs'!$C$4","v":"US Spring (WA Term 3 equivalent)"},33,"Advanced"]
["Year 2 (US Grade 2)BenchmarkUS Spring (WA Term 3 equivalent)34",{"$f":"'Drop Downs'!$A$5","v":"Year 2 (US Grade 2)"},{"$f":"'Drop Downs'!$B$2","v":"Benchmark"},{"$f":"'Drop Downs'!$C$4","v":"US Spring (WA Term 3 equivalent)"},34,"Advanced"]
["Year 2 (US Grade 2)BenchmarkUS Spring (WA Term 3 equivalent)35",{"$f":"'Drop Downs'!$A$5","v":"Year 2 (US Grade 2)"},{"$f":"'Drop Downs'!$B$2","v":"Benchmark"},{"$f":"'Drop Downs'!$C$4","v":"US Spring (WA Term 3 equivalent)"},35,"Advanced"]
["Year 2 (US Grade 2)BenchmarkUS Spring (WA Term 3 equivalent)36",{"$f":"'Drop Downs'!$A$5","v":"Year 2 (US Grade 2)"},{"$f":"'Drop Downs'!$B$2","v":"Benchmark"},{"$f":"'Drop Downs'!$C$4","v":"US Spring (WA Term 3 equivalent)"},36,"Advanced"]
["Year 2 (US Grade 2)BenchmarkUS Spring (WA Term 3 equivalent)37",{"$f":"'Drop Downs'!$A$5","v":"Year 2 (US Grade 2)"},{"$f":"'Drop Downs'!$B$2","v":"Benchmark"},{"$f":"'Drop Downs'!$C$4","v":"US Spring (WA Term 3 equivalent)"},37,"Advanced"]
["Year 2 (US Grade 2)BenchmarkUS Spring (WA Term 3 equivalent)38",{"$f":"'Drop Downs'!$A$5","v":"Year 2 (US Grade 2)"},{"$f":"'Drop Downs'!$B$2","v":"Benchmark"},{"$f":"'Drop Downs'!$C$4","v":"US Spring (WA Term 3 equivalent)"},38,"Advanced"]
["Year 2 (US Grade 2)BenchmarkUS Spring (WA Term 3 equivalent)39",{"$f":"'Drop Downs'!$A$5","v":"Year 2 (US Grade 2)"},{"$f":"'Drop Downs'!$B$2","v":"Benchmark"},{"$f":"'Drop Downs'!$C$4","v":"US Spring (WA Term 3 equivalent)"},39,"Advanced"]
["Year 2 (US Grade 2)BenchmarkUS Spring (WA Term 3 equivalent)40",{"$f":"'Drop Downs'!$A$5","v":"Year 2 (US Grade 2)"},{"$f":"'Drop Downs'!$B$2","v":"Benchmark"},{"$f":"'Drop Downs'!$C$4","v":"US Spring (WA Term 3 equivalent)"},40,"Advanced"]
[{"$f":"B605&C605&D605&E605","v":"Year 2 (US Grade 2)BenchmarkUS Spring (WA Term 3 equivalent)41"},{"$f":"'Drop Downs'!$A$5","v":"Year 2 (US Grade 2)"},{"$f":"'Drop Downs'!$B$2","v":"Benchmark"},{"$f":"'Drop Downs'!$C$4","v":"US Spring (WA Term 3 equivalent)"},{"$f":"E604+1","v":41},"Advanced"]
["Year 2 (US Grade 2)BenchmarkUS Spring (WA Term 3 equivalent)42",{"$f":"'Drop Downs'!$A$5","v":"Year 2 (US Grade 2)"},{"$f":"'Drop Downs'!$B$2","v":"Benchmark"},{"$f":"'Drop Downs'!$C$4","v":"US Spring (WA Term 3 equivalent)"},{"$f":"E605+1","v":42},"Advanced"]
["Year 2 (US Grade 2)BenchmarkUS Spring (WA Term 3 equivalent)43",{"$f":"'Drop Downs'!$A$5","v":"Year 2 (US Grade 2)"},{"$f":"'Drop Downs'!$B$2","v":"Benchmark"},{"$f":"'Drop Downs'!$C$4","v":"US Spring (WA Term 3 equivalent)"},43,"Advanced"]
["Year 2 (US Grade 2)BenchmarkUS Spring (WA Term 3 equivalent)44",{"$f":"'Drop Downs'!$A$5","v":"Year 2 (US Grade 2)"},{"$f":"'Drop Downs'!$B$2","v":"Benchmark"},{"$f":"'Drop Downs'!$C$4","v":"US Spring (WA Term 3 equivalent)"},44,"Advanced"]
["Year 2 (US Grade 2)BenchmarkUS Spring (WA Term 3 equivalent)45",{"$f":"'Drop Downs'!$A$5","v":"Year 2 (US Grade 2)"},{"$f":"'Drop Downs'!$B$2","v":"Benchmark"},{"$f":"'Drop Downs'!$C$4","v":"US Spring (WA Term 3 equivalent)"},45,"Advanced"]
["Year 2 (US Grade 2)BenchmarkUS Spring (WA Term 3 equivalent)46",{"$f":"'Drop Downs'!$A$5","v":"Year 2 (US Grade 2)"},{"$f":"'Drop Downs'!$B$2","v":"Benchmark"},{"$f":"'Drop Downs'!$C$4","v":"US Spring (WA Term 3 equivalent)"},46,"Advanced"]
["Year 2 (US Grade 2)BenchmarkUS Spring (WA Term 3 equivalent)47",{"$f":"'Drop Downs'!$A$5","v":"Year 2 (US Grade 2)"},{"$f":"'Drop Downs'!$B$2","v":"Benchmark"},{"$f":"'Drop Downs'!$C$4","v":"US Spring (WA Term 3 equivalent)"},47,"Advanced"]
["Year 2 (US Grade 2)BenchmarkUS Spring (WA Term 3 equivalent)48",{"$f":"'Drop Downs'!$A$5","v":"Year 2 (US Grade 2)"},{"$f":"'Drop Downs'!$B$2","v":"Benchmark"},{"$f":"'Drop Downs'!$C$4","v":"US Spring (WA Term 3 equivalent)"},48,"Advanced"]
["Year 2 (US Grade 2)BenchmarkUS Spring (WA Term 3 equivalent)49",{"$f":"'Drop Downs'!$A$5","v":"Year 2 (US Grade 2)"},{"$f":"'Drop Downs'!$B$2","v":"Benchmark"},{"$f":"'Drop Downs'!$C$4","v":"US Spring (WA Term 3 equivalent)"},49,"Advanced"]
["Year 2 (US Grade 2)BenchmarkUS Spring (WA Term 3 equivalent)50",{"$f":"'Drop Downs'!$A$5","v":"Year 2 (US Grade 2)"},{"$f":"'Drop Downs'!$B$2","v":"Benchmark"},{"$f":"'Drop Downs'!$C$4","v":"US Spring (WA Term 3 equivalent)"},50,"Advanced"]
["Year 3 (US Grade 3)BenchmarkUS Fall (WA Term 1 equivalent)0",{"$f":"'Drop Downs'!$A$6","v":"Year 3 (US Grade 3)"},{"$f":"'Drop Downs'!$B$2","v":"Benchmark"},{"$f":"'Drop Downs'!$C$2","v":"US Fall (WA Term 1 equivalent)"},0,"High Risk"]
[{"$f":"B616&C616&D616&E616","v":"Year 3 (US Grade 3)BenchmarkUS Fall (WA Term 1 equivalent)1"},{"$f":"'Drop Downs'!$A$6","v":"Year 3 (US Grade 3)"},{"$f":"'Drop Downs'!$B$2","v":"Benchmark"},{"$f":"'Drop Downs'!$C$2","v":"US Fall (WA Term 1 equivalent)"},1,"High Risk"]
["Year 3 (US Grade 3)BenchmarkUS Fall (WA Term 1 equivalent)2",{"$f":"'Drop Downs'!$A$6","v":"Year 3 (US Grade 3)"},{"$f":"'Drop Downs'!$B$2","v":"Benchmark"},{"$f":"'Drop Downs'!$C$2","v":"US Fall (WA Term 1 equivalent)"},2,"High Risk"]
["Year 3 (US Grade 3)BenchmarkUS Fall (WA Term 1 equivalent)3",{"$f":"'Drop Downs'!$A$6","v":"Year 3 (US Grade 3)"},{"$f":"'Drop Downs'!$B$2","v":"Benchmark"},{"$f":"'Drop Downs'!$C$2","v":"US Fall (WA Term 1 equivalent)"},3,"High Risk"]
["Year 3 (US Grade 3)BenchmarkUS Fall (WA Term 1 equivalent)4",{"$f":"'Drop Downs'!$A$6","v":"Year 3 (US Grade 3)"},{"$f":"'Drop Downs'!$B$2","v":"Benchmark"},{"$f":"'Drop Downs'!$C$2","v":"US Fall (WA Term 1 equivalent)"},4,"High Risk"]
["Year 3 (US Grade 3)BenchmarkUS Fall (WA Term 1 equivalent)5",{"$f":"'Drop Downs'!$A$6","v":"Year 3 (US Grade 3)"},{"$f":"'Drop Downs'!$B$2","v":"Benchmark"},{"$f":"'Drop Downs'!$C$2","v":"US Fall (WA Term 1 equivalent)"},5,"High Risk"]
["Year 3 (US Grade 3)BenchmarkUS Fall (WA Term 1 equivalent)6",{"$f":"'Drop Downs'!$A$6","v":"Year 3 (US Grade 3)"},{"$f":"'Drop Downs'!$B$2","v":"Benchmark"},{"$f":"'Drop Downs'!$C$2","v":"US Fall (WA Term 1 equivalent)"},6,"High Risk"]
["Year 3 (US Grade 3)BenchmarkUS Fall (WA Term 1 equivalent)7",{"$f":"'Drop Downs'!$A$6","v":"Year 3 (US Grade 3)"},{"$f":"'Drop Downs'!$B$2","v":"Benchmark"},{"$f":"'Drop Downs'!$C$2","v":"US Fall (WA Term 1 equivalent)"},7,"High Risk"]
["Year 3 (US Grade 3)BenchmarkUS Fall (WA Term 1 equivalent)8",{"$f":"'Drop Downs'!$A$6","v":"Year 3 (US Grade 3)"},{"$f":"'Drop Downs'!$B$2","v":"Benchmark"},{"$f":"'Drop Downs'!$C$2","v":"US Fall (WA Term 1 equivalent)"},8,"High Risk"]
["Year 3 (US Grade 3)BenchmarkUS Fall (WA Term 1 equivalent)9",{"$f":"'Drop Downs'!$A$6","v":"Year 3 (US Grade 3)"},{"$f":"'Drop Downs'!$B$2","v":"Benchmark"},{"$f":"'Drop Downs'!$C$2","v":"US Fall (WA Term 1 equivalent)"},9,"High Risk"]
["Year 3 (US Grade 3)BenchmarkUS Fall (WA Term 1 equivalent)10",{"$f":"'Drop Downs'!$A$6","v":"Year 3 (US Grade 3)"},{"$f":"'Drop Downs'!$B$2","v":"Benchmark"},{"$f":"'Drop Downs'!$C$2","v":"US Fall (WA Term 1 equivalent)"},10,"High Risk"]
["Year 3 (US Grade 3)BenchmarkUS Fall (WA Term 1 equivalent)11",{"$f":"'Drop Downs'!$A$6","v":"Year 3 (US Grade 3)"},{"$f":"'Drop Downs'!$B$2","v":"Benchmark"},{"$f":"'Drop Downs'!$C$2","v":"US Fall (WA Term 1 equivalent)"},11,"High Risk"]
["Year 3 (US Grade 3)BenchmarkUS Fall (WA Term 1 equivalent)12",{"$f":"'Drop Downs'!$A$6","v":"Year 3 (US Grade 3)"},{"$f":"'Drop Downs'!$B$2","v":"Benchmark"},{"$f":"'Drop Downs'!$C$2","v":"US Fall (WA Term 1 equivalent)"},12,"High Risk"]
["Year 3 (US Grade 3)BenchmarkUS Fall (WA Term 1 equivalent)13",{"$f":"'Drop Downs'!$A$6","v":"Year 3 (US Grade 3)"},{"$f":"'Drop Downs'!$B$2","v":"Benchmark"},{"$f":"'Drop Downs'!$C$2","v":"US Fall (WA Term 1 equivalent)"},13,"High Risk"]
["Year 3 (US Grade 3)BenchmarkUS Fall (WA Term 1 equivalent)14",{"$f":"'Drop Downs'!$A$6","v":"Year 3 (US Grade 3)"},{"$f":"'Drop Downs'!$B$2","v":"Benchmark"},{"$f":"'Drop Downs'!$C$2","v":"US Fall (WA Term 1 equivalent)"},14,"High Risk"]
["Year 3 (US Grade 3)BenchmarkUS Fall (WA Term 1 equivalent)15",{"$f":"'Drop Downs'!$A$6","v":"Year 3 (US Grade 3)"},{"$f":"'Drop Downs'!$B$2","v":"Benchmark"},{"$f":"'Drop Downs'!$C$2","v":"US Fall (WA Term 1 equivalent)"},15,"High Risk"]
["Year 3 (US Grade 3)BenchmarkUS Fall (WA Term 1 equivalent)16",{"$f":"'Drop Downs'!$A$6","v":"Year 3 (US Grade 3)"},{"$f":"'Drop Downs'!$B$2","v":"Benchmark"},{"$f":"'Drop Downs'!$C$2","v":"US Fall (WA Term 1 equivalent)"},16,"High Risk"]
["Year 3 (US Grade 3)BenchmarkUS Fall (WA Term 1 equivalent)17",{"$f":"'Drop Downs'!$A$6","v":"Year 3 (US Grade 3)"},{"$f":"'Drop Downs'!$B$2","v":"Benchmark"},{"$f":"'Drop Downs'!$C$2","v":"US Fall (WA Term 1 equivalent)"},17,"Moderate Risk"]
["Year 3 (US Grade 3)BenchmarkUS Fall (WA Term 1 equivalent)18",{"$f":"'Drop Downs'!$A$6","v":"Year 3 (US Grade 3)"},{"$f":"'Drop Downs'!$B$2","v":"Benchmark"},{"$f":"'Drop Downs'!$C$2","v":"US Fall (WA Term 1 equivalent)"},18,"Moderate Risk"]
["Year 3 (US Grade 3)BenchmarkUS Fall (WA Term 1 equivalent)19",{"$f":"'Drop Downs'!$A$6","v":"Year 3 (US Grade 3)"},{"$f":"'Drop Downs'!$B$2","v":"Benchmark"},{"$f":"'Drop Downs'!$C$2","v":"US Fall (WA Term 1 equivalent)"},19,"Moderate Risk"]
["Year 3 (US Grade 3)BenchmarkUS Fall (WA Term 1 equivalent)20",{"$f":"'Drop Downs'!$A$6","v":"Year 3 (US Grade 3)"},{"$f":"'Drop Downs'!$B$2","v":"Benchmark"},{"$f":"'Drop Downs'!$C$2","v":"US Fall (WA Term 1 equivalent)"},20,"Moderate Risk"]
["Year 3 (US Grade 3)BenchmarkUS Fall (WA Term 1 equivalent)21",{"$f":"'Drop Downs'!$A$6","v":"Year 3 (US Grade 3)"},{"$f":"'Drop Downs'!$B$2","v":"Benchmark"},{"$f":"'Drop Downs'!$C$2","v":"US Fall (WA Term 1 equivalent)"},21,"Moderate Risk"]
["Year 3 (US Grade 3)BenchmarkUS Fall (WA Term 1 equivalent)22",{"$f":"'Drop Downs'!$A$6","v":"Year 3 (US Grade 3)"},{"$f":"'Drop Downs'!$B$2","v":"Benchmark"},{"$f":"'Drop Downs'!$C$2","v":"US Fall (WA Term 1 equivalent)"},22,"Moderate Risk"]
["Year 3 (US Grade 3)BenchmarkUS Fall (WA Term 1 equivalent)23",{"$f":"'Drop Downs'!$A$6","v":"Year 3 (US Grade 3)"},{"$f":"'Drop Downs'!$B$2","v":"Benchmark"},{"$f":"'Drop Downs'!$C$2","v":"US Fall (WA Term 1 equivalent)"},23,"Moderate Risk"]
["Year 3 (US Grade 3)BenchmarkUS Fall (WA Term 1 equivalent)24",{"$f":"'Drop Downs'!$A$6","v":"Year 3 (US Grade 3)"},{"$f":"'Drop Downs'!$B$2","v":"Benchmark"},{"$f":"'Drop Downs'!$C$2","v":"US Fall (WA Term 1 equivalent)"},24,"Moderate Risk"]
["Year 3 (US Grade 3)BenchmarkUS Fall (WA Term 1 equivalent)25",{"$f":"'Drop Downs'!$A$6","v":"Year 3 (US Grade 3)"},{"$f":"'Drop Downs'!$B$2","v":"Benchmark"},{"$f":"'Drop Downs'!$C$2","v":"US Fall (WA Term 1 equivalent)"},25,"Benchmark"]
["Year 3 (US Grade 3)BenchmarkUS Fall (WA Term 1 equivalent)26",{"$f":"'Drop Downs'!$A$6","v":"Year 3 (US Grade 3)"},{"$f":"'Drop Downs'!$B$2","v":"Benchmark"},{"$f":"'Drop Downs'!$C$2","v":"US Fall (WA Term 1 equivalent)"},26,"Benchmark"]
["Year 3 (US Grade 3)BenchmarkUS Fall (WA Term 1 equivalent)27",{"$f":"'Drop Downs'!$A$6","v":"Year 3 (US Grade 3)"},{"$f":"'Drop Downs'!$B$2","v":"Benchmark"},{"$f":"'Drop Downs'!$C$2","v":"US Fall (WA Term 1 equivalent)"},27,"Advanced"]
["Year 3 (US Grade 3)BenchmarkUS Fall (WA Term 1 equivalent)28",{"$f":"'Drop Downs'!$A$6","v":"Year 3 (US Grade 3)"},{"$f":"'Drop Downs'!$B$2","v":"Benchmark"},{"$f":"'Drop Downs'!$C$2","v":"US Fall (WA Term 1 equivalent)"},28,"Advanced"]
["Year 3 (US Grade 3)BenchmarkUS Fall (WA Term 1 equivalent)29",{"$f":"'Drop Downs'!$A$6","v":"Year 3 (US Grade 3)"},{"$f":"'Drop Downs'!$B$2","v":"Benchmark"},{"$f":"'Drop Downs'!$C$2","v":"US Fall (WA Term 1 equivalent)"},29,"Advanced"]
["Year 3 (US Grade 3)BenchmarkUS Fall (WA Term 1 equivalent)30",{"$f":"'Drop Downs'!$A$6","v":"Year 3 (US Grade 3)"},{"$f":"'Drop Downs'!$B$2","v":"Benchmark"},{"$f":"'Drop Downs'!$C$2","v":"US Fall (WA Term 1 equivalent)"},30,"Advanced"]
["Year 3 (US Grade 3)BenchmarkUS Fall (WA Term 1 equivalent)31",{"$f":"'Drop Downs'!$A$6","v":"Year 3 (US Grade 3)"},{"$f":"'Drop Downs'!$B$2","v":"Benchmark"},{"$f":"'Drop Downs'!$C$2","v":"US Fall (WA Term 1 equivalent)"},31,"Advanced"]
["Year 3 (US Grade 3)BenchmarkUS Fall (WA Term 1 equivalent)32",{"$f":"'Drop Downs'!$A$6","v":"Year 3 (US Grade 3)"},{"$f":"'Drop Downs'!$B$2","v":"Benchmark"},{"$f":"'Drop Downs'!$C$2","v":"US Fall (WA Term 1 equivalent)"},32,"Advanced"]
["Year 3 (US Grade 3)BenchmarkUS Fall (WA Term 1 equivalent)33",{"$f":"'Drop Downs'!$A$6","v":"Year 3 (US Grade 3)"},{"$f":"'Drop Downs'!$B$2","v":"Benchmark"},{"$f":"'Drop Downs'!$C$2","v":"US Fall (WA Term 1 equivalent)"},33,"Advanced"]
["Year 3 (US Grade 3)BenchmarkUS Fall (WA Term 1 equivalent)34",{"$f":"'Drop Downs'!$A$6","v":"Year 3 (US Grade 3)"},{"$f":"'Drop Downs'!$B$2","v":"Benchmark"},{"$f":"'Drop Downs'!$C$2","v":"US Fall (WA Term 1 equivalent)"},34,"Advanced"]
["Year 3 (US Grade 3)BenchmarkUS Fall (WA Term 1 equivalent)35",{"$f":"'Drop Downs'!$A$6","v":"Year 3 (US Grade 3)"},{"$f":"'Drop Downs'!$B$2","v":"Benchmark"},{"$f":"'Drop Downs'!$C$2","v":"US Fall (WA Term 1 equivalent)"},35,"Advanced"]
["Year 3 (US Grade 3)BenchmarkUS Fall (WA Term 1 equivalent)36",{"$f":"'Drop Downs'!$A$6","v":"Year 3 (US Grade 3)"},{"$f":"'Drop Downs'!$B$2","v":"Benchmark"},{"$f":"'Drop Downs'!$C$2","v":"US Fall (WA Term 1 equivalent)"},36,"Advanced"]
["Year 3 (US Grade 3)BenchmarkUS Fall (WA Term 1 equivalent)37",{"$f":"'Drop Downs'!$A$6","v":"Year 3 (US Grade 3)"},{"$f":"'Drop Downs'!$B$2","v":"Benchmark"},{"$f":"'Drop Downs'!$C$2","v":"US Fall (WA Term 1 equivalent)"},37,"Advanced"]
["Year 3 (US Grade 3)BenchmarkUS Fall (WA Term 1 equivalent)38",{"$f":"'Drop Downs'!$A$6","v":"Year 3 (US Grade 3)"},{"$f":"'Drop Downs'!$B$2","v":"Benchmark"},{"$f":"'Drop Downs'!$C$2","v":"US Fall (WA Term 1 equivalent)"},38,"Advanced"]
["Year 3 (US Grade 3)BenchmarkUS Fall (WA Term 1 equivalent)39",{"$f":"'Drop Downs'!$A$6","v":"Year 3 (US Grade 3)"},{"$f":"'Drop Downs'!$B$2","v":"Benchmark"},{"$f":"'Drop Downs'!$C$2","v":"US Fall (WA Term 1 equivalent)"},39,"Advanced"]
["Year 3 (US Grade 3)BenchmarkUS Fall (WA Term 1 equivalent)40",{"$f":"'Drop Downs'!$A$6","v":"Year 3 (US Grade 3)"},{"$f":"'Drop Downs'!$B$2","v":"Benchmark"},{"$f":"'Drop Downs'!$C$2","v":"US Fall (WA Term 1 equivalent)"},40,"Advanced"]
[{"$f":"B656&C656&D656&E656","v":"Year 3 (US Grade 3)BenchmarkUS Fall (WA Term 1 equivalent)41"},{"$f":"'Drop Downs'!$A$6","v":"Year 3 (US Grade 3)"},{"$f":"'Drop Downs'!$B$2","v":"Benchmark"},{"$f":"'Drop Downs'!$C$2","v":"US Fall (WA Term 1 equivalent)"},{"$f":"E655+1","v":41},"Advanced"]
["Year 3 (US Grade 3)BenchmarkUS Fall (WA Term 1 equivalent)42",{"$f":"'Drop Downs'!$A$6","v":"Year 3 (US Grade 3)"},{"$f":"'Drop Downs'!$B$2","v":"Benchmark"},{"$f":"'Drop Downs'!$C$2","v":"US Fall (WA Term 1 equivalent)"},{"$f":"E656+1","v":42},"Advanced"]
["Year 3 (US Grade 3)BenchmarkUS Fall (WA Term 1 equivalent)43",{"$f":"'Drop Downs'!$A$6","v":"Year 3 (US Grade 3)"},{"$f":"'Drop Downs'!$B$2","v":"Benchmark"},{"$f":"'Drop Downs'!$C$2","v":"US Fall (WA Term 1 equivalent)"},43,"Advanced"]
["Year 3 (US Grade 3)BenchmarkUS Fall (WA Term 1 equivalent)44",{"$f":"'Drop Downs'!$A$6","v":"Year 3 (US Grade 3)"},{"$f":"'Drop Downs'!$B$2","v":"Benchmark"},{"$f":"'Drop Downs'!$C$2","v":"US Fall (WA Term 1 equivalent)"},44,"Advanced"]
["Year 3 (US Grade 3)BenchmarkUS Fall (WA Term 1 equivalent)45",{"$f":"'Drop Downs'!$A$6","v":"Year 3 (US Grade 3)"},{"$f":"'Drop Downs'!$B$2","v":"Benchmark"},{"$f":"'Drop Downs'!$C$2","v":"US Fall (WA Term 1 equivalent)"},45,"Advanced"]
["Year 3 (US Grade 3)BenchmarkUS Fall (WA Term 1 equivalent)46",{"$f":"'Drop Downs'!$A$6","v":"Year 3 (US Grade 3)"},{"$f":"'Drop Downs'!$B$2","v":"Benchmark"},{"$f":"'Drop Downs'!$C$2","v":"US Fall (WA Term 1 equivalent)"},46,"Advanced"]
["Year 3 (US Grade 3)BenchmarkUS Fall (WA Term 1 equivalent)47",{"$f":"'Drop Downs'!$A$6","v":"Year 3 (US Grade 3)"},{"$f":"'Drop Downs'!$B$2","v":"Benchmark"},{"$f":"'Drop Downs'!$C$2","v":"US Fall (WA Term 1 equivalent)"},47,"Advanced"]
["Year 3 (US Grade 3)BenchmarkUS Fall (WA Term 1 equivalent)48",{"$f":"'Drop Downs'!$A$6","v":"Year 3 (US Grade 3)"},{"$f":"'Drop Downs'!$B$2","v":"Benchmark"},{"$f":"'Drop Downs'!$C$2","v":"US Fall (WA Term 1 equivalent)"},48,"Advanced"]
["Year 3 (US Grade 3)BenchmarkUS Fall (WA Term 1 equivalent)49",{"$f":"'Drop Downs'!$A$6","v":"Year 3 (US Grade 3)"},{"$f":"'Drop Downs'!$B$2","v":"Benchmark"},{"$f":"'Drop Downs'!$C$2","v":"US Fall (WA Term 1 equivalent)"},49,"Advanced"]
["Year 3 (US Grade 3)BenchmarkUS Fall (WA Term 1 equivalent)50",{"$f":"'Drop Downs'!$A$6","v":"Year 3 (US Grade 3)"},{"$f":"'Drop Downs'!$B$2","v":"Benchmark"},{"$f":"'Drop Downs'!$C$2","v":"US Fall (WA Term 1 equivalent)"},50,"Advanced"]
[{"$f":"B666&C666&D666&E666","v":"Year 3 (US Grade 3)BenchmarkUS Winter (WA Term 2 equivalent)0"},{"$f":"'Drop Downs'!$A$6","v":"Year 3 (US Grade 3)"},{"$f":"'Drop Downs'!$B$2","v":"Benchmark"},{"$f":"'Drop Downs'!$C$3","v":"US Winter (WA Term 2 equivalent)"},0,"High Risk"]
[{"$f":"B667&C667&D667&E667","v":"Year 3 (US Grade 3)BenchmarkUS Winter (WA Term 2 equivalent)1"},{"$f":"'Drop Downs'!$A$6","v":"Year 3 (US Grade 3)"},{"$f":"'Drop Downs'!$B$2","v":"Benchmark"},{"$f":"'Drop Downs'!$C$3","v":"US Winter (WA Term 2 equivalent)"},1,"High Risk"]
["Year 3 (US Grade 3)BenchmarkUS Winter (WA Term 2 equivalent)2",{"$f":"'Drop Downs'!$A$6","v":"Year 3 (US Grade 3)"},{"$f":"'Drop Downs'!$B$2","v":"Benchmark"},{"$f":"'Drop Downs'!$C$3","v":"US Winter (WA Term 2 equivalent)"},2,"High Risk"]
["Year 3 (US Grade 3)BenchmarkUS Winter (WA Term 2 equivalent)3",{"$f":"'Drop Downs'!$A$6","v":"Year 3 (US Grade 3)"},{"$f":"'Drop Downs'!$B$2","v":"Benchmark"},{"$f":"'Drop Downs'!$C$3","v":"US Winter (WA Term 2 equivalent)"},3,"High Risk"]
["Year 3 (US Grade 3)BenchmarkUS Winter (WA Term 2 equivalent)4",{"$f":"'Drop Downs'!$A$6","v":"Year 3 (US Grade 3)"},{"$f":"'Drop Downs'!$B$2","v":"Benchmark"},{"$f":"'Drop Downs'!$C$3","v":"US Winter (WA Term 2 equivalent)"},4,"High Risk"]
["Year 3 (US Grade 3)BenchmarkUS Winter (WA Term 2 equivalent)5",{"$f":"'Drop Downs'!$A$6","v":"Year 3 (US Grade 3)"},{"$f":"'Drop Downs'!$B$2","v":"Benchmark"},{"$f":"'Drop Downs'!$C$3","v":"US Winter (WA Term 2 equivalent)"},5,"High Risk"]
["Year 3 (US Grade 3)BenchmarkUS Winter (WA Term 2 equivalent)6",{"$f":"'Drop Downs'!$A$6","v":"Year 3 (US Grade 3)"},{"$f":"'Drop Downs'!$B$2","v":"Benchmark"},{"$f":"'Drop Downs'!$C$3","v":"US Winter (WA Term 2 equivalent)"},6,"High Risk"]
["Year 3 (US Grade 3)BenchmarkUS Winter (WA Term 2 equivalent)7",{"$f":"'Drop Downs'!$A$6","v":"Year 3 (US Grade 3)"},{"$f":"'Drop Downs'!$B$2","v":"Benchmark"},{"$f":"'Drop Downs'!$C$3","v":"US Winter (WA Term 2 equivalent)"},7,"High Risk"]
["Year 3 (US Grade 3)BenchmarkUS Winter (WA Term 2 equivalent)8",{"$f":"'Drop Downs'!$A$6","v":"Year 3 (US Grade 3)"},{"$f":"'Drop Downs'!$B$2","v":"Benchmark"},{"$f":"'Drop Downs'!$C$3","v":"US Winter (WA Term 2 equivalent)"},8,"High Risk"]
["Year 3 (US Grade 3)BenchmarkUS Winter (WA Term 2 equivalent)9",{"$f":"'Drop Downs'!$A$6","v":"Year 3 (US Grade 3)"},{"$f":"'Drop Downs'!$B$2","v":"Benchmark"},{"$f":"'Drop Downs'!$C$3","v":"US Winter (WA Term 2 equivalent)"},9,"High Risk"]
["Year 3 (US Grade 3)BenchmarkUS Winter (WA Term 2 equivalent)10",{"$f":"'Drop Downs'!$A$6","v":"Year 3 (US Grade 3)"},{"$f":"'Drop Downs'!$B$2","v":"Benchmark"},{"$f":"'Drop Downs'!$C$3","v":"US Winter (WA Term 2 equivalent)"},10,"High Risk"]
["Year 3 (US Grade 3)BenchmarkUS Winter (WA Term 2 equivalent)11",{"$f":"'Drop Downs'!$A$6","v":"Year 3 (US Grade 3)"},{"$f":"'Drop Downs'!$B$2","v":"Benchmark"},{"$f":"'Drop Downs'!$C$3","v":"US Winter (WA Term 2 equivalent)"},11,"High Risk"]
["Year 3 (US Grade 3)BenchmarkUS Winter (WA Term 2 equivalent)12",{"$f":"'Drop Downs'!$A$6","v":"Year 3 (US Grade 3)"},{"$f":"'Drop Downs'!$B$2","v":"Benchmark"},{"$f":"'Drop Downs'!$C$3","v":"US Winter (WA Term 2 equivalent)"},12,"High Risk"]
["Year 3 (US Grade 3)BenchmarkUS Winter (WA Term 2 equivalent)13",{"$f":"'Drop Downs'!$A$6","v":"Year 3 (US Grade 3)"},{"$f":"'Drop Downs'!$B$2","v":"Benchmark"},{"$f":"'Drop Downs'!$C$3","v":"US Winter (WA Term 2 equivalent)"},13,"High Risk"]
["Year 3 (US Grade 3)BenchmarkUS Winter (WA Term 2 equivalent)14",{"$f":"'Drop Downs'!$A$6","v":"Year 3 (US Grade 3)"},{"$f":"'Drop Downs'!$B$2","v":"Benchmark"},{"$f":"'Drop Downs'!$C$3","v":"US Winter (WA Term 2 equivalent)"},14,"High Risk"]
["Year 3 (US Grade 3)BenchmarkUS Winter (WA Term 2 equivalent)15",{"$f":"'Drop Downs'!$A$6","v":"Year 3 (US Grade 3)"},{"$f":"'Drop Downs'!$B$2","v":"Benchmark"},{"$f":"'Drop Downs'!$C$3","v":"US Winter (WA Term 2 equivalent)"},15,"High Risk"]
["Year 3 (US Grade 3)BenchmarkUS Winter (WA Term 2 equivalent)16",{"$f":"'Drop Downs'!$A$6","v":"Year 3 (US Grade 3)"},{"$f":"'Drop Downs'!$B$2","v":"Benchmark"},{"$f":"'Drop Downs'!$C$3","v":"US Winter (WA Term 2 equivalent)"},16,"High Risk"]
["Year 3 (US Grade 3)BenchmarkUS Winter (WA Term 2 equivalent)17",{"$f":"'Drop Downs'!$A$6","v":"Year 3 (US Grade 3)"},{"$f":"'Drop Downs'!$B$2","v":"Benchmark"},{"$f":"'Drop Downs'!$C$3","v":"US Winter (WA Term 2 equivalent)"},17,"High Risk"]
["Year 3 (US Grade 3)BenchmarkUS Winter (WA Term 2 equivalent)18",{"$f":"'Drop Downs'!$A$6","v":"Year 3 (US Grade 3)"},{"$f":"'Drop Downs'!$B$2","v":"Benchmark"},{"$f":"'Drop Downs'!$C$3","v":"US Winter (WA Term 2 equivalent)"},18,"Moderate Risk"]
["Year 3 (US Grade 3)BenchmarkUS Winter (WA Term 2 equivalent)19",{"$f":"'Drop Downs'!$A$6","v":"Year 3 (US Grade 3)"},{"$f":"'Drop Downs'!$B$2","v":"Benchmark"},{"$f":"'Drop Downs'!$C$3","v":"US Winter (WA Term 2 equivalent)"},19,"Moderate Risk"]
["Year 3 (US Grade 3)BenchmarkUS Winter (WA Term 2 equivalent)20",{"$f":"'Drop Downs'!$A$6","v":"Year 3 (US Grade 3)"},{"$f":"'Drop Downs'!$B$2","v":"Benchmark"},{"$f":"'Drop Downs'!$C$3","v":"US Winter (WA Term 2 equivalent)"},20,"Moderate Risk"]
["Year 3 (US Grade 3)BenchmarkUS Winter (WA Term 2 equivalent)21",{"$f":"'Drop Downs'!$A$6","v":"Year 3 (US Grade 3)"},{"$f":"'Drop Downs'!$B$2","v":"Benchmark"},{"$f":"'Drop Downs'!$C$3","v":"US Winter (WA Term 2 equivalent)"},21,"Moderate Risk"]
["Year 3 (US Grade 3)BenchmarkUS Winter (WA Term 2 equivalent)22",{"$f":"'Drop Downs'!$A$6","v":"Year 3 (US Grade 3)"},{"$f":"'Drop Downs'!$B$2","v":"Benchmark"},{"$f":"'Drop Downs'!$C$3","v":"US Winter (WA Term 2 equivalent)"},22,"Moderate Risk"]
["Year 3 (US Grade 3)BenchmarkUS Winter (WA Term 2 equivalent)23",{"$f":"'Drop Downs'!$A$6","v":"Year 3 (US Grade 3)"},{"$f":"'Drop Downs'!$B$2","v":"Benchmark"},{"$f":"'Drop Downs'!$C$3","v":"US Winter (WA Term 2 equivalent)"},23,"Moderate Risk"]
["Year 3 (US Grade 3)BenchmarkUS Winter (WA Term 2 equivalent)24",{"$f":"'Drop Downs'!$A$6","v":"Year 3 (US Grade 3)"},{"$f":"'Drop Downs'!$B$2","v":"Benchmark"},{"$f":"'Drop Downs'!$C$3","v":"US Winter (WA Term 2 equivalent)"},24,"Moderate Risk"]
["Year 3 (US Grade 3)BenchmarkUS Winter (WA Term 2 equivalent)25",{"$f":"'Drop Downs'!$A$6","v":"Year 3 (US Grade 3)"},{"$f":"'Drop Downs'!$B$2","v":"Benchmark"},{"$f":"'Drop Downs'!$C$3","v":"US Winter (WA Term 2 equivalent)"},25,"Moderate Risk"]
["Year 3 (US Grade 3)BenchmarkUS Winter (WA Term 2 equivalent)26",{"$f":"'Drop Downs'!$A$6","v":"Year 3 (US Grade 3)"},{"$f":"'Drop Downs'!$B$2","v":"Benchmark"},{"$f":"'Drop Downs'!$C$3","v":"US Winter (WA Term 2 equivalent)"},26,"Moderate Risk"]
["Year 3 (US Grade 3)BenchmarkUS Winter (WA Term 2 equivalent)27",{"$f":"'Drop Downs'!$A$6","v":"Year 3 (US Grade 3)"},{"$f":"'Drop Downs'!$B$2","v":"Benchmark"},{"$f":"'Drop Downs'!$C$3","v":"US Winter (WA Term 2 equivalent)"},27,"Moderate Risk"]
["Year 3 (US Grade 3)BenchmarkUS Winter (WA Term 2 equivalent)28",{"$f":"'Drop Downs'!$A$6","v":"Year 3 (US Grade 3)"},{"$f":"'Drop Downs'!$B$2","v":"Benchmark"},{"$f":"'Drop Downs'!$C$3","v":"US Winter (WA Term 2 equivalent)"},28,"Benchmark"]
["Year 3 (US Grade 3)BenchmarkUS Winter (WA Term 2 equivalent)29",{"$f":"'Drop Downs'!$A$6","v":"Year 3 (US Grade 3)"},{"$f":"'Drop Downs'!$B$2","v":"Benchmark"},{"$f":"'Drop Downs'!$C$3","v":"US Winter (WA Term 2 equivalent)"},29,"Benchmark"]
["Year 3 (US Grade 3)BenchmarkUS Winter (WA Term 2 equivalent)30",{"$f":"'Drop Downs'!$A$6","v":"Year 3 (US Grade 3)"},{"$f":"'Drop Downs'!$B$2","v":"Benchmark"},{"$f":"'Drop Downs'!$C$3","v":"US Winter (WA Term 2 equivalent)"},30,"Benchmark"]
["Year 3 (US Grade 3)BenchmarkUS Winter (WA Term 2 equivalent)31",{"$f":"'Drop Downs'!$A$6","v":"Year 3 (US Grade 3)"},{"$f":"'Drop Downs'!$B$2","v":"Benchmark"},{"$f":"'Drop Downs'!$C$3","v":"US Winter (WA Term 2 equivalent)"},31,"Benchmark"]
["Year 3 (US Grade 3)BenchmarkUS Winter (WA Term 2 equivalent)32",{"$f":"'Drop Downs'!$A$6","v":"Year 3 (US Grade 3)"},{"$f":"'Drop Downs'!$B$2","v":"Benchmark"},{"$f":"'Drop Downs'!$C$3","v":"US Winter (WA Term 2 equivalent)"},32,"Advanced"]
["Year 3 (US Grade 3)BenchmarkUS Winter (WA Term 2 equivalent)33",{"$f":"'Drop Downs'!$A$6","v":"Year 3 (US Grade 3)"},{"$f":"'Drop Downs'!$B$2","v":"Benchmark"},{"$f":"'Drop Downs'!$C$3","v":"US Winter (WA Term 2 equivalent)"},33,"Advanced"]
["Year 3 (US Grade 3)BenchmarkUS Winter (WA Term 2 equivalent)34",{"$f":"'Drop Downs'!$A$6","v":"Year 3 (US Grade 3)"},{"$f":"'Drop Downs'!$B$2","v":"Benchmark"},{"$f":"'Drop Downs'!$C$3","v":"US Winter (WA Term 2 equivalent)"},34,"Advanced"]
["Year 3 (US Grade 3)BenchmarkUS Winter (WA Term 2 equivalent)35",{"$f":"'Drop Downs'!$A$6","v":"Year 3 (US Grade 3)"},{"$f":"'Drop Downs'!$B$2","v":"Benchmark"},{"$f":"'Drop Downs'!$C$3","v":"US Winter (WA Term 2 equivalent)"},35,"Advanced"]
["Year 3 (US Grade 3)BenchmarkUS Winter (WA Term 2 equivalent)36",{"$f":"'Drop Downs'!$A$6","v":"Year 3 (US Grade 3)"},{"$f":"'Drop Downs'!$B$2","v":"Benchmark"},{"$f":"'Drop Downs'!$C$3","v":"US Winter (WA Term 2 equivalent)"},36,"Advanced"]
["Year 3 (US Grade 3)BenchmarkUS Winter (WA Term 2 equivalent)37",{"$f":"'Drop Downs'!$A$6","v":"Year 3 (US Grade 3)"},{"$f":"'Drop Downs'!$B$2","v":"Benchmark"},{"$f":"'Drop Downs'!$C$3","v":"US Winter (WA Term 2 equivalent)"},37,"Advanced"]
["Year 3 (US Grade 3)BenchmarkUS Winter (WA Term 2 equivalent)38",{"$f":"'Drop Downs'!$A$6","v":"Year 3 (US Grade 3)"},{"$f":"'Drop Downs'!$B$2","v":"Benchmark"},{"$f":"'Drop Downs'!$C$3","v":"US Winter (WA Term 2 equivalent)"},38,"Advanced"]
["Year 3 (US Grade 3)BenchmarkUS Winter (WA Term 2 equivalent)39",{"$f":"'Drop Downs'!$A$6","v":"Year 3 (US Grade 3)"},{"$f":"'Drop Downs'!$B$2","v":"Benchmark"},{"$f":"'Drop Downs'!$C$3","v":"US Winter (WA Term 2 equivalent)"},39,"Advanced"]
["Year 3 (US Grade 3)BenchmarkUS Winter (WA Term 2 equivalent)40",{"$f":"'Drop Downs'!$A$6","v":"Year 3 (US Grade 3)"},{"$f":"'Drop Downs'!$B$2","v":"Benchmark"},{"$f":"'Drop Downs'!$C$3","v":"US Winter (WA Term 2 equivalent)"},40,"Advanced"]
[{"$f":"B707&C707&D707&E707","v":"Year 3 (US Grade 3)BenchmarkUS Winter (WA Term 2 equivalent)41"},{"$f":"'Drop Downs'!$A$6","v":"Year 3 (US Grade 3)"},{"$f":"'Drop Downs'!$B$2","v":"Benchmark"},{"$f":"'Drop Downs'!$C$3","v":"US Winter (WA Term 2 equivalent)"},{"$f":"E706+1","v":41},"Advanced"]
["Year 3 (US Grade 3)BenchmarkUS Winter (WA Term 2 equivalent)42",{"$f":"'Drop Downs'!$A$6","v":"Year 3 (US Grade 3)"},{"$f":"'Drop Downs'!$B$2","v":"Benchmark"},{"$f":"'Drop Downs'!$C$3","v":"US Winter (WA Term 2 equivalent)"},{"$f":"E707+1","v":42},"Advanced"]
["Year 3 (US Grade 3)BenchmarkUS Winter (WA Term 2 equivalent)43",{"$f":"'Drop Downs'!$A$6","v":"Year 3 (US Grade 3)"},{"$f":"'Drop Downs'!$B$2","v":"Benchmark"},{"$f":"'Drop Downs'!$C$3","v":"US Winter (WA Term 2 equivalent)"},43,"Advanced"]
["Year 3 (US Grade 3)BenchmarkUS Winter (WA Term 2 equivalent)44",{"$f":"'Drop Downs'!$A$6","v":"Year 3 (US Grade 3)"},{"$f":"'Drop Downs'!$B$2","v":"Benchmark"},{"$f":"'Drop Downs'!$C$3","v":"US Winter (WA Term 2 equivalent)"},44,"Advanced"]
["Year 3 (US Grade 3)BenchmarkUS Winter (WA Term 2 equivalent)45",{"$f":"'Drop Downs'!$A$6","v":"Year 3 (US Grade 3)"},{"$f":"'Drop Downs'!$B$2","v":"Benchmark"},{"$f":"'Drop Downs'!$C$3","v":"US Winter (WA Term 2 equivalent)"},45,"Advanced"]
["Year 3 (US Grade 3)BenchmarkUS Winter (WA Term 2 equivalent)46",{"$f":"'Drop Downs'!$A$6","v":"Year 3 (US Grade 3)"},{"$f":"'Drop Downs'!$B$2","v":"Benchmark"},{"$f":"'Drop Downs'!$C$3","v":"US Winter (WA Term 2 equivalent)"},46,"Advanced"]
["Year 3 (US Grade 3)BenchmarkUS Winter (WA Term 2 equivalent)47",{"$f":"'Drop Downs'!$A$6","v":"Year 3 (US Grade 3)"},{"$f":"'Drop Downs'!$B$2","v":"Benchmark"},{"$f":"'Drop Downs'!$C$3","v":"US Winter (WA Term 2 equivalent)"},47,"Advanced"]
["Year 3 (US Grade 3)BenchmarkUS Winter (WA Term 2 equivalent)48",{"$f":"'Drop Downs'!$A$6","v":"Year 3 (US Grade 3)"},{"$f":"'Drop Downs'!$B$2","v":"Benchmark"},{"$f":"'Drop Downs'!$C$3","v":"US Winter (WA Term 2 equivalent)"},48,"Advanced"]
["Year 3 (US Grade 3)BenchmarkUS Winter (WA Term 2 equivalent)49",{"$f":"'Drop Downs'!$A$6","v":"Year 3 (US Grade 3)"},{"$f":"'Drop Downs'!$B$2","v":"Benchmark"},{"$f":"'Drop Downs'!$C$3","v":"US Winter (WA Term 2 equivalent)"},49,"Advanced"]
["Year 3 (US Grade 3)BenchmarkUS Winter (WA Term 2 equivalent)50",{"$f":"'Drop Downs'!$A$6","v":"Year 3 (US Grade 3)"},{"$f":"'Drop Downs'!$B$2","v":"Benchmark"},{"$f":"'Drop Downs'!$C$3","v":"US Winter (WA Term 2 equivalent)"},50,"Advanced"]
[{"$f":"B717&C717&D717&E717","v":"Year 3 (US Grade 3)BenchmarkUS Spring (WA Term 3 equivalent)0"},{"$f":"'Drop Downs'!$A$6","v":"Year 3 (US Grade 3)"},{"$f":"'Drop Downs'!$B$2","v":"Benchmark"},{"$f":"'Drop Downs'!$C$4","v":"US Spring (WA Term 3 equivalent)"},0,"High Risk"]
[{"$f":"B718&C718&D718&E718","v":"Year 3 (US Grade 3)BenchmarkUS Spring (WA Term 3 equivalent)1"},{"$f":"'Drop Downs'!$A$6","v":"Year 3 (US Grade 3)"},{"$f":"'Drop Downs'!$B$2","v":"Benchmark"},{"$f":"'Drop Downs'!$C$4","v":"US Spring (WA Term 3 equivalent)"},1,"High Risk"]
["Year 3 (US Grade 3)BenchmarkUS Spring (WA Term 3 equivalent)2",{"$f":"'Drop Downs'!$A$6","v":"Year 3 (US Grade 3)"},{"$f":"'Drop Downs'!$B$2","v":"Benchmark"},{"$f":"'Drop Downs'!$C$4","v":"US Spring (WA Term 3 equivalent)"},2,"High Risk"]
["Year 3 (US Grade 3)BenchmarkUS Spring (WA Term 3 equivalent)3",{"$f":"'Drop Downs'!$A$6","v":"Year 3 (US Grade 3)"},{"$f":"'Drop Downs'!$B$2","v":"Benchmark"},{"$f":"'Drop Downs'!$C$4","v":"US Spring (WA Term 3 equivalent)"},3,"High Risk"]
["Year 3 (US Grade 3)BenchmarkUS Spring (WA Term 3 equivalent)4",{"$f":"'Drop Downs'!$A$6","v":"Year 3 (US Grade 3)"},{"$f":"'Drop Downs'!$B$2","v":"Benchmark"},{"$f":"'Drop Downs'!$C$4","v":"US Spring (WA Term 3 equivalent)"},4,"High Risk"]
["Year 3 (US Grade 3)BenchmarkUS Spring (WA Term 3 equivalent)5",{"$f":"'Drop Downs'!$A$6","v":"Year 3 (US Grade 3)"},{"$f":"'Drop Downs'!$B$2","v":"Benchmark"},{"$f":"'Drop Downs'!$C$4","v":"US Spring (WA Term 3 equivalent)"},5,"High Risk"]
["Year 3 (US Grade 3)BenchmarkUS Spring (WA Term 3 equivalent)6",{"$f":"'Drop Downs'!$A$6","v":"Year 3 (US Grade 3)"},{"$f":"'Drop Downs'!$B$2","v":"Benchmark"},{"$f":"'Drop Downs'!$C$4","v":"US Spring (WA Term 3 equivalent)"},6,"High Risk"]
["Year 3 (US Grade 3)BenchmarkUS Spring (WA Term 3 equivalent)7",{"$f":"'Drop Downs'!$A$6","v":"Year 3 (US Grade 3)"},{"$f":"'Drop Downs'!$B$2","v":"Benchmark"},{"$f":"'Drop Downs'!$C$4","v":"US Spring (WA Term 3 equivalent)"},7,"High Risk"]
["Year 3 (US Grade 3)BenchmarkUS Spring (WA Term 3 equivalent)8",{"$f":"'Drop Downs'!$A$6","v":"Year 3 (US Grade 3)"},{"$f":"'Drop Downs'!$B$2","v":"Benchmark"},{"$f":"'Drop Downs'!$C$4","v":"US Spring (WA Term 3 equivalent)"},8,"High Risk"]
["Year 3 (US Grade 3)BenchmarkUS Spring (WA Term 3 equivalent)9",{"$f":"'Drop Downs'!$A$6","v":"Year 3 (US Grade 3)"},{"$f":"'Drop Downs'!$B$2","v":"Benchmark"},{"$f":"'Drop Downs'!$C$4","v":"US Spring (WA Term 3 equivalent)"},9,"High Risk"]
["Year 3 (US Grade 3)BenchmarkUS Spring (WA Term 3 equivalent)10",{"$f":"'Drop Downs'!$A$6","v":"Year 3 (US Grade 3)"},{"$f":"'Drop Downs'!$B$2","v":"Benchmark"},{"$f":"'Drop Downs'!$C$4","v":"US Spring (WA Term 3 equivalent)"},10,"High Risk"]
["Year 3 (US Grade 3)BenchmarkUS Spring (WA Term 3 equivalent)11",{"$f":"'Drop Downs'!$A$6","v":"Year 3 (US Grade 3)"},{"$f":"'Drop Downs'!$B$2","v":"Benchmark"},{"$f":"'Drop Downs'!$C$4","v":"US Spring (WA Term 3 equivalent)"},11,"High Risk"]
["Year 3 (US Grade 3)BenchmarkUS Spring (WA Term 3 equivalent)12",{"$f":"'Drop Downs'!$A$6","v":"Year 3 (US Grade 3)"},{"$f":"'Drop Downs'!$B$2","v":"Benchmark"},{"$f":"'Drop Downs'!$C$4","v":"US Spring (WA Term 3 equivalent)"},12,"High Risk"]
["Year 3 (US Grade 3)BenchmarkUS Spring (WA Term 3 equivalent)13",{"$f":"'Drop Downs'!$A$6","v":"Year 3 (US Grade 3)"},{"$f":"'Drop Downs'!$B$2","v":"Benchmark"},{"$f":"'Drop Downs'!$C$4","v":"US Spring (WA Term 3 equivalent)"},13,"High Risk"]
["Year 3 (US Grade 3)BenchmarkUS Spring (WA Term 3 equivalent)14",{"$f":"'Drop Downs'!$A$6","v":"Year 3 (US Grade 3)"},{"$f":"'Drop Downs'!$B$2","v":"Benchmark"},{"$f":"'Drop Downs'!$C$4","v":"US Spring (WA Term 3 equivalent)"},14,"High Risk"]
["Year 3 (US Grade 3)BenchmarkUS Spring (WA Term 3 equivalent)15",{"$f":"'Drop Downs'!$A$6","v":"Year 3 (US Grade 3)"},{"$f":"'Drop Downs'!$B$2","v":"Benchmark"},{"$f":"'Drop Downs'!$C$4","v":"US Spring (WA Term 3 equivalent)"},15,"High Risk"]
["Year 3 (US Grade 3)BenchmarkUS Spring (WA Term 3 equivalent)16",{"$f":"'Drop Downs'!$A$6","v":"Year 3 (US Grade 3)"},{"$f":"'Drop Downs'!$B$2","v":"Benchmark"},{"$f":"'Drop Downs'!$C$4","v":"US Spring (WA Term 3 equivalent)"},16,"High Risk"]
["Year 3 (US Grade 3)BenchmarkUS Spring (WA Term 3 equivalent)17",{"$f":"'Drop Downs'!$A$6","v":"Year 3 (US Grade 3)"},{"$f":"'Drop Downs'!$B$2","v":"Benchmark"},{"$f":"'Drop Downs'!$C$4","v":"US Spring (WA Term 3 equivalent)"},17,"High Risk"]
["Year 3 (US Grade 3)BenchmarkUS Spring (WA Term 3 equivalent)18",{"$f":"'Drop Downs'!$A$6","v":"Year 3 (US Grade 3)"},{"$f":"'Drop Downs'!$B$2","v":"Benchmark"},{"$f":"'Drop Downs'!$C$4","v":"US Spring (WA Term 3 equivalent)"},18,"High Risk"]
["Year 3 (US Grade 3)BenchmarkUS Spring (WA Term 3 equivalent)19",{"$f":"'Drop Downs'!$A$6","v":"Year 3 (US Grade 3)"},{"$f":"'Drop Downs'!$B$2","v":"Benchmark"},{"$f":"'Drop Downs'!$C$4","v":"US Spring (WA Term 3 equivalent)"},19,"High Risk"]
["Year 3 (US Grade 3)BenchmarkUS Spring (WA Term 3 equivalent)20",{"$f":"'Drop Downs'!$A$6","v":"Year 3 (US Grade 3)"},{"$f":"'Drop Downs'!$B$2","v":"Benchmark"},{"$f":"'Drop Downs'!$C$4","v":"US Spring (WA Term 3 equivalent)"},20,"Moderate Risk"]
["Year 3 (US Grade 3)BenchmarkUS Spring (WA Term 3 equivalent)21",{"$f":"'Drop Downs'!$A$6","v":"Year 3 (US Grade 3)"},{"$f":"'Drop Downs'!$B$2","v":"Benchmark"},{"$f":"'Drop Downs'!$C$4","v":"US Spring (WA Term 3 equivalent)"},21,"Moderate Risk"]
["Year 3 (US Grade 3)BenchmarkUS Spring (WA Term 3 equivalent)22",{"$f":"'Drop Downs'!$A$6","v":"Year 3 (US Grade 3)"},{"$f":"'Drop Downs'!$B$2","v":"Benchmark"},{"$f":"'Drop Downs'!$C$4","v":"US Spring (WA Term 3 equivalent)"},22,"Moderate Risk"]
["Year 3 (US Grade 3)BenchmarkUS Spring (WA Term 3 equivalent)23",{"$f":"'Drop Downs'!$A$6","v":"Year 3 (US Grade 3)"},{"$f":"'Drop Downs'!$B$2","v":"Benchmark"},{"$f":"'Drop Downs'!$C$4","v":"US Spring (WA Term 3 equivalent)"},23,"Moderate Risk"]
["Year 3 (US Grade 3)BenchmarkUS Spring (WA Term 3 equivalent)24",{"$f":"'Drop Downs'!$A$6","v":"Year 3 (US Grade 3)"},{"$f":"'Drop Downs'!$B$2","v":"Benchmark"},{"$f":"'Drop Downs'!$C$4","v":"US Spring (WA Term 3 equivalent)"},24,"Moderate Risk"]
["Year 3 (US Grade 3)BenchmarkUS Spring (WA Term 3 equivalent)25",{"$f":"'Drop Downs'!$A$6","v":"Year 3 (US Grade 3)"},{"$f":"'Drop Downs'!$B$2","v":"Benchmark"},{"$f":"'Drop Downs'!$C$4","v":"US Spring (WA Term 3 equivalent)"},25,"Moderate Risk"]
["Year 3 (US Grade 3)BenchmarkUS Spring (WA Term 3 equivalent)26",{"$f":"'Drop Downs'!$A$6","v":"Year 3 (US Grade 3)"},{"$f":"'Drop Downs'!$B$2","v":"Benchmark"},{"$f":"'Drop Downs'!$C$4","v":"US Spring (WA Term 3 equivalent)"},26,"Moderate Risk"]
["Year 3 (US Grade 3)BenchmarkUS Spring (WA Term 3 equivalent)27",{"$f":"'Drop Downs'!$A$6","v":"Year 3 (US Grade 3)"},{"$f":"'Drop Downs'!$B$2","v":"Benchmark"},{"$f":"'Drop Downs'!$C$4","v":"US Spring (WA Term 3 equivalent)"},27,"Moderate Risk"]
["Year 3 (US Grade 3)BenchmarkUS Spring (WA Term 3 equivalent)28",{"$f":"'Drop Downs'!$A$6","v":"Year 3 (US Grade 3)"},{"$f":"'Drop Downs'!$B$2","v":"Benchmark"},{"$f":"'Drop Downs'!$C$4","v":"US Spring (WA Term 3 equivalent)"},28,"Moderate Risk"]
["Year 3 (US Grade 3)BenchmarkUS Spring (WA Term 3 equivalent)29",{"$f":"'Drop Downs'!$A$6","v":"Year 3 (US Grade 3)"},{"$f":"'Drop Downs'!$B$2","v":"Benchmark"},{"$f":"'Drop Downs'!$C$4","v":"US Spring (WA Term 3 equivalent)"},29,"Moderate Risk"]
["Year 3 (US Grade 3)BenchmarkUS Spring (WA Term 3 equivalent)30",{"$f":"'Drop Downs'!$A$6","v":"Year 3 (US Grade 3)"},{"$f":"'Drop Downs'!$B$2","v":"Benchmark"},{"$f":"'Drop Downs'!$C$4","v":"US Spring (WA Term 3 equivalent)"},30,"Benchmark"]
["Year 3 (US Grade 3)BenchmarkUS Spring (WA Term 3 equivalent)31",{"$f":"'Drop Downs'!$A$6","v":"Year 3 (US Grade 3)"},{"$f":"'Drop Downs'!$B$2","v":"Benchmark"},{"$f":"'Drop Downs'!$C$4","v":"US Spring (WA Term 3 equivalent)"},31,"Benchmark"]
["Year 3 (US Grade 3)BenchmarkUS Spring (WA Term 3 equivalent)32",{"$f":"'Drop Downs'!$A$6","v":"Year 3 (US Grade 3)"},{"$f":"'Drop Downs'!$B$2","v":"Benchmark"},{"$f":"'Drop Downs'!$C$4","v":"US Spring (WA Term 3 equivalent)"},32,"Benchmark"]
["Year 3 (US Grade 3)BenchmarkUS Spring (WA Term 3 equivalent)33",{"$f":"'Drop Downs'!$A$6","v":"Year 3 (US Grade 3)"},{"$f":"'Drop Downs'!$B$2","v":"Benchmark"},{"$f":"'Drop Downs'!$C$4","v":"US Spring (WA Term 3 equivalent)"},33,"Advanced"]
["Year 3 (US Grade 3)BenchmarkUS Spring (WA Term 3 equivalent)34",{"$f":"'Drop Downs'!$A$6","v":"Year 3 (US Grade 3)"},{"$f":"'Drop Downs'!$B$2","v":"Benchmark"},{"$f":"'Drop Downs'!$C$4","v":"US Spring (WA Term 3 equivalent)"},34,"Advanced"]
["Year 3 (US Grade 3)BenchmarkUS Spring (WA Term 3 equivalent)35",{"$f":"'Drop Downs'!$A$6","v":"Year 3 (US Grade 3)"},{"$f":"'Drop Downs'!$B$2","v":"Benchmark"},{"$f":"'Drop Downs'!$C$4","v":"US Spring (WA Term 3 equivalent)"},35,"Advanced"]
["Year 3 (US Grade 3)BenchmarkUS Spring (WA Term 3 equivalent)36",{"$f":"'Drop Downs'!$A$6","v":"Year 3 (US Grade 3)"},{"$f":"'Drop Downs'!$B$2","v":"Benchmark"},{"$f":"'Drop Downs'!$C$4","v":"US Spring (WA Term 3 equivalent)"},36,"Advanced"]
["Year 3 (US Grade 3)BenchmarkUS Spring (WA Term 3 equivalent)37",{"$f":"'Drop Downs'!$A$6","v":"Year 3 (US Grade 3)"},{"$f":"'Drop Downs'!$B$2","v":"Benchmark"},{"$f":"'Drop Downs'!$C$4","v":"US Spring (WA Term 3 equivalent)"},37,"Advanced"]
["Year 3 (US Grade 3)BenchmarkUS Spring (WA Term 3 equivalent)38",{"$f":"'Drop Downs'!$A$6","v":"Year 3 (US Grade 3)"},{"$f":"'Drop Downs'!$B$2","v":"Benchmark"},{"$f":"'Drop Downs'!$C$4","v":"US Spring (WA Term 3 equivalent)"},38,"Advanced"]
["Year 3 (US Grade 3)BenchmarkUS Spring (WA Term 3 equivalent)39",{"$f":"'Drop Downs'!$A$6","v":"Year 3 (US Grade 3)"},{"$f":"'Drop Downs'!$B$2","v":"Benchmark"},{"$f":"'Drop Downs'!$C$4","v":"US Spring (WA Term 3 equivalent)"},39,"Advanced"]
["Year 3 (US Grade 3)BenchmarkUS Spring (WA Term 3 equivalent)40",{"$f":"'Drop Downs'!$A$6","v":"Year 3 (US Grade 3)"},{"$f":"'Drop Downs'!$B$2","v":"Benchmark"},{"$f":"'Drop Downs'!$C$4","v":"US Spring (WA Term 3 equivalent)"},40,"Advanced"]

{"sheet":"Drop Downs","index":7,"n_rows":15,"n_cols":7,"rows_kept":15,"hidden":true}
["WA Year Group","Type of Ax (benchmark or progress)","WA Term of Administration (US Season)","Benchmarks","Terms",null,"Possible correct term/season combos"]
["Kindy (US Preschool)","Benchmark","US Fall (WA Term 1 equivalent)","High Risk","Term 1",null,{"$f":"E2&C2","v":"Term 1US Fall (WA Term 1 equivalent)"}]
["Pre-Primary (US Kindergarten)","Progress Monitoring","US Winter (WA Term 2 equivalent)","Moderate Risk","Term 2",null,{"$f":"E3&C3","v":"Term 2US Winter (WA Term 2 equivalent)"}]
["Year 1 (US Grade 1)",null,"US Spring (WA Term 3 equivalent)","Benchmark","Term 3",null,{"$f":"E4&C4","v":"Term 3US Spring (WA Term 3 equivalent)"}]
["Year 2 (US Grade 2)",null,"US Summer (WA Term 4 equivalent)","Advanced","Term 4",null,{"$f":"E5&C5","v":"Term 4US Summer (WA Term 4 equivalent)"}]
["Year 3 (US Grade 3)"]
[{"$nulls":3},"High Risk est."]
[{"$nulls":3},"Moderate Risk est."]
[{"$nulls":3},"Benchmark est."]
[{"$nulls":3},"Advanced est."]
[]
["Short name","Meaning"]
["The same amount of schooling (on level)","This interpretation is compared to students of the same amount of schooling, so the student should score at benchmark."]
["Less schooling: student should do well","These interpretations are from comparison to younger students, so the student should score higher than the benchmark."]
["More schooling:  student might be below BM","These interpretations are from comparison to older students, so the student could score poorer than the benchmark."]

{"sheet":"Olderyounger calc","index":8,"n_rows":409,"n_cols":6,"rows_kept":409,"hidden":true}
["WA Year Group","Type of Ax (benchmark or progress)",null,"WA Term of Administration (US Season)","Benchmarks","Terms"]
["Kindy (US Preschool)","Benchmark",null,"US Fall (WA Term 1 equivalent)","High Risk","Term 1"]
["Pre-Primary (US Kindergarten)","Progress Monitoring",null,"US Winter (WA Term 2 equivalent)","Moderate Risk","Term 2"]
["Year 1 (US Grade 1)",null,null,"US Spring (WA Term 3 equivalent)","Benchmark","Term 3"]
["Year 2 (US Grade 2)",null,null,"US Summer (WA Term 4 equivalent)","Advanced","Term 4"]
["Year 3 (US Grade 3)"]
[]
[]
["Target (Students' year group, type & term","What Was Administered","What was & What Should have been merged","Interpretation"]
[{"$f":"$A$2&$B$2&$F$2","v":"Kindy (US Preschool)BenchmarkTerm 1"},{"$f":"$A$2&$B$2&$D$2","v":"Kindy (US Preschool)BenchmarkUS Fall (WA Term 1 equivalent)"},{"$f":"B10&A10","v":"Kindy (US Preschool)BenchmarkUS Fall (WA Term 1 equivalent)Kindy (US Preschool)BenchmarkTerm 1"},{"$f":"'Drop Downs'!$A$13","v":"The same amount of schooling (on level)"}]
[{"$f":"$A$2&$B$2&$F$2","v":"Kindy (US Preschool)BenchmarkTerm 1"},{"$f":"$A$2&$B$2&$D$3","v":"Kindy (US Preschool)BenchmarkUS Winter (WA Term 2 equivalent)"},{"$f":"B11&A11","v":"Kindy (US Preschool)BenchmarkUS Winter (WA Term 2 equivalent)Kindy (US Preschool)BenchmarkTerm 1"},{"$f":"'Drop Downs'!$A$15","v":"More schooling:  student might be below BM"}]
[{"$f":"$A$2&$B$2&$F$2","v":"Kindy (US Preschool)BenchmarkTerm 1"},{"$f":"$A$2&$B$2&$D$4","v":"Kindy (US Preschool)BenchmarkUS Spring (WA Term 3 equivalent)"},"Kindy (US Preschool)BenchmarkUS Spring (WA Term 3 equivalent)Kindy (US Preschool)BenchmarkTerm 1",{"$f":"'Drop Downs'!$A$15","v":"More schooling:  student might be below BM"}]
["Kindy (US Preschool)BenchmarkTerm 1",{"$f":"$A$2&$B$2&$D$5","v":"Kindy (US Preschool)BenchmarkUS Summer (WA Term 4 equivalent)"},"Kindy (US Preschool)BenchmarkUS Summer (WA Term 4 equivalent)Kindy (US Preschool)BenchmarkTerm 1",{"$f":"'Drop Downs'!$A$15","v":"More schooling:  student might be below BM"}]
["Kindy (US Preschool)BenchmarkTerm 1",{"$f":"$A$3&$B$2&$D$2","v":"Pre-Primary (US Kindergarten)BenchmarkUS Fall (WA Term 1 equivalent)"},"Pre-Primary (US Kindergarten)BenchmarkUS Fall (WA Term 1 equivalent)Kindy (US Preschool)BenchmarkTerm 1",{"$f":"'Drop Downs'!$A$15","v":"More schooling:  student might be below BM"}]
["Kindy (US Preschool)BenchmarkTerm 1",{"$f":"$A$3&$B$2&$D$3","v":"Pre-Primary (US Kindergarten)BenchmarkUS Winter (WA Term 2 equivalent)"},"Pre-Primary (US Kindergarten)BenchmarkUS Winter (WA Term 2 equivalent)Kindy (US Preschool)BenchmarkTerm 1",{"$f":"'Drop Downs'!$A$15","v":"More schooling:  student might be below BM"}]
["Kindy (US Preschool)BenchmarkTerm 1",{"$f":"$A$3&$B$2&$D$4","v":"Pre-Primary (US Kindergarten)BenchmarkUS Spring (WA Term 3 equivalent)"},"Pre-Primary (US Kindergarten)BenchmarkUS Spring (WA Term 3 equivalent)Kindy (US Preschool)BenchmarkTerm 1",{"$f":"'Drop Downs'!$A$15","v":"More schooling:  student might be below BM"}]
["Kindy (US Preschool)BenchmarkTerm 1",{"$f":"$A$3&$B$2&$D$5","v":"Pre-Primary (US Kindergarten)BenchmarkUS Summer (WA Term 4 equivalent)"},"Pre-Primary (US Kindergarten)BenchmarkUS Summer (WA Term 4 equivalent)Kindy (US Preschool)BenchmarkTerm 1",{"$f":"'Drop Downs'!$A$15","v":"More schooling:  student might be below BM"}]
["Kindy (US Preschool)BenchmarkTerm 1",{"$f":"$A$4&$B$2&$D$2","v":"Year 1 (US Grade 1)BenchmarkUS Fall (WA Term 1 equivalent)"},"Year 1 (US Grade 1)BenchmarkUS Fall (WA Term 1 equivalent)Kindy (US Preschool)BenchmarkTerm 1",{"$f":"'Drop Downs'!$A$15","v":"More schooling:  student might be below BM"}]
["Kindy (US Preschool)BenchmarkTerm 1",{"$f":"$A$4&$B$2&$D$3","v":"Year 1 (US Grade 1)BenchmarkUS Winter (WA Term 2 equivalent)"},"Year 1 (US Grade 1)BenchmarkUS Winter (WA Term 2 equivalent)Kindy (US Preschool)BenchmarkTerm 1",{"$f":"'Drop Downs'!$A$15","v":"More schooling:  student might be below BM"}]
["Kindy (US Preschool)BenchmarkTerm 1",{"$f":"$A$4&$B$2&$D$4","v":"Year 1 (US Grade 1)BenchmarkUS Spring (WA Term 3 equivalent)"},"Year 1 (US Grade 1)BenchmarkUS Spring (WA Term 3 equivalent)Kindy (US Preschool)BenchmarkTerm 1",{"$f":"'Drop Downs'!$A$15","v":"More schooling:  student might be below BM"}]
["Kindy (US Preschool)BenchmarkTerm 1",{"$f":"$A$4&$B$2&$D$5","v":"Year 1 (US Grade 1)BenchmarkUS Summer (WA Term 4 equivalent)"},"Year 1 (US Grade 1)BenchmarkUS Summer (WA Term 4 equivalent)Kindy (US Preschool)BenchmarkTerm 1",{"$f":"'Drop Downs'!$A$15","v":"More schooling:  student might be below BM"}]
["Kindy (US Preschool)BenchmarkTerm 1",{"$f":"$A$5&$B$2&$D$2","v":"Year 2 (US Grade 2)BenchmarkUS Fall (WA Term 1 equivalent)"},"Year 2 (US Grade 2)BenchmarkUS Fall (WA Term 1 equivalent)Kindy (US Preschool)BenchmarkTerm 1",{"$f":"'Drop Downs'!$A$15","v":"More schooling:  student might be below BM"}]
["Kindy (US Preschool)BenchmarkTerm 1",{"$f":"$A$5&$B$2&$D$3","v":"Year 2 (US Grade 2)BenchmarkUS Winter (WA Term 2 equivalent)"},"Year 2 (US Grade 2)BenchmarkUS Winter (WA Term 2 equivalent)Kindy (US Preschool)BenchmarkTerm 1",{"$f":"'Drop Downs'!$A$15","v":"More schooling:  student might be below BM"}]
["Kindy (US Preschool)BenchmarkTerm 1",{"$f":"$A$5&$B$2&$D$4","v":"Year 2 (US Grade 2)BenchmarkUS Spring (WA Term 3 equivalent)"},"Year 2 (US Grade 2)BenchmarkUS Spring (WA Term 3 equivalent)Kindy (US Preschool)BenchmarkTerm 1",{"$f":"'Drop Downs'!$A$15","v":"More schooling:  student might be below BM"}]
["Kindy (US Preschool)BenchmarkTerm 1",{"$f":"$A$5&$B$2&$D$5","v":"Year 2 (US Grade 2)BenchmarkUS Summer (WA Term 4 equivalent)"},"Year 2 (US Grade 2)BenchmarkUS Summer (WA Term 4 equivalent)Kindy (US Preschool)BenchmarkTerm 1",{"$f":"'Drop Downs'!$A$15","v":"More schooling:  student might be below BM"}]
["Kindy (US Preschool)BenchmarkTerm 1",{"$f":"$A$6&$B$2&$D$2","v":"Year 3 (US Grade 3)BenchmarkUS Fall (WA Term 1 equivalent)"},"Year 3 (US Grade 3)BenchmarkUS Fall (WA Term 1 equivalent)Kindy (US Preschool)BenchmarkTerm 1",{"$f":"'Drop Downs'!$A$15","v":"More schooling:  student might be below BM"}]
["Kindy (US Preschool)BenchmarkTerm 1",{"$f":"$A$6&$B$2&$D$3","v":"Year 3 (US Grade 3)BenchmarkUS Winter (WA Term 2 equivalent)"},"Year 3 (US Grade 3)BenchmarkUS Winter (WA Term 2 equivalent)Kindy (US Preschool)BenchmarkTerm 1",{"$f":"'Drop Downs'!$A$15","v":"More schooling:  student might be below BM"}]
["Kindy (US Preschool)BenchmarkTerm 1",{"$f":"$A$6&$B$2&$D$4","v":"Year 3 (US Grade 3)BenchmarkUS Spring (WA Term 3 equivalent)"},"Year 3 (US Grade 3)BenchmarkUS Spring (WA Term 3 equivalent)Kindy (US Preschool)BenchmarkTerm 1",{"$f":"'Drop Downs'!$A$15","v":"More schooling:  student might be below BM"}]
["Kindy (US Preschool)BenchmarkTerm 1",{"$f":"$A$6&$B$2&$D$5","v":"Year 3 (US Grade 3)BenchmarkUS Summer (WA Term 4 equivalent)"},"Year 3 (US Grade 3)BenchmarkUS Summer (WA Term 4 equivalent)Kindy (US Preschool)BenchmarkTerm 1",{"$f":"'Drop Downs'!$A$15","v":"More schooling:  student might be below BM"}]
[{"$f":"$A$2&$B$2&$F$3","v":"Kindy (US Preschool)BenchmarkTerm 2"},{"$f":"$A$2&$B$2&$D$2","v":"Kindy (US Preschool)BenchmarkUS Fall (WA Term 1 equivalent)"},"Kindy (US Preschool)BenchmarkUS Fall (WA Term 1 equivalent)Kindy (US Preschool)BenchmarkTerm 2",{"$f":"'Drop Downs'!$A$14","v":"Less schooling: student should do well"}]
[{"$f":"$A$2&$B$2&$F$3","v":"Kindy (US Preschool)BenchmarkTerm 2"},{"$f":"$A$2&$B$2&$D$3","v":"Kindy (US Preschool)BenchmarkUS Winter (WA Term 2 equivalent)"},"Kindy (US Preschool)BenchmarkUS Winter (WA Term 2 equivalent)Kindy (US Preschool)BenchmarkTerm 2",{"$f":"'Drop Downs'!$A$13","v":"The same amount of schooling (on level)"}]
["Kindy (US Preschool)BenchmarkTerm 2",{"$f":"$A$2&$B$2&$D$4","v":"Kindy (US Preschool)BenchmarkUS Spring (WA Term 3 equivalent)"},"Kindy (US Preschool)BenchmarkUS Spring (WA Term 3 equivalent)Kindy (US Preschool)BenchmarkTerm 2",{"$f":"'Drop Downs'!$A$15","v":"More schooling:  student might be below BM"}]
["Kindy (US Preschool)BenchmarkTerm 2",{"$f":"$A$2&$B$2&$D$5","v":"Kindy (US Preschool)BenchmarkUS Summer (WA Term 4 equivalent)"},"Kindy (US Preschool)BenchmarkUS Summer (WA Term 4 equivalent)Kindy (US Preschool)BenchmarkTerm 2",{"$f":"'Drop Downs'!$A$15","v":"More schooling:  student might be below BM"}]
["Kindy (US Preschool)BenchmarkTerm 2",{"$f":"$A$3&$B$2&$D$2","v":"Pre-Primary (US Kindergarten)BenchmarkUS Fall (WA Term 1 equivalent)"},"Pre-Primary (US Kindergarten)BenchmarkUS Fall (WA Term 1 equivalent)Kindy (US Preschool)BenchmarkTerm 2",{"$f":"'Drop Downs'!$A$15","v":"More schooling:  student might be below BM"}]
["Kindy (US Preschool)BenchmarkTerm 2",{"$f":"$A$3&$B$2&$D$3","v":"Pre-Primary (US Kindergarten)BenchmarkUS Winter (WA Term 2 equivalent)"},"Pre-Primary (US Kindergarten)BenchmarkUS Winter (WA Term 2 equivalent)Kindy (US Preschool)BenchmarkTerm 2",{"$f":"'Drop Downs'!$A$15","v":"More schooling:  student might be below BM"}]
["Kindy (US Preschool)BenchmarkTerm 2",{"$f":"$A$3&$B$2&$D$4","v":"Pre-Primary (US Kindergarten)BenchmarkUS Spring (WA Term 3 equivalent)"},"Pre-Primary (US Kindergarten)BenchmarkUS Spring (WA Term 3 equivalent)Kindy (US Preschool)BenchmarkTerm 2",{"$f":"'Drop Downs'!$A$15","v":"More schooling:  student might be below BM"}]
["Kindy (US Preschool)BenchmarkTerm 2",{"$f":"$A$3&$B$2&$D$5","v":"Pre-Primary (US Kindergarten)BenchmarkUS Summer (WA Term 4 equivalent)"},"Pre-Primary (US Kindergarten)BenchmarkUS Summer (WA Term 4 equivalent)Kindy (US Preschool)BenchmarkTerm 2",{"$f":"'Drop Downs'!$A$15","v":"More schooling:  student might be below BM"}]
["Kindy (US Preschool)BenchmarkTerm 2",{"$f":"$A$4&$B$2&$D$2","v":"Year 1 (US Grade 1)BenchmarkUS Fall (WA Term 1 equivalent)"},"Year 1 (US Grade 1)BenchmarkUS Fall (WA Term 1 equivalent)Kindy (US Preschool)BenchmarkTerm 2",{"$f":"'Drop Downs'!$A$15","v":"More schooling:  student might be below BM"}]
["Kindy (US Preschool)BenchmarkTerm 2",{"$f":"$A$4&$B$2&$D$3","v":"Year 1 (US Grade 1)BenchmarkUS Winter (WA Term 2 equivalent)"},"Year 1 (US Grade 1)BenchmarkUS Winter (WA Term 2 equivalent)Kindy (US Preschool)BenchmarkTerm 2",{"$f":"'Drop Downs'!$A$15","v":"More schooling:  student might be below BM"}]
["Kindy (US Preschool)BenchmarkTerm 2",{"$f":"$A$4&$B$2&$D$4","v":"Year 1 (US Grade 1)BenchmarkUS Spring (WA Term 3 equivalent)"},"Year 1 (US Grade 1)BenchmarkUS Spring (WA Term 3 equivalent)Kindy (US Preschool)BenchmarkTerm 2",{"$f":"'Drop Downs'!$A$15","v":"More schooling:  student might be below BM"}]
["Kindy (US Preschool)BenchmarkTerm 2",{"$f":"$A$4&$B$2&$D$5","v":"Year 1 (US Grade 1)BenchmarkUS Summer (WA Term 4 equivalent)"},"Year 1 (US Grade 1)BenchmarkUS Summer (WA Term 4 equivalent)Kindy (US Preschool)BenchmarkTerm 2",{"$f":"'Drop Downs'!$A$15","v":"More schooling:  student might be below BM"}]
["Kindy (US Preschool)BenchmarkTerm 2",{"$f":"$A$5&$B$2&$D$2","v":"Year 2 (US Grade 2)BenchmarkUS Fall (WA Term 1 equivalent)"},"Year 2 (US Grade 2)BenchmarkUS Fall (WA Term 1 equivalent)Kindy (US Preschool)BenchmarkTerm 2",{"$f":"'Drop Downs'!$A$15","v":"More schooling:  student might be below BM"}]
["Kindy (US Preschool)BenchmarkTerm 2",{"$f":"$A$5&$B$2&$D$3","v":"Year 2 (US Grade 2)BenchmarkUS Winter (WA Term 2 equivalent)"},"Year 2 (US Grade 2)BenchmarkUS Winter (WA Term 2 equivalent)Kindy (US Preschool)BenchmarkTerm 2",{"$f":"'Drop Downs'!$A$15","v":"More schooling:  student might be below BM"}]
["Kindy (US Preschool)BenchmarkTerm 2",{"$f":"$A$5&$B$2&$D$4","v":"Year 2 (US Grade 2)BenchmarkUS Spring (WA Term 3 equivalent)"},"Year 2 (US Grade 2)BenchmarkUS Spring (WA Term 3 equivalent)Kindy (US Preschool)BenchmarkTerm 2",{"$f":"'Drop Downs'!$A$15","v":"More schooling:  student might be below BM"}]
["Kindy (US Preschool)BenchmarkTerm 2",{"$f":"$A$5&$B$2&$D$5","v":"Year 2 (US Grade 2)BenchmarkUS Summer (WA Term 4 equivalent)"},"Year 2 (US Grade 2)BenchmarkUS Summer (WA Term 4 equivalent)Kindy (US Preschool)BenchmarkTerm 2",{"$f":"'Drop Downs'!$A$15","v":"More schooling:  student might be below BM"}]
["Kindy (US Preschool)BenchmarkTerm 2",{"$f":"$A$6&$B$2&$D$2","v":"Year 3 (US Grade 3)BenchmarkUS Fall (WA Term 1 equivalent)"},"Year 3 (US Grade 3)BenchmarkUS Fall (WA Term 1 equivalent)Kindy (US Preschool)BenchmarkTerm 2",{"$f":"'Drop Downs'!$A$15","v":"More schooling:  student might be below BM"}]
["Kindy (US Preschool)BenchmarkTerm 2",{"$f":"$A$6&$B$2&$D$3","v":"Year 3 (US Grade 3)BenchmarkUS Winter (WA Term 2 equivalent)"},"Year 3 (US Grade 3)BenchmarkUS Winter (WA Term 2 equivalent)Kindy (US Preschool)BenchmarkTerm 2",{"$f":"'Drop Downs'!$A$15","v":"More schooling:  student might be below BM"}]
["Kindy (US Preschool)BenchmarkTerm 2",{"$f":"$A$6&$B$2&$D$4","v":"Year 3 (US Grade 3)BenchmarkUS Spring (WA Term 3 equivalent)"},"Year 3 (US Grade 3)BenchmarkUS Spring (WA Term 3 equivalent)Kindy (US Preschool)BenchmarkTerm 2",{"$f":"'Drop Downs'!$A$15","v":"More schooling:  student might be below BM"}]
["Kindy (US Preschool)BenchmarkTerm 2",{"$f":"$A$6&$B$2&$D$5","v":"Year 3 (US Grade 3)BenchmarkUS Summer (WA Term 4 equivalent)"},"Year 3 (US Grade 3)BenchmarkUS Summer (WA Term 4 equivalent)Kindy (US Preschool)BenchmarkTerm 2",{"$f":"'Drop Downs'!$A$15","v":"More schooling:  student might be below BM"}]
[{"$f":"$A$2&$B$2&$F$4","v":"Kindy (US Preschool)BenchmarkTerm 3"},{"$f":"$A$2&$B$2&$D$2","v":"Kindy (US Preschool)BenchmarkUS Fall (WA Term 1 equivalent)"},"Kindy (US Preschool)BenchmarkUS Fall (WA Term 1 equivalent)Kindy (US Preschool)BenchmarkTerm 3",{"$f":"'Drop Downs'!$A$14","v":"Less schooling: student should do well"}]
[{"$f":"$A$2&$B$2&$F$4","v":"Kindy (US Preschool)BenchmarkTerm 3"},{"$f":"$A$2&$B$2&$D$3","v":"Kindy (US Preschool)BenchmarkUS Winter (WA Term 2 equivalent)"},"Kindy (US Preschool)BenchmarkUS Winter (WA Term 2 equivalent)Kindy (US Preschool)BenchmarkTerm 3",{"$f":"'Drop Downs'!$A$14","v":"Less schooling: student should do well"}]
["Kindy (US Preschool)BenchmarkTerm 3",{"$f":"$A$2&$B$2&$D$4","v":"Kindy (US Preschool)BenchmarkUS Spring (WA Term 3 equivalent)"},"Kindy (US Preschool)BenchmarkUS Spring (WA Term 3 equivalent)Kindy (US Preschool)BenchmarkTerm 3",{"$f":"'Drop Downs'!$A$13","v":"The same amount of schooling (on level)"}]
["Kindy (US Preschool)BenchmarkTerm 3",{"$f":"$A$2&$B$2&$D$5","v":"Kindy (US Preschool)BenchmarkUS Summer (WA Term 4 equivalent)"},"Kindy (US Preschool)BenchmarkUS Summer (WA Term 4 equivalent)Kindy (US Preschool)BenchmarkTerm 3",{"$f":"'Drop Downs'!$A$15","v":"More schooling:  student might be below BM"}]
["Kindy (US Preschool)BenchmarkTerm 3",{"$f":"$A$3&$B$2&$D$2","v":"Pre-Primary (US Kindergarten)BenchmarkUS Fall (WA Term 1 equivalent)"},"Pre-Primary (US Kindergarten)BenchmarkUS Fall (WA Term 1 equivalent)Kindy (US Preschool)BenchmarkTerm 3",{"$f":"'Drop Downs'!$A$15","v":"More schooling:  student might be below BM"}]
["Kindy (US Preschool)BenchmarkTerm 3",{"$f":"$A$3&$B$2&$D$3","v":"Pre-Primary (US Kindergarten)BenchmarkUS Winter (WA Term 2 equivalent)"},"Pre-Primary (US Kindergarten)BenchmarkUS Winter (WA Term 2 equivalent)Kindy (US Preschool)BenchmarkTerm 3",{"$f":"'Drop Downs'!$A$15","v":"More schooling:  student might be below BM"}]
["Kindy (US Preschool)BenchmarkTerm 3",{"$f":"$A$3&$B$2&$D$4","v":"Pre-Primary (US Kindergarten)BenchmarkUS Spring (WA Term 3 equivalent)"},"Pre-Primary (US Kindergarten)BenchmarkUS Spring (WA Term 3 equivalent)Kindy (US Preschool)BenchmarkTerm 3",{"$f":"'Drop Downs'!$A$15","v":"More schooling:  student might be below BM"}]
["Kindy (US Preschool)BenchmarkTerm 3",{"$f":"$A$3&$B$2&$D$5","v":"Pre-Primary (US Kindergarten)BenchmarkUS Summer (WA Term 4 equivalent)"},"Pre-Primary (US Kindergarten)BenchmarkUS Summer (WA Term 4 equivalent)Kindy (US Preschool)BenchmarkTerm 3",{"$f":"'Drop Downs'!$A$15","v":"More schooling:  student might be below BM"}]
["Kindy (US Preschool)BenchmarkTerm 3",{"$f":"$A$4&$B$2&$D$2","v":"Year 1 (US Grade 1)BenchmarkUS Fall (WA Term 1 equivalent)"},"Year 1 (US Grade 1)BenchmarkUS Fall (WA Term 1 equivalent)Kindy (US Preschool)BenchmarkTerm 3",{"$f":"'Drop Downs'!$A$15","v":"More schooling:  student might be below BM"}]
["Kindy (US Preschool)BenchmarkTerm 3",{"$f":"$A$4&$B$2&$D$3","v":"Year 1 (US Grade 1)BenchmarkUS Winter (WA Term 2 equivalent)"},"Year 1 (US Grade 1)BenchmarkUS Winter (WA Term 2 equivalent)Kindy (US Preschool)BenchmarkTerm 3",{"$f":"'Drop Downs'!$A$15","v":"More schooling:  student might be below BM"}]
["Kindy (US Preschool)BenchmarkTerm 3",{"$f":"$A$4&$B$2&$D$4","v":"Year 1 (US Grade 1)BenchmarkUS Spring (WA Term 3 equivalent)"},"Year 1 (US Grade 1)BenchmarkUS Spring (WA Term 3 equivalent)Kindy (US Preschool)BenchmarkTerm 3",{"$f":"'Drop Downs'!$A$15","v":"More schooling:  student might be below BM"}]
["Kindy (US Preschool)BenchmarkTerm 3",{"$f":"$A$4&$B$2&$D$5","v":"Year 1 (US Grade 1)BenchmarkUS Summer (WA Term 4 equivalent)"},"Year 1 (US Grade 1)BenchmarkUS Summer (WA Term 4 equivalent)Kindy (US Preschool)BenchmarkTerm 3",{"$f":"'Drop Downs'!$A$15","v":"More schooling:  student might be below BM"}]
["Kindy (US Preschool)BenchmarkTerm 3",{"$f":"$A$5&$B$2&$D$2","v":"Year 2 (US Grade 2)BenchmarkUS Fall (WA Term 1 equivalent)"},"Year 2 (US Grade 2)BenchmarkUS Fall (WA Term 1 equivalent)Kindy (US Preschool)BenchmarkTerm 3",{"$f":"'Drop Downs'!$A$15","v":"More schooling:  student might be below BM"}]
["Kindy (US Preschool)BenchmarkTerm 3",{"$f":"$A$5&$B$2&$D$3","v":"Year 2 (US Grade 2)BenchmarkUS Winter (WA Term 2 equivalent)"},"Year 2 (US Grade 2)BenchmarkUS Winter (WA Term 2 equivalent)Kindy (US Preschool)BenchmarkTerm 3",{"$f":"'Drop Downs'!$A$15","v":"More schooling:  student might be below BM"}]
["Kindy (US Preschool)BenchmarkTerm 3",{"$f":"$A$5&$B$2&$D$4","v":"Year 2 (US Grade 2)BenchmarkUS Spring (WA Term 3 equivalent)"},"Year 2 (US Grade 2)BenchmarkUS Spring (WA Term 3 equivalent)Kindy (US Preschool)BenchmarkTerm 3",{"$f":"'Drop Downs'!$A$15","v":"More schooling:  student might be below BM"}]
["Kindy (US Preschool)BenchmarkTerm 3",{"$f":"$A$5&$B$2&$D$5","v":"Year 2 (US Grade 2)BenchmarkUS Summer (WA Term 4 equivalent)"},"Year 2 (US Grade 2)BenchmarkUS Summer (WA Term 4 equivalent)Kindy (US Preschool)BenchmarkTerm 3",{"$f":"'Drop Downs'!$A$15","v":"More schooling:  student might be below BM"}]
["Kindy (US Preschool)BenchmarkTerm 3",{"$f":"$A$6&$B$2&$D$2","v":"Year 3 (US Grade 3)BenchmarkUS Fall (WA Term 1 equivalent)"},"Year 3 (US Grade 3)BenchmarkUS Fall (WA Term 1 equivalent)Kindy (US Preschool)BenchmarkTerm 3",{"$f":"'Drop Downs'!$A$15","v":"More schooling:  student might be below BM"}]
["Kindy (US Preschool)BenchmarkTerm 3",{"$f":"$A$6&$B$2&$D$3","v":"Year 3 (US Grade 3)BenchmarkUS Winter (WA Term 2 equivalent)"},"Year 3 (US Grade 3)BenchmarkUS Winter (WA Term 2 equivalent)Kindy (US Preschool)BenchmarkTerm 3",{"$f":"'Drop Downs'!$A$15","v":"More schooling:  student might be below BM"}]
["Kindy (US Preschool)BenchmarkTerm 3",{"$f":"$A$6&$B$2&$D$4","v":"Year 3 (US Grade 3)BenchmarkUS Spring (WA Term 3 equivalent)"},"Year 3 (US Grade 3)BenchmarkUS Spring (WA Term 3 equivalent)Kindy (US Preschool)BenchmarkTerm 3",{"$f":"'Drop Downs'!$A$15","v":"More schooling:  student might be below BM"}]
["Kindy (US Preschool)BenchmarkTerm 3",{"$f":"$A$6&$B$2&$D$5","v":"Year 3 (US Grade 3)BenchmarkUS Summer (WA Term 4 equivalent)"},"Year 3 (US Grade 3)BenchmarkUS Summer (WA Term 4 equivalent)Kindy (US Preschool)BenchmarkTerm 3",{"$f":"'Drop Downs'!$A$15","v":"More schooling:  student might be below BM"}]
[{"$f":"$A$2&$B$2&$F$5","v":"Kindy (US Preschool)BenchmarkTerm 4"},{"$f":"$A$2&$B$2&$D$2","v":"Kindy (US Preschool)BenchmarkUS Fall (WA Term 1 equivalent)"},"Kindy (US Preschool)BenchmarkUS Fall (WA Term 1 equivalent)Kindy (US Preschool)BenchmarkTerm 4",{"$f":"'Drop Downs'!$A$14","v":"Less schooling: student should do well"}]
["Kindy (US Preschool)BenchmarkTerm 4",{"$f":"$A$2&$B$2&$D$3","v":"Kindy (US Preschool)BenchmarkUS Winter (WA Term 2 equivalent)"},"Kindy (US Preschool)BenchmarkUS Winter (WA Term 2 equivalent)Kindy (US Preschool)BenchmarkTerm 4",{"$f":"'Drop Downs'!$A$14","v":"Less schooling: student should do well"}]
["Kindy (US Preschool)BenchmarkTerm 4",{"$f":"$A$2&$B$2&$D$4","v":"Kindy (US Preschool)BenchmarkUS Spring (WA Term 3 equivalent)"},"Kindy (US Preschool)BenchmarkUS Spring (WA Term 3 equivalent)Kindy (US Preschool)BenchmarkTerm 4",{"$f":"'Drop Downs'!$A$14","v":"Less schooling: student should do well"}]
[{"$f":"$A$2&$B$2&$F$5","v":"Kindy (US Preschool)BenchmarkTerm 4"},{"$f":"$A$2&$B$2&$D$5","v":"Kindy (US Preschool)BenchmarkUS Summer (WA Term 4 equivalent)"},"Kindy (US Preschool)BenchmarkUS Summer (WA Term 4 equivalent)Kindy (US Preschool)BenchmarkTerm 4",{"$f":"'Drop Downs'!$A$13","v":"The same amount of schooling (on level)"}]
[{"$f":"$A$2&$B$2&$F$5","v":"Kindy (US Preschool)BenchmarkTerm 4"},{"$f":"$A$3&$B$2&$D$2","v":"Pre-Primary (US Kindergarten)BenchmarkUS Fall (WA Term 1 equivalent)"},"Pre-Primary (US Kindergarten)BenchmarkUS Fall (WA Term 1 equivalent)Kindy (US Preschool)BenchmarkTerm 4",{"$f":"'Drop Downs'!$A$15","v":"More schooling:  student might be below BM"}]
["Kindy (US Preschool)BenchmarkTerm 4",{"$f":"$A$3&$B$2&$D$3","v":"Pre-Primary (US Kindergarten)BenchmarkUS Winter (WA Term 2 equivalent)"},{"$f":"B75&A75","v":"Pre-Primary (US Kindergarten)BenchmarkUS Winter (WA Term 2 equivalent)Kindy (US Preschool)BenchmarkTerm 4"},{"$f":"'Drop Downs'!$A$15","v":"More schooling:  student might be below BM"}]
["Kindy (US Preschool)BenchmarkTerm 4",{"$f":"$A$3&$B$2&$D$4","v":"Pre-Primary (US Kindergarten)BenchmarkUS Spring (WA Term 3 equivalent)"},"Pre-Primary (US Kindergarten)BenchmarkUS Spring (WA Term 3 equivalent)Kindy (US Preschool)BenchmarkTerm 4",{"$f":"'Drop Downs'!$A$15","v":"More schooling:  student might be below BM"}]
["Kindy (US Preschool)BenchmarkTerm 4",{"$f":"$A$3&$B$2&$D$5","v":"Pre-Primary (US Kindergarten)BenchmarkUS Summer (WA Term 4 equivalent)"},"Pre-Primary (US Kindergarten)BenchmarkUS Summer (WA Term 4 equivalent)Kindy (US Preschool)BenchmarkTerm 4",{"$f":"'Drop Downs'!$A$15","v":"More schooling:  student might be below BM"}]
["Kindy (US Preschool)BenchmarkTerm 4",{"$f":"$A$4&$B$2&$D$2","v":"Year 1 (US Grade 1)BenchmarkUS Fall (WA Term 1 equivalent)"},"Year 1 (US Grade 1)BenchmarkUS Fall (WA Term 1 equivalent)Kindy (US Preschool)BenchmarkTerm 4",{"$f":"'Drop Downs'!$A$15","v":"More schooling:  student might be below BM"}]
["Kindy (US Preschool)BenchmarkTerm 4",{"$f":"$A$4&$B$2&$D$3","v":"Year 1 (US Grade 1)BenchmarkUS Winter (WA Term 2 equivalent)"},"Year 1 (US Grade 1)BenchmarkUS Winter (WA Term 2 equivalent)Kindy (US Preschool)BenchmarkTerm 4",{"$f":"'Drop Downs'!$A$15","v":"More schooling:  student might be below BM"}]
["Kindy (US Preschool)BenchmarkTerm 4",{"$f":"$A$4&$B$2&$D$4","v":"Year 1 (US Grade 1)BenchmarkUS Spring (WA Term 3 equivalent)"},"Year 1 (US Grade 1)BenchmarkUS Spring (WA Term 3 equivalent)Kindy (US Preschool)BenchmarkTerm 4",{"$f":"'Drop Downs'!$A$15","v":"More schooling:  student might be below BM"}]
["Kindy (US Preschool)BenchmarkTerm 4",{"$f":"$A$4&$B$2&$D$5","v":"Year 1 (US Grade 1)BenchmarkUS Summer (WA Term 4 equivalent)"},"Year 1 (US Grade 1)BenchmarkUS Summer (WA Term 4 equivalent)Kindy (US Preschool)BenchmarkTerm 4",{"$f":"'Drop Downs'!$A$15","v":"More schooling:  student might be below BM"}]
["Kindy (US Preschool)BenchmarkTerm 4",{"$f":"$A$5&$B$2&$D$2","v":"Year 2 (US Grade 2)BenchmarkUS Fall (WA Term 1 equivalent)"},"Year 2 (US Grade 2)BenchmarkUS Fall (WA Term 1 equivalent)Kindy (US Preschool)BenchmarkTerm 4",{"$f":"'Drop Downs'!$A$15","v":"More schooling:  student might be below BM"}]
["Kindy (US Preschool)BenchmarkTerm 4",{"$f":"$A$5&$B$2&$D$3","v":"Year 2 (US Grade 2)BenchmarkUS Winter (WA Term 2 equivalent)"},"Year 2 (US Grade 2)BenchmarkUS Winter (WA Term 2 equivalent)Kindy (US Preschool)BenchmarkTerm 4",{"$f":"'Drop Downs'!$A$15","v":"More schooling:  student might be below BM"}]
["Kindy (US Preschool)BenchmarkTerm 4",{"$f":"$A$5&$B$2&$D$4","v":"Year 2 (US Grade 2)BenchmarkUS Spring (WA Term 3 equivalent)"},"Year 2 (US Grade 2)BenchmarkUS Spring (WA Term 3 equivalent)Kindy (US Preschool)BenchmarkTerm 4",{"$f":"'Drop Downs'!$A$15","v":"More schooling:  student might be below BM"}]
["Kindy (US Preschool)BenchmarkTerm 4",{"$f":"$A$5&$B$2&$D$5","v":"Year 2 (US Grade 2)BenchmarkUS Summer (WA Term 4 equivalent)"},"Year 2 (US Grade 2)BenchmarkUS Summer (WA Term 4 equivalent)Kindy (US Preschool)BenchmarkTerm 4",{"$f":"'Drop Downs'!$A$15","v":"More schooling:  student might be below BM"}]
["Kindy (US Preschool)BenchmarkTerm 4",{"$f":"$A$6&$B$2&$D$2","v":"Year 3 (US Grade 3)BenchmarkUS Fall (WA Term 1 equivalent)"},"Year 3 (US Grade 3)BenchmarkUS Fall (WA Term 1 equivalent)Kindy (US Preschool)BenchmarkTerm 4",{"$f":"'Drop Downs'!$A$15","v":"More schooling:  student might be below BM"}]
["Kindy (US Preschool)BenchmarkTerm 4",{"$f":"$A$6&$B$2&$D$3","v":"Year 3 (US Grade 3)BenchmarkUS Winter (WA Term 2 equivalent)"},"Year 3 (US Grade 3)BenchmarkUS Winter (WA Term 2 equivalent)Kindy (US Preschool)BenchmarkTerm 4",{"$f":"'Drop Downs'!$A$15","v":"More schooling:  student might be below BM"}]
["Kindy (US Preschool)BenchmarkTerm 4",{"$f":"$A$6&$B$2&$D$4","v":"Year 3 (US Grade 3)BenchmarkUS Spring (WA Term 3 equivalent)"},"Year 3 (US Grade 3)BenchmarkUS Spring (WA Term 3 equivalent)Kindy (US Preschool)BenchmarkTerm 4",{"$f":"'Drop Downs'!$A$15","v":"More schooling:  student might be below BM"}]
["Kindy (US Preschool)BenchmarkTerm 4",{"$f":"$A$6&$B$2&$D$5","v":"Year 3 (US Grade 3)BenchmarkUS Summer (WA Term 4 equivalent)"},"Year 3 (US Grade 3)BenchmarkUS Summer (WA Term 4 equivalent)Kindy (US Preschool)BenchmarkTerm 4",{"$f":"'Drop Downs'!$A$15","v":"More schooling:  student might be below BM"}]
[{"$f":"$A$3&$B$2&$F$2","v":"Pre-Primary (US Kindergarten)BenchmarkTerm 1"},{"$f":"$A$2&$B$2&$D$2","v":"Kindy (US Preschool)BenchmarkUS Fall (WA Term 1 equivalent)"},"Kindy (US Preschool)BenchmarkUS Fall (WA Term 1 equivalent)Pre-Primary (US Kindergarten)BenchmarkTerm 1",{"$f":"'Drop Downs'!$A$14","v":"Less schooling: student should do well"}]
["Pre-Primary (US Kindergarten)BenchmarkTerm 1",{"$f":"$A$2&$B$2&$D$3","v":"Kindy (US Preschool)BenchmarkUS Winter (WA Term 2 equivalent)"},"Kindy (US Preschool)BenchmarkUS Winter (WA Term 2 equivalent)Pre-Primary (US Kindergarten)BenchmarkTerm 1",{"$f":"'Drop Downs'!$A$14","v":"Less schooling: student should do well"}]
["Pre-Primary (US Kindergarten)BenchmarkTerm 1",{"$f":"$A$2&$B$2&$D$4","v":"Kindy (US Preschool)BenchmarkUS Spring (WA Term 3 equivalent)"},"Kindy (US Preschool)BenchmarkUS Spring (WA Term 3 equivalent)Pre-Primary (US Kindergarten)BenchmarkTerm 1",{"$f":"'Drop Downs'!$A$14","v":"Less schooling: student should do well"}]
["Pre-Primary (US Kindergarten)BenchmarkTerm 1",{"$f":"$A$2&$B$2&$D$5","v":"Kindy (US Preschool)BenchmarkUS Summer (WA Term 4 equivalent)"},"Kindy (US Preschool)BenchmarkUS Summer (WA Term 4 equivalent)Pre-Primary (US Kindergarten)BenchmarkTerm 1",{"$f":"'Drop Downs'!$A$14","v":"Less schooling: student should do well"}]
[{"$f":"$A$3&$B$2&$F$2","v":"Pre-Primary (US Kindergarten)BenchmarkTerm 1"},{"$f":"$A$3&$B$2&$D$2","v":"Pre-Primary (US Kindergarten)BenchmarkUS Fall (WA Term 1 equivalent)"},"Pre-Primary (US Kindergarten)BenchmarkUS Fall (WA Term 1 equivalent)Pre-Primary (US Kindergarten)BenchmarkTerm 1",{"$f":"'Drop Downs'!$A$13","v":"The same amount of schooling (on level)"}]
[{"$f":"$A$3&$B$2&$F$2","v":"Pre-Primary (US Kindergarten)BenchmarkTerm 1"},{"$f":"$A$3&$B$2&$D$3","v":"Pre-Primary (US Kindergarten)BenchmarkUS Winter (WA Term 2 equivalent)"},"Pre-Primary (US Kindergarten)BenchmarkUS Winter (WA Term 2 equivalent)Pre-Primary (US Kindergarten)BenchmarkTerm 1",{"$f":"'Drop Downs'!$A$15","v":"More schooling:  student might be below BM"}]
["Pre-Primary (US Kindergarten)BenchmarkTerm 1",{"$f":"$A$3&$B$2&$D$4","v":"Pre-Primary (US Kindergarten)BenchmarkUS Spring (WA Term 3 equivalent)"},"Pre-Primary (US Kindergarten)BenchmarkUS Spring (WA Term 3 equivalent)Pre-Primary (US Kindergarten)BenchmarkTerm 1",{"$f":"'Drop Downs'!$A$15","v":"More schooling:  student might be below BM"}]
["Pre-Primary (US Kindergarten)BenchmarkTerm 1",{"$f":"$A$3&$B$2&$D$5","v":"Pre-Primary (US Kindergarten)BenchmarkUS Summer (WA Term 4 equivalent)"},"Pre-Primary (US Kindergarten)BenchmarkUS Summer (WA Term 4 equivalent)Pre-Primary (US Kindergarten)BenchmarkTerm 1",{"$f":"'Drop Downs'!$A$15","v":"More schooling:  student might be below BM"}]
["Pre-Primary (US Kindergarten)BenchmarkTerm 1",{"$f":"$A$4&$B$2&$D$2","v":"Year 1 (US Grade 1)BenchmarkUS Fall (WA Term 1 equivalent)"},"Year 1 (US Grade 1)BenchmarkUS Fall (WA Term 1 equivalent)Pre-Primary (US Kindergarten)BenchmarkTerm 1",{"$f":"'Drop Downs'!$A$15","v":"More schooling:  student might be below BM"}]
["Pre-Primary (US Kindergarten)BenchmarkTerm 1",{"$f":"$A$4&$B$2&$D$3","v":"Year 1 (US Grade 1)BenchmarkUS Winter (WA Term 2 equivalent)"},"Year 1 (US Grade 1)BenchmarkUS Winter (WA Term 2 equivalent)Pre-Primary (US Kindergarten)BenchmarkTerm 1",{"$f":"'Drop Downs'!$A$15","v":"More schooling:  student might be below BM"}]
["Pre-Primary (US Kindergarten)BenchmarkTerm 1",{"$f":"$A$4&$B$2&$D$4","v":"Year 1 (US Grade 1)BenchmarkUS Spring (WA Term 3 equivalent)"},"Year 1 (US Grade 1)BenchmarkUS Spring (WA Term 3 equivalent)Pre-Primary (US Kindergarten)BenchmarkTerm 1",{"$f":"'Drop Downs'!$A$15","v":"More schooling:  student might be below BM"}]
["Pre-Primary (US Kindergarten)BenchmarkTerm 1",{"$f":"$A$4&$B$2&$D$5","v":"Year 1 (US Grade 1)BenchmarkUS Summer (WA Term 4 equivalent)"},"Year 1 (US Grade 1)BenchmarkUS Summer (WA Term 4 equivalent)Pre-Primary (US Kindergarten)BenchmarkTerm 1",{"$f":"'Drop Downs'!$A$15","v":"More schooling:  student might be below BM"}]
["Pre-Primary (US Kindergarten)BenchmarkTerm 1",{"$f":"$A$5&$B$2&$D$2","v":"Year 2 (US Grade 2)BenchmarkUS Fall (WA Term 1 equivalent)"},"Year 2 (US Grade 2)BenchmarkUS Fall (WA Term 1 equivalent)Pre-Primary (US Kindergarten)BenchmarkTerm 1",{"$f":"'Drop Downs'!$A$15","v":"More schooling:  student might be below BM"}]
["Pre-Primary (US Kindergarten)BenchmarkTerm 1",{"$f":"$A$5&$B$2&$D$3","v":"Year 2 (US Grade 2)BenchmarkUS Winter (WA Term 2 equivalent)"},"Year 2 (US Grade 2)BenchmarkUS Winter (WA Term 2 equivalent)Pre-Primary (US Kindergarten)BenchmarkTerm 1",{"$f":"'Drop Downs'!$A$15","v":"More schooling:  student might be below BM"}]
["Pre-Primary (US Kindergarten)BenchmarkTerm 1",{"$f":"$A$5&$B$2&$D$4","v":"Year 2 (US Grade 2)BenchmarkUS Spring (WA Term 3 equivalent)"},"Year 2 (US Grade 2)BenchmarkUS Spring (WA Term 3 equivalent)Pre-Primary (US Kindergarten)BenchmarkTerm 1",{"$f":"'Drop Downs'!$A$15","v":"More schooling:  student might be below BM"}]
["Pre-Primary (US Kindergarten)BenchmarkTerm 1",{"$f":"$A$5&$B$2&$D$5","v":"Year 2 (US Grade 2)BenchmarkUS Summer (WA Term 4 equivalent)"},"Year 2 (US Grade 2)BenchmarkUS Summer (WA Term 4 equivalent)Pre-Primary (US Kindergarten)BenchmarkTerm 1",{"$f":"'Drop Downs'!$A$15","v":"More schooling:  student might be below BM"}]
["Pre-Primary (US Kindergarten)BenchmarkTerm 1",{"$f":"$A$6&$B$2&$D$2","v":"Year 3 (US Grade 3)BenchmarkUS Fall (WA Term 1 equivalent)"},"Year 3 (US Grade 3)BenchmarkUS Fall (WA Term 1 equivalent)Pre-Primary (US Kindergarten)BenchmarkTerm 1",{"$f":"'Drop Downs'!$A$15","v":"More schooling:  student might be below BM"}]
["Pre-Primary (US Kindergarten)BenchmarkTerm 1",{"$f":"$A$6&$B$2&$D$3","v":"Year 3 (US Grade 3)BenchmarkUS Winter (WA Term 2 equivalent)"},"Year 3 (US Grade 3)BenchmarkUS Winter (WA Term 2 equivalent)Pre-Primary (US Kindergarten)BenchmarkTerm 1",{"$f":"'Drop Downs'!$A$15","v":"More schooling:  student might be below BM"}]
["Pre-Primary (US Kindergarten)BenchmarkTerm 1",{"$f":"$A$6&$B$2&$D$4","v":"Year 3 (US Grade 3)BenchmarkUS Spring (WA Term 3 equivalent)"},"Year 3 (US Grade 3)BenchmarkUS Spring (WA Term 3 equivalent)Pre-Primary (US Kindergarten)BenchmarkTerm 1",{"$f":"'Drop Downs'!$A$15","v":"More schooling:  student might be below BM"}]
["Pre-Primary (US Kindergarten)BenchmarkTerm 1",{"$f":"$A$6&$B$2&$D$5","v":"Year 3 (US Grade 3)BenchmarkUS Summer (WA Term 4 equivalent)"},"Year 3 (US Grade 3)BenchmarkUS Summer (WA Term 4 equivalent)Pre-Primary (US Kindergarten)BenchmarkTerm 1",{"$f":"'Drop Downs'!$A$15","v":"More schooling:  student might be below BM"}]
[{"$f":"$A$3&$B$2&$F$3","v":"Pre-Primary (US Kindergarten)BenchmarkTerm 2"},{"$f":"$A$2&$B$2&$D$2","v":"Kindy (US Preschool)BenchmarkUS Fall (WA Term 1 equivalent)"},"Kindy (US Preschool)BenchmarkUS Fall (WA Term 1 equivalent)Pre-Primary (US Kindergarten)BenchmarkTerm 2",{"$f":"'Drop Downs'!$A$14","v":"Less schooling: student should do well"}]
["Pre-Primary (US Kindergarten)BenchmarkTerm 2",{"$f":"$A$2&$B$2&$D$3","v":"Kindy (US Preschool)BenchmarkUS Winter (WA Term 2 equivalent)"},"Kindy (US Preschool)BenchmarkUS Winter (WA Term 2 equivalent)Pre-Primary (US Kindergarten)BenchmarkTerm 2",{"$f":"'Drop Downs'!$A$14","v":"Less schooling: student should do well"}]
["Pre-Primary (US Kindergarten)BenchmarkTerm 2",{"$f":"$A$2&$B$2&$D$4","v":"Kindy (US Preschool)BenchmarkUS Spring (WA Term 3 equivalent)"},"Kindy (US Preschool)BenchmarkUS Spring (WA Term 3 equivalent)Pre-Primary (US Kindergarten)BenchmarkTerm 2",{"$f":"'Drop Downs'!$A$14","v":"Less schooling: student should do well"}]
["Pre-Primary (US Kindergarten)BenchmarkTerm 2",{"$f":"$A$2&$B$2&$D$5","v":"Kindy (US Preschool)BenchmarkUS Summer (WA Term 4 equivalent)"},"Kindy (US Preschool)BenchmarkUS Summer (WA Term 4 equivalent)Pre-Primary (US Kindergarten)BenchmarkTerm 2",{"$f":"'Drop Downs'!$A$14","v":"Less schooling: student should do well"}]
["Pre-Primary (US Kindergarten)BenchmarkTerm 2",{"$f":"$A$3&$B$2&$D$2","v":"Pre-Primary (US Kindergarten)BenchmarkUS Fall (WA Term 1 equivalent)"},"Pre-Primary (US Kindergarten)BenchmarkUS Fall (WA Term 1 equivalent)Pre-Primary (US Kindergarten)BenchmarkTerm 2",{"$f":"'Drop Downs'!$A$14","v":"Less schooling: student should do well"}]
[{"$f":"$A$3&$B$2&$F$3","v":"Pre-Primary (US Kindergarten)BenchmarkTerm 2"},{"$f":"$A$3&$B$2&$D$3","v":"Pre-Primary (US Kindergarten)BenchmarkUS Winter (WA Term 2 equivalent)"},"Pre-Primary (US Kindergarten)BenchmarkUS Winter (WA Term 2 equivalent)Pre-Primary (US Kindergarten)BenchmarkTerm 2",{"$f":"'Drop Downs'!$A$13","v":"The same amount of schooling (on level)"}]
[{"$f":"$A$3&$B$2&$F$3","v":"Pre-Primary (US Kindergarten)BenchmarkTerm 2"},{"$f":"$A$3&$B$2&$D$4","v":"Pre-Primary (US Kindergarten)BenchmarkUS Spring (WA Term 3 equivalent)"},"Pre-Primary (US Kindergarten)BenchmarkUS Spring (WA Term 3 equivalent)Pre-Primary (US Kindergarten)BenchmarkTerm 2",{"$f":"'Drop Downs'!$A$15","v":"More schooling:  student might be below BM"}]
["Pre-Primary (US Kindergarten)BenchmarkTerm 2",{"$f":"$A$3&$B$2&$D$5","v":"Pre-Primary (US Kindergarten)BenchmarkUS Summer (WA Term 4 equivalent)"},"Pre-Primary (US Kindergarten)BenchmarkUS Summer (WA Term 4 equivalent)Pre-Primary (US Kindergarten)BenchmarkTerm 2",{"$f":"'Drop Downs'!$A$15","v":"More schooling:  student might be below BM"}]
["Pre-Primary (US Kindergarten)BenchmarkTerm 2",{"$f":"$A$4&$B$2&$D$2","v":"Year 1 (US Grade 1)BenchmarkUS Fall (WA Term 1 equivalent)"},"Year 1 (US Grade 1)BenchmarkUS Fall (WA Term 1 equivalent)Pre-Primary (US Kindergarten)BenchmarkTerm 2",{"$f":"'Drop Downs'!$A$15","v":"More schooling:  student might be below BM"}]
["Pre-Primary (US Kindergarten)BenchmarkTerm 2",{"$f":"$A$4&$B$2&$D$3","v":"Year 1 (US Grade 1)BenchmarkUS Winter (WA Term 2 equivalent)"},"Year 1 (US Grade 1)BenchmarkUS Winter (WA Term 2 equivalent)Pre-Primary (US Kindergarten)BenchmarkTerm 2",{"$f":"'Drop Downs'!$A$15","v":"More schooling:  student might be below BM"}]
["Pre-Primary (US Kindergarten)BenchmarkTerm 2",{"$f":"$A$4&$B$2&$D$4","v":"Year 1 (US Grade 1)BenchmarkUS Spring (WA Term 3 equivalent)"},"Year 1 (US Grade 1)BenchmarkUS Spring (WA Term 3 equivalent)Pre-Primary (US Kindergarten)BenchmarkTerm 2",{"$f":"'Drop Downs'!$A$15","v":"More schooling:  student might be below BM"}]
["Pre-Primary (US Kindergarten)BenchmarkTerm 2",{"$f":"$A$4&$B$2&$D$5","v":"Year 1 (US Grade 1)BenchmarkUS Summer (WA Term 4 equivalent)"},"Year 1 (US Grade 1)BenchmarkUS Summer (WA Term 4 equivalent)Pre-Primary (US Kindergarten)BenchmarkTerm 2",{"$f":"'Drop Downs'!$A$15","v":"More schooling:  student might be below BM"}]
["Pre-Primary (US Kindergarten)BenchmarkTerm 2",{"$f":"$A$5&$B$2&$D$2","v":"Year 2 (US Grade 2)BenchmarkUS Fall (WA Term 1 equivalent)"},"Year 2 (US Grade 2)BenchmarkUS Fall (WA Term 1 equivalent)Pre-Primary (US Kindergarten)BenchmarkTerm 2",{"$f":"'Drop Downs'!$A$15","v":"More schooling:  student might be below BM"}]
["Pre-Primary (US Kindergarten)BenchmarkTerm 2",{"$f":"$A$5&$B$2&$D$3","v":"Year 2 (US Grade 2)BenchmarkUS Winter (WA Term 2 equivalent)"},"Year 2 (US Grade 2)BenchmarkUS Winter (WA Term 2 equivalent)Pre-Primary (US Kindergarten)BenchmarkTerm 2",{"$f":"'Drop Downs'!$A$15","v":"More schooling:  student might be below BM"}]
["Pre-Primary (US Kindergarten)BenchmarkTerm 2",{"$f":"$A$5&$B$2&$D$4","v":"Year 2 (US Grade 2)BenchmarkUS Spring (WA Term 3 equivalent)"},"Year 2 (US Grade 2)BenchmarkUS Spring (WA Term 3 equivalent)Pre-Primary (US Kindergarten)BenchmarkTerm 2",{"$f":"'Drop Downs'!$A$15","v":"More schooling:  student might be below BM"}]
["Pre-Primary (US Kindergarten)BenchmarkTerm 2",{"$f":"$A$5&$B$2&$D$5","v":"Year 2 (US Grade 2)BenchmarkUS Summer (WA Term 4 equivalent)"},"Year 2 (US Grade 2)BenchmarkUS Summer (WA Term 4 equivalent)Pre-Primary (US Kindergarten)BenchmarkTerm 2",{"$f":"'Drop Downs'!$A$15","v":"More schooling:  student might be below BM"}]
["Pre-Primary (US Kindergarten)BenchmarkTerm 2",{"$f":"$A$6&$B$2&$D$2","v":"Year 3 (US Grade 3)BenchmarkUS Fall (WA Term 1 equivalent)"},"Year 3 (US Grade 3)BenchmarkUS Fall (WA Term 1 equivalent)Pre-Primary (US Kindergarten)BenchmarkTerm 2",{"$f":"'Drop Downs'!$A$15","v":"More schooling:  student might be below BM"}]
["Pre-Primary (US Kindergarten)BenchmarkTerm 2",{"$f":"$A$6&$B$2&$D$3","v":"Year 3 (US Grade 3)BenchmarkUS Winter (WA Term 2 equivalent)"},"Year 3 (US Grade 3)BenchmarkUS Winter (WA Term 2 equivalent)Pre-Primary (US Kindergarten)BenchmarkTerm 2",{"$f":"'Drop Downs'!$A$15","v":"More schooling:  student might be below BM"}]
["Pre-Primary (US Kindergarten)BenchmarkTerm 2",{"$f":"$A$6&$B$2&$D$4","v":"Year 3 (US Grade 3)BenchmarkUS Spring (WA Term 3 equivalent)"},"Year 3 (US Grade 3)BenchmarkUS Spring (WA Term 3 equivalent)Pre-Primary (US Kindergarten)BenchmarkTerm 2",{"$f":"'Drop Downs'!$A$15","v":"More schooling:  student might be below BM"}]
["Pre-Primary (US Kindergarten)BenchmarkTerm 2",{"$f":"$A$6&$B$2&$D$5","v":"Year 3 (US Grade 3)BenchmarkUS Summer (WA Term 4 equivalent)"},"Year 3 (US Grade 3)BenchmarkUS Summer (WA Term 4 equivalent)Pre-Primary (US Kindergarten)BenchmarkTerm 2",{"$f":"'Drop Downs'!$A$15","v":"More schooling:  student might be below BM"}]
[{"$f":"$A$3&$B$2&$F$4","v":"Pre-Primary (US Kindergarten)BenchmarkTerm 3"},{"$f":"$A$2&$B$2&$D$2","v":"Kindy (US Preschool)BenchmarkUS Fall (WA Term 1 equivalent)"},"Kindy (US Preschool)BenchmarkUS Fall (WA Term 1 equivalent)Pre-Primary (US Kindergarten)BenchmarkTerm 3",{"$f":"'Drop Downs'!$A$14","v":"Less schooling: student should do well"}]
["Pre-Primary (US Kindergarten)BenchmarkTerm 3",{"$f":"$A$2&$B$2&$D$3","v":"Kindy (US Preschool)BenchmarkUS Winter (WA Term 2 equivalent)"},"Kindy (US Preschool)BenchmarkUS Winter (WA Term 2 equivalent)Pre-Primary (US Kindergarten)BenchmarkTerm 3",{"$f":"'Drop Downs'!$A$14","v":"Less schooling: student should do well"}]
["Pre-Primary (US Kindergarten)BenchmarkTerm 3",{"$f":"$A$2&$B$2&$D$4","v":"Kindy (US Preschool)BenchmarkUS Spring (WA Term 3 equivalent)"},"Kindy (US Preschool)BenchmarkUS Spring (WA Term 3 equivalent)Pre-Primary (US Kindergarten)BenchmarkTerm 3",{"$f":"'Drop Downs'!$A$14","v":"Less schooling: student should do well"}]
["Pre-Primary (US Kindergarten)BenchmarkTerm 3",{"$f":"$A$2&$B$2&$D$5","v":"Kindy (US Preschool)BenchmarkUS Summer (WA Term 4 equivalent)"},"Kindy (US Preschool)BenchmarkUS Summer (WA Term 4 equivalent)Pre-Primary (US Kindergarten)BenchmarkTerm 3",{"$f":"'Drop Downs'!$A$14","v":"Less schooling: student should do well"}]
["Pre-Primary (US Kindergarten)BenchmarkTerm 3",{"$f":"$A$3&$B$2&$D$2","v":"Pre-Primary (US Kindergarten)BenchmarkUS Fall (WA Term 1 equivalent)"},"Pre-Primary (US Kindergarten)BenchmarkUS Fall (WA Term 1 equivalent)Pre-Primary (US Kindergarten)BenchmarkTerm 3",{"$f":"'Drop Downs'!$A$14","v":"Less schooling: student should do well"}]
["Pre-Primary (US Kindergarten)BenchmarkTerm 3",{"$f":"$A$3&$B$2&$D$3","v":"Pre-Primary (US Kindergarten)BenchmarkUS Winter (WA Term 2 equivalent)"},"Pre-Primary (US Kindergarten)BenchmarkUS Winter (WA Term 2 equivalent)Pre-Primary (US Kindergarten)BenchmarkTerm 3",{"$f":"'Drop Downs'!$A$14","v":"Less schooling: student should do well"}]
[{"$f":"$A$3&$B$2&$F$4","v":"Pre-Primary (US Kindergarten)BenchmarkTerm 3"},{"$f":"$A$3&$B$2&$D$4","v":"Pre-Primary (US Kindergarten)BenchmarkUS Spring (WA Term 3 equivalent)"},"Pre-Primary (US Kindergarten)BenchmarkUS Spring (WA Term 3 equivalent)Pre-Primary (US Kindergarten)BenchmarkTerm 3",{"$f":"'Drop Downs'!$A$13","v":"The same amount of schooling (on level)"}]
[{"$f":"$A$3&$B$2&$F$4","v":"Pre-Primary (US Kindergarten)BenchmarkTerm 3"},{"$f":"$A$3&$B$2&$D$5","v":"Pre-Primary (US Kindergarten)BenchmarkUS Summer (WA Term 4 equivalent)"},"Pre-Primary (US Kindergarten)BenchmarkUS Summer (WA Term 4 equivalent)Pre-Primary (US Kindergarten)BenchmarkTerm 3",{"$f":"'Drop Downs'!$A$15","v":"More schooling:  student might be below BM"}]
["Pre-Primary (US Kindergarten)BenchmarkTerm 3",{"$f":"$A$4&$B$2&$D$2","v":"Year 1 (US Grade 1)BenchmarkUS Fall (WA Term 1 equivalent)"},"Year 1 (US Grade 1)BenchmarkUS Fall (WA Term 1 equivalent)Pre-Primary (US Kindergarten)BenchmarkTerm 3",{"$f":"'Drop Downs'!$A$15","v":"More schooling:  student might be below BM"}]
["Pre-Primary (US Kindergarten)BenchmarkTerm 3",{"$f":"$A$4&$B$2&$D$3","v":"Year 1 (US Grade 1)BenchmarkUS Winter (WA Term 2 equivalent)"},{"$f":"B139&A139","v":"Year 1 (US Grade 1)BenchmarkUS Winter (WA Term 2 equivalent)Pre-Primary (US Kindergarten)BenchmarkTerm 3"},{"$f":"'Drop Downs'!$A$15","v":"More schooling:  student might be below BM"}]
["Pre-Primary (US Kindergarten)BenchmarkTerm 3",{"$f":"$A$4&$B$2&$D$4","v":"Year 1 (US Grade 1)BenchmarkUS Spring (WA Term 3 equivalent)"},"Year 1 (US Grade 1)BenchmarkUS Spring (WA Term 3 equivalent)Pre-Primary (US Kindergarten)BenchmarkTerm 3",{"$f":"'Drop Downs'!$A$15","v":"More schooling:  student might be below BM"}]
["Pre-Primary (US Kindergarten)BenchmarkTerm 3",{"$f":"$A$4&$B$2&$D$5","v":"Year 1 (US Grade 1)BenchmarkUS Summer (WA Term 4 equivalent)"},"Year 1 (US Grade 1)BenchmarkUS Summer (WA Term 4 equivalent)Pre-Primary (US Kindergarten)BenchmarkTerm 3",{"$f":"'Drop Downs'!$A$15","v":"More schooling:  student might be below BM"}]
["Pre-Primary (US Kindergarten)BenchmarkTerm 3",{"$f":"$A$5&$B$2&$D$2","v":"Year 2 (US Grade 2)BenchmarkUS Fall (WA Term 1 equivalent)"},"Year 2 (US Grade 2)BenchmarkUS Fall (WA Term 1 equivalent)Pre-Primary (US Kindergarten)BenchmarkTerm 3",{"$f":"'Drop Downs'!$A$15","v":"More schooling:  student might be below BM"}]
["Pre-Primary (US Kindergarten)BenchmarkTerm 3",{"$f":"$A$5&$B$2&$D$3","v":"Year 2 (US Grade 2)BenchmarkUS Winter (WA Term 2 equivalent)"},"Year 2 (US Grade 2)BenchmarkUS Winter (WA Term 2 equivalent)Pre-Primary (US Kindergarten)BenchmarkTerm 3",{"$f":"'Drop Downs'!$A$15","v":"More schooling:  student might be below BM"}]
["Pre-Primary (US Kindergarten)BenchmarkTerm 3",{"$f":"$A$5&$B$2&$D$4","v":"Year 2 (US Grade 2)BenchmarkUS Spring (WA Term 3 equivalent)"},"Year 2 (US Grade 2)BenchmarkUS Spring (WA Term 3 equivalent)Pre-Primary (US Kindergarten)BenchmarkTerm 3",{"$f":"'Drop Downs'!$A$15","v":"More schooling:  student might be below BM"}]
["Pre-Primary (US Kindergarten)BenchmarkTerm 3",{"$f":"$A$5&$B$2&$D$5","v":"Year 2 (US Grade 2)BenchmarkUS Summer (WA Term 4 equivalent)"},"Year 2 (US Grade 2)BenchmarkUS Summer (WA Term 4 equivalent)Pre-Primary (US Kindergarten)BenchmarkTerm 3",{"$f":"'Drop Downs'!$A$15","v":"More schooling:  student might be below BM"}]
["Pre-Primary (US Kindergarten)BenchmarkTerm 3",{"$f":"$A$6&$B$2&$D$2","v":"Year 3 (US Grade 3)BenchmarkUS Fall (WA Term 1 equivalent)"},"Year 3 (US Grade 3)BenchmarkUS Fall (WA Term 1 equivalent)Pre-Primary (US Kindergarten)BenchmarkTerm 3",{"$f":"'Drop Downs'!$A$15","v":"More schooling:  student might be below BM"}]
["Pre-Primary (US Kindergarten)BenchmarkTerm 3",{"$f":"$A$6&$B$2&$D$3","v":"Year 3 (US Grade 3)BenchmarkUS Winter (WA Term 2 equivalent)"},"Year 3 (US Grade 3)BenchmarkUS Winter (WA Term 2 equivalent)Pre-Primary (US Kindergarten)BenchmarkTerm 3",{"$f":"'Drop Downs'!$A$15","v":"More schooling:  student might be below BM"}]
["Pre-Primary (US Kindergarten)BenchmarkTerm 3",{"$f":"$A$6&$B$2&$D$4","v":"Year 3 (US Grade 3)BenchmarkUS Spring (WA Term 3 equivalent)"},"Year 3 (US Grade 3)BenchmarkUS Spring (WA Term 3 equivalent)Pre-Primary (US Kindergarten)BenchmarkTerm 3",{"$f":"'Drop Downs'!$A$15","v":"More schooling:  student might be below BM"}]
["Pre-Primary (US Kindergarten)BenchmarkTerm 3",{"$f":"$A$6&$B$2&$D$5","v":"Year 3 (US Grade 3)BenchmarkUS Summer (WA Term 4 equivalent)"},"Year 3 (US Grade 3)BenchmarkUS Summer (WA Term 4 equivalent)Pre-Primary (US Kindergarten)BenchmarkTerm 3",{"$f":"'Drop Downs'!$A$15","v":"More schooling:  student might be below BM"}]
[{"$f":"$A$3&$B$2&$F$5","v":"Pre-Primary (US Kindergarten)BenchmarkTerm 4"},{"$f":"$A$2&$B$2&$D$2","v":"Kindy (US Preschool)BenchmarkUS Fall (WA Term 1 equivalent)"},"Kindy (US Preschool)BenchmarkUS Fall (WA Term 1 equivalent)Pre-Primary (US Kindergarten)BenchmarkTerm 4",{"$f":"'Drop Downs'!$A$14","v":"Less schooling: student should do well"}]
["Pre-Primary (US Kindergarten)BenchmarkTerm 4",{"$f":"$A$2&$B$2&$D$3","v":"Kindy (US Preschool)BenchmarkUS Winter (WA Term 2 equivalent)"},"Kindy (US Preschool)BenchmarkUS Winter (WA Term 2 equivalent)Pre-Primary (US Kindergarten)BenchmarkTerm 4",{"$f":"'Drop Downs'!$A$14","v":"Less schooling: student should do well"}]
["Pre-Primary (US Kindergarten)BenchmarkTerm 4",{"$f":"$A$2&$B$2&$D$4","v":"Kindy (US Preschool)BenchmarkUS Spring (WA Term 3 equivalent)"},"Kindy (US Preschool)BenchmarkUS Spring (WA Term 3 equivalent)Pre-Primary (US Kindergarten)BenchmarkTerm 4",{"$f":"'Drop Downs'!$A$14","v":"Less schooling: student should do well"}]
["Pre-Primary (US Kindergarten)BenchmarkTerm 4",{"$f":"$A$2&$B$2&$D$5","v":"Kindy (US Preschool)BenchmarkUS Summer (WA Term 4 equivalent)"},"Kindy (US Preschool)BenchmarkUS Summer (WA Term 4 equivalent)Pre-Primary (US Kindergarten)BenchmarkTerm 4",{"$f":"'Drop Downs'!$A$14","v":"Less schooling: student should do well"}]
["Pre-Primary (US Kindergarten)BenchmarkTerm 4",{"$f":"$A$3&$B$2&$D$2","v":"Pre-Primary (US Kindergarten)BenchmarkUS Fall (WA Term 1 equivalent)"},"Pre-Primary (US Kindergarten)BenchmarkUS Fall (WA Term 1 equivalent)Pre-Primary (US Kindergarten)BenchmarkTerm 4",{"$f":"'Drop Downs'!$A$14","v":"Less schooling: student should do well"}]
["Pre-Primary (US Kindergarten)BenchmarkTerm 4",{"$f":"$A$3&$B$2&$D$3","v":"Pre-Primary (US Kindergarten)BenchmarkUS Winter (WA Term 2 equivalent)"},"Pre-Primary (US Kindergarten)BenchmarkUS Winter (WA Term 2 equivalent)Pre-Primary (US Kindergarten)BenchmarkTerm 4",{"$f":"'Drop Downs'!$A$14","v":"Less schooling: student should do well"}]
["Pre-Primary (US Kindergarten)BenchmarkTerm 4",{"$f":"$A$3&$B$2&$D$4","v":"Pre-Primary (US Kindergarten)BenchmarkUS Spring (WA Term 3 equivalent)"},"Pre-Primary (US Kindergarten)BenchmarkUS Spring (WA Term 3 equivalent)Pre-Primary (US Kindergarten)BenchmarkTerm 4",{"$f":"'Drop Downs'!$A$14","v":"Less schooling: student should do well"}]
[{"$f":"$A$3&$B$2&$F$5","v":"Pre-Primary (US Kindergarten)BenchmarkTerm 4"},{"$f":"$A$3&$B$2&$D$5","v":"Pre-Primary (US Kindergarten)BenchmarkUS Summer (WA Term 4 equivalent)"},"Pre-Primary (US Kindergarten)BenchmarkUS Summer (WA Term 4 equivalent)Pre-Primary (US Kindergarten)BenchmarkTerm 4",{"$f":"'Drop Downs'!$A$13","v":"The same amount of schooling (on level)"}]
[{"$f":"$A$3&$B$2&$F$5","v":"Pre-Primary (US Kindergarten)BenchmarkTerm 4"},{"$f":"$A$4&$B$2&$D$2","v":"Year 1 (US Grade 1)BenchmarkUS Fall (WA Term 1 equivalent)"},"Year 1 (US Grade 1)BenchmarkUS Fall (WA Term 1 equivalent)Pre-Primary (US Kindergarten)BenchmarkTerm 4",{"$f":"'Drop Downs'!$A$15","v":"More schooling:  student might be below BM"}]
["Pre-Primary (US Kindergarten)BenchmarkTerm 4",{"$f":"$A$4&$B$2&$D$3","v":"Year 1 (US Grade 1)BenchmarkUS Winter (WA Term 2 equivalent)"},"Year 1 (US Grade 1)BenchmarkUS Winter (WA Term 2 equivalent)Pre-Primary (US Kindergarten)BenchmarkTerm 4",{"$f":"'Drop Downs'!$A$15","v":"More schooling:  student might be below BM"}]
["Pre-Primary (US Kindergarten)BenchmarkTerm 4",{"$f":"$A$4&$B$2&$D$4","v":"Year 1 (US Grade 1)BenchmarkUS Spring (WA Term 3 equivalent)"},"Year 1 (US Grade 1)BenchmarkUS Spring (WA Term 3 equivalent)Pre-Primary (US Kindergarten)BenchmarkTerm 4",{"$f":"'Drop Downs'!$A$15","v":"More schooling:  student might be below BM"}]
["Pre-Primary (US Kindergarten)BenchmarkTerm 4",{"$f":"$A$4&$B$2&$D$5","v":"Year 1 (US Grade 1)BenchmarkUS Summer (WA Term 4 equivalent)"},"Year 1 (US Grade 1)BenchmarkUS Summer (WA Term 4 equivalent)Pre-Primary (US Kindergarten)BenchmarkTerm 4",{"$f":"'Drop Downs'!$A$15","v":"More schooling:  student might be below BM"}]
["Pre-Primary (US Kindergarten)BenchmarkTerm 4",{"$f":"$A$5&$B$2&$D$2","v":"Year 2 (US Grade 2)BenchmarkUS Fall (WA Term 1 equivalent)"},"Year 2 (US Grade 2)BenchmarkUS Fall (WA Term 1 equivalent)Pre-Primary (US Kindergarten)BenchmarkTerm 4",{"$f":"'Drop Downs'!$A$15","v":"More schooling:  student might be below BM"}]
["Pre-Primary (US Kindergarten)BenchmarkTerm 4",{"$f":"$A$5&$B$2&$D$3","v":"Year 2 (US Grade 2)BenchmarkUS Winter (WA Term 2 equivalent)"},"Year 2 (US Grade 2)BenchmarkUS Winter (WA Term 2 equivalent)Pre-Primary (US Kindergarten)BenchmarkTerm 4",{"$f":"'Drop Downs'!$A$15","v":"More schooling:  student might be below BM"}]
["Pre-Primary (US Kindergarten)BenchmarkTerm 4",{"$f":"$A$5&$B$2&$D$4","v":"Year 2 (US Grade 2)BenchmarkUS Spring (WA Term 3 equivalent)"},"Year 2 (US Grade 2)BenchmarkUS Spring (WA Term 3 equivalent)Pre-Primary (US Kindergarten)BenchmarkTerm 4",{"$f":"'Drop Downs'!$A$15","v":"More schooling:  student might be below BM"}]
["Pre-Primary (US Kindergarten)BenchmarkTerm 4",{"$f":"$A$5&$B$2&$D$5","v":"Year 2 (US Grade 2)BenchmarkUS Summer (WA Term 4 equivalent)"},"Year 2 (US Grade 2)BenchmarkUS Summer (WA Term 4 equivalent)Pre-Primary (US Kindergarten)BenchmarkTerm 4",{"$f":"'Drop Downs'!$A$15","v":"More schooling:  student might be below BM"}]
["Pre-Primary (US Kindergarten)BenchmarkTerm 4",{"$f":"$A$6&$B$2&$D$2","v":"Year 3 (US Grade 3)BenchmarkUS Fall (WA Term 1 equivalent)"},"Year 3 (US Grade 3)BenchmarkUS Fall (WA Term 1 equivalent)Pre-Primary (US Kindergarten)BenchmarkTerm 4",{"$f":"'Drop Downs'!$A$15","v":"More schooling:  student might be below BM"}]
["Pre-Primary (US Kindergarten)BenchmarkTerm 4",{"$f":"$A$6&$B$2&$D$3","v":"Year 3 (US Grade 3)BenchmarkUS Winter (WA Term 2 equivalent)"},"Year 3 (US Grade 3)BenchmarkUS Winter (WA Term 2 equivalent)Pre-Primary (US Kindergarten)BenchmarkTerm 4",{"$f":"'Drop Downs'!$A$15","v":"More schooling:  student might be below BM"}]
["Pre-Primary (US Kindergarten)BenchmarkTerm 4",{"$f":"$A$6&$B$2&$D$4","v":"Year 3 (US Grade 3)BenchmarkUS Spring (WA Term 3 equivalent)"},"Year 3 (US Grade 3)BenchmarkUS Spring (WA Term 3 equivalent)Pre-Primary (US Kindergarten)BenchmarkTerm 4",{"$f":"'Drop Downs'!$A$15","v":"More schooling:  student might be below BM"}]
["Pre-Primary (US Kindergarten)BenchmarkTerm 4",{"$f":"$A$6&$B$2&$D$5","v":"Year 3 (US Grade 3)BenchmarkUS Summer (WA Term 4 equivalent)"},"Year 3 (US Grade 3)BenchmarkUS Summer (WA Term 4 equivalent)Pre-Primary (US Kindergarten)BenchmarkTerm 4",{"$f":"'Drop Downs'!$A$15","v":"More schooling:  student might be below BM"}]
[{"$f":"$A$4&$B$2&$F$2","v":"Year 1 (US Grade 1)BenchmarkTerm 1"},{"$f":"$A$2&$B$2&$D$2","v":"Kindy (US Preschool)BenchmarkUS Fall (WA Term 1 equivalent)"},"Kindy (US Preschool)BenchmarkUS Fall (WA Term 1 equivalent)Year 1 (US Grade 1)BenchmarkTerm 1",{"$f":"'Drop Downs'!$A$14","v":"Less schooling: student should do well"}]
["Year 1 (US Grade 1)BenchmarkTerm 1",{"$f":"$A$2&$B$2&$D$3","v":"Kindy (US Preschool)BenchmarkUS Winter (WA Term 2 equivalent)"},"Kindy (US Preschool)BenchmarkUS Winter (WA Term 2 equivalent)Year 1 (US Grade 1)BenchmarkTerm 1",{"$f":"'Drop Downs'!$A$14","v":"Less schooling: student should do well"}]
["Year 1 (US Grade 1)BenchmarkTerm 1",{"$f":"$A$2&$B$2&$D$4","v":"Kindy (US Preschool)BenchmarkUS Spring (WA Term 3 equivalent)"},"Kindy (US Preschool)BenchmarkUS Spring (WA Term 3 equivalent)Year 1 (US Grade 1)BenchmarkTerm 1",{"$f":"'Drop Downs'!$A$14","v":"Less schooling: student should do well"}]
["Year 1 (US Grade 1)BenchmarkTerm 1",{"$f":"$A$2&$B$2&$D$5","v":"Kindy (US Preschool)BenchmarkUS Summer (WA Term 4 equivalent)"},"Kindy (US Preschool)BenchmarkUS Summer (WA Term 4 equivalent)Year 1 (US Grade 1)BenchmarkTerm 1",{"$f":"'Drop Downs'!$A$14","v":"Less schooling: student should do well"}]
["Year 1 (US Grade 1)BenchmarkTerm 1",{"$f":"$A$3&$B$2&$D$2","v":"Pre-Primary (US Kindergarten)BenchmarkUS Fall (WA Term 1 equivalent)"},"Pre-Primary (US Kindergarten)BenchmarkUS Fall (WA Term 1 equivalent)Year 1 (US Grade 1)BenchmarkTerm 1",{"$f":"'Drop Downs'!$A$14","v":"Less schooling: student should do well"}]
["Year 1 (US Grade 1)BenchmarkTerm 1",{"$f":"$A$3&$B$2&$D$3","v":"Pre-Primary (US Kindergarten)BenchmarkUS Winter (WA Term 2 equivalent)"},"Pre-Primary (US Kindergarten)BenchmarkUS Winter (WA Term 2 equivalent)Year 1 (US Grade 1)BenchmarkTerm 1",{"$f":"'Drop Downs'!$A$14","v":"Less schooling: student should do well"}]
["Year 1 (US Grade 1)BenchmarkTerm 1",{"$f":"$A$3&$B$2&$D$4","v":"Pre-Primary (US Kindergarten)BenchmarkUS Spring (WA Term 3 equivalent)"},"Pre-Primary (US Kindergarten)BenchmarkUS Spring (WA Term 3 equivalent)Year 1 (US Grade 1)BenchmarkTerm 1",{"$f":"'Drop Downs'!$A$14","v":"Less schooling: student should do well"}]
["Year 1 (US Grade 1)BenchmarkTerm 1",{"$f":"$A$3&$B$2&$D$5","v":"Pre-Primary (US Kindergarten)BenchmarkUS Summer (WA Term 4 equivalent)"},"Pre-Primary (US Kindergarten)BenchmarkUS Summer (WA Term 4 equivalent)Year 1 (US Grade 1)BenchmarkTerm 1",{"$f":"'Drop Downs'!$A$14","v":"Less schooling: student should do well"}]
[{"$f":"$A$4&$B$2&$F$2","v":"Year 1 (US Grade 1)BenchmarkTerm 1"},{"$f":"$A$4&$B$2&$D$2","v":"Year 1 (US Grade 1)BenchmarkUS Fall (WA Term 1 equivalent)"},"Year 1 (US Grade 1)BenchmarkUS Fall (WA Term 1 equivalent)Year 1 (US Grade 1)BenchmarkTerm 1",{"$f":"'Drop Downs'!$A$13","v":"The same amount of schooling (on level)"}]
[{"$f":"$A$4&$B$2&$F$2","v":"Year 1 (US Grade 1)BenchmarkTerm 1"},{"$f":"$A$4&$B$2&$D$3","v":"Year 1 (US Grade 1)BenchmarkUS Winter (WA Term 2 equivalent)"},"Year 1 (US Grade 1)BenchmarkUS Winter (WA Term 2 equivalent)Year 1 (US Grade 1)BenchmarkTerm 1",{"$f":"'Drop Downs'!$A$15","v":"More schooling:  student might be below BM"}]
["Year 1 (US Grade 1)BenchmarkTerm 1",{"$f":"$A$4&$B$2&$D$4","v":"Year 1 (US Grade 1)BenchmarkUS Spring (WA Term 3 equivalent)"},"Year 1 (US Grade 1)BenchmarkUS Spring (WA Term 3 equivalent)Year 1 (US Grade 1)BenchmarkTerm 1",{"$f":"'Drop Downs'!$A$15","v":"More schooling:  student might be below BM"}]
["Year 1 (US Grade 1)BenchmarkTerm 1",{"$f":"$A$4&$B$2&$D$5","v":"Year 1 (US Grade 1)BenchmarkUS Summer (WA Term 4 equivalent)"},"Year 1 (US Grade 1)BenchmarkUS Summer (WA Term 4 equivalent)Year 1 (US Grade 1)BenchmarkTerm 1",{"$f":"'Drop Downs'!$A$15","v":"More schooling:  student might be below BM"}]
["Year 1 (US Grade 1)BenchmarkTerm 1",{"$f":"$A$5&$B$2&$D$2","v":"Year 2 (US Grade 2)BenchmarkUS Fall (WA Term 1 equivalent)"},"Year 2 (US Grade 2)BenchmarkUS Fall (WA Term 1 equivalent)Year 1 (US Grade 1)BenchmarkTerm 1",{"$f":"'Drop Downs'!$A$15","v":"More schooling:  student might be below BM"}]
["Year 1 (US Grade 1)BenchmarkTerm 1",{"$f":"$A$5&$B$2&$D$3","v":"Year 2 (US Grade 2)BenchmarkUS Winter (WA Term 2 equivalent)"},"Year 2 (US Grade 2)BenchmarkUS Winter (WA Term 2 equivalent)Year 1 (US Grade 1)BenchmarkTerm 1",{"$f":"'Drop Downs'!$A$15","v":"More schooling:  student might be below BM"}]
["Year 1 (US Grade 1)BenchmarkTerm 1",{"$f":"$A$5&$B$2&$D$4","v":"Year 2 (US Grade 2)BenchmarkUS Spring (WA Term 3 equivalent)"},"Year 2 (US Grade 2)BenchmarkUS Spring (WA Term 3 equivalent)Year 1 (US Grade 1)BenchmarkTerm 1",{"$f":"'Drop Downs'!$A$15","v":"More schooling:  student might be below BM"}]
["Year 1 (US Grade 1)BenchmarkTerm 1",{"$f":"$A$5&$B$2&$D$5","v":"Year 2 (US Grade 2)BenchmarkUS Summer (WA Term 4 equivalent)"},"Year 2 (US Grade 2)BenchmarkUS Summer (WA Term 4 equivalent)Year 1 (US Grade 1)BenchmarkTerm 1",{"$f":"'Drop Downs'!$A$15","v":"More schooling:  student might be below BM"}]
["Year 1 (US Grade 1)BenchmarkTerm 1",{"$f":"$A$6&$B$2&$D$2","v":"Year 3 (US Grade 3)BenchmarkUS Fall (WA Term 1 equivalent)"},"Year 3 (US Grade 3)BenchmarkUS Fall (WA Term 1 equivalent)Year 1 (US Grade 1)BenchmarkTerm 1",{"$f":"'Drop Downs'!$A$15","v":"More schooling:  student might be below BM"}]
["Year 1 (US Grade 1)BenchmarkTerm 1",{"$f":"$A$6&$B$2&$D$3","v":"Year 3 (US Grade 3)BenchmarkUS Winter (WA Term 2 equivalent)"},"Year 3 (US Grade 3)BenchmarkUS Winter (WA Term 2 equivalent)Year 1 (US Grade 1)BenchmarkTerm 1",{"$f":"'Drop Downs'!$A$15","v":"More schooling:  student might be below BM"}]
["Year 1 (US Grade 1)BenchmarkTerm 1",{"$f":"$A$6&$B$2&$D$4","v":"Year 3 (US Grade 3)BenchmarkUS Spring (WA Term 3 equivalent)"},"Year 3 (US Grade 3)BenchmarkUS Spring (WA Term 3 equivalent)Year 1 (US Grade 1)BenchmarkTerm 1",{"$f":"'Drop Downs'!$A$15","v":"More schooling:  student might be below BM"}]
["Year 1 (US Grade 1)BenchmarkTerm 1",{"$f":"$A$6&$B$2&$D$5","v":"Year 3 (US Grade 3)BenchmarkUS Summer (WA Term 4 equivalent)"},"Year 3 (US Grade 3)BenchmarkUS Summer (WA Term 4 equivalent)Year 1 (US Grade 1)BenchmarkTerm 1",{"$f":"'Drop Downs'!$A$15","v":"More schooling:  student might be below BM"}]
[{"$f":"$A$4&$B$2&$F$3","v":"Year 1 (US Grade 1)BenchmarkTerm 2"},{"$f":"$A$2&$B$2&$D$2","v":"Kindy (US Preschool)BenchmarkUS Fall (WA Term 1 equivalent)"},"Kindy (US Preschool)BenchmarkUS Fall (WA Term 1 equivalent)Year 1 (US Grade 1)BenchmarkTerm 2",{"$f":"'Drop Downs'!$A$14","v":"Less schooling: student should do well"}]
["Year 1 (US Grade 1)BenchmarkTerm 2",{"$f":"$A$2&$B$2&$D$3","v":"Kindy (US Preschool)BenchmarkUS Winter (WA Term 2 equivalent)"},"Kindy (US Preschool)BenchmarkUS Winter (WA Term 2 equivalent)Year 1 (US Grade 1)BenchmarkTerm 2",{"$f":"'Drop Downs'!$A$14","v":"Less schooling: student should do well"}]
["Year 1 (US Grade 1)BenchmarkTerm 2",{"$f":"$A$2&$B$2&$D$4","v":"Kindy (US Preschool)BenchmarkUS Spring (WA Term 3 equivalent)"},"Kindy (US Preschool)BenchmarkUS Spring (WA Term 3 equivalent)Year 1 (US Grade 1)BenchmarkTerm 2",{"$f":"'Drop Downs'!$A$14","v":"Less schooling: student should do well"}]
["Year 1 (US Grade 1)BenchmarkTerm 2",{"$f":"$A$2&$B$2&$D$5","v":"Kindy (US Preschool)BenchmarkUS Summer (WA Term 4 equivalent)"},"Kindy (US Preschool)BenchmarkUS Summer (WA Term 4 equivalent)Year 1 (US Grade 1)BenchmarkTerm 2",{"$f":"'Drop Downs'!$A$14","v":"Less schooling: student should do well"}]
["Year 1 (US Grade 1)BenchmarkTerm 2",{"$f":"$A$3&$B$2&$D$2","v":"Pre-Primary (US Kindergarten)BenchmarkUS Fall (WA Term 1 equivalent)"},"Pre-Primary (US Kindergarten)BenchmarkUS Fall (WA Term 1 equivalent)Year 1 (US Grade 1)BenchmarkTerm 2",{"$f":"'Drop Downs'!$A$14","v":"Less schooling: student should do well"}]
["Year 1 (US Grade 1)BenchmarkTerm 2",{"$f":"$A$3&$B$2&$D$3","v":"Pre-Primary (US Kindergarten)BenchmarkUS Winter (WA Term 2 equivalent)"},"Pre-Primary (US Kindergarten)BenchmarkUS Winter (WA Term 2 equivalent)Year 1 (US Grade 1)BenchmarkTerm 2",{"$f":"'Drop Downs'!$A$14","v":"Less schooling: student should do well"}]
["Year 1 (US Grade 1)BenchmarkTerm 2",{"$f":"$A$3&$B$2&$D$4","v":"Pre-Primary (US Kindergarten)BenchmarkUS Spring (WA Term 3 equivalent)"},"Pre-Primary (US Kindergarten)BenchmarkUS Spring (WA Term 3 equivalent)Year 1 (US Grade 1)BenchmarkTerm 2",{"$f":"'Drop Downs'!$A$14","v":"Less schooling: student should do well"}]
["Year 1 (US Grade 1)BenchmarkTerm 2",{"$f":"$A$3&$B$2&$D$5","v":"Pre-Primary (US Kindergarten)BenchmarkUS Summer (WA Term 4 equivalent)"},"Pre-Primary (US Kindergarten)BenchmarkUS Summer (WA Term 4 equivalent)Year 1 (US Grade 1)BenchmarkTerm 2",{"$f":"'Drop Downs'!$A$14","v":"Less schooling: student should do well"}]
["Year 1 (US Grade 1)BenchmarkTerm 2",{"$f":"$A$4&$B$2&$D$2","v":"Year 1 (US Grade 1)BenchmarkUS Fall (WA Term 1 equivalent)"},"Year 1 (US Grade 1)BenchmarkUS Fall (WA Term 1 equivalent)Year 1 (US Grade 1)BenchmarkTerm 2",{"$f":"'Drop Downs'!$A$14","v":"Less schooling: student should do well"}]
[{"$f":"$A$4&$B$2&$F$3","v":"Year 1 (US Grade 1)BenchmarkTerm 2"},{"$f":"$A$4&$B$2&$D$3","v":"Year 1 (US Grade 1)BenchmarkUS Winter (WA Term 2 equivalent)"},"Year 1 (US Grade 1)BenchmarkUS Winter (WA Term 2 equivalent)Year 1 (US Grade 1)BenchmarkTerm 2",{"$f":"'Drop Downs'!$A$13","v":"The same amount of schooling (on level)"}]
[{"$f":"$A$4&$B$2&$F$3","v":"Year 1 (US Grade 1)BenchmarkTerm 2"},{"$f":"$A$4&$B$2&$D$4","v":"Year 1 (US Grade 1)BenchmarkUS Spring (WA Term 3 equivalent)"},"Year 1 (US Grade 1)BenchmarkUS Spring (WA Term 3 equivalent)Year 1 (US Grade 1)BenchmarkTerm 2",{"$f":"'Drop Downs'!$A$15","v":"More schooling:  student might be below BM"}]
["Year 1 (US Grade 1)BenchmarkTerm 2",{"$f":"$A$4&$B$2&$D$5","v":"Year 1 (US Grade 1)BenchmarkUS Summer (WA Term 4 equivalent)"},"Year 1 (US Grade 1)BenchmarkUS Summer (WA Term 4 equivalent)Year 1 (US Grade 1)BenchmarkTerm 2",{"$f":"'Drop Downs'!$A$15","v":"More schooling:  student might be below BM"}]
["Year 1 (US Grade 1)BenchmarkTerm 2",{"$f":"$A$5&$B$2&$D$2","v":"Year 2 (US Grade 2)BenchmarkUS Fall (WA Term 1 equivalent)"},"Year 2 (US Grade 2)BenchmarkUS Fall (WA Term 1 equivalent)Year 1 (US Grade 1)BenchmarkTerm 2",{"$f":"'Drop Downs'!$A$15","v":"More schooling:  student might be below BM"}]
["Year 1 (US Grade 1)BenchmarkTerm 2",{"$f":"$A$5&$B$2&$D$3","v":"Year 2 (US Grade 2)BenchmarkUS Winter (WA Term 2 equivalent)"},{"$f":"B203&A203","v":"Year 2 (US Grade 2)BenchmarkUS Winter (WA Term 2 equivalent)Year 1 (US Grade 1)BenchmarkTerm 2"},{"$f":"'Drop Downs'!$A$15","v":"More schooling:  student might be below BM"}]
["Year 1 (US Grade 1)BenchmarkTerm 2",{"$f":"$A$5&$B$2&$D$4","v":"Year 2 (US Grade 2)BenchmarkUS Spring (WA Term 3 equivalent)"},"Year 2 (US Grade 2)BenchmarkUS Spring (WA Term 3 equivalent)Year 1 (US Grade 1)BenchmarkTerm 2",{"$f":"'Drop Downs'!$A$15","v":"More schooling:  student might be below BM"}]
["Year 1 (US Grade 1)BenchmarkTerm 2",{"$f":"$A$5&$B$2&$D$5","v":"Year 2 (US Grade 2)BenchmarkUS Summer (WA Term 4 equivalent)"},"Year 2 (US Grade 2)BenchmarkUS Summer (WA Term 4 equivalent)Year 1 (US Grade 1)BenchmarkTerm 2",{"$f":"'Drop Downs'!$A$15","v":"More schooling:  student might be below BM"}]
["Year 1 (US Grade 1)BenchmarkTerm 2",{"$f":"$A$6&$B$2&$D$2","v":"Year 3 (US Grade 3)BenchmarkUS Fall (WA Term 1 equivalent)"},"Year 3 (US Grade 3)BenchmarkUS Fall (WA Term 1 equivalent)Year 1 (US Grade 1)BenchmarkTerm 2",{"$f":"'Drop Downs'!$A$15","v":"More schooling:  student might be below BM"}]
["Year 1 (US Grade 1)BenchmarkTerm 2",{"$f":"$A$6&$B$2&$D$3","v":"Year 3 (US Grade 3)BenchmarkUS Winter (WA Term 2 equivalent)"},"Year 3 (US Grade 3)BenchmarkUS Winter (WA Term 2 equivalent)Year 1 (US Grade 1)BenchmarkTerm 2",{"$f":"'Drop Downs'!$A$15","v":"More schooling:  student might be below BM"}]
["Year 1 (US Grade 1)BenchmarkTerm 2",{"$f":"$A$6&$B$2&$D$4","v":"Year 3 (US Grade 3)BenchmarkUS Spring (WA Term 3 equivalent)"},"Year 3 (US Grade 3)BenchmarkUS Spring (WA Term 3 equivalent)Year 1 (US Grade 1)BenchmarkTerm 2",{"$f":"'Drop Downs'!$A$15","v":"More schooling:  student might be below BM"}]
["Year 1 (US Grade 1)BenchmarkTerm 2",{"$f":"$A$6&$B$2&$D$5","v":"Year 3 (US Grade 3)BenchmarkUS Summer (WA Term 4 equivalent)"},"Year 3 (US Grade 3)BenchmarkUS Summer (WA Term 4 equivalent)Year 1 (US Grade 1)BenchmarkTerm 2",{"$f":"'Drop Downs'!$A$15","v":"More schooling:  student might be below BM"}]
[{"$f":"$A$4&$B$2&$F$4","v":"Year 1 (US Grade 1)BenchmarkTerm 3"},{"$f":"$A$2&$B$2&$D$2","v":"Kindy (US Preschool)BenchmarkUS Fall (WA Term 1 equivalent)"},"Kindy (US Preschool)BenchmarkUS Fall (WA Term 1 equivalent)Year 1 (US Grade 1)BenchmarkTerm 3",{"$f":"'Drop Downs'!$A$14","v":"Less schooling: student should do well"}]
["Year 1 (US Grade 1)BenchmarkTerm 3",{"$f":"$A$2&$B$2&$D$3","v":"Kindy (US Preschool)BenchmarkUS Winter (WA Term 2 equivalent)"},"Kindy (US Preschool)BenchmarkUS Winter (WA Term 2 equivalent)Year 1 (US Grade 1)BenchmarkTerm 3",{"$f":"'Drop Downs'!$A$14","v":"Less schooling: student should do well"}]
["Year 1 (US Grade 1)BenchmarkTerm 3",{"$f":"$A$2&$B$2&$D$4","v":"Kindy (US Preschool)BenchmarkUS Spring (WA Term 3 equivalent)"},"Kindy (US Preschool)BenchmarkUS Spring (WA Term 3 equivalent)Year 1 (US Grade 1)BenchmarkTerm 3",{"$f":"'Drop Downs'!$A$14","v":"Less schooling: student should do well"}]
["Year 1 (US Grade 1)BenchmarkTerm 3",{"$f":"$A$2&$B$2&$D$5","v":"Kindy (US Preschool)BenchmarkUS Summer (WA Term 4 equivalent)"},"Kindy (US Preschool)BenchmarkUS Summer (WA Term 4 equivalent)Year 1 (US Grade 1)BenchmarkTerm 3",{"$f":"'Drop Downs'!$A$14","v":"Less schooling: student should do well"}]
["Year 1 (US Grade 1)BenchmarkTerm 3",{"$f":"$A$3&$B$2&$D$2","v":"Pre-Primary (US Kindergarten)BenchmarkUS Fall (WA Term 1 equivalent)"},"Pre-Primary (US Kindergarten)BenchmarkUS Fall (WA Term 1 equivalent)Year 1 (US Grade 1)BenchmarkTerm 3",{"$f":"'Drop Downs'!$A$14","v":"Less schooling: student should do well"}]
["Year 1 (US Grade 1)BenchmarkTerm 3",{"$f":"$A$3&$B$2&$D$3","v":"Pre-Primary (US Kindergarten)BenchmarkUS Winter (WA Term 2 equivalent)"},"Pre-Primary (US Kindergarten)BenchmarkUS Winter (WA Term 2 equivalent)Year 1 (US Grade 1)BenchmarkTerm 3",{"$f":"'Drop Downs'!$A$14","v":"Less schooling: student should do well"}]
["Year 1 (US Grade 1)BenchmarkTerm 3",{"$f":"$A$3&$B$2&$D$4","v":"Pre-Primary (US Kindergarten)BenchmarkUS Spring (WA Term 3 equivalent)"},"Pre-Primary (US Kindergarten)BenchmarkUS Spring (WA Term 3 equivalent)Year 1 (US Grade 1)BenchmarkTerm 3",{"$f":"'Drop Downs'!$A$14","v":"Less schooling: student should do well"}]
["Year 1 (US Grade 1)BenchmarkTerm 3",{"$f":"$A$3&$B$2&$D$5","v":"Pre-Primary (US Kindergarten)BenchmarkUS Summer (WA Term 4 equivalent)"},"Pre-Primary (US Kindergarten)BenchmarkUS Summer (WA Term 4 equivalent)Year 1 (US Grade 1)BenchmarkTerm 3",{"$f":"'Drop Downs'!$A$14","v":"Less schooling: student should do well"}]
["Year 1 (US Grade 1)BenchmarkTerm 3",{"$f":"$A$4&$B$2&$D$2","v":"Year 1 (US Grade 1)BenchmarkUS Fall (WA Term 1 equivalent)"},"Year 1 (US Grade 1)BenchmarkUS Fall (WA Term 1 equivalent)Year 1 (US Grade 1)BenchmarkTerm 3",{"$f":"'Drop Downs'!$A$14","v":"Less schooling: student should do well"}]
["Year 1 (US Grade 1)BenchmarkTerm 3",{"$f":"$A$4&$B$2&$D$3","v":"Year 1 (US Grade 1)BenchmarkUS Winter (WA Term 2 equivalent)"},"Year 1 (US Grade 1)BenchmarkUS Winter (WA Term 2 equivalent)Year 1 (US Grade 1)BenchmarkTerm 3",{"$f":"'Drop Downs'!$A$14","v":"Less schooling: student should do well"}]
[{"$f":"$A$4&$B$2&$F$4","v":"Year 1 (US Grade 1)BenchmarkTerm 3"},{"$f":"$A$4&$B$2&$D$4","v":"Year 1 (US Grade 1)BenchmarkUS Spring (WA Term 3 equivalent)"},"Year 1 (US Grade 1)BenchmarkUS Spring (WA Term 3 equivalent)Year 1 (US Grade 1)BenchmarkTerm 3",{"$f":"'Drop Downs'!$A$13","v":"The same amount of schooling (on level)"}]
[{"$f":"$A$4&$B$2&$F$4","v":"Year 1 (US Grade 1)BenchmarkTerm 3"},{"$f":"$A$4&$B$2&$D$5","v":"Year 1 (US Grade 1)BenchmarkUS Summer (WA Term 4 equivalent)"},"Year 1 (US Grade 1)BenchmarkUS Summer (WA Term 4 equivalent)Year 1 (US Grade 1)BenchmarkTerm 3",{"$f":"'Drop Downs'!$A$15","v":"More schooling:  student might be below BM"}]
["Year 1 (US Grade 1)BenchmarkTerm 3",{"$f":"$A$5&$B$2&$D$2","v":"Year 2 (US Grade 2)BenchmarkUS Fall (WA Term 1 equivalent)"},"Year 2 (US Grade 2)BenchmarkUS Fall (WA Term 1 equivalent)Year 1 (US Grade 1)BenchmarkTerm 3",{"$f":"'Drop Downs'!$A$15","v":"More schooling:  student might be below BM"}]
["Year 1 (US Grade 1)BenchmarkTerm 3",{"$f":"$A$5&$B$2&$D$3","v":"Year 2 (US Grade 2)BenchmarkUS Winter (WA Term 2 equivalent)"},"Year 2 (US Grade 2)BenchmarkUS Winter (WA Term 2 equivalent)Year 1 (US Grade 1)BenchmarkTerm 3",{"$f":"'Drop Downs'!$A$15","v":"More schooling:  student might be below BM"}]
["Year 1 (US Grade 1)BenchmarkTerm 3",{"$f":"$A$5&$B$2&$D$4","v":"Year 2 (US Grade 2)BenchmarkUS Spring (WA Term 3 equivalent)"},"Year 2 (US Grade 2)BenchmarkUS Spring (WA Term 3 equivalent)Year 1 (US Grade 1)BenchmarkTerm 3",{"$f":"'Drop Downs'!$A$15","v":"More schooling:  student might be below BM"}]
["Year 1 (US Grade 1)BenchmarkTerm 3",{"$f":"$A$5&$B$2&$D$5","v":"Year 2 (US Grade 2)BenchmarkUS Summer (WA Term 4 equivalent)"},"Year 2 (US Grade 2)BenchmarkUS Summer (WA Term 4 equivalent)Year 1 (US Grade 1)BenchmarkTerm 3",{"$f":"'Drop Downs'!$A$15","v":"More schooling:  student might be below BM"}]
["Year 1 (US Grade 1)BenchmarkTerm 3",{"$f":"$A$6&$B$2&$D$2","v":"Year 3 (US Grade 3)BenchmarkUS Fall (WA Term 1 equivalent)"},"Year 3 (US Grade 3)BenchmarkUS Fall (WA Term 1 equivalent)Year 1 (US Grade 1)BenchmarkTerm 3",{"$f":"'Drop Downs'!$A$15","v":"More schooling:  student might be below BM"}]
["Year 1 (US Grade 1)BenchmarkTerm 3",{"$f":"$A$6&$B$2&$D$3","v":"Year 3 (US Grade 3)BenchmarkUS Winter (WA Term 2 equivalent)"},"Year 3 (US Grade 3)BenchmarkUS Winter (WA Term 2 equivalent)Year 1 (US Grade 1)BenchmarkTerm 3",{"$f":"'Drop Downs'!$A$15","v":"More schooling:  student might be below BM"}]
["Year 1 (US Grade 1)BenchmarkTerm 3",{"$f":"$A$6&$B$2&$D$4","v":"Year 3 (US Grade 3)BenchmarkUS Spring (WA Term 3 equivalent)"},"Year 3 (US Grade 3)BenchmarkUS Spring (WA Term 3 equivalent)Year 1 (US Grade 1)BenchmarkTerm 3",{"$f":"'Drop Downs'!$A$15","v":"More schooling:  student might be below BM"}]
["Year 1 (US Grade 1)BenchmarkTerm 3",{"$f":"$A$6&$B$2&$D$5","v":"Year 3 (US Grade 3)BenchmarkUS Summer (WA Term 4 equivalent)"},"Year 3 (US Grade 3)BenchmarkUS Summer (WA Term 4 equivalent)Year 1 (US Grade 1)BenchmarkTerm 3",{"$f":"'Drop Downs'!$A$15","v":"More schooling:  student might be below BM"}]
[{"$f":"$A$4&$B$2&$F$5","v":"Year 1 (US Grade 1)BenchmarkTerm 4"},{"$f":"$A$2&$B$2&$D$2","v":"Kindy (US Preschool)BenchmarkUS Fall (WA Term 1 equivalent)"},"Kindy (US Preschool)BenchmarkUS Fall (WA Term 1 equivalent)Year 1 (US Grade 1)BenchmarkTerm 4",{"$f":"'Drop Downs'!$A$14","v":"Less schooling: student should do well"}]
["Year 1 (US Grade 1)BenchmarkTerm 4",{"$f":"$A$2&$B$2&$D$3","v":"Kindy (US Preschool)BenchmarkUS Winter (WA Term 2 equivalent)"},"Kindy (US Preschool)BenchmarkUS Winter (WA Term 2 equivalent)Year 1 (US Grade 1)BenchmarkTerm 4",{"$f":"'Drop Downs'!$A$14","v":"Less schooling: student should do well"}]
["Year 1 (US Grade 1)BenchmarkTerm 4",{"$f":"$A$2&$B$2&$D$4","v":"Kindy (US Preschool)BenchmarkUS Spring (WA Term 3 equivalent)"},"Kindy (US Preschool)BenchmarkUS Spring (WA Term 3 equivalent)Year 1 (US Grade 1)BenchmarkTerm 4",{"$f":"'Drop Downs'!$A$14","v":"Less schooling: student should do well"}]
["Year 1 (US Grade 1)BenchmarkTerm 4",{"$f":"$A$2&$B$2&$D$5","v":"Kindy (US Preschool)BenchmarkUS Summer (WA Term 4 equivalent)"},"Kindy (US Preschool)BenchmarkUS Summer (WA Term 4 equivalent)Year 1 (US Grade 1)BenchmarkTerm 4",{"$f":"'Drop Downs'!$A$14","v":"Less schooling: student should do well"}]
["Year 1 (US Grade 1)BenchmarkTerm 4",{"$f":"$A$3&$B$2&$D$2","v":"Pre-Primary (US Kindergarten)BenchmarkUS Fall (WA Term 1 equivalent)"},"Pre-Primary (US Kindergarten)BenchmarkUS Fall (WA Term 1 equivalent)Year 1 (US Grade 1)BenchmarkTerm 4",{"$f":"'Drop Downs'!$A$14","v":"Less schooling: student should do well"}]
["Year 1 (US Grade 1)BenchmarkTerm 4",{"$f":"$A$3&$B$2&$D$3","v":"Pre-Primary (US Kindergarten)BenchmarkUS Winter (WA Term 2 equivalent)"},"Pre-Primary (US Kindergarten)BenchmarkUS Winter (WA Term 2 equivalent)Year 1 (US Grade 1)BenchmarkTerm 4",{"$f":"'Drop Downs'!$A$14","v":"Less schooling: student should do well"}]
["Year 1 (US Grade 1)BenchmarkTerm 4",{"$f":"$A$3&$B$2&$D$4","v":"Pre-Primary (US Kindergarten)BenchmarkUS Spring (WA Term 3 equivalent)"},"Pre-Primary (US Kindergarten)BenchmarkUS Spring (WA Term 3 equivalent)Year 1 (US Grade 1)BenchmarkTerm 4",{"$f":"'Drop Downs'!$A$14","v":"Less schooling: student should do well"}]
["Year 1 (US Grade 1)BenchmarkTerm 4",{"$f":"$A$3&$B$2&$D$5","v":"Pre-Primary (US Kindergarten)BenchmarkUS Summer (WA Term 4 equivalent)"},"Pre-Primary (US Kindergarten)BenchmarkUS Summer (WA Term 4 equivalent)Year 1 (US Grade 1)BenchmarkTerm 4",{"$f":"'Drop Downs'!$A$14","v":"Less schooling: student should do well"}]
["Year 1 (US Grade 1)BenchmarkTerm 4",{"$f":"$A$4&$B$2&$D$2","v":"Year 1 (US Grade 1)BenchmarkUS Fall (WA Term 1 equivalent)"},"Year 1 (US Grade 1)BenchmarkUS Fall (WA Term 1 equivalent)Year 1 (US Grade 1)BenchmarkTerm 4",{"$f":"'Drop Downs'!$A$14","v":"Less schooling: student should do well"}]
["Year 1 (US Grade 1)BenchmarkTerm 4",{"$f":"$A$4&$B$2&$D$3","v":"Year 1 (US Grade 1)BenchmarkUS Winter (WA Term 2 equivalent)"},"Year 1 (US Grade 1)BenchmarkUS Winter (WA Term 2 equivalent)Year 1 (US Grade 1)BenchmarkTerm 4",{"$f":"'Drop Downs'!$A$14","v":"Less schooling: student should do well"}]
["Year 1 (US Grade 1)BenchmarkTerm 4",{"$f":"$A$4&$B$2&$D$4","v":"Year 1 (US Grade 1)BenchmarkUS Spring (WA Term 3 equivalent)"},"Year 1 (US Grade 1)BenchmarkUS Spring (WA Term 3 equivalent)Year 1 (US Grade 1)BenchmarkTerm 4",{"$f":"'Drop Downs'!$A$14","v":"Less schooling: student should do well"}]
[{"$f":"$A$4&$B$2&$F$5","v":"Year 1 (US Grade 1)BenchmarkTerm 4"},{"$f":"$A$4&$B$2&$D$5","v":"Year 1 (US Grade 1)BenchmarkUS Summer (WA Term 4 equivalent)"},"Year 1 (US Grade 1)BenchmarkUS Summer (WA Term 4 equivalent)Year 1 (US Grade 1)BenchmarkTerm 4",{"$f":"'Drop Downs'!$A$13","v":"The same amount of schooling (on level)"}]
[{"$f":"$A$4&$B$2&$F$5","v":"Year 1 (US Grade 1)BenchmarkTerm 4"},{"$f":"$A$5&$B$2&$D$2","v":"Year 2 (US Grade 2)BenchmarkUS Fall (WA Term 1 equivalent)"},"Year 2 (US Grade 2)BenchmarkUS Fall (WA Term 1 equivalent)Year 1 (US Grade 1)BenchmarkTerm 4",{"$f":"'Drop Downs'!$A$15","v":"More schooling:  student might be below BM"}]
["Year 1 (US Grade 1)BenchmarkTerm 4",{"$f":"$A$5&$B$2&$D$3","v":"Year 2 (US Grade 2)BenchmarkUS Winter (WA Term 2 equivalent)"},"Year 2 (US Grade 2)BenchmarkUS Winter (WA Term 2 equivalent)Year 1 (US Grade 1)BenchmarkTerm 4",{"$f":"'Drop Downs'!$A$15","v":"More schooling:  student might be below BM"}]
["Year 1 (US Grade 1)BenchmarkTerm 4",{"$f":"$A$5&$B$2&$D$4","v":"Year 2 (US Grade 2)BenchmarkUS Spring (WA Term 3 equivalent)"},"Year 2 (US Grade 2)BenchmarkUS Spring (WA Term 3 equivalent)Year 1 (US Grade 1)BenchmarkTerm 4",{"$f":"'Drop Downs'!$A$15","v":"More schooling:  student might be below BM"}]
["Year 1 (US Grade 1)BenchmarkTerm 4",{"$f":"$A$5&$B$2&$D$5","v":"Year 2 (US Grade 2)BenchmarkUS Summer (WA Term 4 equivalent)"},"Year 2 (US Grade 2)BenchmarkUS Summer (WA Term 4 equivalent)Year 1 (US Grade 1)BenchmarkTerm 4",{"$f":"'Drop Downs'!$A$15","v":"More schooling:  student might be below BM"}]
["Year 1 (US Grade 1)BenchmarkTerm 4",{"$f":"$A$6&$B$2&$D$2","v":"Year 3 (US Grade 3)BenchmarkUS Fall (WA Term 1 equivalent)"},"Year 3 (US Grade 3)BenchmarkUS Fall (WA Term 1 equivalent)Year 1 (US Grade 1)BenchmarkTerm 4",{"$f":"'Drop Downs'!$A$15","v":"More schooling:  student might be below BM"}]
["Year 1 (US Grade 1)BenchmarkTerm 4",{"$f":"$A$6&$B$2&$D$3","v":"Year 3 (US Grade 3)BenchmarkUS Winter (WA Term 2 equivalent)"},"Year 3 (US Grade 3)BenchmarkUS Winter (WA Term 2 equivalent)Year 1 (US Grade 1)BenchmarkTerm 4",{"$f":"'Drop Downs'!$A$15","v":"More schooling:  student might be below BM"}]
["Year 1 (US Grade 1)BenchmarkTerm 4",{"$f":"$A$6&$B$2&$D$4","v":"Year 3 (US Grade 3)BenchmarkUS Spring (WA Term 3 equivalent)"},"Year 3 (US Grade 3)BenchmarkUS Spring (WA Term 3 equivalent)Year 1 (US Grade 1)BenchmarkTerm 4",{"$f":"'Drop Downs'!$A$15","v":"More schooling:  student might be below BM"}]
["Year 1 (US Grade 1)BenchmarkTerm 4",{"$f":"$A$6&$B$2&$D$5","v":"Year 3 (US Grade 3)BenchmarkUS Summer (WA Term 4 equivalent)"},"Year 3 (US Grade 3)BenchmarkUS Summer (WA Term 4 equivalent)Year 1 (US Grade 1)BenchmarkTerm 4",{"$f":"'Drop Downs'!$A$15","v":"More schooling:  student might be below BM"}]
[{"$f":"$A$5&$B$2&$F$2","v":"Year 2 (US Grade 2)BenchmarkTerm 1"},{"$f":"$A$2&$B$2&$D$2","v":"Kindy (US Preschool)BenchmarkUS Fall (WA Term 1 equivalent)"},"Kindy (US Preschool)BenchmarkUS Fall (WA Term 1 equivalent)Year 2 (US Grade 2)BenchmarkTerm 1",{"$f":"'Drop Downs'!$A$14","v":"Less schooling: student should do well"}]
["Year 2 (US Grade 2)BenchmarkTerm 1",{"$f":"$A$2&$B$2&$D$3","v":"Kindy (US Preschool)BenchmarkUS Winter (WA Term 2 equivalent)"},"Kindy (US Preschool)BenchmarkUS Winter (WA Term 2 equivalent)Year 2 (US Grade 2)BenchmarkTerm 1",{"$f":"'Drop Downs'!$A$14","v":"Less schooling: student should do well"}]
["Year 2 (US Grade 2)BenchmarkTerm 1",{"$f":"$A$2&$B$2&$D$4","v":"Kindy (US Preschool)BenchmarkUS Spring (WA Term 3 equivalent)"},"Kindy (US Preschool)BenchmarkUS Spring (WA Term 3 equivalent)Year 2 (US Grade 2)BenchmarkTerm 1",{"$f":"'Drop Downs'!$A$14","v":"Less schooling: student should do well"}]
["Year 2 (US Grade 2)BenchmarkTerm 1",{"$f":"$A$2&$B$2&$D$5","v":"Kindy (US Preschool)BenchmarkUS Summer (WA Term 4 equivalent)"},"Kindy (US Preschool)BenchmarkUS Summer (WA Term 4 equivalent)Year 2 (US Grade 2)BenchmarkTerm 1",{"$f":"'Drop Downs'!$A$14","v":"Less schooling: student should do well"}]
["Year 2 (US Grade 2)BenchmarkTerm 1",{"$f":"$A$3&$B$2&$D$2","v":"Pre-Primary (US Kindergarten)BenchmarkUS Fall (WA Term 1 equivalent)"},"Pre-Primary (US Kindergarten)BenchmarkUS Fall (WA Term 1 equivalent)Year 2 (US Grade 2)BenchmarkTerm 1",{"$f":"'Drop Downs'!$A$14","v":"Less schooling: student should do well"}]
["Year 2 (US Grade 2)BenchmarkTerm 1",{"$f":"$A$3&$B$2&$D$3","v":"Pre-Primary (US Kindergarten)BenchmarkUS Winter (WA Term 2 equivalent)"},"Pre-Primary (US Kindergarten)BenchmarkUS Winter (WA Term 2 equivalent)Year 2 (US Grade 2)BenchmarkTerm 1",{"$f":"'Drop Downs'!$A$14","v":"Less schooling: student should do well"}]
["Year 2 (US Grade 2)BenchmarkTerm 1",{"$f":"$A$3&$B$2&$D$4","v":"Pre-Primary (US Kindergarten)BenchmarkUS Spring (WA Term 3 equivalent)"},"Pre-Primary (US Kindergarten)BenchmarkUS Spring (WA Term 3 equivalent)Year 2 (US Grade 2)BenchmarkTerm 1",{"$f":"'Drop Downs'!$A$14","v":"Less schooling: student should do well"}]
["Year 2 (US Grade 2)BenchmarkTerm 1",{"$f":"$A$3&$B$2&$D$5","v":"Pre-Primary (US Kindergarten)BenchmarkUS Summer (WA Term 4 equivalent)"},"Pre-Primary (US Kindergarten)BenchmarkUS Summer (WA Term 4 equivalent)Year 2 (US Grade 2)BenchmarkTerm 1",{"$f":"'Drop Downs'!$A$14","v":"Less schooling: student should do well"}]
["Year 2 (US Grade 2)BenchmarkTerm 1",{"$f":"$A$4&$B$2&$D$2","v":"Year 1 (US Grade 1)BenchmarkUS Fall (WA Term 1 equivalent)"},"Year 1 (US Grade 1)BenchmarkUS Fall (WA Term 1 equivalent)Year 2 (US Grade 2)BenchmarkTerm 1",{"$f":"'Drop Downs'!$A$14","v":"Less schooling: student should do well"}]
["Year 2 (US Grade 2)BenchmarkTerm 1",{"$f":"$A$4&$B$2&$D$3","v":"Year 1 (US Grade 1)BenchmarkUS Winter (WA Term 2 equivalent)"},"Year 1 (US Grade 1)BenchmarkUS Winter (WA Term 2 equivalent)Year 2 (US Grade 2)BenchmarkTerm 1",{"$f":"'Drop Downs'!$A$14","v":"Less schooling: student should do well"}]
["Year 2 (US Grade 2)BenchmarkTerm 1",{"$f":"$A$4&$B$2&$D$4","v":"Year 1 (US Grade 1)BenchmarkUS Spring (WA Term 3 equivalent)"},"Year 1 (US Grade 1)BenchmarkUS Spring (WA Term 3 equivalent)Year 2 (US Grade 2)BenchmarkTerm 1",{"$f":"'Drop Downs'!$A$14","v":"Less schooling: student should do well"}]
["Year 2 (US Grade 2)BenchmarkTerm 1",{"$f":"$A$4&$B$2&$D$5","v":"Year 1 (US Grade 1)BenchmarkUS Summer (WA Term 4 equivalent)"},"Year 1 (US Grade 1)BenchmarkUS Summer (WA Term 4 equivalent)Year 2 (US Grade 2)BenchmarkTerm 1",{"$f":"'Drop Downs'!$A$14","v":"Less schooling: student should do well"}]
[{"$f":"$A$5&$B$2&$F$2","v":"Year 2 (US Grade 2)BenchmarkTerm 1"},{"$f":"$A$5&$B$2&$D$2","v":"Year 2 (US Grade 2)BenchmarkUS Fall (WA Term 1 equivalent)"},"Year 2 (US Grade 2)BenchmarkUS Fall (WA Term 1 equivalent)Year 2 (US Grade 2)BenchmarkTerm 1",{"$f":"'Drop Downs'!$A$13","v":"The same amount of schooling (on level)"}]
[{"$f":"$A$5&$B$2&$F$2","v":"Year 2 (US Grade 2)BenchmarkTerm 1"},{"$f":"$A$5&$B$2&$D$3","v":"Year 2 (US Grade 2)BenchmarkUS Winter (WA Term 2 equivalent)"},"Year 2 (US Grade 2)BenchmarkUS Winter (WA Term 2 equivalent)Year 2 (US Grade 2)BenchmarkTerm 1",{"$f":"'Drop Downs'!$A$15","v":"More schooling:  student might be below BM"}]
["Year 2 (US Grade 2)BenchmarkTerm 1",{"$f":"$A$5&$B$2&$D$4","v":"Year 2 (US Grade 2)BenchmarkUS Spring (WA Term 3 equivalent)"},"Year 2 (US Grade 2)BenchmarkUS Spring (WA Term 3 equivalent)Year 2 (US Grade 2)BenchmarkTerm 1",{"$f":"'Drop Downs'!$A$15","v":"More schooling:  student might be below BM"}]
["Year 2 (US Grade 2)BenchmarkTerm 1",{"$f":"$A$5&$B$2&$D$5","v":"Year 2 (US Grade 2)BenchmarkUS Summer (WA Term 4 equivalent)"},"Year 2 (US Grade 2)BenchmarkUS Summer (WA Term 4 equivalent)Year 2 (US Grade 2)BenchmarkTerm 1",{"$f":"'Drop Downs'!$A$15","v":"More schooling:  student might be below BM"}]
["Year 2 (US Grade 2)BenchmarkTerm 1",{"$f":"$A$6&$B$2&$D$2","v":"Year 3 (US Grade 3)BenchmarkUS Fall (WA Term 1 equivalent)"},"Year 3 (US Grade 3)BenchmarkUS Fall (WA Term 1 equivalent)Year 2 (US Grade 2)BenchmarkTerm 1",{"$f":"'Drop Downs'!$A$15","v":"More schooling:  student might be below BM"}]
["Year 2 (US Grade 2)BenchmarkTerm 1",{"$f":"$A$6&$B$2&$D$3","v":"Year 3 (US Grade 3)BenchmarkUS Winter (WA Term 2 equivalent)"},{"$f":"B267&A267","v":"Year 3 (US Grade 3)BenchmarkUS Winter (WA Term 2 equivalent)Year 2 (US Grade 2)BenchmarkTerm 1"},{"$f":"'Drop Downs'!$A$15","v":"More schooling:  student might be below BM"}]
["Year 2 (US Grade 2)BenchmarkTerm 1",{"$f":"$A$6&$B$2&$D$4","v":"Year 3 (US Grade 3)BenchmarkUS Spring (WA Term 3 equivalent)"},"Year 3 (US Grade 3)BenchmarkUS Spring (WA Term 3 equivalent)Year 2 (US Grade 2)BenchmarkTerm 1",{"$f":"'Drop Downs'!$A$15","v":"More schooling:  student might be below BM"}]
["Year 2 (US Grade 2)BenchmarkTerm 1",{"$f":"$A$6&$B$2&$D$5","v":"Year 3 (US Grade 3)BenchmarkUS Summer (WA Term 4 equivalent)"},"Year 3 (US Grade 3)BenchmarkUS Summer (WA Term 4 equivalent)Year 2 (US Grade 2)BenchmarkTerm 1",{"$f":"'Drop Downs'!$A$15","v":"More schooling:  student might be below BM"}]
[{"$f":"$A$5&$B$2&$F$3","v":"Year 2 (US Grade 2)BenchmarkTerm 2"},{"$f":"$A$2&$B$2&$D$2","v":"Kindy (US Preschool)BenchmarkUS Fall (WA Term 1 equivalent)"},"Kindy (US Preschool)BenchmarkUS Fall (WA Term 1 equivalent)Year 2 (US Grade 2)BenchmarkTerm 2",{"$f":"'Drop Downs'!$A$14","v":"Less schooling: student should do well"}]
["Year 2 (US Grade 2)BenchmarkTerm 2",{"$f":"$A$2&$B$2&$D$3","v":"Kindy (US Preschool)BenchmarkUS Winter (WA Term 2 equivalent)"},"Kindy (US Preschool)BenchmarkUS Winter (WA Term 2 equivalent)Year 2 (US Grade 2)BenchmarkTerm 2",{"$f":"'Drop Downs'!$A$14","v":"Less schooling: student should do well"}]
["Year 2 (US Grade 2)BenchmarkTerm 2",{"$f":"$A$2&$B$2&$D$4","v":"Kindy (US Preschool)BenchmarkUS Spring (WA Term 3 equivalent)"},"Kindy (US Preschool)BenchmarkUS Spring (WA Term 3 equivalent)Year 2 (US Grade 2)BenchmarkTerm 2",{"$f":"'Drop Downs'!$A$14","v":"Less schooling: student should do well"}]
["Year 2 (US Grade 2)BenchmarkTerm 2",{"$f":"$A$2&$B$2&$D$5","v":"Kindy (US Preschool)BenchmarkUS Summer (WA Term 4 equivalent)"},"Kindy (US Preschool)BenchmarkUS Summer (WA Term 4 equivalent)Year 2 (US Grade 2)BenchmarkTerm 2",{"$f":"'Drop Downs'!$A$14","v":"Less schooling: student should do well"}]
["Year 2 (US Grade 2)BenchmarkTerm 2",{"$f":"$A$3&$B$2&$D$2","v":"Pre-Primary (US Kindergarten)BenchmarkUS Fall (WA Term 1 equivalent)"},"Pre-Primary (US Kindergarten)BenchmarkUS Fall (WA Term 1 equivalent)Year 2 (US Grade 2)BenchmarkTerm 2",{"$f":"'Drop Downs'!$A$14","v":"Less schooling: student should do well"}]
["Year 2 (US Grade 2)BenchmarkTerm 2",{"$f":"$A$3&$B$2&$D$3","v":"Pre-Primary (US Kindergarten)BenchmarkUS Winter (WA Term 2 equivalent)"},"Pre-Primary (US Kindergarten)BenchmarkUS Winter (WA Term 2 equivalent)Year 2 (US Grade 2)BenchmarkTerm 2",{"$f":"'Drop Downs'!$A$14","v":"Less schooling: student should do well"}]
["Year 2 (US Grade 2)BenchmarkTerm 2",{"$f":"$A$3&$B$2&$D$4","v":"Pre-Primary (US Kindergarten)BenchmarkUS Spring (WA Term 3 equivalent)"},"Pre-Primary (US Kindergarten)BenchmarkUS Spring (WA Term 3 equivalent)Year 2 (US Grade 2)BenchmarkTerm 2",{"$f":"'Drop Downs'!$A$14","v":"Less schooling: student should do well"}]
["Year 2 (US Grade 2)BenchmarkTerm 2",{"$f":"$A$3&$B$2&$D$5","v":"Pre-Primary (US Kindergarten)BenchmarkUS Summer (WA Term 4 equivalent)"},"Pre-Primary (US Kindergarten)BenchmarkUS Summer (WA Term 4 equivalent)Year 2 (US Grade 2)BenchmarkTerm 2",{"$f":"'Drop Downs'!$A$14","v":"Less schooling: student should do well"}]
["Year 2 (US Grade 2)BenchmarkTerm 2",{"$f":"$A$4&$B$2&$D$2","v":"Year 1 (US Grade 1)BenchmarkUS Fall (WA Term 1 equivalent)"},"Year 1 (US Grade 1)BenchmarkUS Fall (WA Term 1 equivalent)Year 2 (US Grade 2)BenchmarkTerm 2",{"$f":"'Drop Downs'!$A$14","v":"Less schooling: student should do well"}]
["Year 2 (US Grade 2)BenchmarkTerm 2",{"$f":"$A$4&$B$2&$D$3","v":"Year 1 (US Grade 1)BenchmarkUS Winter (WA Term 2 equivalent)"},"Year 1 (US Grade 1)BenchmarkUS Winter (WA Term 2 equivalent)Year 2 (US Grade 2)BenchmarkTerm 2",{"$f":"'Drop Downs'!$A$14","v":"Less schooling: student should do well"}]
["Year 2 (US Grade 2)BenchmarkTerm 2",{"$f":"$A$4&$B$2&$D$4","v":"Year 1 (US Grade 1)BenchmarkUS Spring (WA Term 3 equivalent)"},"Year 1 (US Grade 1)BenchmarkUS Spring (WA Term 3 equivalent)Year 2 (US Grade 2)BenchmarkTerm 2",{"$f":"'Drop Downs'!$A$14","v":"Less schooling: student should do well"}]
["Year 2 (US Grade 2)BenchmarkTerm 2",{"$f":"$A$4&$B$2&$D$5","v":"Year 1 (US Grade 1)BenchmarkUS Summer (WA Term 4 equivalent)"},"Year 1 (US Grade 1)BenchmarkUS Summer (WA Term 4 equivalent)Year 2 (US Grade 2)BenchmarkTerm 2",{"$f":"'Drop Downs'!$A$14","v":"Less schooling: student should do well"}]
["Year 2 (US Grade 2)BenchmarkTerm 2",{"$f":"$A$5&$B$2&$D$2","v":"Year 2 (US Grade 2)BenchmarkUS Fall (WA Term 1 equivalent)"},"Year 2 (US Grade 2)BenchmarkUS Fall (WA Term 1 equivalent)Year 2 (US Grade 2)BenchmarkTerm 2",{"$f":"'Drop Downs'!$A$14","v":"Less schooling: student should do well"}]
[{"$f":"$A$5&$B$2&$F$3","v":"Year 2 (US Grade 2)BenchmarkTerm 2"},{"$f":"$A$5&$B$2&$D$3","v":"Year 2 (US Grade 2)BenchmarkUS Winter (WA Term 2 equivalent)"},"Year 2 (US Grade 2)BenchmarkUS Winter (WA Term 2 equivalent)Year 2 (US Grade 2)BenchmarkTerm 2",{"$f":"'Drop Downs'!$A$13","v":"The same amount of schooling (on level)"}]
[{"$f":"$A$5&$B$2&$F$3","v":"Year 2 (US Grade 2)BenchmarkTerm 2"},{"$f":"$A$5&$B$2&$D$4","v":"Year 2 (US Grade 2)BenchmarkUS Spring (WA Term 3 equivalent)"},"Year 2 (US Grade 2)BenchmarkUS Spring (WA Term 3 equivalent)Year 2 (US Grade 2)BenchmarkTerm 2",{"$f":"'Drop Downs'!$A$15","v":"More schooling:  student might be below BM"}]
["Year 2 (US Grade 2)BenchmarkTerm 2",{"$f":"$A$5&$B$2&$D$5","v":"Year 2 (US Grade 2)BenchmarkUS Summer (WA Term 4 equivalent)"},"Year 2 (US Grade 2)BenchmarkUS Summer (WA Term 4 equivalent)Year 2 (US Grade 2)BenchmarkTerm 2",{"$f":"'Drop Downs'!$A$15","v":"More schooling:  student might be below BM"}]
["Year 2 (US Grade 2)BenchmarkTerm 2",{"$f":"$A$6&$B$2&$D$2","v":"Year 3 (US Grade 3)BenchmarkUS Fall (WA Term 1 equivalent)"},"Year 3 (US Grade 3)BenchmarkUS Fall (WA Term 1 equivalent)Year 2 (US Grade 2)BenchmarkTerm 2",{"$f":"'Drop Downs'!$A$15","v":"More schooling:  student might be below BM"}]
["Year 2 (US Grade 2)BenchmarkTerm 2",{"$f":"$A$6&$B$2&$D$3","v":"Year 3 (US Grade 3)BenchmarkUS Winter (WA Term 2 equivalent)"},"Year 3 (US Grade 3)BenchmarkUS Winter (WA Term 2 equivalent)Year 2 (US Grade 2)BenchmarkTerm 2",{"$f":"'Drop Downs'!$A$15","v":"More schooling:  student might be below BM"}]
["Year 2 (US Grade 2)BenchmarkTerm 2",{"$f":"$A$6&$B$2&$D$4","v":"Year 3 (US Grade 3)BenchmarkUS Spring (WA Term 3 equivalent)"},"Year 3 (US Grade 3)BenchmarkUS Spring (WA Term 3 equivalent)Year 2 (US Grade 2)BenchmarkTerm 2",{"$f":"'Drop Downs'!$A$15","v":"More schooling:  student might be below BM"}]
["Year 2 (US Grade 2)BenchmarkTerm 2",{"$f":"$A$6&$B$2&$D$5","v":"Year 3 (US Grade 3)BenchmarkUS Summer (WA Term 4 equivalent)"},"Year 3 (US Grade 3)BenchmarkUS Summer (WA Term 4 equivalent)Year 2 (US Grade 2)BenchmarkTerm 2",{"$f":"'Drop Downs'!$A$15","v":"More schooling:  student might be below BM"}]
[{"$f":"$A$5&$B$2&$F$4","v":"Year 2 (US Grade 2)BenchmarkTerm 3"},{"$f":"$A$2&$B$2&$D$2","v":"Kindy (US Preschool)BenchmarkUS Fall (WA Term 1 equivalent)"},"Kindy (US Preschool)BenchmarkUS Fall (WA Term 1 equivalent)Year 2 (US Grade 2)BenchmarkTerm 3",{"$f":"'Drop Downs'!$A$14","v":"Less schooling: student should do well"}]
["Year 2 (US Grade 2)BenchmarkTerm 3",{"$f":"$A$2&$B$2&$D$3","v":"Kindy (US Preschool)BenchmarkUS Winter (WA Term 2 equivalent)"},"Kindy (US Preschool)BenchmarkUS Winter (WA Term 2 equivalent)Year 2 (US Grade 2)BenchmarkTerm 3",{"$f":"'Drop Downs'!$A$14","v":"Less schooling: student should do well"}]
["Year 2 (US Grade 2)BenchmarkTerm 3",{"$f":"$A$2&$B$2&$D$4","v":"Kindy (US Preschool)BenchmarkUS Spring (WA Term 3 equivalent)"},"Kindy (US Preschool)BenchmarkUS Spring (WA Term 3 equivalent)Year 2 (US Grade 2)BenchmarkTerm 3",{"$f":"'Drop Downs'!$A$14","v":"Less schooling: student should do well"}]
["Year 2 (US Grade 2)BenchmarkTerm 3",{"$f":"$A$2&$B$2&$D$5","v":"Kindy (US Preschool)BenchmarkUS Summer (WA Term 4 equivalent)"},"Kindy (US Preschool)BenchmarkUS Summer (WA Term 4 equivalent)Year 2 (US Grade 2)BenchmarkTerm 3",{"$f":"'Drop Downs'!$A$14","v":"Less schooling: student should do well"}]
["Year 2 (US Grade 2)BenchmarkTerm 3",{"$f":"$A$3&$B$2&$D$2","v":"Pre-Primary (US Kindergarten)BenchmarkUS Fall (WA Term 1 equivalent)"},"Pre-Primary (US Kindergarten)BenchmarkUS Fall (WA Term 1 equivalent)Year 2 (US Grade 2)BenchmarkTerm 3",{"$f":"'Drop Downs'!$A$14","v":"Less schooling: student should do well"}]
["Year 2 (US Grade 2)BenchmarkTerm 3",{"$f":"$A$3&$B$2&$D$3","v":"Pre-Primary (US Kindergarten)BenchmarkUS Winter (WA Term 2 equivalent)"},"Pre-Primary (US Kindergarten)BenchmarkUS Winter (WA Term 2 equivalent)Year 2 (US Grade 2)BenchmarkTerm 3",{"$f":"'Drop Downs'!$A$14","v":"Less schooling: student should do well"}]
["Year 2 (US Grade 2)BenchmarkTerm 3",{"$f":"$A$3&$B$2&$D$4","v":"Pre-Primary (US Kindergarten)BenchmarkUS Spring (WA Term 3 equivalent)"},"Pre-Primary (US Kindergarten)BenchmarkUS Spring (WA Term 3 equivalent)Year 2 (US Grade 2)BenchmarkTerm 3",{"$f":"'Drop Downs'!$A$14","v":"Less schooling: student should do well"}]
["Year 2 (US Grade 2)BenchmarkTerm 3",{"$f":"$A$3&$B$2&$D$5","v":"Pre-Primary (US Kindergarten)BenchmarkUS Summer (WA Term 4 equivalent)"},"Pre-Primary (US Kindergarten)BenchmarkUS Summer (WA Term 4 equivalent)Year 2 (US Grade 2)BenchmarkTerm 3",{"$f":"'Drop Downs'!$A$14","v":"Less schooling: student should do well"}]
["Year 2 (US Grade 2)BenchmarkTerm 3",{"$f":"$A$4&$B$2&$D$2","v":"Year 1 (US Grade 1)BenchmarkUS Fall (WA Term 1 equivalent)"},"Year 1 (US Grade 1)BenchmarkUS Fall (WA Term 1 equivalent)Year 2 (US Grade 2)BenchmarkTerm 3",{"$f":"'Drop Downs'!$A$14","v":"Less schooling: student should do well"}]
["Year 2 (US Grade 2)BenchmarkTerm 3",{"$f":"$A$4&$B$2&$D$3","v":"Year 1 (US Grade 1)BenchmarkUS Winter (WA Term 2 equivalent)"},"Year 1 (US Grade 1)BenchmarkUS Winter (WA Term 2 equivalent)Year 2 (US Grade 2)BenchmarkTerm 3",{"$f":"'Drop Downs'!$A$14","v":"Less schooling: student should do well"}]
["Year 2 (US Grade 2)BenchmarkTerm 3",{"$f":"$A$4&$B$2&$D$4","v":"Year 1 (US Grade 1)BenchmarkUS Spring (WA Term 3 equivalent)"},"Year 1 (US Grade 1)BenchmarkUS Spring (WA Term 3 equivalent)Year 2 (US Grade 2)BenchmarkTerm 3",{"$f":"'Drop Downs'!$A$14","v":"Less schooling: student should do well"}]
["Year 2 (US Grade 2)BenchmarkTerm 3",{"$f":"$A$4&$B$2&$D$5","v":"Year 1 (US Grade 1)BenchmarkUS Summer (WA Term 4 equivalent)"},"Year 1 (US Grade 1)BenchmarkUS Summer (WA Term 4 equivalent)Year 2 (US Grade 2)BenchmarkTerm 3",{"$f":"'Drop Downs'!$A$14","v":"Less schooling: student should do well"}]
["Year 2 (US Grade 2)BenchmarkTerm 3",{"$f":"$A$5&$B$2&$D$2","v":"Year 2 (US Grade 2)BenchmarkUS Fall (WA Term 1 equivalent)"},"Year 2 (US Grade 2)BenchmarkUS Fall (WA Term 1 equivalent)Year 2 (US Grade 2)BenchmarkTerm 3",{"$f":"'Drop Downs'!$A$14","v":"Less schooling: student should do well"}]
["Year 2 (US Grade 2)BenchmarkTerm 3",{"$f":"$A$5&$B$2&$D$3","v":"Year 2 (US Grade 2)BenchmarkUS Winter (WA Term 2 equivalent)"},"Year 2 (US Grade 2)BenchmarkUS Winter (WA Term 2 equivalent)Year 2 (US Grade 2)BenchmarkTerm 3",{"$f":"'Drop Downs'!$A$14","v":"Less schooling: student should do well"}]
[{"$f":"$A$5&$B$2&$F$4","v":"Year 2 (US Grade 2)BenchmarkTerm 3"},{"$f":"$A$5&$B$2&$D$4","v":"Year 2 (US Grade 2)BenchmarkUS Spring (WA Term 3 equivalent)"},"Year 2 (US Grade 2)BenchmarkUS Spring (WA Term 3 equivalent)Year 2 (US Grade 2)BenchmarkTerm 3",{"$f":"'Drop Downs'!$A$13","v":"The same amount of schooling (on level)"}]
[{"$f":"$A$5&$B$2&$F$4","v":"Year 2 (US Grade 2)BenchmarkTerm 3"},{"$f":"$A$5&$B$2&$D$5","v":"Year 2 (US Grade 2)BenchmarkUS Summer (WA Term 4 equivalent)"},"Year 2 (US Grade 2)BenchmarkUS Summer (WA Term 4 equivalent)Year 2 (US Grade 2)BenchmarkTerm 3",{"$f":"'Drop Downs'!$A$15","v":"More schooling:  student might be below BM"}]
["Year 2 (US Grade 2)BenchmarkTerm 3",{"$f":"$A$6&$B$2&$D$2","v":"Year 3 (US Grade 3)BenchmarkUS Fall (WA Term 1 equivalent)"},"Year 3 (US Grade 3)BenchmarkUS Fall (WA Term 1 equivalent)Year 2 (US Grade 2)BenchmarkTerm 3",{"$f":"'Drop Downs'!$A$15","v":"More schooling:  student might be below BM"}]
["Year 2 (US Grade 2)BenchmarkTerm 3",{"$f":"$A$6&$B$2&$D$3","v":"Year 3 (US Grade 3)BenchmarkUS Winter (WA Term 2 equivalent)"},"Year 3 (US Grade 3)BenchmarkUS Winter (WA Term 2 equivalent)Year 2 (US Grade 2)BenchmarkTerm 3",{"$f":"'Drop Downs'!$A$15","v":"More schooling:  student might be below BM"}]
["Year 2 (US Grade 2)BenchmarkTerm 3",{"$f":"$A$6&$B$2&$D$4","v":"Year 3 (US Grade 3)BenchmarkUS Spring (WA Term 3 equivalent)"},"Year 3 (US Grade 3)BenchmarkUS Spring (WA Term 3 equivalent)Year 2 (US Grade 2)BenchmarkTerm 3",{"$f":"'Drop Downs'!$A$15","v":"More schooling:  student might be below BM"}]
["Year 2 (US Grade 2)BenchmarkTerm 3",{"$f":"$A$6&$B$2&$D$5","v":"Year 3 (US Grade 3)BenchmarkUS Summer (WA Term 4 equivalent)"},"Year 3 (US Grade 3)BenchmarkUS Summer (WA Term 4 equivalent)Year 2 (US Grade 2)BenchmarkTerm 3",{"$f":"'Drop Downs'!$A$15","v":"More schooling:  student might be below BM"}]
[{"$f":"$A$5&$B$2&$F$5","v":"Year 2 (US Grade 2)BenchmarkTerm 4"},{"$f":"$A$2&$B$2&$D$2","v":"Kindy (US Preschool)BenchmarkUS Fall (WA Term 1 equivalent)"},"Kindy (US Preschool)BenchmarkUS Fall (WA Term 1 equivalent)Year 2 (US Grade 2)BenchmarkTerm 4",{"$f":"'Drop Downs'!$A$14","v":"Less schooling: student should do well"}]
["Year 2 (US Grade 2)BenchmarkTerm 4",{"$f":"$A$2&$B$2&$D$3","v":"Kindy (US Preschool)BenchmarkUS Winter (WA Term 2 equivalent)"},"Kindy (US Preschool)BenchmarkUS Winter (WA Term 2 equivalent)Year 2 (US Grade 2)BenchmarkTerm 4",{"$f":"'Drop Downs'!$A$14","v":"Less schooling: student should do well"}]
["Year 2 (US Grade 2)BenchmarkTerm 4",{"$f":"$A$2&$B$2&$D$4","v":"Kindy (US Preschool)BenchmarkUS Spring (WA Term 3 equivalent)"},"Kindy (US Preschool)BenchmarkUS Spring (WA Term 3 equivalent)Year 2 (US Grade 2)BenchmarkTerm 4",{"$f":"'Drop Downs'!$A$14","v":"Less schooling: student should do well"}]
["Year 2 (US Grade 2)BenchmarkTerm 4",{"$f":"$A$2&$B$2&$D$5","v":"Kindy (US Preschool)BenchmarkUS Summer (WA Term 4 equivalent)"},"Kindy (US Preschool)BenchmarkUS Summer (WA Term 4 equivalent)Year 2 (US Grade 2)BenchmarkTerm 4",{"$f":"'Drop Downs'!$A$14","v":"Less schooling: student should do well"}]
["Year 2 (US Grade 2)BenchmarkTerm 4",{"$f":"$A$3&$B$2&$D$2","v":"Pre-Primary (US Kindergarten)BenchmarkUS Fall (WA Term 1 equivalent)"},"Pre-Primary (US Kindergarten)BenchmarkUS Fall (WA Term 1 equivalent)Year 2 (US Grade 2)BenchmarkTerm 4",{"$f":"'Drop Downs'!$A$14","v":"Less schooling: student should do well"}]
["Year 2 (US Grade 2)BenchmarkTerm 4",{"$f":"$A$3&$B$2&$D$3","v":"Pre-Primary (US Kindergarten)BenchmarkUS Winter (WA Term 2 equivalent)"},"Pre-Primary (US Kindergarten)BenchmarkUS Winter (WA Term 2 equivalent)Year 2 (US Grade 2)BenchmarkTerm 4",{"$f":"'Drop Downs'!$A$14","v":"Less schooling: student should do well"}]
["Year 2 (US Grade 2)BenchmarkTerm 4",{"$f":"$A$3&$B$2&$D$4","v":"Pre-Primary (US Kindergarten)BenchmarkUS Spring (WA Term 3 equivalent)"},"Pre-Primary (US Kindergarten)BenchmarkUS Spring (WA Term 3 equivalent)Year 2 (US Grade 2)BenchmarkTerm 4",{"$f":"'Drop Downs'!$A$14","v":"Less schooling: student should do well"}]
["Year 2 (US Grade 2)BenchmarkTerm 4",{"$f":"$A$3&$B$2&$D$5","v":"Pre-Primary (US Kindergarten)BenchmarkUS Summer (WA Term 4 equivalent)"},"Pre-Primary (US Kindergarten)BenchmarkUS Summer (WA Term 4 equivalent)Year 2 (US Grade 2)BenchmarkTerm 4",{"$f":"'Drop Downs'!$A$14","v":"Less schooling: student should do well"}]
["Year 2 (US Grade 2)BenchmarkTerm 4",{"$f":"$A$4&$B$2&$D$2","v":"Year 1 (US Grade 1)BenchmarkUS Fall (WA Term 1 equivalent)"},"Year 1 (US Grade 1)BenchmarkUS Fall (WA Term 1 equivalent)Year 2 (US Grade 2)BenchmarkTerm 4",{"$f":"'Drop Downs'!$A$14","v":"Less schooling: student should do well"}]
["Year 2 (US Grade 2)BenchmarkTerm 4",{"$f":"$A$4&$B$2&$D$3","v":"Year 1 (US Grade 1)BenchmarkUS Winter (WA Term 2 equivalent)"},"Year 1 (US Grade 1)BenchmarkUS Winter (WA Term 2 equivalent)Year 2 (US Grade 2)BenchmarkTerm 4",{"$f":"'Drop Downs'!$A$14","v":"Less schooling: student should do well"}]
["Year 2 (US Grade 2)BenchmarkTerm 4",{"$f":"$A$4&$B$2&$D$4","v":"Year 1 (US Grade 1)BenchmarkUS Spring (WA Term 3 equivalent)"},"Year 1 (US Grade 1)BenchmarkUS Spring (WA Term 3 equivalent)Year 2 (US Grade 2)BenchmarkTerm 4",{"$f":"'Drop Downs'!$A$14","v":"Less schooling: student should do well"}]
["Year 2 (US Grade 2)BenchmarkTerm 4",{"$f":"$A$4&$B$2&$D$5","v":"Year 1 (US Grade 1)BenchmarkUS Summer (WA Term 4 equivalent)"},"Year 1 (US Grade 1)BenchmarkUS Summer (WA Term 4 equivalent)Year 2 (US Grade 2)BenchmarkTerm 4",{"$f":"'Drop Downs'!$A$14","v":"Less schooling: student should do well"}]
["Year 2 (US Grade 2)BenchmarkTerm 4",{"$f":"$A$5&$B$2&$D$2","v":"Year 2 (US Grade 2)BenchmarkUS Fall (WA Term 1 equivalent)"},"Year 2 (US Grade 2)BenchmarkUS Fall (WA Term 1 equivalent)Year 2 (US Grade 2)BenchmarkTerm 4",{"$f":"'Drop Downs'!$A$14","v":"Less schooling: student should do well"}]
["Year 2 (US Grade 2)BenchmarkTerm 4",{"$f":"$A$5&$B$2&$D$3","v":"Year 2 (US Grade 2)BenchmarkUS Winter (WA Term 2 equivalent)"},"Year 2 (US Grade 2)BenchmarkUS Winter (WA Term 2 equivalent)Year 2 (US Grade 2)BenchmarkTerm 4",{"$f":"'Drop Downs'!$A$14","v":"Less schooling: student should do well"}]
["Year 2 (US Grade 2)BenchmarkTerm 4",{"$f":"$A$5&$B$2&$D$4","v":"Year 2 (US Grade 2)BenchmarkUS Spring (WA Term 3 equivalent)"},"Year 2 (US Grade 2)BenchmarkUS Spring (WA Term 3 equivalent)Year 2 (US Grade 2)BenchmarkTerm 4",{"$f":"'Drop Downs'!$A$14","v":"Less schooling: student should do well"}]
[{"$f":"$A$5&$B$2&$F$5","v":"Year 2 (US Grade 2)BenchmarkTerm 4"},{"$f":"$A$5&$B$2&$D$5","v":"Year 2 (US Grade 2)BenchmarkUS Summer (WA Term 4 equivalent)"},"Year 2 (US Grade 2)BenchmarkUS Summer (WA Term 4 equivalent)Year 2 (US Grade 2)BenchmarkTerm 4",{"$f":"'Drop Downs'!$A$13","v":"The same amount of schooling (on level)"}]
[{"$f":"$A$5&$B$2&$F$5","v":"Year 2 (US Grade 2)BenchmarkTerm 4"},{"$f":"$A$6&$B$2&$D$2","v":"Year 3 (US Grade 3)BenchmarkUS Fall (WA Term 1 equivalent)"},"Year 3 (US Grade 3)BenchmarkUS Fall (WA Term 1 equivalent)Year 2 (US Grade 2)BenchmarkTerm 4",{"$f":"'Drop Downs'!$A$15","v":"More schooling:  student might be below BM"}]
["Year 2 (US Grade 2)BenchmarkTerm 4",{"$f":"$A$6&$B$2&$D$3","v":"Year 3 (US Grade 3)BenchmarkUS Winter (WA Term 2 equivalent)"},"Year 3 (US Grade 3)BenchmarkUS Winter (WA Term 2 equivalent)Year 2 (US Grade 2)BenchmarkTerm 4",{"$f":"'Drop Downs'!$A$15","v":"More schooling:  student might be below BM"}]
["Year 2 (US Grade 2)BenchmarkTerm 4",{"$f":"$A$6&$B$2&$D$4","v":"Year 3 (US Grade 3)BenchmarkUS Spring (WA Term 3 equivalent)"},"Year 3 (US Grade 3)BenchmarkUS Spring (WA Term 3 equivalent)Year 2 (US Grade 2)BenchmarkTerm 4",{"$f":"'Drop Downs'!$A$15","v":"More schooling:  student might be below BM"}]
["Year 2 (US Grade 2)BenchmarkTerm 4",{"$f":"$A$6&$B$2&$D$5","v":"Year 3 (US Grade 3)BenchmarkUS Summer (WA Term 4 equivalent)"},"Year 3 (US Grade 3)BenchmarkUS Summer (WA Term 4 equivalent)Year 2 (US Grade 2)BenchmarkTerm 4",{"$f":"'Drop Downs'!$A$15","v":"More schooling:  student might be below BM"}]
[{"$f":"$A$6&$B$2&$F$2","v":"Year 3 (US Grade 3)BenchmarkTerm 1"},{"$f":"$A$2&$B$2&$D$2","v":"Kindy (US Preschool)BenchmarkUS Fall (WA Term 1 equivalent)"},"Kindy (US Preschool)BenchmarkUS Fall (WA Term 1 equivalent)Year 3 (US Grade 3)BenchmarkTerm 1",{"$f":"'Drop Downs'!$A$14","v":"Less schooling: student should do well"}]
["Year 3 (US Grade 3)BenchmarkTerm 1",{"$f":"$A$2&$B$2&$D$3","v":"Kindy (US Preschool)BenchmarkUS Winter (WA Term 2 equivalent)"},{"$f":"B331&A331","v":"Kindy (US Preschool)BenchmarkUS Winter (WA Term 2 equivalent)Year 3 (US Grade 3)BenchmarkTerm 1"},{"$f":"'Drop Downs'!$A$14","v":"Less schooling: student should do well"}]
["Year 3 (US Grade 3)BenchmarkTerm 1",{"$f":"$A$2&$B$2&$D$4","v":"Kindy (US Preschool)BenchmarkUS Spring (WA Term 3 equivalent)"},"Kindy (US Preschool)BenchmarkUS Spring (WA Term 3 equivalent)Year 3 (US Grade 3)BenchmarkTerm 1",{"$f":"'Drop Downs'!$A$14","v":"Less schooling: student should do well"}]
["Year 3 (US Grade 3)BenchmarkTerm 1",{"$f":"$A$2&$B$2&$D$5","v":"Kindy (US Preschool)BenchmarkUS Summer (WA Term 4 equivalent)"},"Kindy (US Preschool)BenchmarkUS Summer (WA Term 4 equivalent)Year 3 (US Grade 3)BenchmarkTerm 1",{"$f":"'Drop Downs'!$A$14","v":"Less schooling: student should do well"}]
["Year 3 (US Grade 3)BenchmarkTerm 1",{"$f":"$A$3&$B$2&$D$2","v":"Pre-Primary (US Kindergarten)BenchmarkUS Fall (WA Term 1 equivalent)"},"Pre-Primary (US Kindergarten)BenchmarkUS Fall (WA Term 1 equivalent)Year 3 (US Grade 3)BenchmarkTerm 1",{"$f":"'Drop Downs'!$A$14","v":"Less schooling: student should do well"}]
["Year 3 (US Grade 3)BenchmarkTerm 1",{"$f":"$A$3&$B$2&$D$3","v":"Pre-Primary (US Kindergarten)BenchmarkUS Winter (WA Term 2 equivalent)"},"Pre-Primary (US Kindergarten)BenchmarkUS Winter (WA Term 2 equivalent)Year 3 (US Grade 3)BenchmarkTerm 1",{"$f":"'Drop Downs'!$A$14","v":"Less schooling: student should do well"}]
["Year 3 (US Grade 3)BenchmarkTerm 1",{"$f":"$A$3&$B$2&$D$4","v":"Pre-Primary (US Kindergarten)BenchmarkUS Spring (WA Term 3 equivalent)"},"Pre-Primary (US Kindergarten)BenchmarkUS Spring (WA Term 3 equivalent)Year 3 (US Grade 3)BenchmarkTerm 1",{"$f":"'Drop Downs'!$A$14","v":"Less schooling: student should do well"}]
["Year 3 (US Grade 3)BenchmarkTerm 1",{"$f":"$A$3&$B$2&$D$5","v":"Pre-Primary (US Kindergarten)BenchmarkUS Summer (WA Term 4 equivalent)"},"Pre-Primary (US Kindergarten)BenchmarkUS Summer (WA Term 4 equivalent)Year 3 (US Grade 3)BenchmarkTerm 1",{"$f":"'Drop Downs'!$A$14","v":"Less schooling: student should do well"}]
["Year 3 (US Grade 3)BenchmarkTerm 1",{"$f":"$A$4&$B$2&$D$2","v":"Year 1 (US Grade 1)BenchmarkUS Fall (WA Term 1 equivalent)"},"Year 1 (US Grade 1)BenchmarkUS Fall (WA Term 1 equivalent)Year 3 (US Grade 3)BenchmarkTerm 1",{"$f":"'Drop Downs'!$A$14","v":"Less schooling: student should do well"}]
["Year 3 (US Grade 3)BenchmarkTerm 1",{"$f":"$A$4&$B$2&$D$3","v":"Year 1 (US Grade 1)BenchmarkUS Winter (WA Term 2 equivalent)"},"Year 1 (US Grade 1)BenchmarkUS Winter (WA Term 2 equivalent)Year 3 (US Grade 3)BenchmarkTerm 1",{"$f":"'Drop Downs'!$A$14","v":"Less schooling: student should do well"}]
["Year 3 (US Grade 3)BenchmarkTerm 1",{"$f":"$A$4&$B$2&$D$4","v":"Year 1 (US Grade 1)BenchmarkUS Spring (WA Term 3 equivalent)"},"Year 1 (US Grade 1)BenchmarkUS Spring (WA Term 3 equivalent)Year 3 (US Grade 3)BenchmarkTerm 1",{"$f":"'Drop Downs'!$A$14","v":"Less schooling: student should do well"}]
["Year 3 (US Grade 3)BenchmarkTerm 1",{"$f":"$A$4&$B$2&$D$5","v":"Year 1 (US Grade 1)BenchmarkUS Summer (WA Term 4 equivalent)"},"Year 1 (US Grade 1)BenchmarkUS Summer (WA Term 4 equivalent)Year 3 (US Grade 3)BenchmarkTerm 1",{"$f":"'Drop Downs'!$A$14","v":"Less schooling: student should do well"}]
["Year 3 (US Grade 3)BenchmarkTerm 1",{"$f":"$A$5&$B$2&$D$2","v":"Year 2 (US Grade 2)BenchmarkUS Fall (WA Term 1 equivalent)"},"Year 2 (US Grade 2)BenchmarkUS Fall (WA Term 1 equivalent)Year 3 (US Grade 3)BenchmarkTerm 1",{"$f":"'Drop Downs'!$A$14","v":"Less schooling: student should do well"}]
["Year 3 (US Grade 3)BenchmarkTerm 1",{"$f":"$A$5&$B$2&$D$3","v":"Year 2 (US Grade 2)BenchmarkUS Winter (WA Term 2 equivalent)"},"Year 2 (US Grade 2)BenchmarkUS Winter (WA Term 2 equivalent)Year 3 (US Grade 3)BenchmarkTerm 1",{"$f":"'Drop Downs'!$A$14","v":"Less schooling: student should do well"}]
["Year 3 (US Grade 3)BenchmarkTerm 1",{"$f":"$A$5&$B$2&$D$4","v":"Year 2 (US Grade 2)BenchmarkUS Spring (WA Term 3 equivalent)"},"Year 2 (US Grade 2)BenchmarkUS Spring (WA Term 3 equivalent)Year 3 (US Grade 3)BenchmarkTerm 1",{"$f":"'Drop Downs'!$A$14","v":"Less schooling: student should do well"}]
["Year 3 (US Grade 3)BenchmarkTerm 1",{"$f":"$A$5&$B$2&$D$5","v":"Year 2 (US Grade 2)BenchmarkUS Summer (WA Term 4 equivalent)"},"Year 2 (US Grade 2)BenchmarkUS Summer (WA Term 4 equivalent)Year 3 (US Grade 3)BenchmarkTerm 1",{"$f":"'Drop Downs'!$A$14","v":"Less schooling: student should do well"}]
[{"$f":"$A$6&$B$2&$F$2","v":"Year 3 (US Grade 3)BenchmarkTerm 1"},{"$f":"$A$6&$B$2&$D$2","v":"Year 3 (US Grade 3)BenchmarkUS Fall (WA Term 1 equivalent)"},"Year 3 (US Grade 3)BenchmarkUS Fall (WA Term 1 equivalent)Year 3 (US Grade 3)BenchmarkTerm 1",{"$f":"'Drop Downs'!$A$13","v":"The same amount of schooling (on level)"}]
[{"$f":"$A$6&$B$2&$F$2","v":"Year 3 (US Grade 3)BenchmarkTerm 1"},{"$f":"$A$6&$B$2&$D$3","v":"Year 3 (US Grade 3)BenchmarkUS Winter (WA Term 2 equivalent)"},"Year 3 (US Grade 3)BenchmarkUS Winter (WA Term 2 equivalent)Year 3 (US Grade 3)BenchmarkTerm 1",{"$f":"'Drop Downs'!$A$15","v":"More schooling:  student might be below BM"}]
["Year 3 (US Grade 3)BenchmarkTerm 1",{"$f":"$A$6&$B$2&$D$4","v":"Year 3 (US Grade 3)BenchmarkUS Spring (WA Term 3 equivalent)"},"Year 3 (US Grade 3)BenchmarkUS Spring (WA Term 3 equivalent)Year 3 (US Grade 3)BenchmarkTerm 1",{"$f":"'Drop Downs'!$A$15","v":"More schooling:  student might be below BM"}]
["Year 3 (US Grade 3)BenchmarkTerm 1",{"$f":"$A$6&$B$2&$D$5","v":"Year 3 (US Grade 3)BenchmarkUS Summer (WA Term 4 equivalent)"},"Year 3 (US Grade 3)BenchmarkUS Summer (WA Term 4 equivalent)Year 3 (US Grade 3)BenchmarkTerm 1",{"$f":"'Drop Downs'!$A$15","v":"More schooling:  student might be below BM"}]
[{"$f":"$A$6&$B$2&$F$3","v":"Year 3 (US Grade 3)BenchmarkTerm 2"},{"$f":"$A$2&$B$2&$D$2","v":"Kindy (US Preschool)BenchmarkUS Fall (WA Term 1 equivalent)"},"Kindy (US Preschool)BenchmarkUS Fall (WA Term 1 equivalent)Year 3 (US Grade 3)BenchmarkTerm 2",{"$f":"'Drop Downs'!$A$14","v":"Less schooling: student should do well"}]
["Year 3 (US Grade 3)BenchmarkTerm 2",{"$f":"$A$2&$B$2&$D$3","v":"Kindy (US Preschool)BenchmarkUS Winter (WA Term 2 equivalent)"},"Kindy (US Preschool)BenchmarkUS Winter (WA Term 2 equivalent)Year 3 (US Grade 3)BenchmarkTerm 2",{"$f":"'Drop Downs'!$A$14","v":"Less schooling: student should do well"}]
["Year 3 (US Grade 3)BenchmarkTerm 2",{"$f":"$A$2&$B$2&$D$4","v":"Kindy (US Preschool)BenchmarkUS Spring (WA Term 3 equivalent)"},"Kindy (US Preschool)BenchmarkUS Spring (WA Term 3 equivalent)Year 3 (US Grade 3)BenchmarkTerm 2",{"$f":"'Drop Downs'!$A$14","v":"Less schooling: student should do well"}]
["Year 3 (US Grade 3)BenchmarkTerm 2",{"$f":"$A$2&$B$2&$D$5","v":"Kindy (US Preschool)BenchmarkUS Summer (WA Term 4 equivalent)"},"Kindy (US Preschool)BenchmarkUS Summer (WA Term 4 equivalent)Year 3 (US Grade 3)BenchmarkTerm 2",{"$f":"'Drop Downs'!$A$14","v":"Less schooling: student should do well"}]
["Year 3 (US Grade 3)BenchmarkTerm 2",{"$f":"$A$3&$B$2&$D$2","v":"Pre-Primary (US Kindergarten)BenchmarkUS Fall (WA Term 1 equivalent)"},"Pre-Primary (US Kindergarten)BenchmarkUS Fall (WA Term 1 equivalent)Year 3 (US Grade 3)BenchmarkTerm 2",{"$f":"'Drop Downs'!$A$14","v":"Less schooling: student should do well"}]
["Year 3 (US Grade 3)BenchmarkTerm 2",{"$f":"$A$3&$B$2&$D$3","v":"Pre-Primary (US Kindergarten)BenchmarkUS Winter (WA Term 2 equivalent)"},"Pre-Primary (US Kindergarten)BenchmarkUS Winter (WA Term 2 equivalent)Year 3 (US Grade 3)BenchmarkTerm 2",{"$f":"'Drop Downs'!$A$14","v":"Less schooling: student should do well"}]
["Year 3 (US Grade 3)BenchmarkTerm 2",{"$f":"$A$3&$B$2&$D$4","v":"Pre-Primary (US Kindergarten)BenchmarkUS Spring (WA Term 3 equivalent)"},"Pre-Primary (US Kindergarten)BenchmarkUS Spring (WA Term 3 equivalent)Year 3 (US Grade 3)BenchmarkTerm 2",{"$f":"'Drop Downs'!$A$14","v":"Less schooling: student should do well"}]
["Year 3 (US Grade 3)BenchmarkTerm 2",{"$f":"$A$3&$B$2&$D$5","v":"Pre-Primary (US Kindergarten)BenchmarkUS Summer (WA Term 4 equivalent)"},"Pre-Primary (US Kindergarten)BenchmarkUS Summer (WA Term 4 equivalent)Year 3 (US Grade 3)BenchmarkTerm 2",{"$f":"'Drop Downs'!$A$14","v":"Less schooling: student should do well"}]
["Year 3 (US Grade 3)BenchmarkTerm 2",{"$f":"$A$4&$B$2&$D$2","v":"Year 1 (US Grade 1)BenchmarkUS Fall (WA Term 1 equivalent)"},"Year 1 (US Grade 1)BenchmarkUS Fall (WA Term 1 equivalent)Year 3 (US Grade 3)BenchmarkTerm 2",{"$f":"'Drop Downs'!$A$14","v":"Less schooling: student should do well"}]
["Year 3 (US Grade 3)BenchmarkTerm 2",{"$f":"$A$4&$B$2&$D$3","v":"Year 1 (US Grade 1)BenchmarkUS Winter (WA Term 2 equivalent)"},"Year 1 (US Grade 1)BenchmarkUS Winter (WA Term 2 equivalent)Year 3 (US Grade 3)BenchmarkTerm 2",{"$f":"'Drop Downs'!$A$14","v":"Less schooling: student should do well"}]
["Year 3 (US Grade 3)BenchmarkTerm 2",{"$f":"$A$4&$B$2&$D$4","v":"Year 1 (US Grade 1)BenchmarkUS Spring (WA Term 3 equivalent)"},"Year 1 (US Grade 1)BenchmarkUS Spring (WA Term 3 equivalent)Year 3 (US Grade 3)BenchmarkTerm 2",{"$f":"'Drop Downs'!$A$14","v":"Less schooling: student should do well"}]
["Year 3 (US Grade 3)BenchmarkTerm 2",{"$f":"$A$4&$B$2&$D$5","v":"Year 1 (US Grade 1)BenchmarkUS Summer (WA Term 4 equivalent)"},"Year 1 (US Grade 1)BenchmarkUS Summer (WA Term 4 equivalent)Year 3 (US Grade 3)BenchmarkTerm 2",{"$f":"'Drop Downs'!$A$14","v":"Less schooling: student should do well"}]
["Year 3 (US Grade 3)BenchmarkTerm 2",{"$f":"$A$5&$B$2&$D$2","v":"Year 2 (US Grade 2)BenchmarkUS Fall (WA Term 1 equivalent)"},"Year 2 (US Grade 2)BenchmarkUS Fall (WA Term 1 equivalent)Year 3 (US Grade 3)BenchmarkTerm 2",{"$f":"'Drop Downs'!$A$14","v":"Less schooling: student should do well"}]
["Year 3 (US Grade 3)BenchmarkTerm 2",{"$f":"$A$5&$B$2&$D$3","v":"Year 2 (US Grade 2)BenchmarkUS Winter (WA Term 2 equivalent)"},"Year 2 (US Grade 2)BenchmarkUS Winter (WA Term 2 equivalent)Year 3 (US Grade 3)BenchmarkTerm 2",{"$f":"'Drop Downs'!$A$14","v":"Less schooling: student should do well"}]
["Year 3 (US Grade 3)BenchmarkTerm 2",{"$f":"$A$5&$B$2&$D$4","v":"Year 2 (US Grade 2)BenchmarkUS Spring (WA Term 3 equivalent)"},"Year 2 (US Grade 2)BenchmarkUS Spring (WA Term 3 equivalent)Year 3 (US Grade 3)BenchmarkTerm 2",{"$f":"'Drop Downs'!$A$14","v":"Less schooling: student should do well"}]
["Year 3 (US Grade 3)BenchmarkTerm 2",{"$f":"$A$5&$B$2&$D$5","v":"Year 2 (US Grade 2)BenchmarkUS Summer (WA Term 4 equivalent)"},"Year 2 (US Grade 2)BenchmarkUS Summer (WA Term 4 equivalent)Year 3 (US Grade 3)BenchmarkTerm 2",{"$f":"'Drop Downs'!$A$14","v":"Less schooling: student should do well"}]
["Year 3 (US Grade 3)BenchmarkTerm 2",{"$f":"$A$6&$B$2&$D$2","v":"Year 3 (US Grade 3)BenchmarkUS Fall (WA Term 1 equivalent)"},"Year 3 (US Grade 3)BenchmarkUS Fall (WA Term 1 equivalent)Year 3 (US Grade 3)BenchmarkTerm 2",{"$f":"'Drop Downs'!$A$14","v":"Less schooling: student should do well"}]
[{"$f":"$A$6&$B$2&$F$3","v":"Year 3 (US Grade 3)BenchmarkTerm 2"},{"$f":"$A$6&$B$2&$D$3","v":"Year 3 (US Grade 3)BenchmarkUS Winter (WA Term 2 equivalent)"},"Year 3 (US Grade 3)BenchmarkUS Winter (WA Term 2 equivalent)Year 3 (US Grade 3)BenchmarkTerm 2",{"$f":"'Drop Downs'!$A$13","v":"The same amount of schooling (on level)"}]
[{"$f":"$A$6&$B$2&$F$3","v":"Year 3 (US Grade 3)BenchmarkTerm 2"},{"$f":"$A$6&$B$2&$D$4","v":"Year 3 (US Grade 3)BenchmarkUS Spring (WA Term 3 equivalent)"},"Year 3 (US Grade 3)BenchmarkUS Spring (WA Term 3 equivalent)Year 3 (US Grade 3)BenchmarkTerm 2",{"$f":"'Drop Downs'!$A$15","v":"More schooling:  student might be below BM"}]
["Year 3 (US Grade 3)BenchmarkTerm 2",{"$f":"$A$6&$B$2&$D$5","v":"Year 3 (US Grade 3)BenchmarkUS Summer (WA Term 4 equivalent)"},"Year 3 (US Grade 3)BenchmarkUS Summer (WA Term 4 equivalent)Year 3 (US Grade 3)BenchmarkTerm 2",{"$f":"'Drop Downs'!$A$15","v":"More schooling:  student might be below BM"}]
[{"$f":"$A$6&$B$2&$F$4","v":"Year 3 (US Grade 3)BenchmarkTerm 3"},{"$f":"$A$2&$B$2&$D$2","v":"Kindy (US Preschool)BenchmarkUS Fall (WA Term 1 equivalent)"},"Kindy (US Preschool)BenchmarkUS Fall (WA Term 1 equivalent)Year 3 (US Grade 3)BenchmarkTerm 3",{"$f":"'Drop Downs'!$A$14","v":"Less schooling: student should do well"}]
[{"$f":"$A$6&$B$2&$F$4","v":"Year 3 (US Grade 3)BenchmarkTerm 3"},{"$f":"$A$2&$B$2&$D$3","v":"Kindy (US Preschool)BenchmarkUS Winter (WA Term 2 equivalent)"},"Kindy (US Preschool)BenchmarkUS Winter (WA Term 2 equivalent)Year 3 (US Grade 3)BenchmarkTerm 3",{"$f":"'Drop Downs'!$A$14","v":"Less schooling: student should do well"}]
["Year 3 (US Grade 3)BenchmarkTerm 3",{"$f":"$A$2&$B$2&$D$4","v":"Kindy (US Preschool)BenchmarkUS Spring (WA Term 3 equivalent)"},"Kindy (US Preschool)BenchmarkUS Spring (WA Term 3 equivalent)Year 3 (US Grade 3)BenchmarkTerm 3",{"$f":"'Drop Downs'!$A$14","v":"Less schooling: student should do well"}]
["Year 3 (US Grade 3)BenchmarkTerm 3",{"$f":"$A$2&$B$2&$D$5","v":"Kindy (US Preschool)BenchmarkUS Summer (WA Term 4 equivalent)"},"Kindy (US Preschool)BenchmarkUS Summer (WA Term 4 equivalent)Year 3 (US Grade 3)BenchmarkTerm 3",{"$f":"'Drop Downs'!$A$14","v":"Less schooling: student should do well"}]
["Year 3 (US Grade 3)BenchmarkTerm 3",{"$f":"$A$3&$B$2&$D$2","v":"Pre-Primary (US Kindergarten)BenchmarkUS Fall (WA Term 1 equivalent)"},"Pre-Primary (US Kindergarten)BenchmarkUS Fall (WA Term 1 equivalent)Year 3 (US Grade 3)BenchmarkTerm 3",{"$f":"'Drop Downs'!$A$14","v":"Less schooling: student should do well"}]
["Year 3 (US Grade 3)BenchmarkTerm 3",{"$f":"$A$3&$B$2&$D$3","v":"Pre-Primary (US Kindergarten)BenchmarkUS Winter (WA Term 2 equivalent)"},"Pre-Primary (US Kindergarten)BenchmarkUS Winter (WA Term 2 equivalent)Year 3 (US Grade 3)BenchmarkTerm 3",{"$f":"'Drop Downs'!$A$14","v":"Less schooling: student should do well"}]
["Year 3 (US Grade 3)BenchmarkTerm 3",{"$f":"$A$3&$B$2&$D$4","v":"Pre-Primary (US Kindergarten)BenchmarkUS Spring (WA Term 3 equivalent)"},"Pre-Primary (US Kindergarten)BenchmarkUS Spring (WA Term 3 equivalent)Year 3 (US Grade 3)BenchmarkTerm 3",{"$f":"'Drop Downs'!$A$14","v":"Less schooling: student should do well"}]
["Year 3 (US Grade 3)BenchmarkTerm 3",{"$f":"$A$3&$B$2&$D$5","v":"Pre-Primary (US Kindergarten)BenchmarkUS Summer (WA Term 4 equivalent)"},"Pre-Primary (US Kindergarten)BenchmarkUS Summer (WA Term 4 equivalent)Year 3 (US Grade 3)BenchmarkTerm 3",{"$f":"'Drop Downs'!$A$14","v":"Less schooling: student should do well"}]
["Year 3 (US Grade 3)BenchmarkTerm 3",{"$f":"$A$4&$B$2&$D$2","v":"Year 1 (US Grade 1)BenchmarkUS Fall (WA Term 1 equivalent)"},"Year 1 (US Grade 1)BenchmarkUS Fall (WA Term 1 equivalent)Year 3 (US Grade 3)BenchmarkTerm 3",{"$f":"'Drop Downs'!$A$14","v":"Less schooling: student should do well"}]
["Year 3 (US Grade 3)BenchmarkTerm 3",{"$f":"$A$4&$B$2&$D$3","v":"Year 1 (US Grade 1)BenchmarkUS Winter (WA Term 2 equivalent)"},"Year 1 (US Grade 1)BenchmarkUS Winter (WA Term 2 equivalent)Year 3 (US Grade 3)BenchmarkTerm 3",{"$f":"'Drop Downs'!$A$14","v":"Less schooling: student should do well"}]
["Year 3 (US Grade 3)BenchmarkTerm 3",{"$f":"$A$4&$B$2&$D$4","v":"Year 1 (US Grade 1)BenchmarkUS Spring (WA Term 3 equivalent)"},"Year 1 (US Grade 1)BenchmarkUS Spring (WA Term 3 equivalent)Year 3 (US Grade 3)BenchmarkTerm 3",{"$f":"'Drop Downs'!$A$14","v":"Less schooling: student should do well"}]
["Year 3 (US Grade 3)BenchmarkTerm 3",{"$f":"$A$4&$B$2&$D$5","v":"Year 1 (US Grade 1)BenchmarkUS Summer (WA Term 4 equivalent)"},"Year 1 (US Grade 1)BenchmarkUS Summer (WA Term 4 equivalent)Year 3 (US Grade 3)BenchmarkTerm 3",{"$f":"'Drop Downs'!$A$14","v":"Less schooling: student should do well"}]
["Year 3 (US Grade 3)BenchmarkTerm 3",{"$f":"$A$5&$B$2&$D$2","v":"Year 2 (US Grade 2)BenchmarkUS Fall (WA Term 1 equivalent)"},"Year 2 (US Grade 2)BenchmarkUS Fall (WA Term 1 equivalent)Year 3 (US Grade 3)BenchmarkTerm 3",{"$f":"'Drop Downs'!$A$14","v":"Less schooling: student should do well"}]
["Year 3 (US Grade 3)BenchmarkTerm 3",{"$f":"$A$5&$B$2&$D$3","v":"Year 2 (US Grade 2)BenchmarkUS Winter (WA Term 2 equivalent)"},"Year 2 (US Grade 2)BenchmarkUS Winter (WA Term 2 equivalent)Year 3 (US Grade 3)BenchmarkTerm 3",{"$f":"'Drop Downs'!$A$14","v":"Less schooling: student should do well"}]
["Year 3 (US Grade 3)BenchmarkTerm 3",{"$f":"$A$5&$B$2&$D$4","v":"Year 2 (US Grade 2)BenchmarkUS Spring (WA Term 3 equivalent)"},"Year 2 (US Grade 2)BenchmarkUS Spring (WA Term 3 equivalent)Year 3 (US Grade 3)BenchmarkTerm 3",{"$f":"'Drop Downs'!$A$14","v":"Less schooling: student should do well"}]
["Year 3 (US Grade 3)BenchmarkTerm 3",{"$f":"$A$5&$B$2&$D$5","v":"Year 2 (US Grade 2)BenchmarkUS Summer (WA Term 4 equivalent)"},"Year 2 (US Grade 2)BenchmarkUS Summer (WA Term 4 equivalent)Year 3 (US Grade 3)BenchmarkTerm 3",{"$f":"'Drop Downs'!$A$14","v":"Less schooling: student should do well"}]
["Year 3 (US Grade 3)BenchmarkTerm 3",{"$f":"$A$6&$B$2&$D$2","v":"Year 3 (US Grade 3)BenchmarkUS Fall (WA Term 1 equivalent)"},"Year 3 (US Grade 3)BenchmarkUS Fall (WA Term 1 equivalent)Year 3 (US Grade 3)BenchmarkTerm 3",{"$f":"'Drop Downs'!$A$14","v":"Less schooling: student should do well"}]
["Year 3 (US Grade 3)BenchmarkTerm 3",{"$f":"$A$6&$B$2&$D$3","v":"Year 3 (US Grade 3)BenchmarkUS Winter (WA Term 2 equivalent)"},"Year 3 (US Grade 3)BenchmarkUS Winter (WA Term 2 equivalent)Year 3 (US Grade 3)BenchmarkTerm 3",{"$f":"'Drop Downs'!$A$14","v":"Less schooling: student should do well"}]
[{"$f":"$A$6&$B$2&$F$4","v":"Year 3 (US Grade 3)BenchmarkTerm 3"},{"$f":"$A$6&$B$2&$D$4","v":"Year 3 (US Grade 3)BenchmarkUS Spring (WA Term 3 equivalent)"},"Year 3 (US Grade 3)BenchmarkUS Spring (WA Term 3 equivalent)Year 3 (US Grade 3)BenchmarkTerm 3",{"$f":"'Drop Downs'!$A$13","v":"The same amount of schooling (on level)"}]
[{"$f":"$A$6&$B$2&$F$4","v":"Year 3 (US Grade 3)BenchmarkTerm 3"},{"$f":"$A$6&$B$2&$D$5","v":"Year 3 (US Grade 3)BenchmarkUS Summer (WA Term 4 equivalent)"},"Year 3 (US Grade 3)BenchmarkUS Summer (WA Term 4 equivalent)Year 3 (US Grade 3)BenchmarkTerm 3",{"$f":"'Drop Downs'!$A$15","v":"More schooling:  student might be below BM"}]
[{"$f":"$A$6&$B$2&$F$5","v":"Year 3 (US Grade 3)BenchmarkTerm 4"},{"$f":"$A$2&$B$2&$D$2","v":"Kindy (US Preschool)BenchmarkUS Fall (WA Term 1 equivalent)"},"Kindy (US Preschool)BenchmarkUS Fall (WA Term 1 equivalent)Year 3 (US Grade 3)BenchmarkTerm 4",{"$f":"'Drop Downs'!$A$14","v":"Less schooling: student should do well"}]
["Year 3 (US Grade 3)BenchmarkTerm 4",{"$f":"$A$2&$B$2&$D$3","v":"Kindy (US Preschool)BenchmarkUS Winter (WA Term 2 equivalent)"},"Kindy (US Preschool)BenchmarkUS Winter (WA Term 2 equivalent)Year 3 (US Grade 3)BenchmarkTerm 4",{"$f":"'Drop Downs'!$A$14","v":"Less schooling: student should do well"}]
["Year 3 (US Grade 3)BenchmarkTerm 4",{"$f":"$A$2&$B$2&$D$4","v":"Kindy (US Preschool)BenchmarkUS Spring (WA Term 3 equivalent)"},"Kindy (US Preschool)BenchmarkUS Spring (WA Term 3 equivalent)Year 3 (US Grade 3)BenchmarkTerm 4",{"$f":"'Drop Downs'!$A$14","v":"Less schooling: student should do well"}]
["Year 3 (US Grade 3)BenchmarkTerm 4",{"$f":"$A$2&$B$2&$D$5","v":"Kindy (US Preschool)BenchmarkUS Summer (WA Term 4 equivalent)"},"Kindy (US Preschool)BenchmarkUS Summer (WA Term 4 equivalent)Year 3 (US Grade 3)BenchmarkTerm 4",{"$f":"'Drop Downs'!$A$14","v":"Less schooling: student should do well"}]
["Year 3 (US Grade 3)BenchmarkTerm 4",{"$f":"$A$3&$B$2&$D$2","v":"Pre-Primary (US Kindergarten)BenchmarkUS Fall (WA Term 1 equivalent)"},"Pre-Primary (US Kindergarten)BenchmarkUS Fall (WA Term 1 equivalent)Year 3 (US Grade 3)BenchmarkTerm 4",{"$f":"'Drop Downs'!$A$14","v":"Less schooling: student should do well"}]
["Year 3 (US Grade 3)BenchmarkTerm 4",{"$f":"$A$3&$B$2&$D$3","v":"Pre-Primary (US Kindergarten)BenchmarkUS Winter (WA Term 2 equivalent)"},{"$f":"B395&A395","v":"Pre-Primary (US Kindergarten)BenchmarkUS Winter (WA Term 2 equivalent)Year 3 (US Grade 3)BenchmarkTerm 4"},{"$f":"'Drop Downs'!$A$14","v":"Less schooling: student should do well"}]
["Year 3 (US Grade 3)BenchmarkTerm 4",{"$f":"$A$3&$B$2&$D$4","v":"Pre-Primary (US Kindergarten)BenchmarkUS Spring (WA Term 3 equivalent)"},"Pre-Primary (US Kindergarten)BenchmarkUS Spring (WA Term 3 equivalent)Year 3 (US Grade 3)BenchmarkTerm 4",{"$f":"'Drop Downs'!$A$14","v":"Less schooling: student should do well"}]
["Year 3 (US Grade 3)BenchmarkTerm 4",{"$f":"$A$3&$B$2&$D$5","v":"Pre-Primary (US Kindergarten)BenchmarkUS Summer (WA Term 4 equivalent)"},"Pre-Primary (US Kindergarten)BenchmarkUS Summer (WA Term 4 equivalent)Year 3 (US Grade 3)BenchmarkTerm 4",{"$f":"'Drop Downs'!$A$14","v":"Less schooling: student should do well"}]
["Year 3 (US Grade 3)BenchmarkTerm 4",{"$f":"$A$4&$B$2&$D$2","v":"Year 1 (US Grade 1)BenchmarkUS Fall (WA Term 1 equivalent)"},"Year 1 (US Grade 1)BenchmarkUS Fall (WA Term 1 equivalent)Year 3 (US Grade 3)BenchmarkTerm 4",{"$f":"'Drop Downs'!$A$14","v":"Less schooling: student should do well"}]
["Year 3 (US Grade 3)BenchmarkTerm 4",{"$f":"$A$4&$B$2&$D$3","v":"Year 1 (US Grade 1)BenchmarkUS Winter (WA Term 2 equivalent)"},"Year 1 (US Grade 1)BenchmarkUS Winter (WA Term 2 equivalent)Year 3 (US Grade 3)BenchmarkTerm 4",{"$f":"'Drop Downs'!$A$14","v":"Less schooling: student should do well"}]
["Year 3 (US Grade 3)BenchmarkTerm 4",{"$f":"$A$4&$B$2&$D$4","v":"Year 1 (US Grade 1)BenchmarkUS Spring (WA Term 3 equivalent)"},"Year 1 (US Grade 1)BenchmarkUS Spring (WA Term 3 equivalent)Year 3 (US Grade 3)BenchmarkTerm 4",{"$f":"'Drop Downs'!$A$14","v":"Less schooling: student should do well"}]
["Year 3 (US Grade 3)BenchmarkTerm 4",{"$f":"$A$4&$B$2&$D$5","v":"Year 1 (US Grade 1)BenchmarkUS Summer (WA Term 4 equivalent)"},"Year 1 (US Grade 1)BenchmarkUS Summer (WA Term 4 equivalent)Year 3 (US Grade 3)BenchmarkTerm 4",{"$f":"'Drop Downs'!$A$14","v":"Less schooling: student should do well"}]
["Year 3 (US Grade 3)BenchmarkTerm 4",{"$f":"$A$5&$B$2&$D$2","v":"Year 2 (US Grade 2)BenchmarkUS Fall (WA Term 1 equivalent)"},"Year 2 (US Grade 2)BenchmarkUS Fall (WA Term 1 equivalent)Year 3 (US Grade 3)BenchmarkTerm 4",{"$f":"'Drop Downs'!$A$14","v":"Less schooling: student should do well"}]
["Year 3 (US Grade 3)BenchmarkTerm 4",{"$f":"$A$5&$B$2&$D$3","v":"Year 2 (US Grade 2)BenchmarkUS Winter (WA Term 2 equivalent)"},"Year 2 (US Grade 2)BenchmarkUS Winter (WA Term 2 equivalent)Year 3 (US Grade 3)BenchmarkTerm 4",{"$f":"'Drop Downs'!$A$14","v":"Less schooling: student should do well"}]
["Year 3 (US Grade 3)BenchmarkTerm 4",{"$f":"$A$5&$B$2&$D$4","v":"Year 2 (US Grade 2)BenchmarkUS Spring (WA Term 3 equivalent)"},"Year 2 (US Grade 2)BenchmarkUS Spring (WA Term 3 equivalent)Year 3 (US Grade 3)BenchmarkTerm 4",{"$f":"'Drop Downs'!$A$14","v":"Less schooling: student should do well"}]
["Year 3 (US Grade 3)BenchmarkTerm 4",{"$f":"$A$5&$B$2&$D$5","v":"Year 2 (US Grade 2)BenchmarkUS Summer (WA Term 4 equivalent)"},"Year 2 (US Grade 2)BenchmarkUS Summer (WA Term 4 equivalent)Year 3 (US Grade 3)BenchmarkTerm 4",{"$f":"'Drop Downs'!$A$14","v":"Less schooling: student should do well"}]
["Year 3 (US Grade 3)BenchmarkTerm 4",{"$f":"$A$6&$B$2&$D$2","v":"Year 3 (US Grade 3)BenchmarkUS Fall (WA Term 1 equivalent)"},"Year 3 (US Grade 3)BenchmarkUS Fall (WA Term 1 equivalent)Year 3 (US Grade 3)BenchmarkTerm 4",{"$f":"'Drop Downs'!$A$14","v":"Less schooling: student should do well"}]
["Year 3 (US Grade 3)BenchmarkTerm 4",{"$f":"$A$6&$B$2&$D$3","v":"Year 3 (US Grade 3)BenchmarkUS Winter (WA Term 2 equivalent)"},"Year 3 (US Grade 3)BenchmarkUS Winter (WA Term 2 equivalent)Year 3 (US Grade 3)BenchmarkTerm 4",{"$f":"'Drop Downs'!$A$14","v":"Less schooling: student should do well"}]
["Year 3 (US Grade 3)BenchmarkTerm 4",{"$f":"$A$6&$B$2&$D$4","v":"Year 3 (US Grade 3)BenchmarkUS Spring (WA Term 3 equivalent)"},"Year 3 (US Grade 3)BenchmarkUS Spring (WA Term 3 equivalent)Year 3 (US Grade 3)BenchmarkTerm 4",{"$f":"'Drop Downs'!$A$14","v":"Less schooling: student should do well"}]
[{"$f":"$A$6&$B$2&$F$5","v":"Year 3 (US Grade 3)BenchmarkTerm 4"},{"$f":"$A$6&$B$2&$D$5","v":"Year 3 (US Grade 3)BenchmarkUS Summer (WA Term 4 equivalent)"},"Year 3 (US Grade 3)BenchmarkUS Summer (WA Term 4 equivalent)Year 3 (US Grade 3)BenchmarkTerm 4",{"$f":"'Drop Downs'!$A$13","v":"The same amount of schooling (on level)"}]